{"text_format":"1","workbook":"xlsx","n_sheets":16,"sheets":["Blad3","Blad2","Blad1","Sheet1","Sheet2","Sheet3","Sheet4","Sheet5","Sheet6","Sheet7","Sheet8","Blad5","Blad4","Sheet9","Sheet10","Sheet11"],"not_rendered":{"charts":2,"images":0,"macros":1,"external_links":0,"defined_names":12,"comments":0,"pivot_tables":0},"unopened":[],"bounds":{"document_bytes":16777216,"sheet_cells":100000,"rows_first":2000,"rows_last":500,"rows_between":2000,"halvings":0,"cell_chars":16384,"cell_head_chars":4096},"cells_cut":0,"cells_raw":0,"read":"whole","date_system":"1900"}

{"sheet":"Blad3","index":0,"n_rows":133,"n_cols":15,"rows_kept":133,"cut":false,"hidden":false,"merged":[]}
[]
[]
[]
["Year","Jub","Wk","Yr","Mo","Wk","D","Jubilee","Week","Year","Month","Week","Day","Reference","Event"]
[0,0,0,0,0,0,0,1,1,1,1,1,1,"Jubilees 2:2-3","Names, substance, and light"]
[0,null,null,null,null,null,1,1,null,null,null,null,2,"Jubilees 2:4","Condensation; steam into liquids, & dividing surface"]
[0,null,null,null,null,null,2,1,null,null,null,null,3,"Jubilees 2:5-7","Solids, planets, planetary terrains, life, Garden of Eden."]
[0,null,null,null,null,null,3,1,null,null,null,null,4,"Jubilees 2:8-10","The luminaries in the sky are lit."]
[0,null,null,null,null,null,4,1,null,null,null,null,5,"Jubilees 2:11-12","Fish and birds"]
[0,null,null,null,null,null,5,1,null,null,null,null,6,"Jubilees 2:13-16; 3:8","Beasts, cattle, & Adam (as male and female)"]
[0,null,null,null,null,null,6,1,null,null,null,null,7,"Jubilees 2:17-33","Sabbath"]
[0,0,0,0,0,1,0,1,null,null,null,2,1,"Jubilees 3:1","Naming the beasts"]
[0,null,null,null,null,null,1,1,null,null,null,null,2,"Jubilees 3:1","Naming the cattle"]
[0,null,null,null,null,null,2,1,null,null,null,null,3,"Jubilees 3:1","Naming the birds"]
[0,null,null,null,null,null,3,1,null,null,null,null,4,"Jubilees 3:1","Naming everything that moves upon the earth"]
[0,null,null,null,null,null,4,1,null,null,null,null,5,"Jubilees 3:1","Naming whatever moves in the water"]
[0,null,null,null,null,null,5,1,null,null,null,null,6,"Jubilees 3:4-7","Male and female brought together to know one another"]
[0,null,null,null,null,5,5,1,null,null,null,6,6,"Jubilees 3:9","After 40 days: Adam brought to the garden of Eden"]
[0,null,null,null,null,6,5,1,null,null,null,7,6,"Jubilees 3:9","On the 8th day: Adam's wife brought to the garden of Eden"]
[0,0,0,null,null,null,null,1,1,"1-7",null,null,null,"Jubilees 3:15-16","Teaching Adam and his wife to till and guard the garden"]
[{"$f":"B21*49+C21*7+D21","v":7},{"$f":"H21-1","v":0},1,0,1,2,2,1,2,1,2,3,3,"Jubilees 3:17-25","In the 2nd month on the 17th day: The serpent came and drew near to the woman…"]
[{"$f":"B22*49+C22*7+D22","v":7},{"$f":"H22-1","v":0},{"$f":"I22-1","v":1},{"$f":"J22-1","v":0},{"$f":"K22-1","v":3},null,{"$f":"M22-1","v":0},1,2,1,4,null,1,"Jubilees 3:32-35","Adam and his wife went out from the garden of Eden and dwelt in the land of 'Elda, in the land of their creation.  And Adam named his wife Eve. They had no son until the first jubilee but after this he knew her."]
[{"$f":"B23*49+C23*7+D23","v":63},1,2,null,null,null,null,2,3,null,null,null,null,"Jubilees 4:1","she bore Cain"]
[70,1,3,null,null,null,null,2,4,null,null,null,null,"Jubilees 4:1","she bore Abel"]
[77,1,4,null,null,null,null,2,5,null,null,null,null,"Jubilees 4:1","she bore 'Awan, his daughter'"]
[98,2,0,null,null,null,null,3,1,null,null,null,null,"Jubilees 4:2","Cain killed Abel…"]
[129,2,4,3,null,null,null,3,5,4,null,null,null,"Jubilees 4:7","\"And Adam and his wife were murning four weeks of years on account of Abel. And in the fourth year of the fifth week they rejoiced.  And Adam again knew his wife and she bore a son for him. And he named him Seth because he said, \"The Lord has raised up another seed for us upon the earth in place of Abel because Cain killed him.\""]
[133,2,5,null,null,null,null,3,6,null,null,null,null,"Jubilees 4:8","\"And in the sixth week he begat 'Azura, his daughter.\""]
[195,3,6,6,null,null,null,4,7,7,null,null,null,"Jubilees 4:9","\"And Cain took his sister, 'Awan, as a wife, and she bore for him Enoch at the end of the fourth jubilee.\""]
[196,4,0,0,null,null,null,5,1,1,null,null,null,"Jubilees 4:9","\"And in the first year of the first week of the fifth jubilee, buildings were constructed in the land. And Cain built a city and he named it with the name of his son, Enoch.\""]
[224,4,4,null,null,null,null,5,5,null,null,null,null,"Jubilees 4:11","\"Seth took 'Azura, his sister, as a wife.\""]
[227,4,4,3,null,null,null,5,5,4,null,null,null,"Jubilees 4:11-12","\"she [Azura] bore for him [Seth] Enos. He was first to call the name of the LORD upon the earth.\""]
[308,6,2,null,null,null,null,7,3,null,null,null,null,"Jubilees 4:13","\"Enos took Noam, his sister, as a wife. And she bore a son for him… And he named him Kenan.\""]
[324,6,4,2,null,null,null,7,5,3,null,null,null,"Jubilees 4:13","\"she bore… Kenan\""]
[391,7,6,6,null,null,null,8,7,7,null,null,null,"Jubilees 4:14","\"And at the end of the eighth jubilee, Kenan took for himself a wife, Mualeleth, his sister, (as) a wife.\""]
[394,8,0,2,null,null,null,9,1,3,null,null,null,"Jubilees 4:14","\"And she bore a son for him… he called him Mahalalel.\""]
[448,9,1,null,null,null,null,10,2,null,null,null,null,"Jubilees 4:15","\"Mahalalel took for himself a wife, Dinah, the daughter of Baraki'el, the daughter of his father's brother, as a wife."]
[460,9,2,5,null,null,null,10,3,6,null,null,null,"Jubilees 4:15","Jared: \"And she bore a son for him… And he called him Jared because in his days the angels of the LORD, who were calle Watchers, came down to the earth in order to teach the sons of man, and perform judgment and uprightness upon the earth.\""]
[511,10,3,null,null,null,null,11,4,null,null,null,null,"Jubilees 4:16","\"Jared took for himself a wife and her name was araka, the daughter of Rasuyal, the dauthter of his father's brother, as a wife… And she bore a son for him… And he called him…\""]
[521,10,4,3,null,null,null,11,5,4,null,null,null,"Jubilees 4:16","\"…Enoch.\""]
[581,11,6,null,null,null,null,12,7,null,null,null,null,"Jubilees 4:20","\"he [Enoch] took for himself a wife and her name was 'Edni, the daughter of Dan'el, his father's brother, as a wife… and… she bore a son for him. And he called him Methuselah.\""]
[586,11,6,5,null,null,null,12,7,6,null,null,null,"Jubilees 4:20","\"...Methuselah. And he was therefore with the angels of God six jubilees of years...\""]
[651,13,2,0,null,null,null,14,3,1,null,null,null,"Jubilees 4:27","\"…And in the fourteenth jubilee Methuselah took as his wife 'Edna, daughter of Azri'al, his father's brother, as a wife,.. And he begot a son. And he called him Lamech.\""]
[700,14,2,null,null,null,null,15,3,null,null,null,null,"Jubilees 4:28","Noah: \"Lamech took for himself a wife, and her name was Betenos, the daughter of Baraki'il, the daughter of his father's brother, (as) a wife. And in that week she bore a son for him and he called him Noah, saying, \"This one will console me from my grief and from all of my labor and from the land which the LORD cursed.\""]
[929,18,6,5,null,null,null,19,7,6,null,null,null,"Jubilees 4:29-30","Adam died: \"And at the end of the nineteenth jubilee in the seventh week, in the sixth year, Adam died. And all of his children buried him in the land of his creation. And he was the first who was buried in the earth. And he lacked seventy years from one thousand years, for a thousand years are like one day in the testimony of heaven and therefore it was written concerning the tree of knowledge, \"in the day you eat from it you will die.\" Therefore hie did not complete the years of this day because he died in it.\""]
[930,18,6,6,null,null,null,19,7,7,null,null,null,"Jubilees 4:31","Cain killed: \"At the end of that jubilee Cain was killed one year after him[Adam]. And his house fell upon him, and he died in the midst of his house…\""]
[1204,24,4,0,null,null,null,25,5,1,null,null,null,"Jubilees 4:33","\"And… Noah took a wife for himself and her name was 'Emzara, daughter of Rake'el, daughter of his father's brother, as a wife, in the first year, in the fifth week. And in its third year she bore for him Shem. And in its fifth year she bore for him Ham. And in the first year of the sixth week she bore for him Japheth.\""]
[1206,24,4,2,null,null,null,25,5,3,null,null,null,"Jubilees 4:33","she bore for him Shem"]
[1208,24,4,4,null,null,null,25,5,5,null,null,null,"Jubilees 4:33","she bore for him Ham"]
[1211,24,5,0,null,null,null,25,6,1,null,null,null,"Jubilees 4:33","she bore for him Japheth"]
[1061,21,4,4,null,null,null,22,5,5,null,null,null,"Jubilees 5:22","Made and ark: \"And Noah made an ark in all respects just as he commanded him in the twenty-second jubilee of years in the fifth week in the fifth year. And he entered it in the sixth year in the second month on the first of the second month until the sixteenth day. And he and everything which we brought to him entered into the ark. Adn the LORD shut it up from outside on the evening of the seventeenth.\""]
[1062,21,4,5,{"$f":"K52-1","v":1},null,null,{"$f":"H51","v":22},5,6,2,null,"1-16","Jubilees 5:23","The ark entered."]
[1062,21,4,5,{"$f":"K53-1","v":1},null,{"$f":"M53-1","v":16},{"$f":"H52","v":22},{"$f":"I52","v":5},{"$f":"J52","v":6},2,null,17,"Jubilees 5:23","\"the LORD shut [the ark] up from outside…\""]
[1062,21,4,5,{"$f":"K54-1","v":3},null,null,22,{"$f":"I53","v":5},{"$f":"J53","v":6},4,null,null,"Jubilees 5:29","\"… the springs of the great deep were closed and the floodgates of heaven were held shut.\""]
[1062,21,4,5,{"$f":"K55-1","v":6},{"$f":"L55-1","v":0},{"$f":"M55-1","v":0},22,5,{"$f":"J54","v":6},7,1,1,"Jubilees 5:29","\"And on the new moon of the seventh month, all of the mouths of the deeps of the earth were opened. And the water began to go down into the depths below.\""]
[{"$f":"B56*49+C56*7+D56","v":1062},{"$f":"H56-1","v":21},{"$f":"I56-1","v":4},{"$f":"J56-1","v":5},{"$f":"K56-1","v":9},{"$f":"L56-1","v":0},{"$f":"M56-1","v":0},22,5,{"$f":"J55","v":6},10,1,1,"Jubilees 5:30","\"…the heads of the mountains appeared.\""]
[1063,21,4,6,null,null,null,22,5,7,null,null,null,"Jubilees 5:23","\"… And the water dried up from upon the earth in the fifth week, in its seventh year.\""]
[1063,21,4,6,{"$f":"K58-1","v":1},null,{"$f":"M58-1","v":16},22,5,7,2,null,17,"Jubilees 5:23","\"…the land was dry.\""]
[1063,21,4,6,{"$f":"K59-1","v":1},null,{"$f":"M59-1","v":26},22,5,7,2,null,27,"Jubilees 5:23","\"…[Noah] opened the ark and he sent out of it the beasts, and cattle and birds and whatever moved.\""]
[1063,21,4,6,{"$f":"K60-1","v":2},null,{"$f":"M60-1","v":0},22,5,7,3,null,1,"Jubilees 6:1","\"… And on the first of the third month, he went out of the ark, and he built an altar on that mountain. And he made atonement for the land…\""]
[1253,25,4,null,null,null,null,26,5,null,null,null,null,"Jubilees 6:18","\"And all of this feast was celebrated in heaven from the day of creation until the days of Noah, twenty-six jubilees and five weeks of years…\""]
[1603,32,5,null,null,null,null,{"$f":"H61+7","v":33},{"$f":"I61+1","v":6},null,null,null,null,"Jubilees 6:18","\"…And Noah and his children kept it for seven jubilees and one week of years until the day of the death of Noah…\""]
[-7,-1,6,0,null,null,null,null,7,1,null,null,null,"Jubilees 7:1","\"Noah planted a vine on the mountain on which the ark rested, whose name is Lubar, (one) of the mountains of Ararat. And it produced fruit in the fourth year, ahd he guarded its fruit: and he picked it in that year in the seventh month, and he made wine from it, and he put it in a vessel, and he guarded it until the fifth year, until the firrst day on the first of the  first month. And on that day he made a feast with rejoicing...\""]
[-4,-1,6,3,{"$f":"K64-1","v":6},null,null,null,{"$f":"I63","v":7},4,7,null,null,"Jubilees 7:1","\"...And it produced fruit in the fourth year, ahd he guarded its fruit: and he picked it in that year in the seventh month, and he made wine from it, and he put it in a vessel...\""]
[-3,-1,6,4,{"$f":"K65-1","v":0},null,{"$f":"M65-1","v":0},null,{"$f":"I64","v":7},5,1,null,1,"Jubilees 7:2"]
[1063,21,4,6,null,null,null,{"$f":"H53","v":22},{"$f":"I53","v":5},{"$f":"J53+1","v":7},null,null,null,"Jubilees 7:19","\"Arpachshad… was born two years after the Flood…\""]
[1323,27,null,null,null,null,null,28,null,null,null,null,null,"Jubilees 7:20","\"And in the twenty-eight jubilee Noah began to command his grandsons with ordinances and commandments and all of the judgments which he knew. And he bore witness to his sons so that they might do justice and cover the shame of their flesh and bless the one who created them and honor father and mother, and each one love his neighbor and preserve themselves from fornication and pollution and from all injustice...\""]
[1372,28,0,0,null,null,null,29,1,1,null,null,null,"Jubilees 8:1","\"Arpachshad took a wife and her name was Rasu'eya, daughter of Susan, daughter of Elam, as a wife. And she bore a son for him in the third year of that week, and he called him Cainan, and the child grew….\""]
[1374,28,0,2,null,null,null,{"$f":"H68","v":29},{"$f":"I68","v":1},3,null,null,null,"Jubilees 8:1","\"she bore… Cainan…\""]
[1428,29,1,0,null,null,null,30,2,1,null,null,null,"Jubilees 8:5","Cainan \"took a wife and her name was Melka, daughter of Madai, son of Japheth. And in its fourth year he begot a son and he called him Shelah because, he said, \"I have certainly been sent out.\""]
[1431,29,1,3,null,null,null,{"$f":"H70","v":30},{"$f":"I70","v":2},4,null,null,null,"Jubilees 8:5","\"he begot Shelah\""]
[1498,30,4,0,null,null,null,31,5,1,null,null,null,"Jubilees 8:6","Shelah \"took a wife and her name was Mu'ak, daughter of Kesed, his father's brother, as a wife…  And she bore a son for him… and he called him 'Eber.\""]
[1502,30,4,4,null,null,null,{"$f":"H72","v":31},{"$f":"I72","v":5},5,null,null,null,"Jubilees 8:6","\"she bore… Eber\""]
[1563,31,6,2,null,null,null,32,7,3,null,null,null,"Jubilees 8:7-9","\"And [Eber] took a wife, and her name was 'Azurad, daughter of Nebrod, in the thiry-second jubilee in the seventh week in its third year. And in its sixth year she bore a son for him. And he called him Peleg because in the days when he was born the sons of Noah began dividing up the earth for themselves.  Therefore he called him Peleg. And they divided it in an evil (manner) among themselves, and they told it to Noah.\""]
[1566,31,6,5,null,null,null,{"$f":"H74","v":32},{"$f":"I74","v":7},6,null,null,null,"Jubilees 8:7-9","\"she bore… Peleg\""]
[1568,32,0,0,null,null,null,33,1,1,null,null,null,"Jubilees 8:10-11","\"And it came to pass at the beginning of the thirty-third jubilee, that they divided the land (in) three parts, for Shem, Ham, and Jepheth, afccording to the inheritance of each, in the first year in the first week, while one of us who were sent was dwelling with them. And he called his children, and they came to him, they and their children. And he divided by lot the land which his three sons would possess. And they stretched out their hands and took the document from the bosom of Noah, their father.\""]
[-35,-1,2,null,null,null,null,null,3,null,null,null,null,"Jubilees 10:1","\"In the third week of that jubilee the polluted demons began to lead astray the children of Noah's sons and to lead them to folly and to destroy them. And the sons of Noah came to Noah, their father, and they told him about the demons who were leading astray and blinding and killing his grandchildren. And he prayed before the LORD his God and he said, \"God of the spirirts which are in all flesh, who has acted mercifully with me and saved me and my sons from the water of the Flood and did not let me perish as you did the children of perdition, because...\""]
[{"$f":"A44+950","v":1650},33,4,5,null,null,null,{"$f":"INT(A78/49)+1","v":34},{"$f":"INT(MOD(A78, 49)/7)+1","v":5},{"$f":"MOD(MOD(A78, 49), 7)+1","v":6},null,null,null,"Jubilees 10:15-16","\"And Noah slept with his fathers and was b uried on Mount Lubar in the land of Ararat. Nine hundred and fifty years he completed in his life, nineteen jubilees and two weeks and five years…\""]
[1575,32,1,0,null,null,null,33,2,1,null,null,null,"Jubilees 10:18","\"And… Peleg took a wife whose name was Lomna, daughter of Sian'ar. And she bore a son for him in the fourth year of that week. And he called him Reu because, he said, \"Behold, the sons of man have become evil with perverse counsel so that they are building a city and a tower for themselves in the land of Shinar.\" For they departed from the land of Ararat toward the east into Shinar, because in his days they built a city and a tower, saying, \"Come let us go up in it into heaven. And they began building. And in the fourth week they baked bricks in fire, and bricks were for them like stones. And the mud with which they plastered was bitumen, which came out of the sea, and the springs of water in the land of Shinar.  And they built it; forty-three years they were building it...\""]
[1578,32,1,3,null,null,null,{"$f":"H79","v":33},{"$f":"I79","v":2},4,null,null,null,"Jubilees 10:18","\"she bore… Reu\""]
[1594,32,3,5,null,null,null,{"$f":"H80","v":33},4,6,"?",null,null,"Jubilees 10:20","\"and they began building…|"]
[1637,33,2,6,null,null,null,{"$f":"H81+1","v":34},{"$f":"6+I81-7","v":3},{"$f":"J81+1","v":7},null,null,null,"Jubilees 10:21","\"forty-three years they were building it…\""]
[1638,33,3,0,null,null,null,34,4,1,null,null,null,"Jubilees 10:27","\"…they were scattered from the land of Shinar.\""]
[1680,34,2,0,null,null,null,35,3,1,null,null,null,"Jubilees 11:1","…Reu took a wife and her name was 'Ora, daughter of 'Ur, son of Kesed. And she bore a son for him and he called him Seroh…\""]
[1686,34,2,6,null,null,null,{"$f":"H84","v":35},{"$f":"I84","v":3},7,null,null,null,"Jubilees 11:1,6","\"she bore… Seroh… Therefore he called the name of Seroh, \"Serug,\" because everyone had turned back to commit all sin and transgression.\"\""]
[1743,35,4,0,null,null,null,36,5,1,null,null,null,"Jubilees 11:7","Seroh/Serug \"grew up and dwelt in 'Ur of the Chaldees near the father of his wife's mother. And he used to worship idols. And he took a wife in the thirty-sixth jubilee, in the fifth week, in the first year thereof. And her name was Melka, daughter of Kaber, daughter of his father's brother. And she bore for him Nahor in the first year of that week. And he grew up and he dwelt in 'Ur among the Chaldeans, and his father taught him the researches of the Chaldeans in order to practice divination and astrology according to the signs of heaven.\""]
[1799,{"$f":"H87-1","v":36},{"$f":"I87-1","v":5},{"$f":"J87-1","v":0},null,null,null,37,6,1,null,null,null,"Jubilees 11:9-13","\"And in the thirty-seventh jubilee, in the sixth week, in the first year thereof, he took a wife. And her name was 'Iyaska, daughter of Nestag of the Chaldees. And she bore for him Terah in the seventh year of that week. And Prince Mastema sent crows and birds so that they might eat the seed which was being sown in the earth in order to spoil the earth so that they might rob mankind of their labors. Before they plowed in the seed, the crows picked it off the surface of the earth. And therefore he called him Terah because the crows and birds were impoverishing them. And they ate their seed. And the years began being barren because of the birds. And they ate all of the fruit of the trees from the groves. If ever they ere able to save a little from all of the fruit of the earth in their days, it was with great effort.\""]
[{"$f":"B88*49+C88*7+D88","v":1805},36,5,6,null,null,null,{"$f":"H87","v":37},{"$f":"I87","v":6},7,null,null,null,"Jubilees 11:9-13","\"she bore… Terah\""]
[1869,38,1,0,null,null,null,39,2,1,null,null,null,"Jubilees 11:14-17","\"And… Terah took a wife and her name was 'Edna, daughter of 'Abram, daughter of his father's sister. And in the seventh year of that week, she bore a son for him, and he called him Abram, after the name of his mother's father because he died before his daughter conceived a son. And the lad began understanding the straying of the land, that everyone went astray after graven images and after pollution. And his father taught him writing. And he was two weeks of years old. And he separated from his father so that he might not worship the idols with him. And he began to pray to the Creator of all so that he might save him from the straying of the sons of men, and so that his portion might not fall into straying after the pollution and scorn.\""]
[1875,38,1,6,null,null,null,{"$f":"H89","v":39},{"$f":"I89","v":2},7,null,null,null,"Jubilees 11:14-17","\"she bore… Abram\""]
[1889,38,3,6,null,null,null,{"$f":"H90","v":39},{"$f":"I90+2","v":4},{"$f":"J90","v":7},null,null,null,"Jubilees 11:18-22","\"Abram… was fourteen years old… And he caused the cloud of crows to turn back seventy times in that day…\""]
[1890,38,4,0,null,null,null,{"$f":"H91","v":39},5,1,null,null,null,"Jubilees 11:23-24","\"Abram taught those who were making the implements for oxen, the skilled carpenters. And they made implements above the ground facing the handle of the plow so that they might place seed upon it. And the seed would go down from within it onto the point of the plow, and it would be hidden in the earth. And therefore they were not afraid of the crows. And they did likewise upon all of the plow handles above the ground. And they sowed and tilled all of the earth just as Abram commanded them. And therefore they wore not afraid of the birds.\""]
[1903,38,5,6,null,null,null,{"$f":"H92","v":39},6,7,null,null,null,"Jubilees 12:1-8","\"Abram spoke to Terah, his father, saying…\"What help or advantage do we have from these idols before which you worship and bow down?... Do not worship them.\" And his father said to him, \"I also know (that), my son, but what shall I do to the people who have made me minister before them? And if I speak to them in righteousness, they will kill me because their souls cleave to them so that they might worship them and praise them. Be silent, my son, lest they kill you.\" And he told this matter to two of his brothers, and they were angry with him, nad he kept quiet.\""]
[1924,39,1,6,null,null,null,40,2,7,null,null,null,"Jubilees 12:9","\"And… Abram took a wife and her name was Sarai, daughter of his father, and she became a wife for him.\""]
[1927,39,2,2,null,null,null,40,3,3,null,null,null,"Jubilees 12:10-11","\"And Haran, his brother, took a wife… and she bore a son for him… And he called him Lot.  And Nahor, his brother, took a wife.\""]
[1931,39,2,6,null,null,null,{"$f":"H95","v":40},{"$f":"I95","v":3},7,null,null,null,"Jubilees 12:10-11","\"she bore… Lot\""]
[1935,39,3,3,null,null,null,{"$f":"H96","v":40},4,4,null,null,null,"Jubilees 12:12-14","\"In the sixtieth year of the life of Abram, i.e. the fourth week, in its fourth year, Abram arose in the night and burned the house of idols. And he burned everything in the house. And there was no man who knew. And they rose up in the night, and they wanted to save their gods from the midst of the fire. And Haran rushed to save them, and the fire flared up over him. And he was burned in the fire and died in Ur of the Chaldees before Terah, his father. And they buried him in Ur of the Chaldees.\""]
[1949,39,5,3,null,null,null,40,{"$f":"I97+2","v":6},{"$f":"J97","v":4},null,null,null,"Jubilees 12:15","Abram in Haran until…: \"And Terah went out of Ur of the Chaldees, he and his sons, so that they might come into the land of Lebanon and into the land of Canaan. And he dwelt in Haran. And Abram dwelt with Terah, his father, in Haran two weeks of years.\""]
[1950,39,5,4,null,null,null,40,6,5,null,null,null,"Jubilees 12:16-24","\"Abram sat up during the night…so that he might observe the stars from evening until daybreak… And he said, \"Shall I return unto Ur of the Chaldees who seek my face so that I should return to them? Or shall I dwell in this place? Make the straight path prosper before you in the hand of your servant that he might serve. And do not let me walk in the error of my heart, O my God.\""]
[1952,39,5,6,null,null,null,40,6,7,null,null,null,"Jubilees 12:28-31","Abram \"spoke with his father and let him know that he was going from Haran to walk (in) the land of Canaan so that he might see it and return to him. And Terah, his father, said to him: \"Go in peace…And take Lot, the son of Haran your brother with you (as) a son for yourself. The Lord be with you. But Nahor, your brother, leave with me until you return in peace. And we will all go together with you.\""]
[1953,39,6,0,{"$f":"K101-1","v":0},null,{"$f":"M101-1","v":0},40,7,1,1,null,1,"Jubilees 13:1-9, 8","Abram \"built an altar on that mountain and he called on the name of the Lord: \"You (are) my God, the eternal God.\""]
[1955,39,6,2,null,null,null,40,{"$f":"I101","v":7},3,null,null,null,"Jubilees 13:10-15","Abram \"reached Hebron-and Hebron was built then. And he dwelt there two years. And he went to the land of the South as far as Bealoth. And there was a famine in the land. And Abram went into Egypt in the third year of the week and he stayed in Egypt five years before his wife was taken from him. And Tanis of Egypt was built then, seven years after Hebron..."]
[1960,40,0,0,null,null,null,{"$f":"H102+1","v":41},1,1,null,null,null,"Jubilees 13:15","\"And Pharaoh returned Sarai, the wife of Abram. And he sent him out from the land of Egypt.\""]
[1962,40,0,2,null,null,null,{"$f":"H103","v":41},1,3,null,null,null,"Jubilees 13:15-16","Return to BethEl: \"And [Abram] went to the place where he had pitched his tent first, to the place of the altar. Ai was east and Bethel west. And he blessed the LORD his God who brought him back in peace. And it came to pass in that forty-first jubilee, in the third year of the first week, (that) he returned to this place... And he said: \"You,k O god, Most High, (are) my God forever and ever.\" \""]
[1963,40,0,3,null,null,null,41,1,4,null,null,null,"Jubilees 13:17-21","\"And… Lot separated from him… (It was) in that year, when Lot was taken captive, that the LORD spoke to Abram after Lot had separated from him, in the fourth year of that week: \"Lift up your eyes from the place where you are dwelling toward the North and South and West and East because all of the land which you see I will give to you and your seed forever...\""]
[1963,40,0,3,{"$f":"K106-1","v":2},null,{"$f":"M106-1","v":0},41,1,{"$f":"J105","v":4},3,null,1,"Jubilees 14:1-20","\"And after these things… the word of the LORD came to Abram in a dream, saying, \"Don't fear, Abram. I am your defender and your reward (will be) very great.\"..And he said to him, \"This one will not be your heir, but one who will come from your loins will be your heir.\" And he took him outside and he said to him, \"Look into heaven and count the stars if you are able to count them.\"... \"Thus shall byourseed be.\"  \"Surely know that your seed will be strangers in an alien land. And they will serve them. And they will make them suffer four hundred years...And in the fourth generation they will return here because the sins of the Amorites have not yet been completed.\" And on that day the LORD made a covenant with Abram, saying, \"To your seed I will give this land...  And on that day we made a covenant with Abram just as we had made a covenant in that month with Noah. And Abram renewed the feast and the ordinance for himself forever.\""]
[1964,40,0,4,null,null,null,41,1,5,null,null,null,"Jubilees 14:21-24","\"And Sarai took Hagar, her Egyptian maid, and she gave her to Abram, her husband, so that she might be a wife. And he went into her. And she conceived and bore a son and he called him Ishmael, in the fifth year of that week. And that year was the eighty-sixth year in the life of Abram.\""]
[{"$f":"A90+85","v":1960},-1,-1,-1,null,null,null,null,null,null,null,null,null,"Jubilees 14:24","\"And that year was the eighty-sixth year in the life of Abram.\""]
[1985,40,3,4,{"$f":"K109-1","v":2},null,{"$f":"M109-1","v":14},{"$f":"H107","v":41},4,5,3,null,15,"Jubilees 15:1-16","\"Abram made a feast of the firstfruits of the harvest of grain… And the LORD appeared to Abram and he said to him, \"I am God Shaddai… And your name therefore will not be called Abram ,but your name will henceforth and forever be Abraham because I have established you (as) the father of many nations... \"Sarai, your wife, will therefore not be called Sarai because Sarah is her name. And I will bless her and I will give you a son from her...\""]
[{"$f":"A90+99","v":1974},-1,-1,-1,{"$f":"K111-1","v":3},{"$f":"L111-1","v":0},{"$f":"M111-1","v":0},null,null,null,null,null,null,"Jubilees 15:17-22","\"And Abraham fell on his face and he rejoiced and pondered in his heart whether a son would be born to one who was one hundred years old or (whether )Sarah, who was ninety years, would give birth…\"Sarah will bear for you in another year during these days.\""]
[1985,40,3,4,{"$f":"#REF!-1","v":{"$error":"#REF!"}},{"$f":"#REF!-1","v":{"$error":"#REF!"}},{"$f":"#REF!-1","v":{"$error":"#REF!"}},{"$f":"H109","v":41},{"$f":"I109","v":4},{"$f":"J109","v":5},4,1,1,"Jubilees 16:1-6","\"And on the new moon of the fourth month, we appeared to Abraham at the oakof Mamre and we talked with him and we also caused him to know that a son would be given to him byu Sarah, his wife… And we told her the name of her son Isaac-just as his name was ordained and written in the heavenly tablets-and (that) when we returned to her at a specific time she would have conceived a son. And in that month the LORD executed the judgment of Sodum and Gomorrah nad Zeboim and all of the district of the Jordan. And he burned them with fire and sulphur and he annihilated them till this day just as (he said),..\""]
[-57,-1,-1,-1,{"$f":"K112-1","v":5},null,{"$f":"M112-1","v":14},null,null,null,6,null,15,"Jubilees 16:13","\"And in the middle of the sixth month the LORD visited Sarah and did for her as he had said. And she conceived and she bore a son in the third month, in the middle of themonth, in the time when the LORD told Abraham. Isaqac was born on the feast of the firstfruits of the harvest."]
[null,null,null,null,null,null,null,null,null,null,7,null,null,"Jubilees 16:15","\"And in the sixth year of thefourth week we went forth to Abraham at the Well of the Oath. And we appeared to him [just as we said to Sarah that we would return to her. And she had conceived a son. And we returned in the seventh month and we found Sarah pregnant before us.] And we blessed him and we announced to him everything which was commanded for him that he would not die until he begot six more sons and he would see (them)( before he died...\""]
[1986,40,3,5,{"$f":"K114-1","v":2},null,{"$f":"M114-1","v":14},{"$f":"H111","v":41},{"$f":"I111","v":4},6,3,null,15,"Jubilees 16:13","\"she bore Isaac\""]
[1988,40,4,0,{"$f":"K115-1","v":2},null,null,{"$f":"H114","v":41},5,1,3,null,null,"Jubilees 17:1","\"Isaac was weaned. And Abraham celebrated a great feast in the third month on the day that his son, Isaac, was weaned.\""]
[2002,40,6,0,{"$f":"K116-1","v":0},null,{"$f":"M116-1","v":11},{"$f":"H115","v":41},7,1,1,null,12,"Jubilees 17:15","\"And it came to pass… that words came in heaven concerning Abraham that he was faithful in everything which was told him and he loved tha LORD and was faithful in all affliction. And Prince Mastema came and he said before god….\""]
[2002,40,6,0,{"$f":"K117-1","v":0},null,{"$f":"M117-1","v":13},{"$f":"H116","v":41},{"$f":"I116","v":7},{"$f":"J116","v":1},{"$f":"K116","v":1},null,{"$f":"M116+2","v":14},"Jubilees 18:3","\"on the third day…\" And he observed this festival every year (for) seven days with rejoicing. And he named it \"the feast of the LORD\" according tho the seven days during which he went and returned in peace. And thus it is ordained and written in the heavenly tablets concerning Israel and his seed to observe this festival seven days with festal joy.\""]
[2009,41,0,0,null,null,null,42,1,1,null,null,null,"Jubilees 19:1","\"In the first year of the first week in this forty-second jubilee Abraham returned and dwelt tow weeks of years opposite Hebron, i.e. Kiryath Arba. And in the first year of the third week of this jubilee, the days of Sarah's life were completeded and she died in Hebron. And Abraham went to weep for her and bury her.... This (is) the tenth trial with which Abraham was tried...\""]
[2012,41,0,3,null,null,null,{"$f":"H118","v":42},{"$f":"I118","v":1},4,null,null,null,"Jubilees 19:10","\"And in the fourth year thereof he took a wife for his son, ISAAC, AND HER NAME WAS Rebecca, daughter of Bethuel, the son of Nahor, Abraham's brother, the sister of Laban and daughter of Bethuel. And Bethuel was the son of Melca, who was the wife of Nahor, Abraham's brother. And Abraham took a third wife and her name was Keturah from the daughters of his household servants because Hagar died before Sarah.\""]
[2045,41,5,1,null,null,null,{"$f":"H119","v":42},6,2,null,null,null,"Jubilees 19:13","\"And… Rebecca bore two children for Isaac, Jacob and Esau…\""]
[2051,41,6,0,null,null,null,42,7,1,null,null,null,"Jubilees 20:1","\"And… Abraham called Ishmael and his twelve children and Isaac and his two children and Keturah's six children and their sons. And he commanded them…"]
[2056,41,6,5,null,null,null,{"$f":"H121","v":42},7,6,null,null,null,"Jubilees 21:1","\"And Abraham called Isaac, his son, and commanded him, saying, \"I am old nad do not know the day of my death… I am one hundred and seventy-five years old…"]
[2108,43,0,1,null,null,null,44,1,2,null,null,null,"Jubilees 22:1","\"that year in which Abraham died… Isaac and Ishmael came from the Well of the Oath to Abraham, their father, to observe the feast of Shebuot, which is the feast of the firstfruits of the harvest…\""]
[-57,-1,-1,-1,{"$f":"K124-1","v":-1},-1,-1]
[-57,-1,-1,-1,-1,-1,-1]
[-57,-1,-1,-1,-1,-1,-1]
[-57,-1,-1,-1,-1,-1,-1]
[-57,-1,-1,-1,-1,-1,-1]
[-57,-1,-1,-1,-1,-1,-1]
[2371,48,2,5,null,null,null,49,3,6,null,null,null,"Jubilees 48:1","\"[Moses] went and dwelt in the land of Midian five weeks and one year and your returned to Egypt on the second week in the second year in the fiftieth jubilee..\""]
[2409,49,1,1,null,null,null,50,2,2,null,null,null,"Jubilees 48:1","\"[Moses] returned to Egypt on the second week in the second year in the fiftieth jubilee..\""]
[2410,49,1,2,null,null,null,50,2,3,null,null,null,"Jubilees 50:4","At Mt. Sinai?"]
[2450,50,0,0,null,null,null,51,1,1,null,null,null,"Jubilees 50:4","Entry into Canaan across Jordan."]

{"sheet":"Blad2","index":1,"n_rows":217,"n_cols":5,"rows_kept":217,"cut":false,"hidden":false,"merged":[]}
[]
[]
["Today's Jonah Message to Christians (and to SDA's in particular)"]
[]
[null,"\"The sign of the Prophet Jonas.\"  Matthew 12:39"]
[null,null,null,"What is it?"]
[]
[null,null,null,"1 Year = 52 weeks (Roman Calendar)"]
[null,null,null,"1 Jubilee cycle = 49 weeks (Sacred Calendar)"]
[null,null,null,"1 prophetic Day = 1 Year (Scriptural prophecy principle)"]
[null,null,null,"40 Days = 40 Jubilee cycles"]
[null,null,null,"40 days of Jonah's prophecy = 40 Jubilee cycles in the prophecy of Jesus, Matt. 12:39"]
[null,null,null,null,"\"…shall no sign be given… but the sign of the prophet Jonas.\""]
[]
[]
["Anno","Years","Jubilees","Cumulative Jubilees","Event"]
[null,null,null,"of the Christian era"]
[48,null,null,0,"The Jerusalem Council: AD 48, according to the latest authoritative German theological scholarship, is the most certain date for the Jerusalem Council, which opened the Gospel to the gentiles, and ended the exclusive Jewish character of the New Testament Church. [Vilis]"]
[null,{"$f":"A20-A18","v":490},{"$f":"B19/49","v":10}]
[538,null,null,{"$f":"D18+C19","v":10},"From AD 48 to AD 538, which year terminated the freedom of the Gospel worldwide, and the beginning of 1260 years of Papal domination, is PRECISELY 10 JUBILEES! 10 X 7 X 7 YEARS! THIS IS EXACTLY EQUAL TO 70 WEEKS OF YEARS! This is the period of the PURE CHURCH, without Judaizing elements before 48AD, and free of Papal Catholic corruption which followed after 538AD. [Vilis]"]
[null,{"$f":"A22-A20","v":980},{"$f":"B21/49","v":20}]
[1518,null,null,{"$f":"D20+C21","v":30},"From AD 48 to the Lutheran Reformation, beginning in 1518 is exactly 30 JUBILEES or 30 x 7 x 7 years!  From AD 538 to the Lutheran Reformation, beginning in 1518 is exactly 20 JUBILEES! [Vilis]"]
[null,{"$f":"A24-A22","v":490},{"$f":"B23/49","v":10}]
[2008,null,null,{"$f":"D22+C23","v":40},"\"From 538 to 2008 is 30 JUBILEES. From 538 to 2008 is 1260 + 210 = 210 x 7 = 70 x (6+6+6) + 10 x (7+7+7) = 70 x (7+7+7) = 30 JUBILEES. From 1798 to 2008 is 210 = 3 x 70 years, or 30 weeks of years. 1888 to 2008 is 120 years, the same time period given to "]
[]
[]
[]
[]
[null,"But, What Is the Message?"]
[null,"What was Jonah's message?"]
[null,"\"Jonah… cried, and said, Yet forty days, and Nineveh shall be overthrown.\" Jonah 3:4"]
[null,"That's all, isn't it? So how was it successfully interpreted?"]
[null,"\"the king of Nineveh… proclaimed… Let man and beast... turn every one from his evil way, and from the violence that is in their hands.\""]
[null,null,"More fully: \"…the king of Nineveh… proclaimed and published… saying Let neither man nor beast, herd nor flock, taste any thing: let them not feed, nor drink water: But let man and beast be covered with sackcloth, and cry mightily unto God: yes let them turn every one from his evil way, and from the violence that is in their hands. Who can tell if God will turn and repent, and turn away from his fierce anger, that we perish not?"]
[]
[]
[]
[]
[]
[null,"But, What Evil Way Is That?"]
[null,"Why \"…and beast?\""]
[]
[]
[]
[null,"What Is a 'Characteristic' of a Beast?"]
[]
[]
[null,"Only One (1) Characteristic of a Beast?"]
[]
[]
[null,"Perhaps 600, 60, and 6 Marks of any Beast?"]
[]
[]
[]
[null,"But, the Mark of the Beast Is \"...of a Man\"???"]
[]
[]
[]
[null,"Can Man Take On Characteristics of a Beast?"]
[null,"What Is a Chief Characteristic of a Beast?"]
[null,"Could it be in the little word 'OF', as in being property 'OF' Man?"]
[null,"How does Scripture define Man's \"domain\"?"]
[null,"Within God's very first words to Man perhaps?"]
[null,null,"Is Genesis 1:28 a good enough reference?"]
[null,"Can any Man be within the domain of any hierarchy of Men and still be counted as Man?"]
[null,null,"Or, are men and women WITHIN the domain and/or jurisdiction of Men to be considered Beasts?"]
[null,null,"Do men and women, identifying themselves by any number of any hierarchy OF men, thereby characterize themselves - voluntarily - as Beasts?"]
[null,null,"Did the genocide in Ruwanda have anything to do with ID Cards?"]
[null,null,"Wasn't the Ruwandan ID Cards introduced exactly 60 years prior to the genocide?"]
[null,null,"Were the Ruwandan people treating themselves and each other as beasts?"]
[null,null,"Were the Ruwandan people \"bow[ing] down th[em]selves to [a graven image]\", or not? Ex. 20:5"]
[null,null,"How many generations are 60 years?"]
[null,null,"How many years are in \"unto the third and fourth generation...\"?"]
[null,"Is the Second Commandment between God and Each Man powerless today?"]
[null,"How does the Second Commandment relate to the First?"]
[null,"Is the title to Man property retained by the creator?"]
[null,null,"Is the title to any Man a \"name of the Lord thy God\"?"]
[null,null,"Is this applicable to the Third Commandment?"]
[null,"Do any of us have time to consider these things, these Commandments?"]
[null,null,"What about the Seventh day?  Do we \"Remember…\"?"]
[]
[]
[null,"What Other Marks of Beasts May Be Recognized by Considering the Commandments?"]
[null,null,"Can the Commandments hurt us, OR are they there to HELP us?"]
[null,null,"May Jacob's ladder be perceived as a symbol for the Commandments?"]
[null,null,"What's the difference between the Commandments and the Covenant between God and each of us?"]
[null,null,null,"Is there a difference?"]
[null,null,"Is the Covenant a Blessing or a Curse?"]
[null,null,null,"Who decides?"]
[null,null,"Does the First Angel's Message have anything to teach about the Power of Choice? Rev. 14:6-7."]
[null,null,null,"What else may be learned from the three angels' messages?"]
[null,null,"Do the trees in the Garden of Eden have anything to teach about the Power and Consequences of Choice?"]
[null,null,null,"What other forgotten lessons may be learned by carefully considering the experiences of Adam and Eve?"]
[]
[]
[null,"Do We Have Cause for Considering OUR Evil Ways?"]
[null,null,"Are we better than the Ninevites?"]
[]
[null,"Are We Like Jonah in Forgetting Our Own Evil Ways?"]
[]
[]
[null,"Is There Cause for Repentence?"]
[]
[]
[null,"Is Repentence Possible in a Sinful World?"]
[null,null,"…or must we wait until Jesus comes and we go to heaven?"]
[]
[]
[null,"Is Salvation for Real, Or Does it Merely Apply to Another World?"]
[null,null,"Is salvation \"theory\", or is it \"for real\"?"]
[null,null,"Does 'salvation' have anything to do with problem resolution?"]
[null,null,"Is problem resolution possible today?"]
[null,null,"Is problem resolution a step by little step process?"]
[null,null,"What did Jesus have to say about \"the way, the truth, and life\"?"]
[null,null,"Does the name of Jesus have anything to do with real time problem resolution?"]
[null,null,"Does problem resolution happen by itself, mystically, without our focused participation?"]
[]
[]
[null,"What's the Good News, OR Is the Good News Bad News?"]
[]
[]
[null,"Is There a Gospel - a Real One?"]
[null,null,"…in real time, live, for real world?"]
[]
[]
[null,"Do I exist NOW, or is my existence deferred… unto another… time, place, person?"]
[null,null,"Who cares…"]
[null,null,"…enough…"]
[null,null,"…to make a choice?"]
[]
[null,null,"Or do I defer my choices unto another Man, another Time, another Place?"]
[]
[]
[null,"Do I Have the Characteristic of a Beast?"]
[null,null,"Any characteristic?"]
[]
[]
[null,"If So, Who Do I Recognize as My Owner?"]
[null,null,"Any government created by man?"]
[null,null,"Any government OF Man?"]
[]
[]
[null,"...OR, What's My Choice?"]
[null,null,"Responsibility, personal accountability…"]
[null,null,"…any One?"]
[null,null,"Perhaps my only choice is to be thrown into the sea and be swallowed up by a Beast?"]
[null,null,"…by a government/nation that will \"safely\" carry me to a \"safe haven\"…"]
[null,null,"…or was it \"heaven\"?"]
[]
[]
[null,"Am I Confused?"]
[null,null,"Is there a sure foundation to be found?"]
[null,null,"One where I may re-orient myself to person, time, and place?"]
[]
[]
[null,"Will anything happen in 2008?"]
[null,null,"BUT, will it be perceived as anything out of the ordinary…?"]
[null,null,"Another Great Disappointment?"]
[null,null,"Another 1844?"]
[null,null,"…or is ill health, suffering, and death the unavoidable norm?"]
[]
[]
[null,"When?  In 2008, or NOW?"]
[]
[null,"Where?  Far away, or HERE?"]
[]
[null,"Who?  Some one else, or ME?"]
[null,null,"Should I identify with, and learn from, Jonah, the Ninevites, OR both?"]
[]
[]
[null,"Will 2008 make ETERNAL LIFE available for the choosing?"]
[null,null,"Or will it be forced upon us when someone else so chooses?"]
[null,null,"Perhaps Jesus?  Perhaps God?"]
[null,null,"Has God declared the end from the beginning, OR not?"]
[null,null,"Is free choice free, or is choice forced upon us \"by default\"?"]
[]
[]
[null,"Will 2008 make Freedom and Safety, from Government Suppression, easily available for the choosing?"]
[null,null,"What's the default choice?"]
[]
[]
[]
[null,"Jonah = Hebrew 'jod-vav-nun-he' = 10+6+50 + 5 = 66 + 5 = 60 + 6 + 5 = Two marks of a Beast + a window towards heaven"]
[null,null,"Were Jonah's frustrations related to the 10th Commandment?"]
[null,null,"Did Jonah turn to his creator for problem resolution?"]
[null,null,"Were things hopeless for Jonah because the root of Jonah's name is 66?"]
[null,null,"Are things hopeless for ever once one has the Mark or Number of the Beast?"]
[null,null,"Don't Mankind, each Man, have from the beginning the Number of the Beast?"]
[null,null,null,"Wasn't Man created on the Sixth Day?"]
[]
[]
[null,"How does the Seventh Day add a seal of God upon Man?"]
[null,null,null,"What is 6+7 if not 13?"]
[null,null,null,"What is 13+13 if not 26?"]
[null,null,null,"Which One must be inside the Twelve for any Man to be a Son or Daughter of God?"]
[null,null,null,"What's the meaning of 26?"]
[null,null,null,null,"Aleph (1) = jod + vav + jod = 10 + 6 + 10 = 26"]
[null,null,null,null,"YHWH = jod + he + vav + he = 10 + 5 + 6 + 5 = 26"]
[null,null,null,"What's the meaning of 'aleph'?"]
[null,null,null,null,"Family"]
[null,null,null,null,"Teach"]
[null,null,null,null,"Learn"]
[null,null,null,null,"Thought"]
[null,null,null,"How can the One, the Aleph, the Power of Yahweh, make an image of Themselves?"]
[null,null,null,null,"How about 13+13=39, i.e. male + female = family of three…"]
[]
[]
[null,"Is the family Covenant essential for the existance of one of Man?"]
[null,null,"Is it possible to ever do without?"]
[null,null,"Is there such a thing as existance without agreement, without a covenant between parents?"]
[null,null,"Do we have the patience to figure out where we volunteered to the Covenant?"]
[null,null,"…any Covenant that binds us, whether for good or for bad?"]
[]
[]
[null,"Is there room for problem resolution re Family relationships today?"]
[null,null,"Is this part of Jonah's prophetic WARNING MESSAGE?"]
[null,null,"How many of the commandments are essential for successful Family life?"]

{"sheet":"Blad1","index":2,"n_rows":175,"n_cols":20,"rows_kept":175,"cut":false,"hidden":false,"merged":[]}
[" "]
["The Sacred Calendar from the Beginning of Time as perceived by Gunnar Smårs Jr"]
[null,null,"e' = Exact to the day; '+' = A full year + up to 12 months, BUT click on each cell for a full explanation!"]
[null,null,null,null,null,null,null,null,"After Creation",null,null,null,null,"  BC / AD",null,null,null,"Supporting Scriptures"]
[]
["Adam",130,"exact and by definition of birth as the beginning of the Covenant between parents in terms of Freedom of Choice (cf. Note at Color coding for 1st Millenium after the Creation)",800,"+",{"$f":"B6+D6","v":930},"+",null,{"$f":"0","v":0},null,{"$f":"F6","v":930},null,null,{"$f":"ABS(I6-(I115+4))","v":3819},null,{"$f":"ABS(K6-(I115+4))","v":2889},null,"Gen. 5:3-5"]
["Seth",105,"exact and by definition of birth as the beginning of the Covenant between parents in terms of Freedom of Choice (cf. Note at Color coding for 1st Millenium after the Creation)",807,"+",{"$f":"B7+D7","v":912},"+",null,{"$f":"I6+B6","v":130},null,{"$f":"I7+F7","v":1042},null,null,{"$f":"ABS(I7-(I115+4))","v":3689},null,{"$f":"ABS(K7-(I115+4))","v":2777},null,"Gen. 5:6-8"]
["Enos",90,"exact and by definition of birth as the beginning of the Covenant between parents in terms of Freedom of Choice (cf. Note at Color coding for 1st Millenium after the Creation)",815,"+",905,"+",null,235,null,1140,null,null,{"$f":"ABS(I8-(I115+4))","v":3584},null,{"$f":"ABS(K8-(I115+4))","v":2679},null,"Gen. 5:9-11"]
["Cainan",70,"exact and by definition of birth as the beginning of the Covenant between parents in terms of Freedom of Choice (cf. Note at Color coding for 1st Millenium after the Creation)",840,"+",910,"+",null,325,null,1235,null,null,{"$f":"ABS(I9-(I115+4))","v":3494},null,{"$f":"ABS(K9-(I115+4))","v":2584},null,"Gen. 5:12-14"]
["Mahalaleel",65,"exact and by definition of birth as the beginning of the Covenant between parents in terms of Freedom of Choice (cf. Note at Color coding for 1st Millenium after the Creation)",830,"+",895,"+",null,395,null,1290,null,null,{"$f":"ABS(I10-(I115+4))","v":3424},null,{"$f":"ABS(K10-(I115+4))","v":2529},null,"Gen. 5:15-17"]
["Jared",162,"exact and by definition of birth as the beginning of the Covenant between parents in terms of Freedom of Choice (cf. Note at Color coding for 1st Millenium after the Creation)",800,"+",962,"+",null,460,null,1422,null,null,{"$f":"ABS(I11-(I115+4))","v":3359},null,{"$f":"ABS(K11-(I115+4))","v":2397},null,"Gen. 5:18-20"]
["ENOCH",65,"exact and by definition of birth as the beginning of the Covenant between parents in terms of Freedom of Choice (cf. Note at Color coding for 1st Millenium after the Creation)",300,"+",365,"+",null,622,null,987,null,null,{"$f":"ABS(I12-(I115+4))","v":3197},null,{"$f":"ABS(K12-(I115+4))","v":2832},null,"Gen. 5:21-23"]
["Methusaleh",187,"exact and by definition of birth as the beginning of the Covenant between parents in terms of Freedom of Choice (cf. Note at Color coding for 1st Millenium after the Creation)",782,"+",969,"+",null,687,null,1656,null,null,{"$f":"ABS(I13-(I115+4))","v":3132},null,{"$f":"ABS(K13-(I115+4))","v":2163},null,"Gen. 5:25-27"]
["Lamech",182,"exact and by definition of birth as the beginning of the Covenant between parents in terms of Freedom of Choice (cf. Note at Color coding for 1st Millenium after the Creation)",595,"+",777,"+",null,874,null,1651,null,null,{"$f":"ABS(I14-(I115+4))","v":2945},null,{"$f":"ABS(K14-(I115+4))","v":2168},null,"Gen. 5:28-31"]
["NOAH",500,"exact and by definition of birth as beginning of Covenant between parents in terms of Freedom of Choice",448,"+",948,"+",null,1056,null,2004,null,null,{"$f":"ABS(I15-(I115+4))","v":2763},null,{"$f":"ABS(K15-(I115+4))","v":1815},null,"Gen. 7:6; 9:28-29"]
["Shem",100,"exact and by definition of birth as beginning of Covenant between parents in terms of Freedom of Choice",500,"+",600,"+",null,1556,null,2156,null,null,{"$f":"ABS(I16-(I115+4))","v":2263},null,{"$f":"ABS(K16-(I115+4))","v":1663},null,"Gen. 7:6; 11:10"]
["FLOOD",null,null,null,null,null,null,null,{"$f":"I15+599","v":1655},null,{"$f":"I17+1","v":1656},null,null,{"$f":"ABS(I17-(I115+4))","v":2164},null,{"$f":"ABS(K17-(I115+4))","v":2163},null,"Gen. 11:11"]
["Arphaxad",35,"exact and by definition of birth as the beginning of the Covenant between parents in terms of Freedom of Choice (cf. Note at Color coding for 2nd Millenium after the Creation)",403,"+",438,"+",null,{"$f":"I16+B16","v":1656},null,{"$f":"I18+F18","v":2094},null,null,{"$f":"ABS(I18-(I115+4))","v":2163},null,{"$f":"ABS(K18-(I115+4))","v":1725},null,"Gen. 11:12-13"]
["Salah",30,"exact and by definition of birth as the beginning of the Covenant between parents in terms of Freedom of Choice (cf. Note at Color coding for 2nd Millenium after the Creation)",403,"+",433,"+",null,{"$f":"I18+B18","v":1691},null,2124,null,null,{"$f":"ABS(I19-(I115+4))","v":2128},null,{"$f":"ABS(K19-(I115+4))","v":1695},null,"Gen. 11:14-15"]
["Eber",34,"exact and by definition of birth as the beginning of the Covenant between parents in terms of Freedom of Choice (cf. Note at Color coding for 2nd Millenium after the Creation)",430,"+",464,"+",null,1721,null,2185,null,null,{"$f":"ABS(I20-(I115+4))","v":2098},null,{"$f":"ABS(K20-(I115+4))","v":1634},null,"Gen. 11:16-17"]
["Peleg",30,"exact and by definition of birth as the beginning of the Covenant between parents in terms of Freedom of Choice (cf. Note at Color coding for 2nd Millenium after the Creation)",209,"+",239,"+",null,1755,null,1994,null,null,{"$f":"ABS(I21-(I115+4))","v":2064},null,{"$f":"ABS(K21-(I115+4))","v":1825},null,"Gen. 11:18-19"]
["Reu",32,"exact and by definition of birth as the beginning of the Covenant between parents in terms of Freedom of Choice (cf. Note at Color coding for 2nd Millenium after the Creation)",207,"+",239,"+",null,1785,null,2024,null,null,{"$f":"ABS(I22-(I115+4))","v":2034},null,{"$f":"ABS(K22-(I115+4))","v":1795},null,"Gen. 11:20-21"]
["Serug",30,"exact and by definition of birth as the beginning of the Covenant between parents in terms of Freedom of Choice (cf. Note at Color coding for 2nd Millenium after the Creation)",200,"+",230,"+",null,1817,null,2047,null,null,{"$f":"ABS(I23-(I115+4))","v":2002},null,{"$f":"ABS(K23-(I115+4))","v":1772},null,"Gen. 11:22-23"]
["Nahor",29,"exact and by definition of birth as the beginning of the Covenant between parents in terms of Freedom of Choice (cf. Note at Color coding for 2nd Millenium after the Creation)",119,"+",148,"+",null,1847,null,1995,null,null,{"$f":"ABS(I24-(I115+4))","v":1972},null,{"$f":"ABS(K24-(I115+4))","v":1824},null,"Gen. 11:24-25"]
["TERAH",70,"exact and by definition of birth as the beginning of the Covenant between parents in terms of Freedom of Choice (cf. Note at Color coding for 2nd Millenium after the Creation)",{"$f":"F25-B25","v":135},"+",205,"+",null,1876,null,2081,null,null,{"$f":"ABS(I25-(I115+4))","v":1943},null,{"$f":"ABS(K25-(I115+4))","v":1738},null,"Gen. 11:32; 12:4","Gen. 11:26, 32; 12:1, 4  -  If Abram did not leave Haran until Terah died then Terah was 205 y/o - 75 y/o = 130 y/o when Abram was delivered, and Terah's oldest offspring would have been 60 y/o, if alive, when Abram was delivered… If Abram was the oldest then he left his Father Terah in Haran when Terah was 145 y/o."]
["Abraham",100,"exact and by definition of birth as the beginning of the Covenant between parents in terms of Freedom of Choice (cf. Note at Color coding for 2nd Millenium after the Creation)",{"$f":"F26-B26","v":75},"+",175,"+",null,1946,null,2121,null,null,{"$f":"ABS(I26-(I115+4))","v":1873},null,{"$f":"ABS(K26-(I115+4))","v":1698},null,"Gen. 17:1-2, 16-17, 19, 21; 18:10, 14; 21:5; 25:7"]
["ISRAELITES (with Abraham as patriarch) in \"EGYPT\"",430,"exact and by definition. Consider the words \"four hundred and thirty years, even the selfsame day...\" Ex. 12:41. This date, thus given, seems unlikely not to be have been given in line with the 2,000 year old tradition of dating as established within the records of life since Creation (the records referenced likely as \"according to the time of life\" in Gen. 18:10&14). Said records may reasonably be seen as being based upon dates defined in terms of the beginning of the Covenant of each set of parents, i.e. in terms of their Freedom of Choice in consummating a Covenant such as may be expected to bear the most important fruit of all, i.e. Sons and Daughters of the Creator as exclusively held by those parents in trust. (Cf. Note at Color coding for 3rd Millennium after the Creation).",null,null,null,null,null,{"$f":"I25+B25+75","v":2021},"exact and by definition of birth as the beginning of the Covenant between parents in terms of Freedom of Choice (cf. Note at Color coding for 3rd Millenium after the Creation)",{"$f":"I27+B27","v":2451},{"$f":"C27","v":"exact and by definition. Consider the words \"four hundred and thirty years, even the selfsame day...\" Ex. 12:41. This date, thus given, seems unlikely not to be have been given in line with the 2,000 year old tradition of dating as established within the records of life since Creation (the records referenced likely as \"according to the time of life\" in Gen. 18:10&14). Said records may reasonably be seen as being based upon dates defined in terms of the beginning of the Covenant of each set of parents, i.e. in terms of their Freedom of Choice in consummating a Covenant such as may be expected to bear the most important fruit of all, i.e. Sons and Daughters of the Creator as exclusively held by those parents in trust. (Cf. Note at Color coding for 3rd Millennium after the Creation)."},null,{"$f":"ABS(I27-(I115+4))","v":1798},null,{"$f":"ABS(K27-(I115+4))","v":1368},null,"Gen. 12:4; Ex. 12:40-41 (cf. Gen. 15:13)"]
["Isaac",60,"exact and by definition of birth as the beginning of the Covenant between parents in terms of Freedom of Choice (cf. Note at Color coding for 3rd Millenium after the Creation)",120,"+",180,"+",null,{"$f":"I26+B26","v":2046},null,{"$f":"I28+F28","v":2226},null,null,{"$f":"ABS(I28-(I115+4))","v":1773},null,{"$f":"ABS(K28-(I115+4))","v":1593},null,"Gen. 25:26;35:29"]
["Jacob",92,"exact and by definition of birth as the beginning of the Covenant between parents in terms of Freedom of Choice (cf. Note at Color coding for 3rd Millenium after the Creation)",{"$f":"F29-B29","v":55},"+",147,"+",null,{"$f":"I28+B28","v":2106},null,{"$f":"I29+F29","v":2253},null,null,{"$f":"ABS(I29-(I115+4))","v":1713},null,{"$f":"ABS(K29-(I115+4))","v":1566},null,"Gen. 47:28;41:46"]
["ISRAELITES enter Egypt proper",null,null,null,null,null,null,null,{"$f":"K29-17","v":2236},null,{"$f":"K29-17","v":2236},null,null,{"$f":"ABS(I30-(I115+4))","v":1583},null,{"$f":"ABS(K30-(I115+4))","v":1583},null,"calculated"]
["Levi",null,null,null,null,137,"+",null,null,null,null,null,null,null,null,null,null,"Ex. 6:16"]
["Joseph",null,null,null,null,110,"+",null,{"$f":"I29+B29","v":2198},null,{"$f":"I32+F32","v":2308},null,null,{"$f":"ABS(I32-(I115+4))","v":1621},null,{"$f":"ABS(K32-(I115+4))","v":1511},null,"Gen. 50:26"]
["Jacob wrestles with God",98,null,null,null,null,null,null,2266,null,2266,null,null,{"$f":"ABS(I33-(I115+4))","v":1553},null,{"$f":"ABS(K33-(I115+4))","v":1553},null,"Gen. 30:25; 31:41; 32:22-30; 33:7"]
["Joseph taken to Egypt",null,null,null,null,null,null,null,2277,null,2277,null,null,{"$f":"ABS(I34-(I115+4))","v":1542},null,{"$f":"ABS(K34-(I115+4))","v":1542},null,"Gen. 37:2-28"]
["Baker & Butler dream in prison",null,null,null,null,null,null,null,{"$f":"I36-2","v":2288},null,{"$f":"K36-2","v":2288},null,null,{"$f":"ABS(I35-(I115+4))","v":1531},null,{"$f":"ABS(K35-(I115+4))","v":1531},null,"Gen. 40;41:1"]
["Pharoah dreams",null,null,null,null,null,null,null,{"$f":"I34+13","v":2290},null,{"$f":"K34+13","v":2290},null,null,{"$f":"ABS(I36-(I115+4))","v":1529},null,{"$f":"ABS(K36-(I115+4))","v":1529},null,"Gen 41:1"]
[null,null,null,null,null,null,null,null," "]
["Kohath",null,null,null,null,133,"+",null,null,null,null,null,null,null,null,null,null,"Ex. 6:18"]
["Amram",null,null,null,null,137,"+",null,null,null,null,null,null,null,null,null,null,"Ex. 6:20"]
["Aaron",null,null,null,null,123,"+",null,{"$f":"K40-123","v":2368},null,{"$f":"K44+40","v":2491},null,null,{"$f":"ABS(I40-(I115+4))","v":1451},null,{"$f":"ABS(K40-(I115+4))","v":1328},null,"Num. 33:38-39"]
["Moses",null,null,null,null,120,"+",null,{"$f":"K41-120","v":2433},null,{"$f":"2513+40","v":2553},null,null,{"$f":"ABS(I41-(I115+4))","v":1386},null,{"$f":"ABS(K41-(I115+4))","v":1266},null,"Ex. 7:7; Deut. 29:5; 34:7"]
["Joshua",null,null,null,null,110,"+",null,null,null,null,null,null,null,null,null,null,"Josh. 24:29"]
["Caleb",null,null,null,null,null,null,null,{"$f":"K44-40","v":2411},null,{"$f":"I43+85","v":2496},null,null,null,null,null,null,"Josh. 14:7"]
["ISRAELITE EXODUS",null,null,null,null,null,null,null,{"$f":"K27","v":2451},null,{"$f":"K27","v":2451},null,null,{"$f":"ABS(I44-(I115+4))","v":1368},null,{"$f":"ABS(K44-(I115+4))","v":1368},null,"Ex. 12:40-41 [cf. 1 Kings 6:1]"]
["ENTRY TO CANAAN",null,null,null,null,null,null,null,{"$f":"I44+40","v":2491},null,{"$f":"K44+40","v":2491},null,null,{"$f":"ABS(I45-(I115+4))","v":1328},null,{"$f":"ABS(K45-(I115+4))","v":1328},null,"Ex. 16:35; Num. 14:33-34; 32:13; Josh. 5:6"]
[]
["51st/1st Year of Jubilee",50,"e",null,null,null,null,null,{"$f":"K27-1+49","v":2499},"e",{"$f":"K27-1+50","v":2500},"e",null,{"$f":"ABS(I47-(Sheet1!I120+4))","v":788},null,{"$f":"ABS(K47-(Sheet1!I120+4))","v":787},null,"2 Chron. 36:19-21; Lev. 25:8-10"]
[]
[]
["TIME OF JUDGES"]
[]
["Chushanrishathaim",null,null,null,null,8,"+",null,{"$f":"I45+7","v":2498},null,{"$f":"I52+F52-1","v":2505},null,null,{"$f":"ABS(I52-(I115+4))","v":1321},null,{"$f":"ABS(K52-(I115+4))","v":1314},null,"Jud. 3:8"]
["Othniel",null,null,null,null,40,"+",null,{"$f":"K52-2","v":2503},null,{"$f":"F53+I53-1","v":2542},null,null,{"$f":"ABS(I53-(I115+4))","v":1316},null,{"$f":"ABS(K53-(I115+4))","v":1277},null,"Jud. 3:9-11"]
["Eglon",null,null,null,null,18,"+",null,{"$f":"K53","v":2542},null,2559,null,null,{"$f":"ABS(I54-(I115+4))","v":1277},null,{"$f":"ABS(K54-(I115+4))","v":1260},null,"Jud. 3:12-14"]
["Ehud, Shamgar",null,null,null,null,80,"+",null,2559,null,2638,null,null,{"$f":"ABS(I55-(I115+4))","v":1260},null,{"$f":"ABS(K55-(I115+4))","v":1181},null,"Jud. 3:15,30-31"]
["Jabin",null,null,null,null,20,"+",null,2638,null,2657,null,null,{"$f":"ABS(I56-(I115+4))","v":1181},null,{"$f":"ABS(K56-(I115+4))","v":1162},null,"Jud. 4:2-3"]
["Deborah/Barak",null,null,null,null,40,"+",null,{"$f":"K56-5","v":2652},null,2691,null,null,{"$f":"ABS(I57-(I115+4))","v":1167},null,{"$f":"ABS(K57-(I115+4))","v":1128},null,"Jud. 4:3-4; 5:31"]
["Midian",null,null,null,null,7,"+",null,{"$f":"K57-5","v":2686},null,2692,null,null,{"$f":"ABS(I58-(I115+4))","v":1133},null,{"$f":"ABS(K58-(I115+4))","v":1127},null,"Jud. 6:1"]
["Gideon",null,null,null,null,40,"+",null,2692,null,2731,null,null,{"$f":"ABS(I59-(I115+4))","v":1127},null,{"$f":"ABS(K59-(I115+4))","v":1088},null,"Jud. 6:12-14; 8:28"]
["Abimilech",null,null,null,null,3,"+",null,2731,null,2733,null,null,{"$f":"ABS(I60-(I115+4))","v":1088},null,{"$f":"ABS(K60-(I115+4))","v":1086},null,"Jud. 9:22-23"]
["Tola",null,null,null,null,23,"+",null,2733,null,2755,null,null,{"$f":"ABS(I61-(I115+4))","v":1086},null,{"$f":"ABS(K61-(I115+4))","v":1064},null,"Jud. 10:1-2"]
["Jair",null,null,null,null,22,"+",null,{"$f":"K61-12","v":2743},null,2764,null,null,{"$f":"ABS(I62-(I115+4))","v":1076},null,{"$f":"ABS(K62-(I115+4))","v":1055},null,"Jud. 10:3-5"]
["Philistines/Ammonites",null,null,null,null,18,"+",null,2764,null,2781,null,null,{"$f":"ABS(I63-(I115+4))","v":1055},null,{"$f":"ABS(K63-(I115+4))","v":1038},null,"Jud. 10:7-8"]
["Jephthah",null,null,null,null,6,"+",null,2781,null,2786,null,null,{"$f":"ABS(I64-(I115+4))","v":1038},null,{"$f":"ABS(K64-(I115+4))","v":1033},null,"Jud. 12:7-8"]
["Ibzan",null,null,null,null,7,"+",null,{"$f":"K64-2","v":2784},null,2790,null,null,{"$f":"ABS(I65-(I115+4))","v":1035},null,{"$f":"ABS(K65-(I115+4))","v":1029},null,"Jud. 12:8-10"]
["Elon",null,null,null,null,10,"+",null,{"$f":"K65-2","v":2788},null,2797,null,null,{"$f":"ABS(I66-(I115+4))","v":1031},null,{"$f":"ABS(K66-(I115+4))","v":1022},null,"Jud. 12:11-12"]
["Abdon",null,null,null,null,8,"+",null,{"$f":"K66-2","v":2795},null,2802,null,null,{"$f":"ABS(I67-(I115+4))","v":1024},null,{"$f":"ABS(K67-(I115+4))","v":1017},null,"Jud. 12:13-15"]
["Philistines ",null,null,null,null,40,"+",null,2802,null,2841,null,null,{"$f":"ABS(I68-(I115+4))","v":1017},null,{"$f":"ABS(K68-(I115+4))","v":978},null,"Jud. 13:1"]
["Samson",null,null,null,null,20,"+",null,{"$f":"K68-27","v":2814},null,{"$f":"I69+20","v":2834},null,null,{"$f":"ABS(I69-(I115+4))","v":1005},null,{"$f":"ABS(K69-(I115+4))","v":985},null,"Jud. 15:16-20; 16:30-31"]
["Eli",null,null,null,null,40,"+",null,{"$f":"K69","v":2834},null,{"$f":"I70+F70","v":2874},null,null,{"$f":"ABS(I70-(I115+4))","v":985},null,{"$f":"ABS(K70-(I115+4))","v":945},null,"1 Sam. 4:10,11,15,18; 6:1,2,4,11,12,14,16,17,23; 7:2; Joshua 15:9,60 (KJV)"]
["Samuel",null,"Starting on & before",null,null,null,null,null,{"$f":"K70","v":2874},null,{"$f":"Sheet7!A47","v":2886},null,null,{"$f":"ABS(I71-(I115+4))","v":945},null,{"$f":"ABS(K71-(I115+4))","v":933},null,"Acts 13:17&19-20 (Time of Exodus + 450 years = 2901. Samuel anointed David. How does this agree with the beginning of King David?)"]
["Joel & Abijah, sons of Samuel",null,"Starting prior to ca",null,null,null,null,null,{"$f":"I77","v":2877},null,null,null,null,{"$f":"ABS(I72-(I115+4))","v":942},null,null,null,"Joel (Vashni), and Abijah are recorded among the Levites in the Temple service of David and Solomon, and Heman, a son of Joel, was a singer under king David and king Solomon (This represents all references unto those sons of Samuel in Strong's concordance): \"The sons of Levi... The sons of Kohath... And the sons of Samuel; the firstborn Vashni, and Abiah…And these are they whom David set over the service of song in the house of the Lord, after that the ark had rest. And they ministered before the dwelling place of the tabernacle of the congregation with singing, until Solomon had built the house of the Lord in Jerusalem. And then they waited on their office according to their order. And these are they that waited with their children. Of the sons of the Kohathites: Heman a singer, the son of Joel, the son of Shemuel, The son of Elkanah, the son of Jeroham, the son of Eliel, the son of Toah, The son of Zuph...\" 1 Chron. 5:16,22,25-26; 6:28,32-35"]
[]
["REIGNS OF KINGS",null,null,null,null,"Years reigned"]
[null,"Age at coronation",null,null,null,null,null,null,null,null,null,null,null,null,"Yrs between births"]
[null,"Chron.",null,"Kings",null,null,null,null,null,null,null,null,"Year of Birth",null,null,null,"Name"]
["Saul",40,null,40,"+",{"$f":"K77-I77","v":11},null,null,{"$f":"Sheet7!A38","v":2877},null,{"$f":"Sheet7!A49","v":2888},null,{"$f":"I77-D77","v":2837},{"$f":"ABS(I77-(I115+4))","v":942},null,{"$f":"ABS(K77-(I115+4))","v":931},{"$f":"300+1+6+30","v":337},"Acts 13:21 - See note for Saul on Sheet 7!"]
["David",30,null,30,null,40,"+",null,{"$f":"Sheet7!A51","v":2888},null,{"$f":"Sheet7!A93","v":2928},null,{"$f":"I78-D78","v":2858},{"$f":"ABS(I78-(I115+4))","v":931},{"$f":"M78-M77","v":21},{"$f":"ABS(K78-(I115+4))","v":891},{"$f":"4+6+4","v":14}]
["Solomon",null,null,30,null,40,"+",null,{"$f":"Sheet7!A95","v":2928},null,{"$f":"Sheet7!A137","v":2968},null,{"$f":"I79-D79","v":2898},{"$f":"ABS(I79-(I115+4))","v":891},{"$f":"M79-M78","v":40},{"$f":"ABS(K79-(I115+4))","v":851},{"$f":"300+30+40+5+10+4+10+4+10+5","v":418},"1 Kings 6:1; 1 Kings 11:42",{"$f":"I79+375+43","v":3346},{"$f":"Q79-Q98","v":86}]
["The Passover B4 the Temple",479,"exact and by definition. Passover is in the first month of the year. Zif, or Iyyar, is the second month. Thus, the building of the temple began in the second day of the month immediately following Passover in the 480th year after the Exodus, i.e. 479 years plus one full month plus 1 24-hour day plus 1 night. As to the exact dating for the Passover, please see corresponding note at the Exodus above!",null,null,null,null,null,{"$f":"K27+479","v":2930},{"$f":"C80","v":"exact and by definition. Passover is in the first month of the year. Zif, or Iyyar, is the second month. Thus, the building of the temple began in the second day of the month immediately following Passover in the 480th year after the Exodus, i.e. 479 years plus one full month plus 1 24-hour day plus 1 night. As to the exact dating for the Passover, please see corresponding note at the Exodus above!"},null,null,null,{"$f":"ABS(I80-(I115+4))","v":889},null,null,null,"1 Kings 6:1&37-38; 2 Chron. 3:2; (Cf. Acts 13:17&19-20)"]
["The Temple of Solomon",479,"exact and by definition. Passover is in the first month of the year. Zif, or Iyyar, is the second month. Thus, the building of the temple began in the second day of the month immediately following Passover in the 480th year after the Exodus, i.e. 479 years plus one full month plus 1 24-hour day plus 1 night. As to the exact dating for the Passover, please see corresponding note at the Exodus above!",null,null,null,null,null,{"$f":"K27+479","v":2930},{"$f":"C81","v":"exact and by definition. Passover is in the first month of the year. Zif, or Iyyar, is the second month. Thus, the building of the temple began in the second day of the month immediately following Passover in the 480th year after the Exodus, i.e. 479 years plus one full month plus 1 24-hour day plus 1 night. As to the exact dating for the Passover, please see corresponding note at the Exodus above!"},{"$f":"I81+(11-4)","v":2937},"+",null,{"$f":"ABS(I81-(I115+4))","v":889},null,{"$f":"ABS(K81-(I115+4))","v":882},null,"1 Kings 6:1&37-38; 2 Chron. 3:2; (Cf. Acts 13:17&19-20)"]
["Solomon's Palace",13,"+",null,null,null,null,null,{"$f":"K81","v":2937},{"$f":"C82","v":"+"},{"$f":"I82+B82","v":2950},{"$f":"C82","v":"+"},null,{"$f":"ABS(I82-(I115+4))","v":882},null,{"$f":"ABS(K82-(I115+4))","v":869},null,"1 Kings 7:1"]
["Rehoboam",41,null,41,null,18,"+",null,{"$f":"Sheet7!A137","v":2968},null,{"$f":"Sheet7!A171","v":0},null,{"$f":"I83-D83","v":2927},{"$f":"ABS(I83-(I115+4))","v":851},{"$f":"M83-M79","v":29},{"$f":"ABS(K83-(I115+4))","v":3819},{"$f":"200+8+2+70+40","v":320},"1 Kings 12; 14:21"]
["Abijah (Abijam)",null,null,null,null,3,"+",null,{"$f":"Sheet7!A173","v":2985},null,{"$f":"Sheet7!A181","v":2988},null,null,{"$f":"ABS(I84-(I115+4))","v":834},null,{"$f":"ABS(K84-(I115+4))","v":831},{"$f":"1+2+10+40","v":53},"1 Kings 14:31; 15:1-2"]
["Asa",null,null,null,null,41,"+",null,{"$f":"Sheet7!A181","v":2988},null,{"$f":"Sheet7!A276","v":3028},null,null,{"$f":"ABS(I85-(I115+4))","v":831},null,{"$f":"ABS(K85-(I115+4))","v":791},{"$f":"1+40+1","v":42},"1 Kings 8-10; 15:9-11"]
["Jehoshaphat",35,null,35,null,25,"+",null,{"$f":"Sheet7!A280","v":3029},null,{"$f":"Sheet7!A334","v":3053},null,{"$f":"I86-D86","v":2994},{"$f":"ABS(I86-(I115+4))","v":790},{"$f":"M86-M83","v":67},{"$f":"ABS(K86-(I115+4))","v":766},{"$f":"10+5+6+300+80+9","v":410},"1 Kings 22:41-43"]
["Jehoram",32,null,32,null,8,"+",null,{"$f":"Sheet7!A314","v":0},null,{"$f":"Sheet7!#REF!","v":{"$error":"#REF!"}},null,-32,{"$f":"ABS(I87-(I115+4))","v":3819},{"$f":"M87-M86","v":-3026},{"$f":"ABS(K87-(I115+4))","v":{"$error":"#REF!"}},{"$f":"10+5+6+200+40","v":261},"2 Kings 8:16-18"]
["Ahaziah (Jehoahaz)",42,null,22,null,1,"+",null,{"$f":"Sheet7!A348","v":3059},null,{"$f":"Sheet7!#REF!","v":{"$error":"#REF!"}},null,3037,{"$f":"ABS(I88-(I115+4))","v":760},{"$f":"M88-M87","v":3069},{"$f":"ABS(K88-(I115+4))","v":{"$error":"#REF!"}},{"$f":"1+8+7+10+5+6","v":37},"2 Kings 8:24-27"]
["Athaliah",null,null,null,null,6,"+",null,{"$f":"Sheet7!#REF!","v":{"$error":"#REF!"}},null,{"$f":"Sheet7!A369","v":0},null,null,{"$f":"ABS(I89-(I115+4))","v":{"$error":"#REF!"}},null,{"$f":"ABS(K89-(I115+4))","v":3819},{"$f":"70+400+30+10+5+6","v":521},"2 Kings 11:1-4"]
["Jehoash (Joash)",7,null,7,null,40,"+",null,{"$f":"Sheet7!A371","v":3067},null,{"$f":"Sheet7!A455","v":3106},null,3060,{"$f":"ABS(I90-(I115+4))","v":752},{"$f":"M90-M88","v":23},{"$f":"ABS(K90-(I115+4))","v":713},{"$f":"10+5+6+1+300","v":322},"2 Kings 11:21; 12:1-2"]
["Amaziah",25,null,25,null,29,"+",null,{"$f":"Sheet7!A453","v":3105},null,{"$f":"Sheet7!A511","v":3133},null,3080,{"$f":"ABS(I91-(I115+4))","v":714},20,{"$f":"ABS(K91-(I115+4))","v":686},{"$f":"1+40+90+10+5+6","v":152},"2 Kings 14:1-3"]
["Azariah (Uzziah)",16,null,16,null,52,"+",null,{"$f":"Sheet7!A491","v":3123},null,{"$f":"Sheet7!A608","v":3175},null,3107,{"$f":"ABS(I92-(I115+4))","v":696},27,{"$f":"ABS(K92-(I115+4))","v":644},{"$f":"70+7+200+10+5","v":292},"2 Kings 15:1-3"]
["Jotham",25,null,25,null,16,"+",null,{"$f":"Sheet7!A612","v":3176},null,{"$f":"Sheet7!A644","v":3191},null,3151,{"$f":"ABS(I93-(I115+4))","v":643},44,{"$f":"ABS(K93-(I115+4))","v":628},{"$f":"10+6+400+40","v":456},"2 Kings 15:32-34"]
["Ahaz ",20,null,20,null,16,"+",null,{"$f":"Sheet7!A628","v":3184},null,{"$f":"Sheet7!A664","v":3199},null,3164,{"$f":"ABS(I94-(I115+4))","v":635},13,{"$f":"ABS(K94-(I115+4))","v":620},{"$f":"1+8+7","v":16},"2 Kings 16:1-3"]
["Hezekiah",25,null,25,null,29,"+",null,{"$f":"Sheet7!A662","v":3198},null,{"$f":"Sheet7!A725","v":3227},null,3173,{"$f":"ABS(I95-(I115+4))","v":621},9,{"$f":"ABS(K95-(I115+4))","v":592},{"$f":"8+7+100+10+5","v":130},"2 Kings 18:1-3"]
["Manasseh",12,null,12,null,55,"+",null,{"$f":"Sheet7!A725","v":3227},null,{"$f":"Sheet7!A839","v":3283},null,3215,{"$f":"ABS(I96-(I115+4))","v":592},42,{"$f":"ABS(K96-(I115+4))","v":536},{"$f":"40+50+300+5","v":395},"2 Kings 21:1-2"]
["Amon",22,null,22,null,2,"+",null,{"$f":"Sheet7!A837","v":3282},null,{"$f":"Sheet7!A843","v":3284},null,3260,{"$f":"ABS(I97-(I115+4))","v":537},45,{"$f":"ABS(K97-(I115+4))","v":535},{"$f":"1+40+6+50","v":97},"2 Kings 21:19-20"]
["Josiah",8,null,8,null,31,"+",null,{"$f":"Sheet7!A845","v":3285},null,{"$f":"Sheet7!A907","v":0},null,3277,{"$f":"ABS(I98-(I115+4))","v":534},17,{"$f":"ABS(K98-(I115+4))","v":3819},{"$f":"10+1+300+10+5+6","v":332},"2 Kings 22:1-2"]
["Jehoahaz",23,null,23,null,0,"+",null,{"$f":"Sheet7!A909","v":0},null,{"$f":"Sheet7!A909","v":0},null,-23,{"$f":"ABS(I99-(I115+4))","v":3819},-3300,{"$f":"ABS(K99-(I115+4))","v":3819},{"$f":"10+5+6+1+8+7","v":37},"2 Kings 23:31-32"]
["Eliakim (Jehoiakim)",25,null,25,null,11,"+",null,{"$f":"Sheet7!A911","v":3315},null,{"$f":"Sheet7!A931","v":3325},null,3290,{"$f":"ABS(I100-(I115+4))","v":504},3313,{"$f":"ABS(K100-(I115+4))","v":494},{"$f":"10+5+6+10+100+10+40","v":181},"2 Kings 23:36-37; Dan. 1:1"]
["Jehoiachin",8,null,18,null,0,"+",null,{"$f":"Sheet7!A934","v":3325},null,{"$f":"Sheet7!A934","v":3325},null,3307,{"$f":"ABS(I101-(I115+4))","v":494},17,{"$f":"ABS(K101-(I115+4))","v":494},{"$f":"10+5+6+10+20+10+50","v":111},"2 Kings 24:8-9"]
["Mattaniah (Zedekiah)",21,null,21,null,11,"+",null,{"$f":"Sheet7!A938","v":3326},null,{"$f":"Sheet7!A956","v":3335},null,3305,{"$f":"ABS(I102-(I115+4))","v":493},{"$f":"M102-M101","v":-2},{"$f":"ABS(K102-(I115+4))","v":484},{"$f":"90+4+100+10+5+6","v":215},"2 Kings 24:18-19"]
["Totals",{"$f":"SUM(B77:B79,B83:B102)","v":457},null,{"$f":"SUM(D77:D102)","v":477},null,{"$f":"SUM(F77:F79,F83:F102)","v":485},null,null,null,null,{"$f":"K102-I77","v":458},null,{"$f":"M102-M77","v":468},null,{"$f":"SUM(O77:O102)","v":468},null,{"$f":"SUM(Q77:Q102)","v":5149},"Notice 457 is present in 3 places! Cf. 1. 457 BC, 2. Time span for the total reign of kings in Israel and Judah, and 3. Totals for age at coronation, given age of Saul as given in Acts."]
["Totals: Saul's age=1 at coronation",{"$f":"B103-39","v":418},null,{"$f":"D103-39","v":438},null,null,null,null,null,null,null,null,{"$f":"M103-39","v":429},null,{"$f":"O103-39","v":429},null,null,"Notice 418 is present in 3 places! Cf. 1. Hidden prophecy at the anointing of David, 2. Totals for age at coronation, and 3. The word value of Solomons two names."]
["Enslaved under various kings (Saul - Babylonia)",null,null,null,null,null,null,null,{"$f":"K108-I77","v":485},null,null,null,null,null,null,null,null,"1 Samuel 8"]
["Israel under Jeroboam thru Hoshea",null,null,null,null,null,null,null,{"$f":"Sheet7!A677-Sheet7!A137","v":236},null,null,null,null,null,null,null,null,"1 Samuel 8"]
["Israel under Saul thru Hoshea",null,null,null,null,null,null,null,{"$f":"Sheet7!A677-I77","v":327}]
["CAPTIVE IN BABYLON",null,null,null,null,{"$f":"K108-I108","v":69},"+",null,{"$f":"Sheet7!A861","v":3293},null,{"$f":"Sheet7!A1014","v":3362},null,null,{"$f":"ABS(I108-(I115+4))","v":526},null,{"$f":"ABS(K108-(I115+4))","v":457},null,"2 Kings 25:2-7; 2 Chro. 36:20-23; \"In the third year of the reign of Jehoiakim, king of Judah, Nebuchadnezzar the king of Babylon came to Jerusalem and besieged it\" (IB) Dan. 1:1. \"in order to fulfill the word of Jehovah in the mouth of Jeremiah, until the land had enjoyed its sabbaths; all the days of the desolation it kept the sabbath, to the full measure of seventy years.\" (IB) 2 Chron. 36:21.  Jeremiah's prophecies (Jer. 25:11-12; 29:10) are referenced in 2 Chron. 35:25 & 36:22; Ezra 1:1, & Dan. 9:1-2.  (Compare also notes and reference in the corresponding time frame on Sheet7!)"]
["REBUILDING OF 2ND TEMPLE",null,null,null,null,{"$f":"K109-I109","v":5},"+",null,{"$f":"Sheet7!A1014","v":3362},null,{"$f":"Sheet7!A1028","v":3367},null,null,{"$f":"ABS(I109-(I115+4))","v":457},null,{"$f":"ABS(K109-(I115+4))","v":452},null,"Ezra 1:1-6; 3:1,6,8; (Cf. John 2:20 - Herod's temple was in the process of being built since 46 years during the year when Jesus was baptized.)"]
["YEARS TO and of Cyrus' DECREE",null,null,null,null,{"$f":"K110-K108","v":0},"+",null,null,null,{"$f":"Sheet7!A1014","v":3362},null,null,null,null,{"$f":"ABS(K110-(I115+4))","v":457},null,"Whose decree is fulfilling Jeremiah's prophecy? \"Now in the first year of Cyrus king of Persia, that the word of the Lord spoken by the mouth of Jeremiah might be accomplished\" 2 Chron. 36:22 (KJV).  \"Now in the first year of Cyrus king of Persia, that the word of the Lord by the mouth of Jeremiah might be fulfilled...\" Ezra 1:1 (KJV). \"In the first year of Darius the son of Ahasuerus, of the seed of the Medes, which was made king over the realm of the Chaldeans; In the first year of his reign I Daniel understood by books the number of the years, whereof the word of the Lord came to Jeremiah the prophet, that he would accomplish seventy years in the desolations of Jerusalem.\" Dan 9:1-2 (KJV). And these nations shall serve the king of Babylon seventy years... And it shall be, when seventy years are fulfilled, I will punish the king of Babylon...\" Jer. 25:1,3,11-12 (IB). NOTICE> When was the king of Babylon punished? Was it at the end of the Babylonian empire, i.e. at the beginning of the Medo-Persian empire, OR was it many years after that event, i.e. at the time of the presumed decree of a Medo-Persian king named Artaxerxes #X? Remember, Cyrus was a Persian king, thus any Persian king after Cyrus would by necessity start his rule a number of years AFTER the end of the Babylonian Empire and its kings! Thus, I conclude that, if, as I contend, Jeremiah's prophecy is true in every part, then Cyrus must by necessity be the first Medo-Persian king after the fall of the Babylonian Empire, AND his decree must be the one referenced by Daniel's prophecy. PLEASE cf. notes at beginning of Evil-merodach's reign on Sheet 7!"]
["DANIEL'S PROPHECIES",null,null,null,null,490,"+",null,{"$f":"K110","v":3362},null,{"$f":"I111+F111","v":3852},null,null,{"$f":"ABS(I111-(I115+4))","v":457},null,{"$f":"ABS(K111-(I115+3))","v":34}]
[null,null,null,null,null,2300,"+",null,{"$f":"I111","v":3362},null,{"$f":"I112+F112","v":5662},null,null,{"$f":"ABS(I112-(I115+4))","v":457},null,{"$f":"ABS(K112-(I115+3))","v":1844}]
[null,null,null,null,null,1260,"+",null,{"$f":"K111+504","v":4356},null,{"$f":"I113+F113","v":5616},null,null,{"$f":"ABS(I113-(I115+3))","v":538},null,{"$f":"ABS(K113-(I115+3))","v":1798}]
["Jehoshua's baptism & crucifixion",null,null,null,null,null,null,null,{"$f":"I111+(7+62)*7","v":3845},null,{"$f":"I111+((7+62)*7+4)","v":3849},null,null,{"$f":"ABS(I114-(I115+3))","v":27},null,{"$f":"ABS(K114-(I115+3))","v":31},null,"Luke 3:21,23 \"it came to pass, that Jesus also being baptized, and praying, the heaven was opened… And Jesus himself began to be about thirty years of age…\", i.e. Jesus was baptized at, or shortly following, his 30th birthday."]
["Jehoshua's birth and death",null,null,null,null,33,"+",null,{"$f":"I114-30","v":3815},null,{"$f":"K114","v":3849},null,null,{"$f":"ABS(I115-(I115+4))","v":4},null,{"$f":"ABS(K115-(I115+3))","v":31}]
["Full years until 1 Nissan in year:   [",2003,"rd Gregorian]",null,null,null,null," (",{"$f":"K116-1","v":5820},")",{"$f":"K112+(B116-P112)","v":5821},null,"     (",{"$f":"ABS(I116-(I115+3))","v":2002},")",{"$f":"ABS(K116-(I115+3))","v":2003}]
[]
["         Family days ","21 Iyyar 5709     - May 20",null,null,null,null,null,null,null,null,null,null,{"$f":"K116-(P116-P118)","v":5767},null,null,1949]
[null,"14 Adar 5710      - March 3",null,null,null,null,null,null,null,null,null,null,{"$f":"K116-(P116-P119)","v":5768},null,null,1950]
[null,"15 Av 5713        - July 27",null,null,null,null,null,null,null,null,null,null,{"$f":"K116-(P116-P120)","v":5771},null,null,1953]
[null,"16 Iyyar 5722    - May 20",null,null,null,null,null,null,null,null,null,null,{"$f":"K116-(P116-P121)","v":5780},null,null,1962]
[null,"23 Sivan 5723   - June 15",null,null,null,null,null,null,null,null,null,null,{"$f":"K116-(P116-P122)","v":5781},null,null,1963]
[null,"10 Iyyar 5744    - May 12",null,null,null,null,null,null,null,null,null,null,{"$f":"K116-(P116-P123)","v":5802},null,null,1984]
[null,"25 Sivan 5744    - June 25",null,null,null,null,null,null,null,null,null,null,{"$f":"K116-(P116-P123)","v":5802},null,null,1984]
[null,"15 Nissan 5746  - April 24",null,null,null,null,null,null,null,null,null,null,{"$f":"K116-(P116-P125)","v":5804},null,null,1986]
[null,"  9 Tishrei 5749   - September 20",null,null,null,null,null,null,null,null,null,null,{"$f":"K116-(P116-P126)","v":5806},null,null,1988]
[null,"28 Cheswan 5752 - November 5",null,null,null,null,null,null,null,null,null,null,{"$f":"K116-(P116-P127)","v":5809},null,null,1991]
[]
["SUMMARY"]
[]
["Adam to Abram's leaving Haran",null,null,{"$f":"I6","v":0},null,{"$f":"I27","v":2021},null,null,{"$f":"D131+F131","v":2021},null,null,null,{"$f":"F131","v":2021}]
["Abraham to Exodus",null,null,{"$f":"I27","v":2021},null,430,null,null,{"$f":"D132+F132","v":2451},null,null,null,{"$f":"F132","v":430}]
["Exodus to Foundation of Solomon's Temple",null,null,{"$f":"I132","v":2451},null,{"$f":"I133-D133","v":479},null,null,{"$f":"D134","v":2930},null,null,null,479]
["Solomon's Temple to king Eliakim's revolt",null,null,{"$f":"I81","v":2930},null,{"$f":"I134-D134","v":392},null,null,{"$f":"D135","v":3322},null,null,null,392]
["King Eliakim's revolt to Foundation of 2nd Temple",null,null,{"$f":"Sheet7!A925","v":3322},null,{"$f":"I135-D135","v":40},null,null,{"$f":"K110","v":3362},null,null,null,40]
["Cyrus' decree + (62+7+1 wks)*7yrs",null,null,{"$f":"K110","v":3362},null,{"$f":"7*(62+7+1)","v":490},null,null,{"$f":"D136+F136","v":3852}]
["Cyrus' decree + 2300 days/years",null,null,{"$f":"K110","v":3362},null,2300,null,null,{"$f":"D137+F137","v":5662},null,null,null,{"$f":"F137","v":2300},null,null,{"$f":"ABS(K112-(I115+4))+1","v":1844}]
["1844 to 1 Nisan this year",null,null,{"$f":"K112","v":5662},null,{"$f":"I138-D138","v":158},null,null,{"$f":"I116","v":5820},null,null,null,158]
["1 Nisan this year to 6000 full years after Creation",null,null,{"$f":"I138","v":5820},null,{"$f":"I139-D139","v":180},null,null,6000,null,null,null,180]
[]
["Total",null,null,null,null,null,null,null,null,null,null,null,{"$f":"SUM(M131:M139)","v":6000}]
[]
[]
[]
[]
[]
[]
[]
[]
[]
[]
[]
[]
[]
[]
[]
[]
[]
[]
[]
[]
[]
[]
[]
[]
[]
[]
["KEY:"]
["Green highlights are points upon which dating is based."]
["Italicized dates during time of Judges indicate they are only approximations."]
["Dates in bold print are C.E. [A.D.]"]
[]
[]
["Questions or comments?  Send your email to:"]
["PowerOfChoice@gamaliel.intranets.com"]

{"sheet":"Sheet1","index":3,"n_rows":204,"n_cols":23,"rows_kept":204,"cut":false,"hidden":false,"merged":[[134,19,137,30]]}
["The Sacred Calendar from the Beginning of Time © Tree of Life Time version "]
["Some fundamental concepts springing out of the study leading to this Calendar:  1. The Sacred Calendar as apparently given to Israel at Sinai was given to Mankind already at Creation. Cf. Ex. 12:2 \"This month [the month of the Exodus and the Passover] shall be unto you the beginning of months: it shall be the first month of the year to you\" (KJV).  The Sacred annual Calendar, i.e. the Calendar starting with the month Abib [Nisan], constitutes the basis for every numbered year given in the Holy Scriptures, unless otherwise indicated, whether such year is in reference to Patriarchs, Prophets, Kings, or the People at large.  I propose, based upon my findings as referenced within these tables, that the Sacred Calendar is being consistently used within the Bible in such a way that a complete, perfect, exact, Sacred, and Holy Calendar from the Beginning of Creation until Present may be reconstrued from the facts provided us within the Bible text.  Although my work upon this Calendar is yet to be perfected I find more and more support for the above hypothesis the further I persue the resolution of every problem encountered towards a perfect Sacred Calendar from the Beginning until the End of Time.  Consider some of the many texts supporting such a stand: \"And God blessed the seventh day, and sanctified it\" Gen. 2:3 (KJV); \"And the Lord appeared unto him [Abraham]... And he said, I will certainly return unto thee according to the time of life... At the time appointed I will return unto thee, according to the time of life...\" Gen. 18:1,10,14 (KJV); \"Now they began on the first day of the first month to sanctify... And Hezekiah sent to all Israel and Judah, and wrote letters... that they should come to the house of the Lord at Jerusalem, to keep the passover unto the Lord God of Israel... in the second month For they could not keep it at that time [i.e. in the first month], because the priests had not sanctified themselves sufficiently...\" 2 Chron. 29:17;30:1-3 (KJV). \"Upon the four and twentieth day of the eleventh month, which is the month Sebat [the name of the 11th month within the modern Hebrew calendar when Nisan as counted as the first month], in the second year of Darius, came the word of the Lord unto Zechariah\" Zech. 1:7 (KJV).",null,null,null,null,null,null,null,null,null,null,null,null,null,null,null,null,null,null,null," e, +.","e' = Exact to the day; '+' = A full year + up to 12 months, BUT click on each cell for a full explanation!"]
[null,null,null,null,null,null,null,null,"After Creation \n\n  - Reckoned and given here is the accession year of each event; e.g. the year within which someone was born (i.e. conceived or else reckoned for the covenant beginning of the parents,) the beginning of the 430 years of dwelling in Egypt, the beginning of the building of Solomon's Temple, etc..",null,null,"",null,"AT","  BC / AD",null,"AT","  BC / AD",null,"Supporting Scriptures",12345678,"1st Millenium         0 -1,000 after Creation    The Genealogies given within the Pattern Day/Millenium are more perfect (as given in Genesis 5:3-31), than it is in the second Millenium (as given in Genesis 11:11-25. Cf. also the words \"My Covenant... bear... at this set time in the next year\" Gen. 17:21), allowing no room for rounding. (Had the perfected(!) age given when begetting the next Son in line AND the perfected(!) remaining years of the Father BOTH included up to twelve month, in addition to the perfected(!) TOTAL years given, THEN about half of the perfected total number of years given for the age at death of the Father would have been the sum of the first two numbers + one (1) year, e.g. for Adam 130 years and 7 months + 800 years and 6 months = 931 years and 1 months, not 930 years, etc..  But such is NOT the case for even one out of nine generations. The odds for such a case are otherwise extremely slim, only 0.5 ^ 9 = 0.0000000000000000000000000000000000000000000000000000000000000000000000000000086 or once (1) out of 10^77 times, i.e once (1) out of 100,000,000,000,000,000,000,000,000,000,000,000,000,000,000,000,000,000,000,000,000,000,000,000,000,000 times.  Not likely, is it?"]
[null,null,null,null,null,null,null,null,null,null,null,null,null,null,null,null,null,null,null,null,12345678,"2nd Millenium   1,001-2,000 after Creation.  The habits and traditions adhered to are extremely likely to be following the Pattern set in the 1st Day/1st Millenium.  A tradition unfailingly adhered unto for 9 generations and 1,000 years plus, is a very strong tradition not likely to be quickly broken.  Thus, because the foundation is solidly established, it is not necessary to give us the Genealogies for this second Millenium as exactly as given within the first. (Cf. 1st Millenium note above!).  A hint to this lesser degree of perfection is given us by the ABSENCE, in the record of the 2nd Day of Creation as recorded in Genesis 1:6-8, of the words \"And God saw... that it was good\", as provided for each of the other first six days of Creation."]
["Adam",130,"exact and by definition of birth as the beginning of the Covenant between parents in terms of Freedom of Choice (cf. Note at Color coding for 1st Millenium after the Creation)",800,"+",{"$f":"B5+D5","v":930},"+",null,{"$f":"0","v":0},null,{"$f":"F5","v":930},null,null,{"$f":"IF(I5<>\"\", N$130+(I5-I$130), \"\")","v":-3921},{"$f":"IF(N5<>\"\", IF(N5>0, N5, ABS(N5-1)), \"\")","v":3922},"-",{"$f":"IF(K5<>\"\", Q$130+(K5-K$130), \"\")","v":-2991},{"$f":"IF(Q5<>\"\", IF(Q5>0, Q5, ABS(Q5-1)), \"\")","v":2992},null,"Gen. 5:3-5",12345678,"3rd Millenium    2,001-3,000 after Creation. Considering the fact that Abraham personally renewed the Covenant establish with his predecessors, and considering the words \"My Covenant... bear... at this set time in the next year\" Gen. 17:21, and the fact that Abraham is recorded by Josephus as having been a renowned matematician, Abraham is most likely to have been upholding the Patterns and traditions established since the beginning, while also in line with the Principles of the Creator, and upheld through 19 generations preceeding him, and 2,000 years. (Cf. the notes above for the 1st and 2nd Millenia above!)"]
["Seth",105,"exact and by definition of birth as the beginning of the Covenant between parents in terms of Freedom of Choice (cf. Note at Color coding for 1st Millenium after the Creation)",807,"+",{"$f":"B6+D6","v":912},"+",null,{"$f":"I5+B5","v":130},null,{"$f":"I6+F6","v":1042},null,null,-3791,3792,"-",-2879,2880,null,"Gen. 5:6-8",12345678,"4th Millenium    3,001-4,000 after Creation"]
["Enos",90,"exact and by definition of birth as the beginning of the Covenant between parents in terms of Freedom of Choice (cf. Note at Color coding for 1st Millenium after the Creation)",815,"+",905,"+",null,235,null,1140,null,null,-3686,3687,"-",-2781,2782,null,"Gen. 5:9-11",12345678,"5th Millenium    4,001-5,000 after Creation"]
["Cainan",70,"exact and by definition of birth as the beginning of the Covenant between parents in terms of Freedom of Choice (cf. Note at Color coding for 1st Millenium after the Creation)",840,"+",910,"+",null,325,null,1235,null,null,-3596,3597,"-",-2686,2687,null,"Gen. 5:12-14",12345678,"6th Millenium    5,001-6,000 after Creation"]
["Mahalaleel",65,"exact and by definition of birth as the beginning of the Covenant between parents in terms of Freedom of Choice (cf. Note at Color coding for 1st Millenium after the Creation)",830,"+",895,"+",null,395,null,1290,null,null,-3526,3527,"-",-2631,2632,null,"Gen. 5:15-17"]
["Jared",162,"exact and by definition of birth as the beginning of the Covenant between parents in terms of Freedom of Choice (cf. Note at Color coding for 1st Millenium after the Creation)",800,"+",962,"+",null,460,null,1422,null,null,-3461,3462,"-",-2499,2500,null,"Gen. 5:18-20",12345678,"Changed cell value; Text reference for Abraham (P26) uses it for emphasis and has added (in comparison to Erik's) text in black."]
["ENOCH",65,"exact and by definition of birth as the beginning of the Covenant between parents in terms of Freedom of Choice (cf. Note at Color coding for 1st Millenium after the Creation)",300,"+",365,"+",null,622,null,987,null,null,-3299,3300,"-",-2934,2935,null,"Gen. 5:21-23",12345678,"Changed cell value"]
["Methusaleh",187,"exact and by definition of birth as the beginning of the Covenant between parents in terms of Freedom of Choice (cf. Note at Color coding for 1st Millenium after the Creation)",782,"+",969,"+",null,687,null,1656,null,null,-3234,3235,"-",-2265,2266,null,"Gen. 5:25-27",12345678,"Modified cell formula"]
["Lamech",182,"exact and by definition of birth as the beginning of the Covenant between parents in terms of Freedom of Choice (cf. Note at Color coding for 1st Millenium after the Creation)",595,"+",777,"+",null,874,null,1651,null,null,-3047,3048,"-",-2270,2271,null,"Gen. 5:28-31"," 12345678","Primary numbers (or fixed numbers within formulas) used for calculation of timeline - Any color number for year that's underlined"]
["NOAH",500,"exact and by definition of birth as beginning of Covenant between parents in terms of Freedom of Choice",{"$f":"F14-B14","v":450},"+",950,"+",null,1056,null,2006,null,null,-2865,2866,"-",-1915,1916,null,"Gen. 5:32; 7:6; 9:28-29","Arphaxad born \"two years after the flood\" [ended?], OR [consistent with the Hebrew text] in the second year after the Flood started.  Counting date of delivery, conception, or date Shem was married - he had his wife brought on board the ark…"]
["Shem",100,"exact and by definition of birth as beginning of Covenant between parents in terms of Freedom of Choice",500,"+",600,"+",null,1556,null,2156,null,null,-2365,2366,"-",-1765,1766,null,"Gen. 5:32; 7:6; 11:10-11","Please notice that Shem was the first born, not Ham (as some suggest), and that Shem was born in the year Noah was 500 years old, i.e. consistent with the Hebrew text."]
["FLOOD",null,null,null,null,null,null,null,{"$f":"I14+599","v":1655},null,{"$f":"I16+1","v":1656},null,null,-2266,2267,"-",-2265,2266,null,"Gen. 7:11; 11:11","The flood started in the 600th year of Noah, i.e. when Noah was 599 years old plus.  It lasted just over one (1) year, while touching two separate calendar years. Notice also that Noah lived 350 years after the flood, and thus the flood occurred 350 years before Noah's death. One year - or year one - after the [beginning of the] flood would be the first year, whether the civil or the sacred year, starting after the beginning of the flood, or else a point in time one year to the day after the beginning of the flood. This same year would be the year when Arphaxad was born, i.e. \"shanim\" [\"two years\" (KJV)] after the flood."]
["Arphaxad",35,"exact and by definition of birth as the beginning of the Covenant between parents in terms of Freedom of Choice (cf. Note at Color coding for 2nd Millenium after the Creation)",403,"+",438,"+",null,{"$f":"I15+B15","v":1656},null,{"$f":"I17+F17","v":2094},null,null,-2265,2266,"-",-1827,1828,null,"Gen. 11:10-11, 12-13","Cf. My file \"שׁנתים - Two years.doc\""]
["Salah",30,"exact and by definition of birth as the beginning of the Covenant between parents in terms of Freedom of Choice (cf. Note at Color coding for 2nd Millenium after the Creation)",403,"+",433,"+",null,{"$f":"I17+B17","v":1691},null,2124,null,null,-2230,2231,"-",-1797,1798,null,"Gen. 11:14-15"]
["Eber",34,"exact and by definition of birth as the beginning of the Covenant between parents in terms of Freedom of Choice (cf. Note at Color coding for 2nd Millenium after the Creation)",430,"+",464,"+",null,1721,null,2185,null,null,-2200,2201,"-",-1736,1737,null,"Gen. 11:16-17"]
["Peleg",30,"exact and by definition of birth as the beginning of the Covenant between parents in terms of Freedom of Choice (cf. Note at Color coding for 2nd Millenium after the Creation)",209,"+",239,"+",null,1755,null,1994,null,null,-2166,2167,"-",-1927,1928,null,"Gen. 11:18-19"]
["Reu",32,"exact and by definition of birth as the beginning of the Covenant between parents in terms of Freedom of Choice (cf. Note at Color coding for 2nd Millenium after the Creation)",207,"+",239,"+",null,1785,null,2024,null,null,-2136,2137,"-",-1897,1898,null,"Gen. 11:20-21"]
["Serug",30,"exact and by definition of birth as the beginning of the Covenant between parents in terms of Freedom of Choice (cf. Note at Color coding for 2nd Millenium after the Creation)",200,"+",230,"+",null,1817,null,2047,null,null,-2104,2105,"-",-1874,1875,null,"Gen. 11:22-23"]
["Nahor",29,"exact and by definition of birth as the beginning of the Covenant between parents in terms of Freedom of Choice (cf. Note at Color coding for 2nd Millenium after the Creation)",119,"+",148,"+",null,1847,null,1995,null,null,-2074,2075,"-",-1926,1927,null,"Gen. 11:24-25"]
["TERAH",70,"exact and by definition of birth as the beginning of the Covenant between parents in terms of Freedom of Choice (cf. Note at Color coding for 2nd Millenium after the Creation)",{"$f":"F24-B24","v":135},"+",205,"+",null,1876,null,2081,null,null,-2045,2046,"-",-1840,1841,null,"Gen. 11:26, 32; 12:4","Gen. 11:26, 32; 12:1, 4  -  If Abram did not leave Haran until Terah died then Terah was 205 y/o - 75 y/o = 130 y/o when Abram was delivered, and Terah's oldest offspring would have been 60 y/o, if alive, when Abram was delivered… If Abram was the oldest then he left his Father Terah in Haran when Terah was 145 y/o."]
["Abraham",100,"exact and by definition of birth as the beginning of the Covenant between parents in terms of Freedom of Choice (cf. Note at Color coding for 2nd Millenium after the Creation)",{"$f":"F25-B25","v":75},"+",175,"+",null,1946,null,2121,null,null,-1975,1976,"-",-1800,1801,null,"Gen. 17:1-2, 16-17, 19, 21; 18:10, 14; 21:5; 25:7"]
["The beginning of the 430 years",430,"exact and by definition. Consider the words \"four hundred and thirty years, even the selfsame day...\" Ex. 12:41. This date, thus given, seems unlikely not to be have been given in line with the 2,000 year old tradition of dating as established within the records of life since Creation (the records referenced likely as \"according to the time of life\" in Gen. 18:10&14). Said records may reasonably be seen as being based upon dates defined in terms of the beginning of the Covenant of each set of parents, i.e. in terms of their Freedom of Choice in consummating a Covenant such as may be expected to bear the most important fruit of all, i.e. Sons and Daughters of the Creator as exclusively held by those parents in trust. (Cf. Note at Color coding for 3rd Millennium after the Creation).",null,null,null,null,null,{"$f":"I24+B24+75","v":2021},"exact and by definition of birth as the beginning of the Covenant between parents in terms of Freedom of Choice (cf. Note at Color coding for 3rd Millenium after the Creation)",{"$f":"I26+B26","v":2451},{"$f":"C26","v":"exact and by definition. Consider the words \"four hundred and thirty years, even the selfsame day...\" Ex. 12:41. This date, thus given, seems unlikely not to be have been given in line with the 2,000 year old tradition of dating as established within the records of life since Creation (the records referenced likely as \"according to the time of life\" in Gen. 18:10&14). Said records may reasonably be seen as being based upon dates defined in terms of the beginning of the Covenant of each set of parents, i.e. in terms of their Freedom of Choice in consummating a Covenant such as may be expected to bear the most important fruit of all, i.e. Sons and Daughters of the Creator as exclusively held by those parents in trust. (Cf. Note at Color coding for 3rd Millennium after the Creation)."},null,-1900,1901,"-",-1470,1471,null,"Beginning of the 430 years and 30 years prior to the beginning of affliction:\n\nThe accession year of the 430 years was within Abram's first 75 years of life:\n\nGen. 12:4 TLT \"So Abram departed, as the LORD had spoken unto him; and Lot went with him: and Abram was seventy and five years old within [which year] he departed out of Haran.\"; \n\nGen. 12:4 KJV \"So Abram departed, as the LORD had spoken unto him; and Lot went with him: and Abram was seventy and five years old when he departed out of Haran.\"; \n\n\n\nThe Exodus took place within the 430th year following Abram's 75th year of life:\n\nExodus 12:40 TLT \"Now the dwelling place, of the children of Israel who dwelt in Egypt, was [theirs since] four hundred and thirty years.” (TLT © Tree of Life Time  version.)\n\nExodus 12:41 TLT  And it came to pass after the point in time marking the beginning of year four hundred and thirty, even the selfsame day it came to pass, that all the hosts of the LORD went out from the land of Egypt. (TLT © Tree of Life Time version 5929± 06 15 2025 [2009-09-06.])\n\n\"Now the sojourning of the children of Israel, who dwelt in Egypt, was four hundred and thirty years... And it came to pass at the end of the four hundred and thirty years, even the selfsame day it came to pass, that all the hosts of the LORD went out from the land of Egypt.\" Exodus 12:40-41 (KJV.) \n\n\"And he said unto Abram, Know of a surety that thy seed shall be a stranger in a land that is not theirs, and they shall serve them. And they shall afflict them four hundred years.\" Gen 15:13 (TLT © Tree of Life Time version.)\n\n\"And he said unto Abram, Know of a surety that thy seed shall be a stranger in a land that is not theirs, and shall serve them; and they shall afflict them four hundred years; \nAnd also that nation, whom they shall serve, will I judge: and afterward shall they come out with great substance.\" Gen 15:13-14 (KJV.)"]
["Beginning of sojourn in Canaan (by 2nd set of texts independent of when Abram left Haran.)",null,null,null,null,null,null,null,{"$f":"I28-(10+1)","v":2021},null,null,null,null,-1900,1901,"-","","",null,"Gen. 16:3 (Cf. \"when Hagar bare\" v.16 vs. \"when his son Isaac was born unto him\" Gen. 21:5. Thus the extra year.)"]
["Ishmael",null,null,null,null,137,null,null,{"$f":"I25+86","v":2032},null,{"$f":"I28+F28","v":2169},null,null,-1889,1890,"-",-1752,1753,null,"Gen. 16:15-16; Gen. 25:17"]
["Isaac",60,"exact and by definition of birth as the beginning of the Covenant between parents in terms of Freedom of Choice (cf. Note at Color coding for 3rd Millenium after the Creation)",120,"+",180,"+",null,{"$f":"I25+B25","v":2046},null,{"$f":"I29+F29","v":2226},null,null,-1875,1876,"-",-1695,1696,null,"Gen. 25:26;35:29"]
["The beginning of the 400 years of affliction",null,null,null,null,null,null,null,{"$f":"K30-400","v":2051},null,{"$f":"K26","v":2451},null,null,-1870,1871,"-",-1470,1471,null,"Beginning of the 400 years of affliction: \n\n\"the same day that Isaac was weaned… the son of Hagar… mocking\" Gen. 21:8,9 (KJV.)\n\n- Notice an important lesson here: The family is not only the corner stone of every society, it is also the mirror of the greater society, a place where one may learn, little by litte, to understand the workings of society as a whole. Without the family there would be no place where one would be able to perceive the grand picture of things in society too large for one man to see. \n\n- Anyone working on the destruction of even one family, be it their own or even one of the worst in appearance, is like the woman destroying the mirror because she isn't liking what she is seeing in it. Consider that!\n\n- There is no worse species of child abuse than destruction of a child's parenteral family - and the relationships inherent in that!  Why? Because it is an ongoing, never ending, severe species of emotional trauma!  How would you like to be raped every second for the rest of your life? Would you like that to happen to your child? If not, then stop contributing in any way whatsoever to family destruction, separation, and divorce! Yes, we do need to work towards stopping all kinds of abuse, but not at the cost of adding the worst of all abuses: Parenteral family destruction!\n\n- Consider it!: Do you still experience any of the consequences of the \"mocking\" that started not quite 4000 years ago? What can you do in your life to stop contributing to the mocking, the separations, and the persecutions, that are still a very active part of life today? What can you do within your own domain or dominion? What can you do in your own family so far as you yourself is concerned?"]
["Jacob",{"$f":"B34","v":81},"+",{"$f":"F31-B31","v":66},"+",147,"+",null,{"$f":"I29+B29","v":2106},null,{"$f":"I31+F31","v":2253},null,null,-1815,1816,"-",-1668,1669,null,"Genesis 47:28: \"And Jacob lived in the land of Egypt seventeen years: so the whole age of Jacob was a hundred forty and seven years.\" (KJV)\n\nGenesis 41:46 \"And Joseph was thirty years old when he stood before Pharaoh king of Egypt. And Joseph went out from the presence of Pharaoh, and went throughout all the land of Egypt. (KJV)\""]
["Esau",40,null,null,null,null,null,null,{"$f":"I31","v":2106},null,null,null,null,-1815,1816,"-","","",null,"Gen. 26:34-35; 27:46."]
["Jacob at Laban",{"$f":"I33-I31","v":74},"+",20,null,null,null,null,{"$f":"I48-20","v":2180},null,{"$f":"I48","v":2200},null,null,-1741,1742,"-",-1721,1722]
["Jacob marries Leah and Rachel",{"$f":"B33+7","v":81},"+",null,null,null,null,null,{"$f":"I33+7","v":2187},"+",null,null,null,-1734,1735,"-","","",null,"Cf. My file \"Hur gammal var Jakob när han gifte sig.rtf\""]
["Reuben, son of Leah",null,null,null,null,null,null,null,{"$f":"I34","v":2187},"+",null,null,null,-1734,1735,"-","","",null,"Gen. 29:32"]
["Simeon, son of Leah ",null,null,null,null,null,null,null,{"$f":"I35+1","v":2188},"±",null,null,null,-1733,1734,"-",null,null,null,"Gen. 29:33"]
["Levi, son of Leah",null,null,null,null,137,"+",null,{"$f":"I36+1","v":2189},"±",{"$f":"I37+F37","v":2326},null,null,{"$f":"IF(I37<>\"\", N$130+(I37-I$130), \"\")","v":-1732},1733,"-",{"$f":"IF(K37<>\"\", Q$130+(K37-K$130), \"\")","v":-1595},{"$f":"IF(Q37<>\"\", IF(Q37>0, Q37, ABS(Q37-1)), \"\")","v":1596},null,"Gen. 29:34 \n\"And she conceived again, and bore a son; and said, Now this time will my husband be joined unto me, because I have born him three sons: therefore was his name called Levi.\"\n \nGen 15:16\n\"16 But in the fourth generation they shall come hither again: for the iniquity of the Amorites is not yet full.\n(KJV)\" \n \nEx. 6:16. \nMoses, 4th generation after Levi, who is the 3rd generation after Abraham. (Cf. Gen 15:16 above) Exod 6:16-20\n\"16 And these are the names of the sons of Levi according to their generations; Gershon, and Kohath, and Merari: and the years of the life of Levi were an hundred thirty and seven years.\n18 And the sons of Kohath; Amram, and Izhar, and Hebron, and Uzziel: and the years of the life of Kohath were an hundred thirty and three years.\n20 And Amram took him Jochebed his father's sister to wife; and she bare him Aaron and Moses: and the years of the life of Amram were an hundred and thirty and seven years. (KJV)\"\n"]
["Judah, son of Leah",null,null,null,null,null,null,null,2190,"±",null,null,null,-1731,1732,"-",null,null,null,"Gen. 29:35"]
["Dan, son of Bilhah, Rachel's handmaid",null,null,null,null,null,null,null,2191,"±",null,null,null,-1730,1731,"-",null,null,null,"Gen. 30:6, 1-6"]
["Naphtali, son of Bilhah, Rachel's handmaid",null,null,null,null,null,null,null,2192,"±",null,null,null,-1729,1730,"-",null,null,null,"Gen. 30:7-8"]
["Gad, son of Zilpah, Leah's handmaid",null,null,null,null,null,null,null,2193,"±",null,null,null,-1728,1729,"-",null,null,null,"Gen. 30:9-11"]
["Asher, son of Zilpah, Leah's handmaid",null,null,null,null,null,null,null,2194,"±",null,null,null,-1727,1728,"-",null,null,null,"Gen. 30:12-13"]
["Issachar, son of Leah",null,null,null,null,null,null,null,2195,"±",null,null,null,-1726,1727,"-",null,null,null,"Gen. 30:18, 14-18"]
["Zebulon, son of Leah",null,null,null,null,null,null,null,2196,"±",null,null,null,-1725,1726,"-",null,null,null,"Gen. 30:19-20"]
["Dinah, daughter of Leah",null,null,null,null,null,null,null,2197,"±",null,null,null,-1724,1725,"-",null,null,null,"Gen. 30:21"]
["Joseph, son of Rachel",{"$f":"I51-I46","v":30},"+",null,null,110,"+",null,{"$f":"I48-2","v":2198},"-",{"$f":"I46+F46","v":2308},null,null,-1723,1724,"-",{"$f":"IF(K46<>\"\", Q$130+(K46-K$130), \"\")","v":-1613},1614,null,"Gen 30:22-24; Gen. 50:26"]
["Benjamin, son of Rachel",null,null,null,null,null,null,null,2199,"+",null,null,null,-1722,1723,"-","","",null,"Gen. 30:24; 35:18, 16-20"]
["Jacob leaves Laban (at an age of 94 plus), wrestles with God, and meets Esau. Joseph is at least two years old. Benjamin likely conceived but not yet born.",null,null,null,null,null,null,null,{"$f":"I56-36","v":2200},null,{"$f":"I48+1","v":2201},null,null,-1721,1722,"-",-1720,1721,null,"Gen. 30:25; 31:41; 32:22-30; 33:7,17-20. Gen 30:25 - \"25 And it came to pass, when Rachel had born Joseph, that Jacob said unto Laban, Send me away, that I may go unto mine own place, and to my country. (KJV).\"  Gen 31:41 - \"41 Thus have I been twenty years in thy house; I served thee fourteen years for thy two daughters, and six years for thy cattle: and thou hast changed my wages ten times. (KJV).\"  Gen 32:22-30 - \"22 And he rose up that night, and took his two wives, and his two womenservants, and his eleven sons, and passed over the ford Jabbok. 24 And Jacob was left alone; and there wrestled a man with him until the breaking of the day. 27 And he said unto him, What is thy name? And he said, Jacob. 28 And he said, Thy name shall be called no more Jacob, but Israel: for as a prince hast thou power with God and with men, and hast prevailed. 29 And Jacob asked him, and said, Tell me, I pray thee, thy name. And he said, Wherefore is it that thou dost ask after my name? And he blessed him there. 30 And Jacob called the name of the place Peniel: for I have seen God face to face, and my life is preserved. (KJV).\"\nGen 33:7 - \"7 And Leah also with her children came near, and bowed themselves: and after came Joseph near and Rachel, and they bowed themselves [Thus Joseph must have been at least 2-3 years old.]. (KJV).\" \nGen 33:17-20\n\"17 And Jacob journeyed to Succoth, and built him an house, and made booths for his cattle: therefore the name of the place is called Succoth. 18 And Jacob came to Shalem, a city of Shechem, which is in the land of Canaan, when he came from Padan-aram; and pitched his tent before the city. 19 And he bought a parcel of a field, where he had spread his tent, at the hand of the children of Hamor, Shechem's father, for an hundred pieces of money. 20 And he erected there an altar, and called it El-elohe-Israel. (KJV).\"\nGen 48:5-7\n\"5 And now thy two sons, Ephraim and Manasseh, which were born unto thee in the land of Egypt before I came unto thee into Egypt, are mine... 7 And as for me, when I came from Padan [where Laban lived, cf. Gen. 25:2-7; 31:18; 33:18-20], Rachel died by me in the land of Canaan in the way, when yet there was but a little way to come unto Ephrath [cf. Gen. 35:16-20]: and I buried her there in the way of Ephrath; the same is Bethlehem. (KJV).\""]
["Joseph taken to Egypt",null,null,null,null,null,null,null,{"$f":"I46+17","v":2215},null,{"$f":"I46+17","v":2215},null,null,-1706,1707,"-",-1706,1707,null,"Gen. 37:2-28"]
["Baker & Butler dream in prison",null,null,null,null,null,null,null,{"$f":"I51-1","v":2227},null,{"$f":"I50","v":2227},null,null,-1694,1695,"-",-1694,1695,null,"Gen. 40; 41:1. \"Gen 41:1 - 1 And it came to pass at the end of two full years [\"shenataim jamim\" = one+ year], that Pharaoh dreamed: and, behold, he stood by the river. (KJV)\" \n\nGen 41:1 TLT  And it came to pass after the point in time marking the beginning of the second hot season, that Pharaoh dreamed: and, behold, he stood by the river.  [Cf. HebrewWordStudy-ketz.docx as Updated 5929± 06 15 2025 [2009-09-06.]]"]
["Pharoah dreams",null,null,null,null,null,null,null,{"$f":"I46+30","v":2228},null,{"$f":"I51+1","v":2229},null,null,-1693,1694,"-",-1692,1693,null,"Gen. 41:1-3, 14, 43, 46. Gen. 41:46: \"And Joseph was thirty years old when he stood before Pharaoh king of Egypt. And Joseph went out from the presence of Pharaoh, and went throughout all the land of Egypt. (KJV)\""]
["Seven years of plenty",null,null,null,null,null,null,null,{"$f":"I53-7","v":2228},null,{"$f":"I53","v":2235},null,null,-1693,1694,"-",-1686,1687]
["Seven years of famine",null,null,null,null,null,null,null,{"$f":"I56-1","v":2235},null,{"$f":"I53+7","v":2242},null,null,-1686,1687,"-",-1679,1680,null,"Gen. 41:53-54; 45:4,6,17-20. Gen 45:4-6 - \" 4 And Joseph said unto his brethren… 6 For these two years [\"shenatajim ze\" = 1+ year, i.e. \"this second year\"] hath the famine been in the land: and yet there are five years, in the which there shall neither be earing nor harvest. (KJV)\""]
["Ephraim and Manasseh",null,null,null,null,null,null,null,null,null,null,null,null,"","","-","","",null,"Gen 48:5-7 \"5 And now thy two sons, Ephraim and Manasseh, which were born unto thee in the land of Egypt before I came unto thee into Egypt, are mine… (KJV)”"]
["ISRAELITES enter Egypt proper",null,null,null,null,null,null,null,{"$f":"K31-17","v":2236},null,{"$f":"I55+1","v":2237},null,null,-1685,1686,"-",-1684,1685,null,"calculated"]
["Jacob meets Pharaoh in Egypt",null,null,null,null,null,null,null,{"$f":"I31+130","v":2236},null,{"$f":"I56+1","v":2237},null,null,-1685,1686,"-",-1684,1685,null,"Gen. 47:9: \"9 And Jacob said unto Pharaoh, The days of the years of my pilgrimage are an hundred and thirty years… (KJV)\"\n\n"]
[null,null,null,null,null,null,null,null,null,null,null,null,null,"","",null,"",""]
[null,null,null,null,null,null,null,null,null,null,null,null,null,"","",null,"",""]
["Kohath - 4th generation after Abraham",null,null,null,null,133,"+","<",{"$f":"I55-1","v":2235},"-",null,null,"Before",-1686,1687,"-","","",null,"Ex. 6:18  (KJV:)\n\"And the sons of Kohath; Amram, and Izhar, and Hebron, and Uzziel: and the years of the life of Kohath were a hundred thirty and three years.\"\n \nGen 15:16 (KJV:)\n\"But in the fourth generation they shall come hither again: for the iniquity of the Amorites is not yet full.\"\n\nGen 46:6, 11 (KJV:)\n\"And they took their cattle, and their goods, which they had gotten in the land of Canaan, and came into Egypt, Jacob, and all his seed with him... And the sons of Levi; Gershon, Kohath, and Merari.\"\n  \n - Notice that Kohath is the 4th generation after Abraham, AND that, although Kohath himself was apparently not alive at the time of the Exodus, there were certainly others in the same 4th generation that were born later than Kohath and that were still alive at the time of the Exodus.\n\n- Notice also that both Kohath and his younger brother Merari were alive at the time Jacob and his family entered Egypt!"]
["Amram - 5th generation after Abraham",null,null,null,null,137,"+",null,null,null,null,null,null,"","","-","","",null,"Ex. 6:20"]
["Aaron",null,null,null,null,123,"+",null,{"$f":"K61-123","v":2367},null,{"$f":"K65+39","v":2490},null,null,-1554,1555,"-",-1431,1432,null,"Num. 33:38-39"]
["Moses - 6th generation after Abraham",null,null,null,null,120,"+",null,{"$f":"I61+3","v":2370},null,{"$f":"I62+120","v":2490},null,null,-1551,1552,"-",-1431,1432,null,"Ex. 7:7; Deut. 29:5; 34:7"]
["Joshua",null,null,null,null,110,"+",null,null,null,null,null,null,"","","-","","",null,"Josh. 24:29"]
["Caleb",null,null,null,null,null,null,null,{"$f":"K65-40","v":2411},null,{"$f":"I64+85","v":2496},null,null,-1510,1511,"-",-1425,1426,null,"Josh. 14:7"]
["ISRAELITE EXODUS - 50th Jubilee",null,null,null,null,null,null,null,{"$f":"K26","v":2451},null,{"$f":"K26","v":2451},null,null,-1470,1471,"-",-1470,1471,null,"Ex. 12:40-41 [cf. 1 Kings 6:1]"]
["ENTRY TO CANAAN",null,null,null,null,null,null,null,{"$f":"I65+40","v":2491},null,{"$f":"K65+40","v":2491},null,null,-1430,1431,"-",-1430,1431,null,"Ex. 16:35; Num. 14:33-34; 32:13; Josh. 5:6"]
[null,null,null,null,null,null,null,null,null,null,null,null,null,"","",null,"",""]
["51st/1st Year of Jubilee",50,"e",null,null,null,null,null,{"$f":"K26-1+49","v":2499},"e",{"$f":"K26-1+50","v":2500},"e",null,-1422,1423,"-",-1421,1422,null,"2 Chron. 36:19-21; Lev. 25:8-10"]
[null,null,null,null,null,null,null,null,null,null,null,null,null,{"$f":"IF(I69<>\"\", N$130+(I69-I$130), \"\")","v":""},"",null,"",""]
[null,null,null,null,null,null,null,null,null,null,null,null,null,"","",null,"",""]
["TIME OF JUDGES",null,null,null,null,null,null,null,null,null,null,null,null,"","",null,"",""]
["Caleb",null,null,null,null,null,null,null,{"$f":"I65-40","v":2411},null,null,null,null,-1510,1511,"-","","",null,"“Forty years old was I when Moses the servant of the LORD sent me from Kadesh-barnea to espy out the land; and I brought him word again as it was in mine heart.” Joshua 14:7 (KJV.)"]
["Canaan divided by Joshua & Hebron assigned to Caleb",null,null,null,null,null,null,null,{"$f":"I72+85","v":2496},null,null,null,null,-1425,1426,"-","","",null,"“And now, behold, the LORD hath kept me alive, as he said, these forty and five years, even since the LORD spake this word unto Moses, while the children of Israel wandered in the wilderness: and now, lo, I am this day fourscore and five years old.” Joshua 14:10 (KJV.)"]
["Chushan-rishathaim",null,null,null,null,8,"+",null,{"$f":"I66+7","v":2498},null,{"$f":"I74+F74-1","v":2505},null,null,-1423,1424,"-",-1416,1417,null,"Jud. 3:8"]
["Othniel",null,null,null,null,40,"+",null,{"$f":"K74-2","v":2503},null,{"$f":"F75+I75-1","v":2542},null,null,-1418,1419,"-",-1379,1380,null,"Jud. 3:9-11"]
["Eglon",null,null,null,null,18,"+",null,{"$f":"K75","v":2542},null,2559,null,null,-1379,1380,"-",-1362,1363,null,"Jud. 3:12-14"]
["Ehud, Shamgar",null,null,null,null,80,"+",null,2559,null,2638,null,null,-1362,1363,"-",-1283,1284,null,"Jud. 3:15,30-31"]
["Jabin",null,null,null,null,20,"+",null,2638,null,2657,null,null,-1283,{"$f":"IF(N78<>\"\", IF(N78>0, N78, ABS(N78-1)), \"\")","v":1284},"-",{"$f":"IF(K78<>\"\", Q$130+(K78-K$130), \"\")","v":-1264},{"$f":"IF(Q78<>\"\", IF(Q78>0, Q78, ABS(Q78-1)), \"\")","v":1265},null,"Jud. 4:2-3"]
["Deborah/Barak",null,null,null,null,40,"+",null,{"$f":"K78-5","v":2652},null,2691,null,null,-1269,1270,"-",-1230,1231,null,"Jud. 4:3-4; 5:31"]
["Midian",null,null,null,null,7,"+",null,{"$f":"K79-5","v":2686},null,2692,null,null,-1235,1236,"-",-1229,1230,null,"Jud. 6:1"]
["Gideon",null,null,null,null,40,"+",null,2692,null,2731,null,null,-1229,1230,"-",-1190,1191,null,"Jud. 6:12-14; 8:28"]
["Abimilech",null,null,null,null,3,"+",null,2731,null,2733,null,null,-1190,1191,"-",-1188,1189,null,"Jud. 9:22-23"]
["Tola",null,null,null,null,23,"+",null,2733,null,2755,null,null,-1188,1189,"-",-1166,1167,null,"Jud. 10:1-2"]
["Jair",null,null,null,null,22,"+",null,{"$f":"K83-12","v":2743},null,2764,null,null,-1178,1179,"-",-1157,1158,null,"Jud. 10:3-5"]
["Philistines/Ammonites",null,null,null,null,18,"+",null,2764,null,2781,null,null,-1157,1158,"-",-1140,1141,null,"Jud. 10:7-8"]
["Jephthah",null,null,null,null,6,"+",null,2781,null,2786,null,null,-1140,1141,"-",-1135,1136,null,"Jud. 12:7-8"]
["Ibzan",null,null,null,null,7,"+",null,{"$f":"K86-2","v":2784},null,2790,null,null,-1137,1138,"-",-1131,1132,null,"Jud. 12:8-10"]
["Elon",null,null,null,null,10,"+",null,{"$f":"K87-2","v":2788},null,2797,null,null,-1133,1134,"-",-1124,1125,null,"Jud. 12:11-12"]
["Abdon",null,null,null,null,8,"+",null,{"$f":"K88-2","v":2795},null,2802,null,null,-1126,1127,"-",-1119,1120,null,"Jud. 12:13-15"]
["Philistines ",null,null,null,null,40,"+",null,2802,null,2841,null,null,-1119,1120,"-",-1080,1081,null,"Jud. 13:1"]
["Samson",null,null,null,null,20,"+",null,{"$f":"K90-27","v":2814},null,{"$f":"I91+20","v":2834},null,null,-1107,1108,"-",-1087,1088,null,"Jud. 15:16-20; 16:30-31"]
["Eli",null,null,null,null,40,"+",null,{"$f":"K91","v":2834},null,{"$f":"I92+F92","v":2874},null,null,-1087,1088,"-",-1047,1048,null,"1 Sam. 4:10,11,15,18; 6:1,2,4,11,12,14,16,17,23; 7:2; Joshua 15:9,60 (KJV)"]
["Samuel",null,"Starting on & before",null,null,null,null,null,{"$f":"K92","v":2874},null,{"$f":"Sheet7!A47","v":2886},null,null,-1047,1048,"-",-1035,1036,null,"Acts 13:17&19-20 (Time of Exodus + 450 years = 2901. Samuel anointed David. How does this agree with the beginning of King David?)"]
["Joel & Abijah, sons of Samuel",null,"Starting prior to ca",null,null,null,null,null,{"$f":"I99","v":2877},null,null,null,null,-1044,1045,"-","","",null,"Joel (Vashni), and Abijah are recorded among the Levites in the Temple service of David and Solomon, and Heman, a son of Joel, was a singer under king David and king Solomon (This represents all references unto those sons of Samuel in Strong's concordance): \"The sons of Levi... The sons of Kohath... And the sons of Samuel; the firstborn Vashni, and Abiah…And these are they whom David set over the service of song in the house of the Lord, after that the ark had rest. And they ministered before the dwelling place of the tabernacle of the congregation with singing, until Solomon had built the house of the Lord in Jerusalem. And then they waited on their office according to their order. And these are they that waited with their children. Of the sons of the Kohathites: Heman a singer, the son of Joel, the son of Shemuel, The son of Elkanah, the son of Jeroham, the son of Eliel, the son of Toah, The son of Zuph...\" 1 Chron. 5:16,22,25-26; 6:28,32-35"]
[null,null,null,null,null,null,null,null,null,null,null,null,null,"","",null,"",""]
["REIGNS OF KINGS",null,null,null,null,"Years reigned",null,null,null,null,null,null,null,"","",null,null,""]
[null,"Age at coronation",null,null,null,null,null,null,null,null,null,null,null,"","","Yrs between births"]
[null,"Chron.",null,"Kings",null,null,null,null,null,null,null,null,"Year of Birth","","",null,"","","Name"]
["Saul",40,null,40,"+",{"$f":"K99-I99","v":11},null,null,{"$f":"Sheet7!A38","v":2877},null,{"$f":"Sheet7!A49","v":2888},null,{"$f":"I99-D99","v":2837},-1044,1045,null,-1033,1034,{"$f":"300+1+6+30","v":337},"Acts 13:21 - See note for Saul on Sheet 7!"]
["David",30,null,30,null,40,"+",null,{"$f":"Sheet7!A51","v":2888},null,{"$f":"Sheet7!A93","v":2928},null,{"$f":"I100-D100","v":2858},-1033,1034,{"$f":"M100-M99","v":21},-993,994,{"$f":"4+6+4","v":14}]
["Solomon",null,null,30,null,40,"+",null,{"$f":"Sheet7!A95","v":2928},null,{"$f":"Sheet7!A134","v":2967},null,{"$f":"I101-D101","v":2898},{"$f":"IF(I101<>\"\", N$130+(I101-I$130), \"\")","v":-993},994,{"$f":"M101-M100","v":40},-954,955,{"$f":"300+30+40+5+10+4+10+4+10+5","v":418},"1 Kings 6:1; 1 Kings 11:42",{"$f":"I101+375+43","v":3346},{"$f":"S101-S120","v":86}]
["The Passover B4 the Temple",480,"exact and by definition. Passover is in the first month of the year. Zif, or Iyyar, is the second month. Thus, the building of the temple began in the second day of the month immediately following Passover in the 480th year after the Exodus, i.e. 479 years plus one full month plus 1 24-hour day plus 1 night. As to the exact dating for the Passover, please see corresponding note at the Exodus above!",null,null,null,null,null,{"$f":"$K$26+B102","v":2931},{"$f":"C102","v":"exact and by definition. Passover is in the first month of the year. Zif, or Iyyar, is the second month. Thus, the building of the temple began in the second day of the month immediately following Passover in the 480th year after the Exodus, i.e. 479 years plus one full month plus 1 24-hour day plus 1 night. As to the exact dating for the Passover, please see corresponding note at the Exodus above!"},null,null,null,-990,991,null,"","",null,"1 Kings 6:1&37-38; 2 Chron. 3:2; (Cf. Acts 13:17&19-20)"]
["The Temple of Solomon",{"$f":"B102","v":480},"exact and by definition. Passover is in the first month of the year. Zif, or Iyyar, is the second month. Thus, the building of the temple began in the second day of the month immediately following Passover in the 480th year after the Exodus, i.e. 479 years plus one full month plus 1 24-hour day plus 1 night. As to the exact dating for the Passover, please see corresponding note at the Exodus above!",null,null,null,null,null,{"$f":"$K$26+B103","v":2931},{"$f":"C103","v":"exact and by definition. Passover is in the first month of the year. Zif, or Iyyar, is the second month. Thus, the building of the temple began in the second day of the month immediately following Passover in the 480th year after the Exodus, i.e. 479 years plus one full month plus 1 24-hour day plus 1 night. As to the exact dating for the Passover, please see corresponding note at the Exodus above!"},{"$f":"I103+(11-4)","v":2938},"+",null,-990,991,null,-983,984,null,"1 Kings 6:1&37-38; 2 Chron. 3:2; (Cf. Acts 13:17&19-20)"]
["Solomon's Palace",13,"+",null,null,null,null,null,{"$f":"K103","v":2938},{"$f":"C104","v":"+"},{"$f":"I104+B104","v":2951},{"$f":"C104","v":"+"},null,-983,984,null,-970,971,null,"1 Kings 7:1"]
["Rehoboam",41,null,41,null,18,"+",null,{"$f":"Sheet7!A134","v":2967},null,{"$f":"Sheet7!A169","v":2984},null,{"$f":"I105-D105","v":2926},-954,955,{"$f":"M105-M101","v":28},-937,938,{"$f":"200+8+2+70+40","v":320},"1 Kings 12; 14:21"]
["Abijah (Abijam)",null,null,null,null,3,"+",null,{"$f":"Sheet7!A169","v":2984},null,{"$f":"Sheet7!A177","v":2987},null,null,-937,938,null,-934,935,{"$f":"1+2+10+40","v":53},"1 Kings 14:31; 15:1-2"]
["Asa",null,null,null,null,41,"+",null,{"$f":"Sheet7!A177","v":2987},null,{"$f":"Sheet7!A276","v":3028},null,null,-934,935,null,-893,894,{"$f":"1+40+1","v":42},"1 Kings 8-10; 15:9-11"]
["Jehoshaphat",35,null,35,null,25,"+",null,{"$f":"Sheet7!A276","v":3028},null,{"$f":"Sheet7!A334","v":3053},null,{"$f":"I108-D108","v":2993},-893,894,{"$f":"M108-M105","v":67},-868,869,{"$f":"10+5+6+300+80+9","v":410},"1 Kings 22:41-43"]
["Jehoram",32,null,32,null,8,"+",null,{"$f":"Sheet7!A312","v":3045},null,{"$f":"Sheet7!A351","v":3059},null,3013,-876,877,{"$f":"M109-M108","v":20},-862,863,{"$f":"10+5+6+200+40","v":261},"2 Kings 8:16-18"]
["Ahaziah (Jehoahaz)",42,null,22,null,1,"+",null,{"$f":"Sheet7!A346","v":3058},null,{"$f":"Sheet7!A351","v":3059},null,3036,{"$f":"IF(I110<>\"\", N$130+(I110-I$130), \"\")","v":-863},864,{"$f":"M110-M109","v":23},-862,863,{"$f":"1+8+7+10+5+6","v":37},"2 Kings 8:24-27"]
["Athaliah",null,null,null,null,6,"+",null,{"$f":"Sheet7!A351","v":3059},null,{"$f":"Sheet7!A367","v":3066},null,null,-862,863,null,-855,856,{"$f":"70+400+30+10+5+6","v":521},"2 Kings 11:1-4"]
["Jehoash (Joash)",7,null,7,null,40,"+",null,{"$f":"Sheet7!A367","v":3066},null,{"$f":"Sheet7!A455","v":3106},null,3059,-855,856,{"$f":"M112-M110","v":23},-815,816,{"$f":"10+5+6+1+300","v":322},"2 Kings 11:21; 12:1-2"]
["Amaziah",25,null,25,null,29,"+",null,{"$f":"Sheet7!A449","v":3104},null,{"$f":"Sheet7!A511","v":3133},null,3079,-817,818,20,-788,789,{"$f":"1+40+90+10+5+6","v":152},"2 Kings 14:1-3"]
["Azariah (Uzziah)",16,null,16,null,52,"+",null,{"$f":"Sheet7!A489","v":3122},null,{"$f":"Sheet7!A608","v":3175},null,3106,-799,800,27,-746,747,{"$f":"70+7+200+10+5","v":292},"2 Kings 15:1-3"]
["Jotham",25,null,25,null,16,"+",null,{"$f":"Sheet7!A608","v":3175},null,{"$f":"Sheet7!A644","v":3191},null,3150,-746,747,44,-730,731,{"$f":"10+6+400+40","v":456},"2 Kings 15:32-34"]
["Ahaz ",20,null,20,null,16,"+",null,{"$f":"Sheet7!A628","v":3184},null,{"$f":"Sheet7!A664","v":3199},null,3164,-737,738,14,-722,723,{"$f":"1+8+7","v":16},"2 Kings 16:1-3"]
["Hezekiah",25,null,25,null,29,"+",null,{"$f":"Sheet7!A658","v":3197},null,{"$f":"Sheet7!A721","v":3226},null,3172,-724,725,8,-695,696,{"$f":"8+7+100+10+5","v":130},"2 Kings 18:1-3"]
["Manasseh",12,null,12,null,55,"+",null,{"$f":"Sheet7!A721","v":3226},null,{"$f":"Sheet7!A833","v":3281},null,3214,-695,696,42,-640,641,{"$f":"40+50+300+5","v":395},"2 Kings 21:1-2"]
["Amon",22,null,22,null,2,"+",null,{"$f":"Sheet7!A833","v":3281},null,{"$f":"Sheet7!A839","v":3283},null,3259,-640,641,45,-638,639,{"$f":"1+40+6+50","v":97},"2 Kings 21:19-20"]
["Josiah",8,null,8,null,31,"+",null,{"$f":"Sheet7!A839","v":3283},null,{"$f":"Sheet7!A903","v":3314},null,3275,-638,639,16,-607,608,{"$f":"10+1+300+10+5+6","v":332},"2 Kings 22:1-2"]
["Jehoahaz",23,null,23,null,0,"+",null,{"$f":"Sheet7!A903","v":3314},null,{"$f":"Sheet7!A903","v":3314},null,3291,-607,608,16,-607,608,{"$f":"10+5+6+1+8+7","v":37},"2 Kings 23:31-32"]
["Eliakim (Jehoiakim)",25,null,25,null,11,"+",null,{"$f":"Sheet7!A903","v":3314},null,{"$f":"Sheet7!A931","v":3325},null,3289,-607,608,-2,-596,597,{"$f":"10+5+6+10+100+10+40","v":181},"2 Kings 23:36-37; Dan. 1:1"]
["Jehoiachin",8,null,18,null,0,"+",null,{"$f":"Sheet7!A931","v":3325},null,{"$f":"Sheet7!A934","v":3325},null,3307,-596,597,18,-596,597,{"$f":"10+5+6+10+20+10+50","v":111},"2 Kings 24:8-9"]
["Mattaniah (Zedekiah)",21,null,21,null,11,"+",null,{"$f":"Sheet7!A934","v":3325},null,{"$f":"Sheet7!A956","v":3335},null,3304,-596,597,{"$f":"M124-M123","v":-3},-586,587,{"$f":"90+4+100+10+5+6","v":215},"2 Kings 24:18-19"]
["Totals",{"$f":"SUM(B99:B101,B105:B124)","v":457},null,{"$f":"SUM(D99:D124)","v":477},null,{"$f":"SUM(F99:F101,F105:F124)","v":485},null,null,null,null,{"$f":"K124-I99","v":458},null,{"$f":"M124-M99","v":467},"","",{"$f":"SUM(P99:P124)","v":467},null,"",{"$f":"SUM(S99:S124)","v":5149},"Notice 457 is present in 3 places! Cf. 1. 457 BC, 2. Time span for the total reign of kings in Israel and Judah, and 3. Totals for age at coronation, given age of Saul as given in Acts."]
["Totals: Saul's age=1 at coronation",{"$f":"B125-39","v":418},null,{"$f":"D125-39","v":438},null,null,null,null,null,null,null,null,{"$f":"M125-39","v":428},"","",{"$f":"P125-39","v":428},null,"",null,"Notice 418 is present in 3 places! Cf. 1. Hidden prophecy at the anointing of David, 2. Totals for age at coronation, and 3. The word value of Solomons two names."]
["Enslaved under various kings (Saul - Babylonia)",null,null,null,null,null,null,null,{"$f":"K131-I99","v":511},null,null,null,null,null,"",null,null,"",null,"1 Samuel 8"]
["Israel under Jeroboam thru Hoshea",null,null,null,null,null,null,null,{"$f":"Sheet7!A677-Sheet7!A137","v":236},null,null,null,null,null,"",null,null,"",null,"1 Samuel 8"]
["Israel under Saul thru Hoshea",null,null,null,null,null,null,null,{"$f":"Sheet7!A677-I99","v":327},null,null,null,null,null,"",null,null,""]
["Nebuchadnezzar's 37th year of reign",null,null,null,null,null,null,null,{"$f":"Sheet7!A994","v":3354},null,{"$f":"Sheet7!A994+1","v":3355},null,null,-567,{"$f":"IF(N130<>\"\", IF(N130>0, N130, ABS(N130-1)), \"\")","v":568},"-",-566,{"$f":"IF(Q130<>\"\", IF(Q130>0, Q130, ABS(Q130-1)), \"\")","v":567},null,"Cf. VAT 4956 - the cuneiform tablet from Nebuchadnezzar's 37th year of reign."]
["Jeremiah's 70 years.  These years were 70 years determined for Babylon. The first of the 70 years is also the first year of Nebuchadnezzar's reign. The seventieth year is the year which ended with the destruction of Babylon during the feast of Belshazzar (cf. Daniel 5.)",null,null,null,null,{"$f":"K131-I131","v":70},"+",null,{"$f":"Sheet7!A917","v":3318},null,{"$f":"I131+70","v":3388},null,null,{"$f":"IF(I131<>\"\", N$130+(I131-I$130), \"\")","v":-603},{"$f":"IF(N131<>\"\", IF(N131>0, N131, ABS(N131-1)), \"\")","v":604},"-",{"$f":"Q$130+(K131-K$130)","v":-533},{"$f":"IF(Q131<>\"\", IF(Q131>0, Q131, ABS(Q131-1)), \"\")","v":534},null,"2 Kings 25:2-7; 2 Chro. 36:20-23; \"In the third year of the reign of Jehoiakim, king of Judah, Nebuchadnezzar the king of Babylon came to Jerusalem and besieged it\" (IB) Dan. 1:1. \"in order to fulfill the word of Jehovah in the mouth of Jeremiah, until the land had enjoyed its sabbaths; all the days of the desolation it kept the sabbath, to the full measure of seventy years.\" (IB) 2 Chron. 36:21.  Jeremiah's prophecies (Jer. 25:11-12; 29:10) are referenced in 2 Chron. 35:25 & 36:22; Ezra 1:1, & Dan. 9:1-2.  (Compare also notes and reference in the corresponding time frame on Sheet7!)"]
["Destruction of Jerusalem and of the temple",null,null,null,null,null,null,null,{"$f":"Sheet7!A956","v":3335},null,{"$f":"Sheet7!A956","v":3335},null,null,{"$f":"IF(I132<>\"\", N$130+(I132-I$130), \"\")","v":-586},587,"-",{"$f":"Q$130+(K132-K$130)","v":-586},587]
["REBUILDING OF 2ND TEMPLE",null,null,null,null,{"$f":"K133-I133","v":4},"+",null,{"$f":"Sheet7!A1096","v":3401},null,{"$f":"Sheet7!A1104","v":3405},null,null,-520,521,"-",{"$f":"IF(K133<>\"\", Q$130+(K133-K$130), \"\")","v":-516},517,null,"Ezra 1:1-6; 3:1,6,8; (Cf. John 2:20 - Herod's temple was in the process of being built since 46 years during the year when Jesus was baptized.)"]
["YEARS TO and of Cyrus' DECREE",null,null,null,null,{"$f":"K134-K131","v":1},"+",null,null,null,{"$f":"Sheet7!A1072","v":3389},null,null,"","","-",{"$f":"IF(K134<>\"\", Q$130+(K134-K$130), \"\")","v":-532},533,null,"Whose decree is fulfilling Jeremiah's prophecy? \"Now in the first year of Cyrus king of Persia, that the word of the Lord spoken by the mouth of Jeremiah might be accomplished\" 2 Chron. 36:22 (KJV).  \"Now in the first year of Cyrus king of Persia, that the word of the Lord by the mouth of Jeremiah might be fulfilled...\" Ezra 1:1 (KJV). \"In the first year of Darius the son of Ahasuerus, of the seed of the Medes, which was made king over the realm of the Chaldeans; In the first year of his reign I Daniel understood by books the number of the years, whereof the word of the Lord came to Jeremiah the prophet, that he would accomplish seventy years in the desolations of Jerusalem.\" Dan 9:1-2 (KJV). And these nations shall serve the king of Babylon seventy years... And it shall be, when seventy years are fulfilled, I will punish the king of Babylon...\" Jer. 25:1,3,11-12 (IB). NOTICE> When was the king of Babylon punished? Was it at the end of the Babylonian empire, i.e. at the beginning of the Medo-Persian empire, OR was it many years after that event, i.e. at the time of the presumed decree of a Medo-Persian king named Artaxerxes #X? Remember, Cyrus was a Persian king, thus any Persian king after Cyrus would by necessity start his rule a number of years AFTER the end of the Babylonian Empire and its kings! Thus, I conclude that, if, as I contend, Jeremiah's prophecy is true in every part, then Cyrus must by necessity be the first Medo-Persian king after the fall of the Babylonian Empire, AND his decree must be the one referenced by Daniel's prophecy. PLEASE cf. notes at beginning of Evil-merodach's reign on Sheet 7!"]
["DANIEL'S PROPHECIES","Outside Stat(u)e",null,null,null,490,"+",null,{"$f":"Sheet7!A1192","v":3449},null,{"$f":"I135+F135","v":3939},null,null,-472,473,"-",{"$f":"IF(K135<>\"\", Q$130+(K135-K$130), \"\")","v":18},18,null,"For details re Daniel's prophecies, please press this link!"]
[null,"Inside Stat(u)e",null,null,null,{"$f":"F135","v":490},"+",null,{"$f":"Sheet7!A1072","v":3389},null,{"$f":"I136+F136","v":3879},null,null,{"$f":"IF(I136<>\"\", N$130+(I136-I$130), \"\")","v":-532},{"$f":"IF(N136<>\"\", IF(N136>0, N136, ABS(N136-1)), \"\")","v":533},"-",{"$f":"IF(K136<>\"\", Q$130+(K136-K$130), \"\")","v":-42},{"$f":"IF(Q136<>\"\", IF(Q136>0, Q136, ABS(Q136-1)), \"\")","v":43}]
[null,null,null,null,null,2300,"+",null,{"$f":"Sheet7!A1346","v":3526},null,{"$f":"I137+F137","v":5826},null,null,-395,396,"-",{"$f":"IF(K137<>\"\", Q$130+(K137-K$130), \"\")","v":1905},1905]
[null,null,null,null,null,1260,"+",null,null,null,{"$f":"IF(I138<>\"\",I138+F138,\"\")","v":""},null,null,538,538,"-",{"$f":"N138+F138","v":1798},1798]
["Jehoshua's baptism & crucifixion",null,null,null,null,null,null,null,{"$f":"K139+(O139-Q139)","v":3936},null,{"$f":"K135","v":3939},null,null,{"$f":"N140+30","v":15},15,"-",{"$f":"Q140","v":18},18,null,"Luke 3:21,23 \"it came to pass, that Jesus also being baptized, and praying, the heaven was opened… And Jesus himself began to be about thirty years of age…\", i.e. Jesus was baptized at, or shortly following, his 30th birthday."]
["Jehoshua's life",null,null,null,null,{"$f":"R140-N140","v":33},"+",null,{"$f":"I139-30","v":3906},null,{"$f":"K139","v":3939},null,null,-15,16,"-",18,18]
["The nth year after Gen 1:1 beginning 22 Tishri in:          [",2009,"th Gregorian]",null,null,null,null,null,{"$f":"I130+ABS(N130)+B141","v":5930}," (",{"$f":"K130+ABS(Q130)+B141+1","v":5931},")",null,{"$f":"IF(I141<>\"\", N$130+(I141-I$130), \"\")","v":2009},{"$f":"IF(N141<>\"\", IF(N141>0, N141, ABS(N141)), \"\")","v":2009},"     (",{"$f":"IF(K141<>\"\", Q$130+(K141-K$130), \"\")","v":2010},{"$f":"IF(Q141<>\"\", IF(Q141>0, Q141, ABS(Q141)), \"\")","v":2010},") th",null,null,1981,"But on May 13, 1981 things began to change. \"At a certain moment on May 13, 1981, during an open-air papal audience in St. Peter’s Square, in the presence of some 75,000 people and before the eyes of an estimated 11 million television viewers, Pope John Paul spied a little girl wearing a small picture of Christ’s mother as Our Lady of Fatima. Just as he bent from the slow-moving ‘Popemobile’ in a spontaneous gesture toward the child, hired assassin Mehmet Ali Agca squeezed off two bullets, aimed precisely where his head had been. As two pilgrims fell wounded to the ground, two more shots rang out and this time John Paul’s blood stained his white papal cassock.\"12 Malachi Martin continues in his book: \"after what were arguably the very pointed events that had taken place in St. Peter’s Square, after exhaustive examination of the documents and living witnesses and participants connected with the Fatima events themselves, and after nothing less than a personal communication [a vision?] from Heaven during his long convalescence -- John Paul ... came face-to-face with the realization that, far from pointing to some distant future time, the contents of the now famous Fatima message - and, specifically the secret contents directed to papal attention - amounted to a geopolitical agenda attached to an immediate time-table.\"13 (From http://www.lis.net.au/~dbird/10atheism_islam.htm)  Footnotes: 9. Martin M, The Keys of This Blood, Simon and Shuster, New York, (c) 1990, pp. 47, 48; 10. Ibid., p. 48.; 11. Ibid.; 12. Ibid., p. 46.; 13. Ibid., p. 48. Emphasis supplied."]
["Hebrew Calendar years:",null,null,null,null,null,null,"  [",{"$f":"O141-(2002-5762)","v":5769},null,{"$f":"R141-(2002-5762)","v":5770},"]"]
["Difference between Biblical & Hebrew",null,null,null,null,null,null,null,null,null,{"$f":"K141-K142","v":161}]
[null,"Hebrew/Biblical Calendar date:",null,null,null,null,null,null,null,null,null,null,null,null,"Xth Year after Creation:"]
["         Family days ","21 Iyyar         21       5709     - May 20",null,null,null,5709,2,null,"May 20th",null,null,null,1949,null,null,null,null,{"$f":"F145+(K141-I142)","v":5871},"th","Consummation of parents family contract"]
[null,"14 Adar         13       5710      - March 3",null,null,null,5710,12,null,"March 3rd",null,null,null,1950,null,{"$f":"F146+(I141-I142)","v":5871},"th"]
[null,"15 Av                      5713        - July 27",null,null,null,5713,4,null,"July 27th",null,null,null,1953,null,null,null,null,{"$f":"F147+(K141-I142)","v":5875},"th"]
[null,"16 Iyyar         15      5722    - May 20",null,null,null,5722,2,null,{"$f":"I145","v":"May 20th"},null,null,null,1962,null,null,null,null,{"$f":"F148+(K141-I142)","v":5884},"th","13 y/o re marriage of parents"]
[null,"23 Sivan        22       5723   - June 15",null,null,null,5723,3,null,"June 15th",null,null,null,1963,null,null,null,null,{"$f":"F149+(K141-I142)","v":5885},"th","baptism"]
[null,"21 Adar II               5736  - March 23",null,null,null,5736,13,null,"March 23rd",null,null,null,1976,null,{"$f":"F150+(I141-I142)","v":5897},"th",null,null,null,"HHIA"]
[null,"Shevat",null,null,null,5741,11,null,"January",null,null,null,1981,null,{"$f":"F151+(I141-I142)","v":5902},"th",null,null,null,"Gunnar & Laurie first meeting"]
[null,"10 Iyyar         10       5744    - May 12",null,null,null,5744,2,null,"May 12th",null,null,null,1984,null,null,null,null,{"$f":"F152+(K141-I142)","v":5906},"th"]
[null,"25 Sivan 24 or 25         5744    - June 25",null,null,null,5744,3,null,"June 25th",null,null,null,1984,null,null,null,null,{"$f":"F153+(K141-I142)","v":5906},"th"]
[null,"15 Nissan              5746  - April 24",null,null,null,5746,1,null,"April 24th",null,null,null,1986,null,null,null,null,{"$f":"F154+(K141-I142)","v":5908},"th"]
[null,"9 Tishrei          8    5749   - September 20",null,null,null,5749,7,null,"September 20th",null,null,null,1988,null,{"$f":"F155+(I141-I142)","v":5910},"th"]
[null,"28 Cheswan   27      5752 - November 5",null,null,null,5752,8,null,"November 5th",null,null,null,1991,null,{"$f":"F156+(I141-I142)","v":5913},"th"]
[]
["SUMMARY"]
[]
["Adam to Abram's leaving Haran",null,null,{"$f":"I5","v":0},null,{"$f":"I26","v":2021},null,null,{"$f":"D160+F160","v":2021},null,null,null,{"$f":"F160","v":2021}]
["Abraham to Exodus",null,null,{"$f":"I26","v":2021},null,430,null,null,{"$f":"D161+F161","v":2451},null,null,null,{"$f":"F161","v":430}]
["Exodus to Foundation of Solomon's Temple",null,null,{"$f":"I161","v":2451},null,{"$f":"I162-D162","v":480},null,null,{"$f":"D163","v":2931},null,null,null,480]
["Solomon's Temple to king Eliakim's revolt",null,null,{"$f":"I103","v":2931},null,{"$f":"I163-D163","v":391},null,null,{"$f":"D164","v":3322},null,null,null,391]
["King Eliakim's revolt to Foundation of 2nd Temple",null,null,{"$f":"Sheet7!A925","v":3322},null,{"$f":"I164-D164","v":67},null,null,{"$f":"K134","v":3389},null,null,null,67]
["Cyrus' decree + (62+7+1 wks)*7yrs",null,null,{"$f":"K134","v":3389},null,{"$f":"7*(62+7+1)","v":490},null,null,{"$f":"D165+F165","v":3879}]
["Cyrus' decree + 2300 days/years",null,null,{"$f":"K134","v":3389},null,2300,null,null,{"$f":"D166+F166","v":5689},null,null,null,{"$f":"F166","v":2300},null,null,null,null,{"$f":"ABS(K137-(I140+4))+1","v":1917}]
["1844 to 1 Nisan this year",null,null,{"$f":"K137","v":5826},null,{"$f":"I167-D167","v":104},null,null,{"$f":"I141","v":5930},null,null,null,104]
["1 Nisan this year to 6000 full years after Creation",null,null,{"$f":"I167","v":5930},null,{"$f":"I168-D168","v":70},null,null,6000,null,null,null,70]
[]
["Total",null,null,null,null,null,null,null,null,null,null,null,{"$f":"SUM(M160:M168)","v":5863}]
[]
[]
[]
[]
[]
[]
[]
[]
[]
[]
[]
[]
[]
[]
[]
[]
[]
[]
[]
[]
[]
[]
[]
[]
[]
[]
["KEY:"]
["Green highlights are points upon which dating is based."]
["Italicized dates during time of Judges indicate they are only approximations."]
["Dates in bold print are C.E. [A.D.]"]
[]
[]
["Questions or comments?  Send your email to:"]
["PowerOfChoice@gamaliel.intranets.com"]

{"sheet":"Sheet2","index":4,"n_rows":55,"n_cols":14,"rows_kept":55,"cut":false,"hidden":false,"merged":[]}
[]
[null,"[E]vil or [R]ighteous",null,null,null,null,null,null,"[E]vil or [R]ighteous"]
[null,null,null,null,"BEGINNING YR. OF",null,null,null,null,null,"BEGINNING YR. OF"]
[null,null,null,"YEARS REIGNED",null,null,null,null,null,"YEARS REIGNED"]
["KINGS OF JUDAH",null,"Age at coronation",null,null,0,"SCRIPTURES","KINGS OF ISRAEL",null,null,null,null,"SCRIPTURES"]
[]
["Saul",null,40,null,null,null,"Acts 13:21","Saul"]
["David",null,30,40,null,null,"2 Sam. 5:4-5","David",null,33,null,null,"2 Sam. 5:4-5"]
["Solomon",null,"<30>",40,null,null,"1 Kings 6:1; 1 Kings 11:42","Solomon",null,40]
["Rehoboam","E",41,17,40,"Solomon","1 Kings 12; 14:21","Jeroboam","E",22,1,"Rehoboam","1 Kings 12; 14:20"]
[null,"E",41,17,null,null,"2 Chron. 12:13-14"]
["Abijah","E",null,3,18,"Jeroboam","1 Kings 14:31;           15:1-2","Nadab","E",2,2,"Asa","1 Kings 15:25"]
[null,null,null,3,18,"Jeroboam","2 Chron. 13:1-2"]
["Asa","R",null,41,20,"Jeroboam","1 Kings 8-10; 15:9-11","Baasha","E",24,3,"Asa","1 Kings 15:27-28,33-34"]
[null,"R",null,41,null,null,"2 Chron. 14:1-2; 16:13"]
["Jehoshaphat","R",35,25,4,"Ahab","1 Kings 22:41-43","Elah","E",2,26,"Asa","1 Kings 16:8"]
[null,"R",35,25,null,null,"2 Chron. 20:31-32"]
["Jehoram (Joram)","E",32,8,5,"Joram","2 Kings 8:16-18","Zimri","E",{"$f":"1/52","v":1.9230769230769232E-2},27,"Asa","1 Kings 16:10,15"]
[null,"E",32,8,null,null,"2 Chron. 21:5-6,20",null,null,null,null,null,null,"Not all of Israel"]
["Ahaziah (Jehoahaz)","E",22,1,12,"Joram","2 Kings 8:24-27","Omri vs. Tibni","?",6,27,"Asa","1 Kings 16:16-23","Reigned 12 including 6 of Tibni"]
[null,null,null,null,11,"Joram","2 Kings 9:29"]
[null,"E",42,1,null,null,"2 Chron. 21:17;         22:1-3","Omri","E",12,31,"Asa","1 Kings 16:16-25"]
["Athaliah","E",null,6,null,null,"2 Kings 11:1-4"]
[null,"E",null,6,null,null,"2 Chron. 22:10-12","Ahab","E",22,38,"Asa","1 Kings 16:28-30"]
["Jehoash (Joash)","R",7,40,7,"Jehu","2 Kings 11:21;          12:1-2"]
[null,"R",7,40,null,null,"2 Chron. 24:1-2","Ahaziah","E",2,17,"Jehoshaphat","1 Kings 22:40,51-52"]
["Amaziah","R",25,29,2,"Joash","2 Kings 14:1-3"]
[null,null,null,null,15,"after","2 Kings 14:17; 2 Chron. 25:1,25"]
[null,"R",25,29,null,null,"2 Chron. 25:1-2","Jehoram (Joram)",null,null,2,"Jehoram","2 Kings 1:17"]
["Azariah (Uzziah)","R",16,52,27,"Jeroboam","2 Kings 15:1-3",null,"E",12,18,"Jehoshaphat","2 Kings 3:1-2"]
[null,"R",16,52,null,null,"2 Chron. 26:3-4","Jehu","R/E",28,null,null,"2 Kings 10:36"]
["Jotham","R",25,16,2,"Pekah","2 Kings 15:32-34"]
[null,"R",25,16,null,null,"2 Chron. 27:1-2,8","Jehoahaz","E",17,23,"Joash","2 Kings 13:1-2"]
["Ahaz ","E",20,16,17,"Pekah","2 Kings 16:1-3"]
[null,"E",20,16,null,null,"2 Chron. 28:1","Jehoash (Joash)","E",16,37,"Joash","2 Kings 13:10-13"]
["Hezekiah","R",25,29,3,"Hoshea","2 Kings 18:1-3"]
[null,"R",25,29,null,null,"2 Chron. 29:1-2","Jeroboam","E",41,15,"Amaziah","2 Kings 14:23-24; "]
["Manasseh","E",12,55,null,null,"2 Kings 21:1-2"]
[null,"E",12,55,null,null,"2 Chron. 33:1-2","Zachariah","E",0.5,38,"Azariah","2 Kings 15:8-9"]
["Amon","E",22,2,null,null,"2 Kings 21:19-20"]
[null,"E",22,2,null,null,"2 Chron. 33:21-22","Shallum","E",{"$f":"1/12","v":8.3333333333333329E-2},39,"Azariah (Uzziah)","2 Kings 15:13"]
["Josiah","R",8,31,null,null,"2 Kings 22:1-2"]
[null,"R",8,31,null,null,"2 Chron. 34:1-2","Menahem","E",10,39,"Azariah","2 Kings 15:17-18"]
["Jehoahaz","E",23,{"$f":"0.25","v":0.25},null,null,"2 Kings 23:31-32"]
[null,null,23,0.25,null,null,"2 Chron. 36:2","Pekahiah","E",2,50,"Azariah","2 Kings 15:23-24"]
["Eliakim (Jehoiakim)","E",25,11,null,null,"2 Kings 23:36-37"]
[null,"E",25,11,null,null,"2 Chron. 36:3-5","Pekah","E",20,52,"Azariah","2 Kings 15:27-28"]
["Jehoiachin","E",18,0.25,null,null,"2 Kings 24:8-9"]
[null,"E",8,{"$f":"100/360","v":0.27777777777777779},null,null,"2 Chron. 36:9","Hoshea",null,null,20,"Jotham","2 Kings 15:30"]
["Mattaniah (Zedekiah)","E",21,11,null,null,"2 Kings 24:18-19",null,"E",9,12,"Ahaz","2 Kings 17:1-2"]
[null,"E",21,11,null,null,"2 Chron. 36:11-12"]
[null,"Taken to Assyria",null,null,null,null,"2 Kings 25:2-7",null,"Taken to Assyria",null,null,null,"2 Kings 17:6"]
[]
[]
[null,null,null,{"$f":"SUM(D4:D51)/2","v":433.51388888888891},null,null,null,null,null,{"$f":"SUM(J4:J51)","v":320.60256410256409}]

{"sheet":"Sheet3","index":5,"n_rows":52,"n_cols":8,"rows_kept":52,"cut":false,"hidden":false,"merged":[]}
["Adam",130,800,{"$f":"B1+C1","v":930},null,{"$f":"0","v":0},{"$f":"D1","v":930}]
["Seth",105,807,{"$f":"B2+C2","v":912},null,{"$f":"F1+B1","v":130},{"$f":"F2+D2","v":1042}]
["Enos",90,815,905,null,{"$f":"F2+B2","v":235},{"$f":"F3+D3","v":1140}]
["Cainan",70,840,910,null,325,1235]
["Mahalaleel",65,830,895,null,395,1290]
["Jared",162,800,962,null,460,1422]
["ENOCH",65,300,365,null,622,987]
["Methusaleh",187,782,969,null,687,1656]
["Lamech",182,595,777,null,874,1651]
["NOAH",502,448,950,null,1056,2006]
["Shem",100,500,600,null,{"$f":"F10+B10","v":1558},2158]
["FLOOD",null,null,null,null,{"$f":"F10+600","v":1656},{"$f":"F12","v":1656}]
["Arphaxad",35,403,438,null,{"$f":"F11+B11","v":1658},2096]
["Salah",30,403,433,null,1693,2126]
["Eber",34,430,464,null,1723,2187]
["Peleg",30,209,239,null,1757,1996]
["Reu",32,207,239,null,1787,2026]
["Serug",30,200,230,null,1819,2049]
["Nahor",29,119,148,null,1849,1997]
["TERAH",70,{"$f":"D20-B20","v":135},205,null,1878,2083,"Gen. 11:26, 32; 12:1, 4  -  If Abram did not leave Haran until Terah died then Terah was 205 y/o - 75 y/o = 130 y/o when Abram was delivered, and Terah's oldest offspring would have been 60 y/o, if alive, when Abram was delivered… If Abram was the oldest then he left his Father Terah in Haran when Terah was 145 y/o."]
["Abraham",100,75,175,null,1948,2123]
["ISRAELITES (with Abraham as patriarch) in \"EGYPT\"",null,null,430,null,{"$f":"F20+B20+C21","v":2023},{"$f":"F22+D22","v":2453}]
["Solomon",null,null,40,null,{"$f":"G22+476","v":2929},{"$f":"F23+D23","v":2969}]
["Rehoboam",null,null,18,null,{"$f":"G23","v":2969},{"$f":"F24+D24","v":2987}]
["Abijah",null,null,3,null,{"$f":"G24","v":2987},{"$f":"F25+D25","v":2990}]
["Asa",null,null,41,null,2990,3031]
["Jehoshaphat",null,null,25,null,3031,3056]
["Jehoram",null,null,8,null,{"$f":"G27-4","v":3052},3060]
["Ahaziah (Jehoahaz)",null,null,1,null,3060,3061]
["Athaliah",null,null,6,null,3061,3067]
["Jehoash (Joash)",null,null,40,null,3067,3107]
["Amaziah",null,null,29,null,3107,3136]
["Azariah (Uzziah)",null,null,52,null,3136,3188]
["Jotham",null,null,16,null,3188,3204]
["Ahaz ",null,null,16,null,3204,3220]
["Hezekiah",null,null,29,null,3220,3249]
["Manasseh",null,null,55,null,3249,3304]
["Amon",null,null,2,null,3304,3306]
["Josiah",null,null,31,null,3306,3337]
["Jehoahaz",null,null,0,null,3337,3337]
["Eliakim (Jehoiakim)",null,null,11,null,3337,3348]
["Jehoiachin",null,null,0,null,3348,3348]
["Mattaniah (Zedekiah)",null,null,11,null,3348,3359]
[]
["CAPTIVE IN BABYLON",null,null,70,null,{"$f":"G40+3","v":3340},{"$f":"F45+D45","v":3410}]
["REBUILDING OF TEMPLE",null,null,46,null,{"$f":"G45+3","v":3413},{"$f":"F46+46","v":3459}]
["YEARS TO ARTAXERXES' DECREE",null,null,77,null,{"$f":"G45","v":3410},{"$f":"F47+D47","v":3487}]
["DANIEL'S PROPHECIES",null,null,490,null,{"$f":"G47","v":3487},{"$f":"F48+D48","v":3977}]
[null,null,null,2300,null,{"$f":"G47","v":3487},{"$f":"F49+D49","v":5787}]
[null,null,null,1260,null,{"$f":"G48+504","v":4481},{"$f":"F50+D50","v":5741}]
["JESUS",null,null,33,null,{"$f":"G48-(D51+4)","v":3940},{"$f":"F51+D51+1","v":3974}]
["YEARS UNTIL NOW",null,null,158,null,{"$f":"G49","v":5787},{"$f":"G49+D52","v":5945}]

{"sheet":"Sheet4","index":6,"n_rows":1005,"n_cols":11,"rows_kept":1005,"cut":false,"hidden":false,"merged":[]}
[]
[null,"King(s) ruling in Judah",null,null,null,null,"King(s) ruling in Israel"]
["The Sacred Calendar Completed years after Creation",null,null,"Age at Coronation [black ## above belong to red # below]",null,null,null," ","Nebuchadnezzar's years of reign as given by Jeremiah the prophet. Jer 52:2830 ---------------- Age at Coronation [black ## above belong to red # below]"]
[{"$f":"A5-1","v":2846},null,null," ",null,null," ",null," "]
[2847,null,null," ",null,null," ",null," "]
[2848,"Saul","  1st year - I.e. the 1st Sacred Calendar Year he reigned"," ",null,null,"Saul","  1st year - I.e. the 1st Sacred Calendar Year he reigned"," "," "]
[2849,"Saul","  2nd year - I.e. the 2nd Sacred Calendar Year he reigned"," ",null,null,"Saul","  2nd year - I.e. the 2nd Sacred Calendar Year he reigned"," "," "]
[2850,"Saul","  3rd year - I.e. the 3rd Sacred Calendar Year he reigned"," ",null,null,"Saul","  3rd year - I.e. the 3rd Sacred Calendar Year he reigned"," "," "]
[2851,"Saul","  4th year - I.e. the 4th Sacred Calendar Year he reigned"," ",null,null,"Saul","  4th year - I.e. the 4th Sacred Calendar Year he reigned"," "," "]
[2852,"Saul","  5th year - I.e. the 5th Sacred Calendar Year he reigned"," ",null,null,"Saul","  5th year - I.e. the 5th Sacred Calendar Year he reigned"," "," "]
[2853,"Saul","  6th year - I.e. the 6th Sacred Calendar Year he reigned"," ",null,null,"Saul","  6th year - I.e. the 6th Sacred Calendar Year he reigned",{"$f":"I12-1","v":0}," "]
[2854,"Saul","  7th year - I.e. the 7th Sacred Calendar Year he reigned"," ",null,null,"Saul","  7th year - I.e. the 7th Sacred Calendar Year he reigned",{"$f":"I13-1","v":1}," "]
[2855,"Saul","  8th year - I.e. the 8th Sacred Calendar Year he reigned"," ",null,null,"Saul","  8th year - I.e. the 8th Sacred Calendar Year he reigned",{"$f":"I14-1","v":2}," "]
[2856,"Saul","  9th year - I.e. the 9th Sacred Calendar Year he reigned"," ",null,null,"Saul","  9th year - I.e. the 9th Sacred Calendar Year he reigned",{"$f":"I15-1","v":3}," "]
[2857,"Saul","10th year - I.e. the 10th Sacred Calendar Year he reigned"," ",null,null,"Saul","10th year - I.e. the 10th Sacred Calendar Year he reigned",{"$f":"I16-1","v":4}," "]
[2858,"Saul","11th year - I.e. the 11th Sacred Calendar Year he reigned"," ",null,null,"Saul","11th year - I.e. the 11th Sacred Calendar Year he reigned",5," "]
[2859,"Saul","12th year - I.e. the 12th Sacred Calendar Year he reigned",{"$f":"D18-1","v":1},null,null,"Saul","12th year - I.e. the 12th Sacred Calendar Year he reigned",6," "]
[2860,"Saul","13th year - I.e. the 13th Sacred Calendar Year he reigned",2,null,null,"Saul","13th year - I.e. the 13th Sacred Calendar Year he reigned",7," "]
[2861,"Saul","14th year - I.e. the 14th Sacred Calendar Year he reigned",3,null,null,"Saul","14th year - I.e. the 14th Sacred Calendar Year he reigned",8," "]
[2862,"Saul","15th year - I.e. the 15th Sacred Calendar Year he reigned",4,null,null,"Saul","15th year - I.e. the 15th Sacred Calendar Year he reigned",9," "]
[2863,"Saul","16th year - I.e. the 16th Sacred Calendar Year he reigned",5,null,null,"Saul","16th year - I.e. the 16th Sacred Calendar Year he reigned",10," "]
[2864,"Saul","17th year - I.e. the 17th Sacred Calendar Year he reigned",6,null,null,"Saul","17th year - I.e. the 17th Sacred Calendar Year he reigned",11," "]
[2865,"Saul","18th year - I.e. the 18th Sacred Calendar Year he reigned",7,null,null,"Saul","18th year - I.e. the 18th Sacred Calendar Year he reigned",12," "]
[2866,"Saul","19th year - I.e. the 19th Sacred Calendar Year he reigned",8,null,null,"Saul","19th year - I.e. the 19th Sacred Calendar Year he reigned",13," "]
[2867,"Saul","20th year - I.e. the 20th Sacred Calendar Year he reigned",9,null,null,"Saul","20th year - I.e. the 20th Sacred Calendar Year he reigned",14," "]
[2868,"Saul","21st year - I.e. the 21st Sacred Calendar Year he reigned",10,null,null,"Saul","21st year - I.e. the 21st Sacred Calendar Year he reigned",15," "]
[2869,"Saul","22nd year - I.e. the 22nd Sacred Calendar Year he reigned",11,null,null,"Saul","22nd year - I.e. the 22nd Sacred Calendar Year he reigned",16," "]
[2870,"Saul","23rd year - I.e. the 23rd Sacred Calendar Year he reigned",12,null,null,"Saul","23rd year - I.e. the 23rd Sacred Calendar Year he reigned",17," "]
[2871,"Saul","24th year - I.e. the 24th Sacred Calendar Year he reigned",13,null,null,"Saul","24th year - I.e. the 24th Sacred Calendar Year he reigned",18," "]
[2872,"Saul","25th year - I.e. the 25th Sacred Calendar Year he reigned",14,null,null,"Saul","25th year - I.e. the 25th Sacred Calendar Year he reigned",19," "]
[2873,"Saul","26th year - I.e. the 26th Sacred Calendar Year he reigned",15,null,null,"Saul","26th year - I.e. the 26th Sacred Calendar Year he reigned",20," "]
[2874,"Saul","27th year - I.e. the 27th Sacred Calendar Year he reigned",16,null,null,"Saul","27th year - I.e. the 27th Sacred Calendar Year he reigned",21," "]
[2875,"Saul","28th year - I.e. the 28th Sacred Calendar Year he reigned",17,null,null,"Saul","28th year - I.e. the 28th Sacred Calendar Year he reigned",22," "]
[2876,"Saul","29th year - I.e. the 29th Sacred Calendar Year he reigned",18,null,null,"Saul","29th year - I.e. the 29th Sacred Calendar Year he reigned",23," "]
[2877,"Saul","30th year - I.e. the 30th Sacred Calendar Year he reigned",19,null,null,"Saul","30th year - I.e. the 30th Sacred Calendar Year he reigned",24," "]
[2878,"Saul","31st year - I.e. the 31st Sacred Calendar Year he reigned",20,null,null,"Saul","31st year - I.e. the 31st Sacred Calendar Year he reigned",25," "]
[2879,"Saul","32nd year - I.e. the 32nd Sacred Calendar Year he reigned",21,null,null,"Saul","32nd year - I.e. the 32nd Sacred Calendar Year he reigned",26," "]
[2880,"Saul","33rd year - I.e. the 33rd Sacred Calendar Year he reigned",22,null,null,"Saul","33rd year - I.e. the 33rd Sacred Calendar Year he reigned",27," "]
[2881,"Saul","34th year - I.e. the 34th Sacred Calendar Year he reigned",23,null,null,"Saul","34th year - I.e. the 34th Sacred Calendar Year he reigned",28," "]
[2882,"Saul","35th year - I.e. the 35th Sacred Calendar Year he reigned",24,null,null,"Saul","35th year - I.e. the 35th Sacred Calendar Year he reigned",29," "]
[2883,"Saul","36th year - I.e. the 36th Sacred Calendar Year he reigned",25,null,null,"Saul","36th year - I.e. the 36th Sacred Calendar Year he reigned",30," "]
[2884,"Saul","37th year - I.e. the 37th Sacred Calendar Year he reigned",26,null,null,"Saul","37th year - I.e. the 37th Sacred Calendar Year he reigned",31," "]
[2885,"Saul","38th year - I.e. the 38th Sacred Calendar Year he reigned",27,null,null,"Saul","38th year - I.e. the 38th Sacred Calendar Year he reigned",32," "]
[2886,"Saul","39th year - I.e. the 39th Sacred Calendar Year he reigned",28,null,null,"Saul","39th year - I.e. the 39th Sacred Calendar Year he reigned",33," "]
[2887,"Saul","40th year - I.e. the 40th Sacred Calendar Year he reigned",{"$f":"D46-1","v":29},null,null,"Saul","40th year - I.e. the 40th Sacred Calendar Year he reigned",34," "]
[{"$f":"A48","v":2888},"Saul","41st year - I.e. the 41st Sacred Calendar Year he reigned",30,null,null,"Saul","41st year - I.e. the 41st Sacred Calendar Year he reigned",35,"Acts 13:21"]
[null,null,null," ",null,null,null,null," "]
[{"$f":"A49-1","v":2888},"David","  1st year - I.e. the 1st Sacred Calendar Year he reigned",30,null,null," ",null,{"$f":"I49-1","v":35},"2 Sam. 5:4-5; 15:7; 1 Kings 2:10-12.  It is clear from 2 Sam. 2:1-4 that David was anointed King of Judah AFTER the events of King Saul's death as referenced by the words \"after this\" 2 Sam. 2:1 and \"It was the men of Jabesh-gilead who buried Saul\" 2 Sam. 2:4. The full story of King Saul's and Jonathan's deaths is recorded in 1 Sam. 31 and 2 Sam. 1."]
[2889,"David","  2nd year - I.e. the 2nd Sacred Calendar Year he reigned"," ",null,null," ",null,{"$f":"I50-1","v":36}]
[2890,"David","  3rd year - I.e. the 3rd Sacred Calendar Year he reigned"," ",null,null," ",null,{"$f":"I51-1","v":37}]
[2891,"David","  4th year - I.e. the 4th Sacred Calendar Year he reigned"," ",null,null," ",null,{"$f":"I52-1","v":38}]
[2892,"David","  5th year - I.e. the 5th Sacred Calendar Year he reigned"," ",5,null," ",null,{"$f":"I53-1","v":39}]
[2893,"David","  6th year - I.e. the 6th Sacred Calendar Year he reigned"," ",null,null,"Ishbosheth","  1st year - I.e. the 1st Sacred Calendar Year he reigned",40,"Ish-Bosheth is an intresting name meaning \"Man of Shame\".  Was he a son or a grand-son of Saul?  2 Sam. 4:4 seems to indicate he was Jonathan's son, i.e. Mephibosheth. Cf. 2 Sam. 2:10 \"Ish-bosheth Saul's son was forty years old when he began to reign over Israel, and reigned two years. But the house of Judah followed David.\""]
[2894,"David","  7th year - I.e. the 7th Sacred Calendar Year he reigned"," ",null,null,"Ishbosheth","  2nd year - I.e. the 2nd Sacred Calendar Year he reigned"," ","2 Sam. 5:4-5; 15:7; 1 Kings 2:10-12. King David ruled 7 years and six months in Hebron. Thus Davids 1st year in Jerusalem would correspond to the 8th year (or the 9th if the 1st year was less than 6 months and each year represents a full 12/13 month year) of his in Hebron."]
[{"$f":"A57","v":2895},"David","  8th year - I.e. the 8th Sacred Calendar Year he reigned"," ",null,null,"Ishbosheth","  3rd year - I.e. the 3rd Sacred Calendar Year he reigned"," ","2 Sam. 2:10; 3:6-16. It is clear from the events recorded in these texts that David took over the rule directly from Isbosheth, the son of Saul, there being no other intermediaries. In v. 10 Hebrew words for both 'two' and 'years' are being used, thus indicating that two full years of reign were completed, not merely a time period greater than one year as clearly indicated in texts where only the one Hebrew word 'years' is used, such texts being usually mistranslated as 'two years'. (Cf. notes referencing e.g. Gen. 11:10!)  One may still argue as to whether such years are referencing any part of a Sacred Calendar year, or whether reference is given to two full 12/13 month periods. In either case there is likely to be some odd day(s), week(s), and/or month(s) over and above the \"two years\" reigned, especially considering the circumstances of the transfer of rule from one King to another."]
[null,null,null," ",null,null,null,null," "]
[{"$f":"A58-1","v":2895},"David","  8th year - I.e. the 8th Sacred Calendar Year he reigned"," ",null,null,"David","  1st year - I.e. the 1st Sacred Calendar Year he reigned"," ","2 Sam. 5:4-5; 15:7; 1 Kings 2:10-12; 1 Chron. 3:4"]
[2896,"David","  9th year - I.e. the 9th Sacred Calendar Year he reigned"," ",null,null,"David","  2nd year - I.e. the 2nd Sacred Calendar Year he reigned"," "," "]
[2897,"David","10th year - I.e. the 10th Sacred Calendar Year he reigned"," ",null,null,"David","  3rd year - I.e. the 3rd Sacred Calendar Year he reigned"," "," "]
[2898,"David","11th year - I.e. the 11th Sacred Calendar Year he reigned"," ",null,null,"David","  4th year - I.e. the 4th Sacred Calendar Year he reigned"," "," "]
[2899,"David","12th year - I.e. the 12th Sacred Calendar Year he reigned",{"$f":"D62-1","v":1},null,null,"David","  5th year - I.e. the 5th Sacred Calendar Year he reigned"," "," "]
[2900,"David","13th year - I.e. the 13th Sacred Calendar Year he reigned",2,null,null,"David","  6th year - I.e. the 6th Sacred Calendar Year he reigned"," "," "]
[2901,"David","14th year - I.e. the 14th Sacred Calendar Year he reigned",3,null,null,"David","  7th year - I.e. the 7th Sacred Calendar Year he reigned"," "," "]
[2902,"David","15th year - I.e. the 15th Sacred Calendar Year he reigned",4,null,null,"David","  8th year - I.e. the 8th Sacred Calendar Year he reigned"," "," "]
[2903,"David","16th year - I.e. the 16th Sacred Calendar Year he reigned",5,null,null,"David","  9th year - I.e. the 9th Sacred Calendar Year he reigned"," "," "]
[2904,"David","17th year - I.e. the 17th Sacred Calendar Year he reigned",6,null,null,"David","10th year - I.e. the 10th Sacred Calendar Year he reigned"," "," "]
[2905,"David","18th year - I.e. the 18th Sacred Calendar Year he reigned",7,null,null,"David","11th year - I.e. the 11th Sacred Calendar Year he reigned"," "," "]
[2906,"David","19th year - I.e. the 19th Sacred Calendar Year he reigned",8,null,null,"David","12th year - I.e. the 12th Sacred Calendar Year he reigned"," "," "]
[2907,"David","20th year - I.e. the 20th Sacred Calendar Year he reigned",9,null,null,"David","13th year - I.e. the 13th Sacred Calendar Year he reigned"," "," "]
[2908,"David","21st year - I.e. the 21st Sacred Calendar Year he reigned",10,null,null,"David","14th year - I.e. the 14th Sacred Calendar Year he reigned"," "," "]
[2909,"David","22nd year - I.e. the 22nd Sacred Calendar Year he reigned",11,null,null,"David","15th year - I.e. the 15th Sacred Calendar Year he reigned"," "," "]
[2910,"David","23rd year - I.e. the 23rd Sacred Calendar Year he reigned",12,null,null,"David","16th year - I.e. the 16th Sacred Calendar Year he reigned"," "," "]
[2911,"David","24th year - I.e. the 24th Sacred Calendar Year he reigned",13,null,null,"David","17th year - I.e. the 17th Sacred Calendar Year he reigned"," "," "]
[2912,"David","25th year - I.e. the 25th Sacred Calendar Year he reigned",14,null,null,"David","18th year - I.e. the 18th Sacred Calendar Year he reigned"," "," "]
[2913,"David","26th year - I.e. the 26th Sacred Calendar Year he reigned",15,null,null,"David","19th year - I.e. the 19th Sacred Calendar Year he reigned"," "," "]
[2914,"David","27th year - I.e. the 27th Sacred Calendar Year he reigned",16,null,null,"David","20th year - I.e. the 20th Sacred Calendar Year he reigned"," "," "]
[2915,"David","28th year - I.e. the 28th Sacred Calendar Year he reigned",17,null,null,"David","21st year - I.e. the 21st Sacred Calendar Year he reigned"," "," "]
[2916,"David","29th year - I.e. the 29th Sacred Calendar Year he reigned",18,null,null,"David","22nd year - I.e. the 22nd Sacred Calendar Year he reigned"," "," "]
[2917,"David","30th year - I.e. the 30th Sacred Calendar Year he reigned",19,null,null,"David","23rd year - I.e. the 23rd Sacred Calendar Year he reigned"," "," "]
[2918,"David","31st year - I.e. the 31st Sacred Calendar Year he reigned",20,null,null,"David","24th year - I.e. the 24th Sacred Calendar Year he reigned"," "," "]
[2919,"David","32nd year - I.e. the 32nd Sacred Calendar Year he reigned",21,null,null,"David","25th year - I.e. the 25th Sacred Calendar Year he reigned"," "," "]
[2920,"David","33rd year - I.e. the 33rd Sacred Calendar Year he reigned",22,null,null,"David","26th year - I.e. the 26th Sacred Calendar Year he reigned"," "," "]
[2921,"David","34th year - I.e. the 34th Sacred Calendar Year he reigned",23,null,null,"David","27th year - I.e. the 27th Sacred Calendar Year he reigned"," "," "]
[2922,"David","35th year - I.e. the 35th Sacred Calendar Year he reigned",24,null,null,"David","28th year - I.e. the 28th Sacred Calendar Year he reigned"," "," "]
[2923,"David","36th year - I.e. the 36th Sacred Calendar Year he reigned",25,null,null,"David","29th year - I.e. the 29th Sacred Calendar Year he reigned"," "," "]
[2924,"David","37th year - I.e. the 37th Sacred Calendar Year he reigned",26,null,null,"David","30th year - I.e. the 30th Sacred Calendar Year he reigned"," "," "]
[2925,"David","38th year - I.e. the 38th Sacred Calendar Year he reigned",27,null,null,"David","31st year - I.e. the 31st Sacred Calendar Year he reigned"," "," "]
[2926,"David","39th year - I.e. the 39th Sacred Calendar Year he reigned",28,null,null,"David","32nd year - I.e. the 32nd Sacred Calendar Year he reigned"," "," "]
[2927,"David","40th year - I.e. the 40th Sacred Calendar Year he reigned",{"$f":"D90-1","v":29},null,null,"David","33rd year - I.e. the 33rd Sacred Calendar Year he reigned"," ","2 Sam. 5:4-5; 15:7; 1 Kings 2:10-12; 1 Chron. 3:4"]
[{"$f":"A92","v":2928},"David","41st year - I.e. the 41st Sacred Calendar Year he reigned",30,1,null,"David","34th year - I.e. the 34th Sacred Calendar Year he reigned"," ","2 Sam. 5:4-5; 15:7; 1 Kings 2:10-12; 1 Chron. 3:4. Because King David ruled a full 40/33 years, any additional day(s), week(s), and/or month(s) would make the first year of Solomon that much shorter. (If the 40/33 years were each and all representing a full 12/13 months year, and if there were any additional odd day(s), week(s), and/or months(s), then there could potentially be even a 42nd/35th Calendar year of his reign)."]
[null,null,null," ",null,null,null,null," "]
[{"$f":"A93-1","v":2928},"Solomon","  1st year - I.e. the 1st Sacred Calendar Year he reigned","< or = 30",null,null,"Solomon","  1st year - I.e. the 1st Sacred Calendar Year he reigned"," ","1 Kings 2:10-12. From 2 Sam. 15:7 it is clear that the Absalom lived and caused David to flee from him at the very end of David's 40th year, or more likely into David's 41st year.  Considering David's reference to this event in his succession speech to Solomon as recorded in 1 Kings 2:7 there existed no significant co-regency between King David and King Solomon.  Also I'm not aware of any texts where Solomon was anointed or otherwise placed on David's throne prior to David's last year of reign. According to 1 Chron. 3:4-5 Solomon's age at Coronation must have been 33 or less, because Solomon was probably the youngest son of four of his mother born in Jerusalem, Solomon was probably 30 years old or less at the time he began his reign. Considering the fact that David was himself 30 at his coronation possibly this contributed to David's choice of Solomon as his successor."]
[{"$f":"A94-1","v":2929},"Solomon","  2nd year - I.e. the 2nd Sacred Calendar Year he reigned",{"$f":"D94-1","v":3},null,null,"Solomon","  2nd year - I.e. the 2nd Sacred Calendar Year he reigned"," "," "]
[{"$f":"A95-1","v":2930},"Solomon","  3rd year - I.e. the 3rd Sacred Calendar Year he reigned",4,null,null,"Solomon","  3rd year - I.e. the 3rd Sacred Calendar Year he reigned"," "," "]
[{"$f":"Sheet1!I102","v":2931},"Solomon","  4th year - I.e. the 4th Sacred Calendar Year he reigned",5,null,null,"Solomon","  4th year - I.e. the 4th Sacred Calendar Year he reigned"," ","1 Kings 6:1&37-38; (Cf. Acts 13:17&19-20)"]
[{"$f":"A95+1","v":2932},"Solomon","  5th year - I.e. the 5th Sacred Calendar Year he reigned",6,null,null,"Solomon","  5th year - I.e. the 5th Sacred Calendar Year he reigned"," "," "]
[2933,"Solomon","  6th year - I.e. the 6th Sacred Calendar Year he reigned",7,null,null,"Solomon","  6th year - I.e. the 6th Sacred Calendar Year he reigned"," "," "]
[2934,"Solomon","  7th year - I.e. the 7th Sacred Calendar Year he reigned",8,null,null,"Solomon","  7th year - I.e. the 7th Sacred Calendar Year he reigned"," "," "]
[2935,"Solomon","  8th year - I.e. the 8th Sacred Calendar Year he reigned",9,null,null,"Solomon","  8th year - I.e. the 8th Sacred Calendar Year he reigned"," "," "]
[2936,"Solomon","  9th year - I.e. the 9th Sacred Calendar Year he reigned",10,null,null,"Solomon","  9th year - I.e. the 9th Sacred Calendar Year he reigned"," "," "]
[2937,"Solomon","10th year - I.e. the 10th Sacred Calendar Year he reigned",11,null,null,"Solomon","10th year - I.e. the 10th Sacred Calendar Year he reigned"," "," "]
[2938,"Solomon","11th year - I.e. the 11th Sacred Calendar Year he reigned",12,null,null,"Solomon","11th year - I.e. the 11th Sacred Calendar Year he reigned"," "," "]
[2939,"Solomon","12th year - I.e. the 12th Sacred Calendar Year he reigned",13,null,null,"Solomon","12th year - I.e. the 12th Sacred Calendar Year he reigned"," "," "]
[2940,"Solomon","13th year - I.e. the 13th Sacred Calendar Year he reigned",14,null,null,"Solomon","13th year - I.e. the 13th Sacred Calendar Year he reigned"," "," "]
[2941,"Solomon","14th year - I.e. the 14th Sacred Calendar Year he reigned",15,null,null,"Solomon","14th year - I.e. the 14th Sacred Calendar Year he reigned"," "," "]
[2942,"Solomon","15th year - I.e. the 15th Sacred Calendar Year he reigned",16,null,null,"Solomon","15th year - I.e. the 15th Sacred Calendar Year he reigned"," "," "]
[2943,"Solomon","16th year - I.e. the 16th Sacred Calendar Year he reigned",17,null,null,"Solomon","16th year - I.e. the 16th Sacred Calendar Year he reigned"," "," "]
[2944,"Solomon","17th year - I.e. the 17th Sacred Calendar Year he reigned",18,null,null,"Solomon","17th year - I.e. the 17th Sacred Calendar Year he reigned"," "," "]
[2945,"Solomon","18th year - I.e. the 18th Sacred Calendar Year he reigned",19,null,null,"Solomon","18th year - I.e. the 18th Sacred Calendar Year he reigned"," "," "]
[2946,"Solomon","19th year - I.e. the 19th Sacred Calendar Year he reigned",20,null,null,"Solomon","19th year - I.e. the 19th Sacred Calendar Year he reigned"," "," "]
[2947,"Solomon","20th year - I.e. the 20th Sacred Calendar Year he reigned",21,null,null,"Solomon","20th year - I.e. the 20th Sacred Calendar Year he reigned"," "," "]
[2948,"Solomon","21st year - I.e. the 21st Sacred Calendar Year he reigned",22,null,null,"Solomon","21st year - I.e. the 21st Sacred Calendar Year he reigned"," "," "]
[2949,"Solomon","22nd year - I.e. the 22nd Sacred Calendar Year he reigned",23,null,null,"Solomon","22nd year - I.e. the 22nd Sacred Calendar Year he reigned"," "," "]
[2950,"Solomon","23rd year - I.e. the 23rd Sacred Calendar Year he reigned",24,null,null,"Solomon","23rd year - I.e. the 23rd Sacred Calendar Year he reigned"," "," "]
[2951,"Solomon","24th year - I.e. the 24th Sacred Calendar Year he reigned",25,null,null,"Solomon","24th year - I.e. the 24th Sacred Calendar Year he reigned"," "," "]
[2952,"Solomon","25th year - I.e. the 25th Sacred Calendar Year he reigned",26,null,null,"Solomon","25th year - I.e. the 25th Sacred Calendar Year he reigned"," "," "]
[2953,"Solomon","26th year - I.e. the 26th Sacred Calendar Year he reigned",27,null,null,"Solomon","26th year - I.e. the 26th Sacred Calendar Year he reigned"," "," "]
[2954,"Solomon","27th year - I.e. the 27th Sacred Calendar Year he reigned",28,null,null,"Solomon","27th year - I.e. the 27th Sacred Calendar Year he reigned"," "," "]
[2955,"Solomon","28th year - I.e. the 28th Sacred Calendar Year he reigned",29,null,null,"Solomon","28th year - I.e. the 28th Sacred Calendar Year he reigned"," "," "]
[2956,"Solomon","29th year - I.e. the 29th Sacred Calendar Year he reigned",30,null,null,"Solomon","29th year - I.e. the 29th Sacred Calendar Year he reigned"," "," "]
[2957,"Solomon","30th year - I.e. the 30th Sacred Calendar Year he reigned",31,null,null,"Solomon","30th year - I.e. the 30th Sacred Calendar Year he reigned"," "," "]
[2958,"Solomon","31st year - I.e. the 31st Sacred Calendar Year he reigned",32,null,null,"Solomon","31st year - I.e. the 31st Sacred Calendar Year he reigned"," "," "]
[2959,"Solomon","32nd year - I.e. the 32nd Sacred Calendar Year he reigned",33,null,null,"Solomon","32nd year - I.e. the 32nd Sacred Calendar Year he reigned"," "," "]
[2960,"Solomon","33rd year - I.e. the 33rd Sacred Calendar Year he reigned",34,null,null,"Solomon","33rd year - I.e. the 33rd Sacred Calendar Year he reigned"," "," "]
[2961,"Solomon","34th year - I.e. the 34th Sacred Calendar Year he reigned",35,null,null,"Solomon","34th year - I.e. the 34th Sacred Calendar Year he reigned"," "," "]
[2962,"Solomon","35th year - I.e. the 35th Sacred Calendar Year he reigned",36,null,null,"Solomon","35th year - I.e. the 35th Sacred Calendar Year he reigned"," "," "]
[2963,"Solomon","36th year - I.e. the 36th Sacred Calendar Year he reigned",37,null,null,"Solomon","36th year - I.e. the 36th Sacred Calendar Year he reigned"," "," "]
[2964,"Solomon","37th year - I.e. the 37th Sacred Calendar Year he reigned",38,null,null,"Solomon","37th year - I.e. the 37th Sacred Calendar Year he reigned"," "," "]
[2965,"Solomon","38th year - I.e. the 38th Sacred Calendar Year he reigned",39,null,null,"Solomon","38th year - I.e. the 38th Sacred Calendar Year he reigned"," "," "]
[2966,"Solomon","39th year - I.e. the 39th Sacred Calendar Year he reigned",{"$f":"D131-1","v":40},null,null,"Solomon","39th year - I.e. the 39th Sacred Calendar Year he reigned"," "," "]
[2967,"Solomon","40th year - I.e. the 40th Sacred Calendar Year he reigned",41,null,null,"Solomon","40th year - I.e. the 40th Sacred Calendar Year he reigned"," ","1 Kings 11:42"]
[null,null,null," ",null,null,null,null," "]
[{"$f":"A131","v":2967},"Rehoboam","  1st year - I.e. the 1st Sacred Calendar Year he reigned",41,null,null,"Jeroboam","  1st year - I.e. the 1st Sacred Calendar Year he reigned"," ","1 Kings 12; 14:21"]
[{"$f":"A131+1","v":2968},"Rehoboam","  2nd year - I.e. the 2nd Sacred Calendar Year he reigned"," ",null,null,"Jeroboam","  2nd year - I.e. the 2nd Sacred Calendar Year he reigned"," "," "]
[2969,"Rehoboam","  3rd year - I.e. the 3rd Sacred Calendar Year he reigned"," ",null,null,"Jeroboam","  3rd year - I.e. the 3rd Sacred Calendar Year he reigned"," "," "]
[2970,"Rehoboam","  4th year - I.e. the 4th Sacred Calendar Year he reigned"," ",null,null,"Jeroboam","  4th year - I.e. the 4th Sacred Calendar Year he reigned"," "," "]
[2971,"Rehoboam","  5th year - I.e. the 5th Sacred Calendar Year he reigned"," ",null,null,"Jeroboam","  5th year - I.e. the 5th Sacred Calendar Year he reigned"," "," "]
[2972,"Rehoboam","  6th year - I.e. the 6th Sacred Calendar Year he reigned"," ",null,null,"Jeroboam","  6th year - I.e. the 6th Sacred Calendar Year he reigned"," "," "]
[2973,"Rehoboam","  7th year - I.e. the 7th Sacred Calendar Year he reigned"," ",null,null,"Jeroboam","  7th year - I.e. the 7th Sacred Calendar Year he reigned"," "," "]
[2974,"Rehoboam","  8th year - I.e. the 8th Sacred Calendar Year he reigned"," ",null,null,"Jeroboam","  8th year - I.e. the 8th Sacred Calendar Year he reigned"," "," "]
[2975,"Rehoboam","  9th year - I.e. the 9th Sacred Calendar Year he reigned"," ",null,null,"Jeroboam","  9th year - I.e. the 9th Sacred Calendar Year he reigned"," "," "]
[{"$f":"A141+1","v":2976},"Rehoboam","10th year - I.e. the 10th Sacred Calendar Year he reigned"," ",null,null,"Jeroboam","10th year - I.e. the 10th Sacred Calendar Year he reigned"," "," "]
[2977,"Rehoboam","11th year - I.e. the 11th Sacred Calendar Year he reigned"," ",null,null,"Jeroboam","11th year - I.e. the 11th Sacred Calendar Year he reigned"," "," "]
[2978,"Rehoboam","12th year - I.e. the 12th Sacred Calendar Year he reigned"," ",null,null,"Jeroboam","12th year - I.e. the 12th Sacred Calendar Year he reigned"," "," "]
[2979,"Rehoboam","13th year - I.e. the 13th Sacred Calendar Year he reigned"," ",null,null,"Jeroboam","13th year - I.e. the 13th Sacred Calendar Year he reigned"," "," "]
[2980,"Rehoboam","14th year - I.e. the 14th Sacred Calendar Year he reigned"," ",null,null,"Jeroboam","14th year - I.e. the 14th Sacred Calendar Year he reigned"," "," "]
[2981,"Rehoboam","15th year - I.e. the 15th Sacred Calendar Year he reigned"," ",null,null,"Jeroboam","15th year - I.e. the 15th Sacred Calendar Year he reigned"," "," "]
[2982,"Rehoboam","16th year - I.e. the 16th Sacred Calendar Year he reigned"," ",null,null,"Jeroboam","16th year - I.e. the 16th Sacred Calendar Year he reigned"," "," "]
[2983,"Rehoboam","17th year - I.e. the 17th Sacred Calendar Year he reigned"," ",null,null,"Jeroboam","17th year - I.e. the 17th Sacred Calendar Year he reigned"," "," "]
[2984,"Rehoboam","18th year - I.e. the 18th Sacred Calendar Year he reigned"," ",null,null,"Jeroboam","18th year - I.e. the 18th Sacred Calendar Year he reigned"," ","Rehoboam reigned 17 full years!  1 Kings 14:21 &  2 Chron. 12:13"]
[null,null,null," ",null,null,null,null," "]
[{"$f":"A150","v":2984},"Abijah","  1st year - I.e. the 1st Sacred Calendar Year he reigned"," ",null,null,"Jeroboam","18th year - I.e. the 18th Sacred Calendar Year he reigned"," ","1 Kings 15:1-2; 2 Chron. 13:2"]
[{"$f":"A150+1","v":2985},"Abijah","  2nd year - I.e. the 2nd Sacred Calendar Year he reigned"," ",null,null,"Jeroboam","19th year - I.e. the 19th Sacred Calendar Year he reigned"," "," "]
[2986,"Abijah","  3rd year - I.e. the 3rd Sacred Calendar Year he reigned"," ",null,null,"Jeroboam","20th year - I.e. the 20th Sacred Calendar Year he reigned"," "," "]
[2987,"Abijah","  4th year - I.e. the 4th Sacred Calendar Year he reigned"," ",1,null,"Jeroboam","21st year - I.e. the 21st Sacred Calendar Year he reigned"," ","Abijah reigned 3 full years!  1 Kings 15:2; 2 Chron. 13:2"]
[null,null,null," ",null,null,null,null," "]
[{"$f":"A155","v":2987},"Asa","  1st year - I.e. the 1st Sacred Calendar Year he reigned"," ",null,null,"Jeroboam","21st year - I.e. the 21st Sacred Calendar Year he reigned"," "," "]
[{"$f":"A155+1","v":2988},"Asa","  2nd year - I.e. the 2nd Sacred Calendar Year he reigned"," ",null,null,"Jeroboam","22nd year - I.e. the 22nd Sacred Calendar Year he reigned"," ","1 Kings 14:20"]
[null,null,null," ",null,null,null,null," "]
[{"$f":"A158","v":2988},"Asa","  2nd year - I.e. the 2nd Sacred Calendar Year he reigned"," ",null,null,"Nadab","  1st year - I.e. the 1st Sacred Calendar Year he reigned"," ","1 Kings 15:25"]
[{"$f":"A158+1","v":2989},"Asa","  3rd year - I.e. the 3rd Sacred Calendar Year he reigned"," ",null,null,"Nadab","  2nd year - I.e. the 2nd Sacred Calendar Year he reigned"," ","Nadab reigned more than one full year! 1 Kings 15:25 (Hebrew 'shanatim' = plural form of 'year' without other numerical designation. Compare Gen. 11:10 as mistranslated \"two years after the flood\")"]
[null,null,null," ",null,null,null,null," "]
[{"$f":"A161","v":2989},"Asa","  3rd year - I.e. the 3rd Sacred Calendar Year he reigned"," ",null,null,"Baasha","  1st year - I.e. the 1st Sacred Calendar Year he reigned"," ","1 Kings 15:28, 33"]
[{"$f":"A161+1","v":2990},"Asa","  4th year - I.e. the 4th Sacred Calendar Year he reigned"," ",null,null,"Baasha","  2nd year - I.e. the 2nd Sacred Calendar Year he reigned"," "," "]
[2991,"Asa","  5th year - I.e. the 5th Sacred Calendar Year he reigned"," ",null,null,"Baasha","  3rd year - I.e. the 3rd Sacred Calendar Year he reigned"," "," "]
[2992,"Asa","  6th year - I.e. the 6th Sacred Calendar Year he reigned",{"$f":"D167-1","v":0},null,null,"Baasha","  4th year - I.e. the 4th Sacred Calendar Year he reigned"," "," "]
[2993,"Asa","  7th year - I.e. the 7th Sacred Calendar Year he reigned",1,null,null,"Baasha","  5th year - I.e. the 5th Sacred Calendar Year he reigned"," "," "]
[2994,"Asa","  8th year - I.e. the 8th Sacred Calendar Year he reigned",2,null,null,"Baasha","  6th year - I.e. the 6th Sacred Calendar Year he reigned"," "," "]
[2995,"Asa","  9th year - I.e. the 9th Sacred Calendar Year he reigned",3,null,null,"Baasha","  7th year - I.e. the 7th Sacred Calendar Year he reigned"," "," "]
[2996,"Asa","10th year - I.e. the 10th Sacred Calendar Year he reigned",4,null,null,"Baasha","  8th year - I.e. the 8th Sacred Calendar Year he reigned"," "," "]
[2997,"Asa","11th year - I.e. the 11th Sacred Calendar Year he reigned",5,null,null,"Baasha","  9th year - I.e. the 9th Sacred Calendar Year he reigned"," "," "]
[2998,"Asa","12th year - I.e. the 12th Sacred Calendar Year he reigned",6,null,null,"Baasha","10th year - I.e. the 10th Sacred Calendar Year he reigned"," "," "]
[2999,"Asa","13th year - I.e. the 13th Sacred Calendar Year he reigned",7,null,null,"Baasha","11th year - I.e. the 11th Sacred Calendar Year he reigned"," "," "]
[3000,"Asa","14th year - I.e. the 14th Sacred Calendar Year he reigned",8,null,null,"Baasha","12th year - I.e. the 12th Sacred Calendar Year he reigned"," "," "]
[3001,"Asa","15th year - I.e. the 15th Sacred Calendar Year he reigned",9,null,null,"Baasha","13th year - I.e. the 13th Sacred Calendar Year he reigned"," "," "]
[3002,"Asa","16th year - I.e. the 16th Sacred Calendar Year he reigned",10,null,null,"Baasha","14th year - I.e. the 14th Sacred Calendar Year he reigned"," "," "]
[3003,"Asa","17th year - I.e. the 17th Sacred Calendar Year he reigned",11,null,null,"Baasha","15th year - I.e. the 15th Sacred Calendar Year he reigned"," "," "]
[3004,"Asa","18th year - I.e. the 18th Sacred Calendar Year he reigned",12,null,null,"Baasha","16th year - I.e. the 16th Sacred Calendar Year he reigned"," "," "]
[3005,"Asa","19th year - I.e. the 19th Sacred Calendar Year he reigned",13,null,null,"Baasha","17th year - I.e. the 17th Sacred Calendar Year he reigned"," "," "]
[3006,"Asa","20th year - I.e. the 20th Sacred Calendar Year he reigned",14,null,null,"Baasha","18th year - I.e. the 18th Sacred Calendar Year he reigned"," "," "]
[3007,"Asa","21st year - I.e. the 21st Sacred Calendar Year he reigned",15,null,null,"Baasha","19th year - I.e. the 19th Sacred Calendar Year he reigned"," "," "]
[3008,"Asa","22nd year - I.e. the 22nd Sacred Calendar Year he reigned",16,null,null,"Baasha","20th year - I.e. the 20th Sacred Calendar Year he reigned"," "," "]
[3009,"Asa","23rd year - I.e. the 23rd Sacred Calendar Year he reigned",17,null,null,"Baasha","21st year - I.e. the 21st Sacred Calendar Year he reigned"," "," "]
[3010,"Asa","24th year - I.e. the 24th Sacred Calendar Year he reigned",18,null,null,"Baasha","22nd year - I.e. the 22nd Sacred Calendar Year he reigned"," "," "]
[3011,"Asa","25th year - I.e. the 25th Sacred Calendar Year he reigned",19,null,null,"Baasha","23rd year - I.e. the 23rd Sacred Calendar Year he reigned"," "," "]
[3012,"Asa","26th year - I.e. the 26th Sacred Calendar Year he reigned",20,null,null,"Baasha","24th year - I.e. the 24th Sacred Calendar Year he reigned"," ","Baasha reigned 24 full years, however, if (- May be a valuable point of reference?) those years coincided with the Calendar years, then there is no 25th year of his reign. 1 Kings 15:28, 33.  He died in the 26 year of Asa. 1 Kings 16:8."]
[null,null,null," ",null,null,null,null," "]
[{"$f":"A186","v":3012},"Asa","26th year - I.e. the 26th Sacred Calendar Year he reigned",{"$f":"D189-1","v":20},null,null,"Elah","  1st year - I.e. the 1st Sacred Calendar Year he reigned"," ","1 Kings 16:8"]
[{"$f":"A186+1","v":3013},"Asa","27th year - I.e. the 27th Sacred Calendar Year he reigned",21,null,null,"Elah","  2nd year - I.e. the 2nd Sacred Calendar Year he reigned"," ","Elah reigned more than one full year! 1 Kings 16:8 (Hebrew 'shanatim' = plural form of 'year' without other numerical designation. Compare Gen. 11:10 as mistranslated \"two years after the flood\")"]
[null,null,null," ",null,null,null,null," "]
[{"$f":"A189","v":3013},"Asa","27th year - I.e. the 27th Sacred Calendar Year he reigned",21,null,null,"Zimri","7 days."," ","1 Kings 16:10, 15"]
[null,null,null," ",null,null,null,null," "]
[{"$f":"A191","v":3013},"Asa","27th year - I.e. the 27th Sacred Calendar Year he reigned",{"$f":"D194-1","v":21},null,null,"Omri & Tibni contesting for power from the onset of their reigns","  1st year - I.e. the 1st Sacred Calendar Year he reigned"," ","1 Kings 16:21-23"]
[{"$f":"A189+1","v":3014},"Asa","28th year - I.e. the 28th Sacred Calendar Year he reigned",{"$f":"D195-1","v":22},null,null,"Omri & Tibni contesting for power from the onset of their reigns","  2nd year - I.e. the 2nd Sacred Calendar Year he reigned"," "," "]
[3015,"Asa","29th year - I.e. the 29th Sacred Calendar Year he reigned",{"$f":"D196-1","v":23},null,null,"Omri & Tibni contesting for power from the onset of their reigns","  3rd year - I.e. the 3rd Sacred Calendar Year he reigned"," "," "]
[3016,"Asa","30th year - I.e. the 30th Sacred Calendar Year he reigned",{"$f":"D197-1","v":24},null,null,"Omri & Tibni contesting for power from the onset of their reigns","  4th year - I.e. the 4th Sacred Calendar Year he reigned"," "," "]
[3017,"Asa","31st year - I.e. the 31st Sacred Calendar Year he reigned",25,null,null,"Omri & Tibni contesting for power from the onset of their reigns","  5th year - I.e. the 5th Sacred Calendar Year he reigned"," "," "]
[null,null,null," ",null,null,null,null," "]
[{"$f":"A197","v":3017},"Asa","31st year - I.e. the 31st Sacred Calendar Year he reigned",{"$f":"D200-1","v":25},null,null,"Omri","  5th year - I.e. the 5th Sacred Calendar Year he reigned"," ","1 Kings 16:23"]
[{"$f":"A197+1","v":3018},"Asa","32nd year - I.e. the 32nd Sacred Calendar Year he reigned",26,null,null,"Omri","  6th year - I.e. the 6th Sacred Calendar Year he reigned"," "," "]
[3019,"Asa","33rd year - I.e. the 33rd Sacred Calendar Year he reigned",27,null,null,"Omri","  7th year - I.e. the 7th Sacred Calendar Year he reigned"," "," "]
[3020,"Asa","34th year - I.e. the 34th Sacred Calendar Year he reigned",28,null,null,"Omri","  8th year - I.e. the 8th Sacred Calendar Year he reigned"," "," "]
[3021,"Asa","35th year - I.e. the 35th Sacred Calendar Year he reigned",29,null,null,"Omri","  9th year - I.e. the 9th Sacred Calendar Year he reigned"," "," "]
[3022,"Asa","36th year - I.e. the 36th Sacred Calendar Year he reigned",30,null,null,"Omri","10th year - I.e. the 10th Sacred Calendar Year he reigned"," "," "]
[3023,"Asa","37th year - I.e. the 37th Sacred Calendar Year he reigned",31,null,null,"Omri","11th year - I.e. the 11th Sacred Calendar Year he reigned"," "," "]
[3024,"Asa","38th year - I.e. the 38th Sacred Calendar Year he reigned",32,null,null,"Omri","12th year - I.e. the 12th Sacred Calendar Year he reigned"," ","Omri reigned 12 full years. 1 Kings 16:23.  He died in the 38th or, more probably, the 39th year of Asa (the Bible doesn't date his death), being succeeded by his own son in the 38th year of Asa, and there may be a brief period of coregency between father and son as indicated by the words \"And his son Ahab reigned in his place\" (more precisely translated \"And reigned Ahab, his son, under him\". Compare Strong's #8482). 1 Kings 16:23, 29. (Compare the similar situation, a coregency of tree years plus, when Ahab transferred his throne to his own son Ahaziah. See note below!)"]
[null,null,null," ",null,null,null,null," "]
[{"$f":"A206","v":3024},"Asa","38th year - I.e. the 38th Sacred Calendar Year he reigned",{"$f":"D209-1","v":32},null,null,"Ahab","  1st year - I.e. the 1st Sacred Calendar Year he reigned"," ","1 Kings 16:29"]
[{"$f":"A206+1","v":3025},"Asa","39th year - I.e. the 39th Sacred Calendar Year he reigned",{"$f":"D210-1","v":33},null,null,"Ahab","  2nd year - I.e. the 2nd Sacred Calendar Year he reigned"," "," "]
[3026,"Asa","40th year - I.e. the 40th Sacred Calendar Year he reigned",{"$f":"D211-1","v":34},null,null,"Ahab","  3rd year - I.e. the 3rd Sacred Calendar Year he reigned"," "," "]
[3027,"Asa","41st year - I.e. the 41st Sacred Calendar Year he reigned",35,null,null,"Ahab","  4th year - I.e. the 4th Sacred Calendar Year he reigned"," ","Asa died in his 41st year of reign, thus he did not rule a full 41 years. 2 Chron. 16:13"]
[null,null,null," ",null,null,null,null," "]
[{"$f":"A211","v":3027},"Jehoshaphat","  1st year - I.e. the 1st Sacred Calendar Year he reigned",35,null,null,"Ahab","  4th year - I.e. the 4th Sacred Calendar Year he reigned"," ","1 Kings 22:41"]
[{"$f":"A211+1","v":3028},"Jehoshaphat","  2nd year - I.e. the 2nd Sacred Calendar Year he reigned",{"$f":"D215-1","v":12},null,null,"Ahab","  5th year - I.e. the 5th Sacred Calendar Year he reigned"," "," "]
[3029,"Jehoshaphat","  3rd year - I.e. the 3rd Sacred Calendar Year he reigned",13,null,null,"Ahab","  6th year - I.e. the 6th Sacred Calendar Year he reigned"," "," "]
[3030,"Jehoshaphat","  4th year - I.e. the 4th Sacred Calendar Year he reigned",14,null,null,"Ahab","  7th year - I.e. the 7th Sacred Calendar Year he reigned"," "," "]
[3031,"Jehoshaphat","  5th year - I.e. the 5th Sacred Calendar Year he reigned",15,null,null,"Ahab","  8th year - I.e. the 8th Sacred Calendar Year he reigned"," "," "]
[3032,"Jehoshaphat","  6th year - I.e. the 6th Sacred Calendar Year he reigned",16,null,null,"Ahab","  9th year - I.e. the 9th Sacred Calendar Year he reigned"," "," "]
[3033,"Jehoshaphat","  7th year - I.e. the 7th Sacred Calendar Year he reigned",17,null,null,"Ahab","10th year - I.e. the 10th Sacred Calendar Year he reigned"," "," "]
[3034,"Jehoshaphat","  8th year - I.e. the 8th Sacred Calendar Year he reigned",18,null,null,"Ahab","11th year - I.e. the 11th Sacred Calendar Year he reigned"," "," "]
[3035,"Jehoshaphat","  9th year - I.e. the 9th Sacred Calendar Year he reigned",19,null,null,"Ahab","12th year - I.e. the 12th Sacred Calendar Year he reigned"," "," "]
[3036,"Jehoshaphat","10th year - I.e. the 10th Sacred Calendar Year he reigned",20,null,null,"Ahab","13th year - I.e. the 13th Sacred Calendar Year he reigned"," "," "]
[3037,"Jehoshaphat","11th year - I.e. the 11th Sacred Calendar Year he reigned",21,null,null,"Ahab","14th year - I.e. the 14th Sacred Calendar Year he reigned"," "," "]
[3038,"Jehoshaphat","12th year - I.e. the 12th Sacred Calendar Year he reigned",22,null,null,"Ahab","15th year - I.e. the 15th Sacred Calendar Year he reigned"," "," "]
[{"$f":"A224+1","v":3039},"Jehoshaphat","13th year - I.e. the 13th Sacred Calendar Year he reigned",23,null,null,"Ahab","16th year - I.e. the 16th Sacred Calendar Year he reigned"," "," "]
[3040,"Jehoshaphat","14th year - I.e. the 14th Sacred Calendar Year he reigned",24,null,null,"Ahab","17th year - I.e. the 17th Sacred Calendar Year he reigned"," "," "]
[3041,"Jehoshaphat","15th year - I.e. the 15th Sacred Calendar Year he reigned",25,null,null,"Ahab","18th year - I.e. the 18th Sacred Calendar Year he reigned"," "," "]
[3042,"Jehoshaphat","16th year - I.e. the 16th Sacred Calendar Year he reigned",{"$f":"D229-1","v":26},null,null,"Ahab","19th year - I.e. the 19th Sacred Calendar Year he reigned"," "," "]
[3043,"Jehoshaphat","17th year - I.e. the 17th Sacred Calendar Year he reigned",27,null,null,"Ahab","20th year - I.e. the 20th Sacred Calendar Year he reigned"," "," "]
[null,null,null," ",null,null,null,null," "]
[{"$f":"A229","v":3043},"Jehoshaphat","17th year - I.e. the 17th Sacred Calendar Year he reigned",{"$f":"D232-1","v":27},null,null,"Ahab's 20th & Ahaziah's","  1st year - I.e. the 1st Sacred Calendar Year he reigned"," ","1 Kings 22:40"]
[{"$f":"A229+1","v":3044},"Jehoshaphat","18th year - I.e. the 18th Sacred Calendar Year he reigned",28,null,null,"Ahab's 21st & Ahaziah's","  2nd year - I.e. the 2nd Sacred Calendar Year he reigned"," ","1 Kings 22:52. (This is another excellent example of the mistranslations of the Hebrew word 'shatajim' as \"two years\" 1 Kings 22:51 rather than a translation indicating any time period larger than one year. Compare also Gen. 11:10.)"]
[null,null,null," ",null,null,null,null," "]
[{"$f":"A232","v":3044},"Jehoshaphat","18th year - I.e. the 18th Sacred Calendar Year he reigned",{"$f":"D235-1","v":28},null,null,"Ahab's 21st & Jehoram's (Joram's)","  1st year - I.e. the 1st Sacred Calendar Year he reigned"," ","2 Kings 1:17; 3:1"]
[{"$f":"A232+1","v":3045},"Jehoshaphat","19th year - I.e. the 19th Sacred Calendar Year he reigned",{"$f":"D236-1","v":29},null,null,"Ahab's 22nd & Jehoram's (Joram's)","  2nd year - I.e. the 2nd Sacred Calendar Year he reigned"," "," "]
[3046,"Jehoshaphat","20th year - I.e. the 20th Sacred Calendar Year he reigned",{"$f":"D237-1","v":30},null,null,"Ahab's 23rd & Jehoram's (Joram's)","  3rd year - I.e. the 3rd Sacred Calendar Year he reigned"," ","Ahab reigned 22 full years. 1 Kings 16:29.  Thus, he died in the 19th or, more probably, the 20th year of Jehoshaphat (the Bible doesn't date Ahab's death in reference to Jehoshaphat's reign), being succeeded by his own son Ahaziah in the 17th year of Jehoshaphat (about 3 years prior to his own, Ahab's, death), and then by his own son Jehoram (Joram) in the 18th year of Jehoshaphat. Clearly then, there was a period, about 3 years plus, of coregency between father and first one son, and then another, as indicated by the words \"And his son Ahaziah reigned in his place\" (more precisely translated \"And reigned Ahaziah, his son, under him\". Compare Strong's #8482). 1 Kings 22:40; 2 Kings 1:17.  (This then is confirmation of a practice of coregency, which Ahab himself experienced when he took over from his own father Omri. See above!)"]
[3047,"Jehoshaphat","21st year - I.e. the 21st Sacred Calendar Year he reigned",{"$f":"D238-1","v":31},null,null,"Jehoram (Joram)","  4th year - I.e. the 4th Sacred Calendar Year he reigned"," "," "]
[3048,"Jehoshaphat","22nd year - I.e. the 22nd Sacred Calendar Year he reigned",32,null,null,"Jehoram (Joram)","  5th year - I.e. the 5th Sacred Calendar Year he reigned"," "," "]
[null,null,null," ",null,null,null,null," "]
[{"$f":"A238","v":3048},"Jehoshaphat's 22nd & Jehoram's","  1st year - I.e. the 1st Sacred Calendar Year he reigned",32,null,null,"Jehoram (Joram)","  5th year - I.e. the 5th Sacred Calendar Year he reigned"," ","2 Kings 8:16-18. Very interesting text directly confirming the practice of coregency at that time.  The text is perhaps a little complicated in the Hebrew, but seems correctly translated in the KJV, \"And in the fifth year of Joram the son of Ahab king of Israel, Jehoshaphat being then king of Judah, Jehoram the son of Jehoshaphat king of Judah began to reign.\"  In 2 Chron. 21:1 we again find the expression \"And Jehoram his son reigned in his stead\", or as more precisely translated \"And reigned Jehoram, his son, under him\"."]
[{"$f":"A238+1","v":3049},"Jehoshaphat's 23rdd & Jehoram's","  2nd year - I.e. the 2nd Sacred Calendar Year he reigned",{"$f":"D242-1","v":17},null,null,"Jehoram (Joram)","  6th year - I.e. the 6th Sacred Calendar Year he reigned"," "," "]
[3050,"Jehoshaphat's 24th & Jehoram's","  3rd year - I.e. the 3rd Sacred Calendar Year he reigned",{"$f":"D243-1","v":18},null,null,"Jehoram (Joram)","  7th year - I.e. the 7th Sacred Calendar Year he reigned"," "," "]
[3051,"Jehoshaphat's 25th & Jehoram's","  4th year - I.e. the 4th Sacred Calendar Year he reigned",{"$f":"D244-1","v":19},null,null,"Jehoram (Joram)","  8th year - I.e. the 8th Sacred Calendar Year he reigned"," "," "]
[3052,"Jehoshaphat's 26th & Jehoram's","  5th year - I.e. the 5th Sacred Calendar Year he reigned",{"$f":"D245-1","v":20},null,null,"Jehoram (Joram)","  9th year - I.e. the 9th Sacred Calendar Year he reigned"," ","1 Kings 22:42; 2 Chron. 20:31"]
[3053,"Jehoram","  6th year - I.e. the 6th Sacred Calendar Year he reigned",{"$f":"D246-1","v":21},null,null,"Jehoram (Joram)","10th year - I.e. the 10th Sacred Calendar Year he reigned"," "," "]
[3054,"Jehoram","  7th year - I.e. the 7th Sacred Calendar Year he reigned",22,null,null,"Jehoram (Joram)","11th year - I.e. the 11th Sacred Calendar Year he reigned"," "," "]
[null,null,null," ",null,null,null,null," "]
[{"$f":"A246","v":3054},"Jehoram's 7th & Ahaziah's","  1st year - I.e. the 1st Sacred Calendar Year he reigned","22 or 42",null,null,"Jehoram (Joram)","11th year - I.e. the 11th Sacred Calendar Year he reigned"," ","2 Kings 8:24-26; 9:29; 2 Chron. 21:16-22:2. Again, re Ahaziah, words consistent with co-regency by father and son. The Hebrew in 2 Kings 8:26 specifically uses the number 'one' in conjunction with the word 'year', i.e. in contradistinction to other texts where the dual/plural form for 'years' are used to indicate any time period above one year (Cf. e.g. Gen. 11:10). Thus it makes sense to interpret this text in a way such that a time period less than, or equal to, one year is the result. A question may still remain as to whether such time period could extend over part of two consecutive Calendar years, or if it is intended to indicate that such a time period is fully confined within a given Calendar year. This last question seems at least partially resolved by the fact that this [no greater than] one year period is referencing both the 11th and 12th years of the King of Israel. However, it is still possible that such a construction would not be used across two separate Years as such Years are defined by the Sacred Calendar from Nisan through Adar. However, if the assumption is valid, upon which this table of regnal year is based, that any part of a Kings reign within a given Sacred Year, i.e. Nisan through Adar, is given as the entirety of that regnal year for a given King, then the above question is fully resolved, and the Hebrew words 'one' and 'year', when combined are being used to reference a time period within two consecutive years regardless of Calendar used. Then again, it is possible, of course, to find other explanations; perhaps different Calendars are being referenced by the two texts where reference is given to the 11th and 12th year respectively...  Perhaps Israel and Judah used different Calendars?  Perhaps such practice was established as part of the traditions changed by Jeroboam when Israel and Judah split, after King Solomon's reign, as recorded in 1 Kings 12:26-30. Or perhaps one of the texts references a solar based Calendar and the other a lunar Calendar? Compare also the note in the cell immediately below.  Curiously, the age of Ahaziah differs between 2 Kings 8:26 and 2 Chron. 22:2. In the first text his age is given as 22 years old, while as 42 in the latter. Each letter in those sentences is otherwise identical to the other. The letters spelling out '20' and '40' are not similar looking. So what's the significance? Ahaziah was the youngest of several sons. Perhaps the number '40' represents his Sacred age in terms of the Covenant between his parents, while the lower number '20' represents his age in terms of a later parental covenant, his conception, or his delivery?  According to Strong's ## 270-274 the name Ahaziah means \"Jah has seized\", or \"Jah is holding possession\".  Perhaps this is a hint of time and age being a crucial instrument for determining in who's dominion one is being claimed? Who is the judge? Who makes the decision? Has the Creator given each of us the freedom of choice, or not? Of course, there are always consequences tied to each respective choice!  Remember the true battle field for the Great Controversy is our minds!"]
[{"$f":"A246+1","v":3055},"Jehoram's 8th & Ahaziah's","  2nd year - I.e. the 2nd Sacred Calendar Year he reigned"," ",null,null,"Jehoram (Joram)","12th year - I.e. the 12th Sacred Calendar Year he reigned"," ","2 Chron. 21:5, 20 & 22:2,8-9; 2 Kings 3:1. Jehoram of Judah reigned 8 (full?) years in Judah (the last two years of which he suffered and eventually died from a painful \"bowel disease\" 2 Chron. 21:18-20), and Jehoram of Israel reigned twelve full years in Israel. As recorded in 2 Kings 9:21-28 it is clear that Ahaziah, King of Judah, and Jehoram, King of Israel, died in close conjunction one to the other, both being persued the same day, and killed, by the people who were with Jehu. Interestingly, there is an apparent discrepancy between the translation into English as found in 2 Kings 9:29 \"And in the eleventh year of Jehoram the son of Ahab, Ahaziah reigned over Judah\", and the translation as found in 2 Kings 8:25 \"In the twelfth year of Joram the son of Ahab king of Israel did Ahaziah the son of Jehoram king of Judah begin to reign\". However, it seems that 2 Kings 8:25-26 may be translated [equally, or even more, correct], \"In the twelfth year of Joram the son of Ahab, king of Israel, Ahaziah, the son of Jehoram king of Judah, reigned [or even 'completed his reign']. Two and twenty years old was Ahaziah when he reigned [or 'completed his reign']; and he reigned [no more than] one year in Jerusalem\". Please, compare the note in the cell immediately above!"]
[null,null,null," ",null,null,null,null," "]
[{"$f":"A249","v":3055},"Athaliah","  1st year - I.e. the 1st Sacred Calendar Year he reigned",{"$f":"D252-1","v":1},null,null,"Jehu","  1st year - I.e. the 1st Sacred Calendar Year he reigned"," ","2 Kings 9:21 through 2 Kings 10 & 2 Kings 11:1-3; 2 Chron. 22:10-12."]
[{"$f":"A249+1","v":3056},"Athaliah","  2nd year - I.e. the 2nd Sacred Calendar Year he reigned",2,null,null,"Jehu","  2nd year - I.e. the 2nd Sacred Calendar Year he reigned"," "," "]
[3057,"Athaliah","  3rd year - I.e. the 3rd Sacred Calendar Year he reigned",3,null,null,"Jehu","  3rd year - I.e. the 3rd Sacred Calendar Year he reigned"," "," "]
[3058,"Athaliah","  4th year - I.e. the 4th Sacred Calendar Year he reigned",4,null,null,"Jehu","  4th year - I.e. the 4th Sacred Calendar Year he reigned"," "," "]
[3059,"Athaliah","  5th year - I.e. the 5th Sacred Calendar Year he reigned",5,null,null,"Jehu","  5th year - I.e. the 5th Sacred Calendar Year he reigned"," "," "]
[3060,"Athaliah","  6th year - I.e. the 6th Sacred Calendar Year he reigned",6,null,null,"Jehu","  6th year - I.e. the 6th Sacred Calendar Year he reigned"," "," "]
[3061,"Athaliah","  7th year - I.e. the 7th Sacred Calendar Year he reigned",7,null,null,"Jehu","  7th year - I.e. the 7th Sacred Calendar Year he reigned"," ","2 Kings 11:4; 2 Chron. 23:1"]
[null,null,null," ",null,null,null,null," "]
[{"$f":"A257","v":3061},"Jehoash (Joash)","  1st year - I.e. the 1st Sacred Calendar Year he reigned",7,null,null,"Jehu","  7th year - I.e. the 7th Sacred Calendar Year he reigned"," ","2 Kings 11:2,4,12; 12:1; 2 Chron. 23:1"]
[{"$f":"A257+1","v":3062},"Jehoash (Joash)","  2nd year - I.e. the 2nd Sacred Calendar Year he reigned"," ",null,null,"Jehu","  8th year - I.e. the 8th Sacred Calendar Year he reigned"," "," "]
[3063,"Jehoash (Joash)","  3rd year - I.e. the 3rd Sacred Calendar Year he reigned"," ",null,null,"Jehu","  9th year - I.e. the 9th Sacred Calendar Year he reigned"," "," "]
[3064,"Jehoash (Joash)","  4th year - I.e. the 4th Sacred Calendar Year he reigned"," ",null,null,"Jehu","10th year - I.e. the 10th Sacred Calendar Year he reigned"," "," "]
[3065,"Jehoash (Joash)","  5th year - I.e. the 5th Sacred Calendar Year he reigned"," ",null,null,"Jehu","11th year - I.e. the 11th Sacred Calendar Year he reigned"," "," "]
[3066,"Jehoash (Joash)","  6th year - I.e. the 6th Sacred Calendar Year he reigned"," ",null,null,"Jehu","12th year - I.e. the 12th Sacred Calendar Year he reigned"," "," "]
[3067,"Jehoash (Joash)","  7th year - I.e. the 7th Sacred Calendar Year he reigned"," ",null,null,"Jehu","13th year - I.e. the 13th Sacred Calendar Year he reigned"," "," "]
[3068,"Jehoash (Joash)","  8th year - I.e. the 8th Sacred Calendar Year he reigned"," ",null,null,"Jehu","14th year - I.e. the 14th Sacred Calendar Year he reigned"," "," "]
[3069,"Jehoash (Joash)","  9th year - I.e. the 9th Sacred Calendar Year he reigned"," ",null,null,"Jehu","15th year - I.e. the 15th Sacred Calendar Year he reigned"," "," "]
[3070,"Jehoash (Joash)","10th year - I.e. the 10th Sacred Calendar Year he reigned"," ",null,null,"Jehu","16th year - I.e. the 16th Sacred Calendar Year he reigned"," "," "]
[3071,"Jehoash (Joash)","11th year - I.e. the 11th Sacred Calendar Year he reigned"," ",null,null,"Jehu","17th year - I.e. the 17th Sacred Calendar Year he reigned"," "," "]
[3072,"Jehoash (Joash)","12th year - I.e. the 12th Sacred Calendar Year he reigned"," ",null,null,"Jehu","18th year - I.e. the 18th Sacred Calendar Year he reigned"," "," "]
[3073,"Jehoash (Joash)","13th year - I.e. the 13th Sacred Calendar Year he reigned",{"$f":"D272-1","v":0},null,null,"Jehu","19th year - I.e. the 19th Sacred Calendar Year he reigned"," "," "]
[3074,"Jehoash (Joash)","14th year - I.e. the 14th Sacred Calendar Year he reigned",1,null,null,"Jehu","20th year - I.e. the 20th Sacred Calendar Year he reigned"," "," "]
[3075,"Jehoash (Joash)","15th year - I.e. the 15th Sacred Calendar Year he reigned",2,null,null,"Jehu","21st year - I.e. the 21st Sacred Calendar Year he reigned"," "," "]
[3076,"Jehoash (Joash)","16th year - I.e. the 16th Sacred Calendar Year he reigned",3,null,null,"Jehu","22nd year - I.e. the 22nd Sacred Calendar Year he reigned"," "," "]
[3077,"Jehoash (Joash)","17th year - I.e. the 17th Sacred Calendar Year he reigned",4,null,null,"Jehu","23rd year - I.e. the 23rd Sacred Calendar Year he reigned"," "," "]
[3078,"Jehoash (Joash)","18th year - I.e. the 18th Sacred Calendar Year he reigned",5,null,null,"Jehu","24th year - I.e. the 24th Sacred Calendar Year he reigned"," "," "]
[3079,"Jehoash (Joash)","19th year - I.e. the 19th Sacred Calendar Year he reigned",6,null,null,"Jehu","25th year - I.e. the 25th Sacred Calendar Year he reigned"," "," "]
[3080,"Jehoash (Joash)","20th year - I.e. the 20th Sacred Calendar Year he reigned",7,null,null,"Jehu","26th year - I.e. the 26th Sacred Calendar Year he reigned"," "," "]
[3081,"Jehoash (Joash)","21st year - I.e. the 21st Sacred Calendar Year he reigned",8,null,null,"Jehu","27th year - I.e. the 27th Sacred Calendar Year he reigned"," "," "]
[3082,"Jehoash (Joash)","22nd year - I.e. the 22nd Sacred Calendar Year he reigned",9,null,null,"Jehu","28th year - I.e. the 28th Sacred Calendar Year he reigned"," ","2 Kings 10:36"]
[3083,"Jehoash (Joash)","23rd year - I.e. the 23rd Sacred Calendar Year he reigned",10,null,null,"Jehu","29th year - I.e. the 29th Sacred Calendar Year he reigned"," ","2 Kings 10:36 (KJV) uses \"the time that Jehu reigned… was twenty and eight years\" whereas a literal translation reads \"And the days that reigned Jehu…\".  Does this mean what it says in terms of a day for a year, i.e. would the first part of a Sacred Year, and/or of a King's years as numbered 1st, 2nd etc., be considered 'night', as opposed to 'day', and thus not be counted when the above expression is being used?  [Jehu's reign may well have ended before the beginning of a 29 regnal year of his, so a 29th year is not necessary at this point in the time line.]  Such a practice, as suggested above, would serve to emphasize the Passover, as celebrated at the first full moon of every new Sacred Year, i.e. under the time ruler for the night as defined by God on the 4th Day of Creation Week, as being not only a reminder of the Exodus out of Bondage under a human hierarchy/Government, but also as a prime annual reminder of the Creation, which, as evidenced by the arguments given within, may have started at sunset at the eve of Nissan 14, in the 1st year of the history of this Universe. Said point in time is also the foundation upon which this Calendar is based.  Such a concept also makes sense in terms of a 28 day menstrual cycle where the 14th Day is the day for ovulation.  Remember the expression used by the Creator Himself, \"according to the time of life...\" in Gen. 18:10&14 [i.e. when speaking to Abraham about the planned time for the forthcoming conception of Isaac]?"]
[null,null,null," ",null,null,null,null," "]
[{"$f":"A281","v":3083},"Jehoash (Joash)","23rd year - I.e. the 23rd Sacred Calendar Year he reigned",{"$f":"D284-1","v":10},null,null,"Jehoahaz","  1st year - I.e. the 1st Sacred Calendar Year he reigned"," ","2 Kings 13:1"]
[{"$f":"A281+1","v":3084},"Jehoash (Joash)","24th year - I.e. the 24th Sacred Calendar Year he reigned",11,null,null,"Jehoahaz","  2nd year - I.e. the 2nd Sacred Calendar Year he reigned"," "," "]
[3085,"Jehoash (Joash)","25th year - I.e. the 25th Sacred Calendar Year he reigned",12,null,null,"Jehoahaz","  3rd year - I.e. the 3rd Sacred Calendar Year he reigned"," "," "]
[3086,"Jehoash (Joash)","26th year - I.e. the 26th Sacred Calendar Year he reigned",13,null,null,"Jehoahaz","  4th year - I.e. the 4th Sacred Calendar Year he reigned"," "," "]
[3087,"Jehoash (Joash)","27th year - I.e. the 27th Sacred Calendar Year he reigned",14,null,null,"Jehoahaz","  5th year - I.e. the 5th Sacred Calendar Year he reigned"," "," "]
[3088,"Jehoash (Joash)","28th year - I.e. the 28th Sacred Calendar Year he reigned",15,null,null,"Jehoahaz","  6th year - I.e. the 6th Sacred Calendar Year he reigned"," "," "]
[3089,"Jehoash (Joash)","29th year - I.e. the 29th Sacred Calendar Year he reigned",16,null,null,"Jehoahaz","  7th year - I.e. the 7th Sacred Calendar Year he reigned"," "," "]
[3090,"Jehoash (Joash)","30th year - I.e. the 30th Sacred Calendar Year he reigned",17,null,null,"Jehoahaz","  8th year - I.e. the 8th Sacred Calendar Year he reigned"," "," "]
[3091,"Jehoash (Joash)","31st year - I.e. the 31st Sacred Calendar Year he reigned",18,null,null,"Jehoahaz","  9th year - I.e. the 9th Sacred Calendar Year he reigned"," "," "]
[3092,"Jehoash (Joash)","32nd year - I.e. the 32nd Sacred Calendar Year he reigned",19,null,null,"Jehoahaz","10th year - I.e. the 10th Sacred Calendar Year he reigned"," "," "]
[3093,"Jehoash (Joash)","33rd year - I.e. the 33rd Sacred Calendar Year he reigned",20,null,null,"Jehoahaz","11th year - I.e. the 11th Sacred Calendar Year he reigned"," "," "]
[3094,"Jehoash (Joash)","34th year - I.e. the 34th Sacred Calendar Year he reigned",21,null,null,"Jehoahaz","12th year - I.e. the 12th Sacred Calendar Year he reigned"," "," "]
[{"$f":"A294+1","v":3095},"Jehoash (Joash)","35th year - I.e. the 35th Sacred Calendar Year he reigned",{"$f":"D296-1","v":22},null,null,"Jehoahaz","13th year - I.e. the 13th Sacred Calendar Year he reigned"," "," "]
[{"$f":"A295+1","v":3096},"Jehoash (Joash)","36th year - I.e. the 36th Sacred Calendar Year he reigned",{"$f":"D297-1","v":23},null,null,"Jehoahaz","14th year - I.e. the 14th Sacred Calendar Year he reigned"," "," "]
[{"$f":"A296+1","v":3097},"Jehoash (Joash)","37th year - I.e. the 37th Sacred Calendar Year he reigned",24,null,null,"Jehoahaz","15th year - I.e. the 15th Sacred Calendar Year he reigned"," "," "]
[null,null,null," ",null,null,null,null," "]
[{"$f":"A297","v":3097},"Jehoash (Joash)","37th year - I.e. the 37th Sacred Calendar Year he reigned"," ",null,null,"Jehoahaz's 15th & Jehoash's","  1st year - I.e. the 1st Sacred Calendar Year he reigned"," ","2 Kings 13:10"]
[{"$f":"A297+1","v":3098},"Jehoash (Joash)","38th year - I.e. the 38th Sacred Calendar Year he reigned",25,null,null,"Jehoahaz's 16th & Jehoash's","  2nd year - I.e. the 2nd Sacred Calendar Year he reigned"," "," "]
[null,null,null," ",null,null,null,null," "]
[{"$f":"A300","v":3098},"Jehoash's 38th & Amaziah's","  1st year - I.e. the 1st Sacred Calendar Year he reigned",25,null,null,"Jehoahaz's 16th & Jehoash's","  2nd year - I.e. the 2nd Sacred Calendar Year he reigned"," ","2 Kings 14:1"]
[{"$f":"A300+1","v":3099},"Jehoash's 39th & Amaziah's","  2nd year - I.e. the 2nd Sacred Calendar Year he reigned"," ",null,null,"Jehoahaz's 17th & Jehoash's","  3rd year - I.e. the 3rd Sacred Calendar Year he reigned"," ","2 Kings 13:1"]
[{"$f":"A303+1","v":3100},"Jehoash's 40th & Amaziah's","  3rd year - I.e. the 3rd Sacred Calendar Year he reigned"," ",null,null,"Jehoash","  4th year - I.e. the 4th Sacred Calendar Year he reigned"," ","2 Chron. 24:1"]
[{"$f":"A304+1","v":3101},"Amaziah","  4th year - I.e. the 4th Sacred Calendar Year he reigned"," ",null,null,"Jehoash","  5th year - I.e. the 5th Sacred Calendar Year he reigned"," "," "]
[3102,"Amaziah","  5th year - I.e. the 5th Sacred Calendar Year he reigned"," ",null,null,"Jehoash","  6th year - I.e. the 6th Sacred Calendar Year he reigned"," "," "]
[3103,"Amaziah","  6th year - I.e. the 6th Sacred Calendar Year he reigned"," ",null,null,"Jehoash","  7th year - I.e. the 7th Sacred Calendar Year he reigned"," "," "]
[3104,"Amaziah","  7th year - I.e. the 7th Sacred Calendar Year he reigned"," ",null,null,"Jehoash","  8th year - I.e. the 8th Sacred Calendar Year he reigned"," "," "]
[3105,"Amaziah","  8th year - I.e. the 8th Sacred Calendar Year he reigned"," ",null,null,"Jehoash","  9th year - I.e. the 9th Sacred Calendar Year he reigned"," "," "]
[3106,"Amaziah","  9th year - I.e. the 9th Sacred Calendar Year he reigned"," ",null,null,"Jehoash","10th year - I.e. the 10th Sacred Calendar Year he reigned"," "," "]
[3107,"Amaziah","10th year - I.e. the 10th Sacred Calendar Year he reigned"," ",null,null,"Jehoash","11th year - I.e. the 11th Sacred Calendar Year he reigned"," "," "]
[3108,"Amaziah","11th year - I.e. the 11th Sacred Calendar Year he reigned"," ",null,null,"Jehoash","12th year - I.e. the 12th Sacred Calendar Year he reigned"," "," "]
[3109,"Amaziah","12th year - I.e. the 12th Sacred Calendar Year he reigned"," ",null,null,"Jehoash","13th year - I.e. the 13th Sacred Calendar Year he reigned"," "," "]
[3110,"Amaziah","13th year - I.e. the 13th Sacred Calendar Year he reigned"," ",null,null,"Jehoash","14th year - I.e. the 14th Sacred Calendar Year he reigned"," "," "]
[3111,"Amaziah","14th year - I.e. the 14th Sacred Calendar Year he reigned"," ",null,null,"Jehoash","15th year - I.e. the 15th Sacred Calendar Year he reigned"," "," "]
[3112,"Amaziah","15th year - I.e. the 15th Sacred Calendar Year he reigned"," ",null,null,"Jehoash","16th year - I.e. the 16th Sacred Calendar Year he reigned"," ","2 Kings 13:10"]
[null,null,null," ",null,null,null,null," "]
[{"$f":"A316","v":3112},"Amaziah","15th year - I.e. the 15th Sacred Calendar Year he reigned",{"$f":"D319-1","v":2},null,null,"Jeroboam","  1st year - I.e. the 1st Sacred Calendar Year he reigned"," ","2 Kings 14:23"]
[{"$f":"A316+1","v":3113},"Amaziah","16th year - I.e. the 16th Sacred Calendar Year he reigned",{"$f":"D320-1","v":3},null,null,"Jeroboam","  2nd year - I.e. the 2nd Sacred Calendar Year he reigned"," "," "]
[3114,"Amaziah","17th year - I.e. the 17th Sacred Calendar Year he reigned",{"$f":"D321-1","v":4},null,null,"Jeroboam","  3rd year - I.e. the 3rd Sacred Calendar Year he reigned"," "," "]
[3115,"Amaziah's 18th & Azariah's","  1st year - I.e. the 1st Sacred Calendar Year he reigned",{"$f":"D322-1","v":5},null,null,"Jeroboam","  4th year - I.e. the 4th Sacred Calendar Year he reigned"," "," "]
[3116,"Amaziah's 19th & Azariah's","  2nd year - I.e. the 2nd Sacred Calendar Year he reigned",{"$f":"D323-1","v":6},null,null,"Jeroboam","  5th year - I.e. the 5th Sacred Calendar Year he reigned"," "," "]
[3117,"Amaziah's 20th & Azariah's","  3rd year - I.e. the 3rd Sacred Calendar Year he reigned",7,null,null,"Jeroboam","  6th year - I.e. the 6th Sacred Calendar Year he reigned"," "," "]
[3118,"Amaziah's 21th & Azariah's","  4th year - I.e. the 4th Sacred Calendar Year he reigned",8,null,null,"Jeroboam","  7th year - I.e. the 7th Sacred Calendar Year he reigned"," "," "]
[3119,"Amaziah's 22th & Azariah's","  5th year - I.e. the 5th Sacred Calendar Year he reigned",9,null,null,"Jeroboam","  8th year - I.e. the 8th Sacred Calendar Year he reigned"," "," "]
[3120,"Amaziah's 23th & Azariah's","  6th year - I.e. the 6th Sacred Calendar Year he reigned",10,null,null,"Jeroboam","  9th year - I.e. the 9th Sacred Calendar Year he reigned"," "," "]
[3121,"Amaziah's 24th & Azariah's","  7th year - I.e. the 7th Sacred Calendar Year he reigned",11,null,null,"Jeroboam","10th year - I.e. the 10th Sacred Calendar Year he reigned"," "," "]
[3122,"Amaziah's 25th & Azariah's","  8th year - I.e. the 8th Sacred Calendar Year he reigned",12,null,null,"Jeroboam","11th year - I.e. the 11th Sacred Calendar Year he reigned"," "," "]
[3123,"Amaziah's 26th & Azariah's","  9th year - I.e. the 9th Sacred Calendar Year he reigned",13,null,null,"Jeroboam","12th year - I.e. the 12th Sacred Calendar Year he reigned"," "," "]
[3124,"Amaziah's 27th & Azariah's","10th year - I.e. the 10th Sacred Calendar Year he reigned",14,null,null,"Jeroboam","13th year - I.e. the 13th Sacred Calendar Year he reigned"," "," "]
[3125,"Amaziah's 28th & Azariah's","11th year - I.e. the 11th Sacred Calendar Year he reigned",{"$f":"D332-1","v":15},null,null,"Jeroboam","14th year - I.e. the 14th Sacred Calendar Year he reigned"," "," "]
[3126,"Amaziah's 29th & Azariah's","12th year - I.e. the 12th Sacred Calendar Year he reigned",16,null,null,"Jeroboam","15th year - I.e. the 15th Sacred Calendar Year he reigned"," ","2 Kings 14:2,17; 2 Chron. 25:1,25,27-28"]
[]
[{"$f":"A331+1","v":3126},"Azariah (Uzziah)","12th year - I.e. the 12th Sacred Calendar Year he reigned",16,null,null,"Jeroboam","15th year - I.e. the 15th Sacred Calendar Year he reigned"," ","2 Kings 14:21; 2 Chron. 26:1,3"]
[{"$f":"A332+1","v":3127},"Azariah (Uzziah)","13th year - I.e. the 13th Sacred Calendar Year he reigned",{"$f":"D336-1","v":17},null,null,"Jeroboam","16th year - I.e. the 16th Sacred Calendar Year he reigned"," "]
[3128,"Azariah (Uzziah)","14th year - I.e. the 14th Sacred Calendar Year he reigned",18,null,null,"Jeroboam","17th year - I.e. the 17th Sacred Calendar Year he reigned"," ","[Hosea's prophecy of Israel's destruction Hosea 1:1-5 \"The word of the Lord that came unto Hosea, the son of Beeri, in the days of Uzziah, Jotham, Ahaz, and Hezekiah, kings of Judah, and in the days of Jeroboam the son of Joash, king of Israel…  And the Lord said... for yet a little while, and I will avenge the blood of Jezreel upon the house of Jehu, and will cause to cease the kingdom of the house of Israel. And it shall come to pass at that day, that I will break the bow of Israel in the valley of Jezreel. (KJV)]"]
[3129,"Azariah (Uzziah)","15th year - I.e. the 15th Sacred Calendar Year he reigned",19,null,null,"Jeroboam","18th year - I.e. the 18th Sacred Calendar Year he reigned"," ","[Amos' prophecy: \"The words of Amos… which he saw concerning Israel in the days of Uzziah king of Judah, and in the days of Jeroboam the son of Joash king of Israel, two years before the earthquake. And he said, The Lord will roar from Zion, and utter his voice from Jerusalem...\"  Amos 1:1-2 (KJV).]"]
[3130,"Azariah (Uzziah)","16th year - I.e. the 16th Sacred Calendar Year he reigned",20,null,null,"Jeroboam","19th year - I.e. the 19th Sacred Calendar Year he reigned"," "]
[3131,"Azariah (Uzziah)","17th year - I.e. the 17th Sacred Calendar Year he reigned",21,null,null,"Jeroboam","20th year - I.e. the 20th Sacred Calendar Year he reigned"," "]
[3132,"Azariah (Uzziah)","18th year - I.e. the 18th Sacred Calendar Year he reigned",22,null,null,"Jeroboam","21st year - I.e. the 21st Sacred Calendar Year he reigned"," "]
[3133,"Azariah (Uzziah)","19th year - I.e. the 19th Sacred Calendar Year he reigned",23,null,null,"Jeroboam","22nd year - I.e. the 22nd Sacred Calendar Year he reigned"," "]
[3134,"Azariah (Uzziah)","20th year - I.e. the 20th Sacred Calendar Year he reigned",24,null,null,"Jeroboam","23rd year - I.e. the 23rd Sacred Calendar Year he reigned"," "]
[3135,"Azariah (Uzziah)","21st year - I.e. the 21st Sacred Calendar Year he reigned",25,null,null,"Jeroboam","24th year - I.e. the 24th Sacred Calendar Year he reigned"," "]
[3136,"Azariah (Uzziah)","22nd year - I.e. the 22nd Sacred Calendar Year he reigned",26,null,null,"Jeroboam","25th year - I.e. the 25th Sacred Calendar Year he reigned"," "]
[3137,"Azariah (Uzziah)","23rd year - I.e. the 23rd Sacred Calendar Year he reigned",27,null,null,"Jeroboam","26th year - I.e. the 26th Sacred Calendar Year he reigned"," "]
[3138,"Azariah (Uzziah)","24th year - I.e. the 24th Sacred Calendar Year he reigned",28,null,null,"Jeroboam","27th year - I.e. the 27th Sacred Calendar Year he reigned"," ","2 Kings 15:1,5. PROBLEM UNRESOLVED: Either this text expands the time-line by 23 years, more or less, OR else, if it pertains to King Azariah (Uzziah) becoming a leper at this time, then his son and successor/judge is not yet born for another 4 years. It cannot possibly pertain to Jotham taking over his responsibility at age 25 y/o at this time, because Jotham's father Azariah was at this time only 27 or 28 y/o (i.e. given this scenario).  It is of course possible, even likely, that Azariah (Uzziah) continued to rule actively for a number of years after the onset of his leprosy and until he would allow his son Jotham to take over as his leprosy was getting worse."]
[3139,"Azariah (Uzziah)","25th year - I.e. the 25th Sacred Calendar Year he reigned"," ",null,null,"Jeroboam","28th year - I.e. the 28th Sacred Calendar Year he reigned"," "]
[3140,"Azariah (Uzziah)","26th year - I.e. the 26th Sacred Calendar Year he reigned"," ",null,null,"Jeroboam","29th year - I.e. the 29th Sacred Calendar Year he reigned"," "]
[3141,"Azariah (Uzziah)","27th year - I.e. the 27th Sacred Calendar Year he reigned"," ",null,null,"Jeroboam","30th year - I.e. the 30th Sacred Calendar Year he reigned"," "," "]
[3142,"Azariah (Uzziah)","28th year - I.e. the 28th Sacred Calendar Year he reigned",{"$f":"D351-1","v":0},null,null,"Jeroboam","31st year - I.e. the 31st Sacred Calendar Year he reigned"," "," "]
[3143,"Azariah (Uzziah)","29th year - I.e. the 29th Sacred Calendar Year he reigned",1,null,null,"Jeroboam","32nd year - I.e. the 32nd Sacred Calendar Year he reigned"," "," "]
[3144,"Azariah (Uzziah)","30th year - I.e. the 30th Sacred Calendar Year he reigned",2,null,null,"Jeroboam","33rd year - I.e. the 33rd Sacred Calendar Year he reigned"," "," "]
[3145,"Azariah (Uzziah)","31st year - I.e. the 31st Sacred Calendar Year he reigned",3,null,null,"Jeroboam","34th year - I.e. the 34th Sacred Calendar Year he reigned"," "," "]
[3146,"Azariah (Uzziah)","32nd year - I.e. the 32nd Sacred Calendar Year he reigned",4,null,null,"Jeroboam","35th year - I.e. the 35th Sacred Calendar Year he reigned"," "," "]
[3147,"Azariah (Uzziah)","33rd year - I.e. the 33rd Sacred Calendar Year he reigned",5,null,null,"Jeroboam","36th year - I.e. the 36th Sacred Calendar Year he reigned"," "," "]
[3148,"Azariah (Uzziah)","34th year - I.e. the 34th Sacred Calendar Year he reigned",6,null,null,"Jeroboam","37th year - I.e. the 37th Sacred Calendar Year he reigned"," "," "]
[3149,"Azariah (Uzziah)","35th year - I.e. the 35th Sacred Calendar Year he reigned",7,null,null,"Jeroboam","38th year - I.e. the 38th Sacred Calendar Year he reigned"," "," "]
[3150,"Azariah (Uzziah)","36th year - I.e. the 36th Sacred Calendar Year he reigned",8,null,null,"Jeroboam","39th year - I.e. the 39th Sacred Calendar Year he reigned"," "," "]
[3151,"Azariah (Uzziah)","37th year - I.e. the 37th Sacred Calendar Year he reigned",9,null,null,"Jeroboam","40th year - I.e. the 40th Sacred Calendar Year he reigned"," "," "]
[3152,"Azariah (Uzziah)","38th year - I.e. the 38th Sacred Calendar Year he reigned",10,null,null,"Jeroboam","41st year - I.e. the 41st Sacred Calendar Year he reigned"," ","2 Kings 14:23,29. \"In the fifteenth year of Amaziah the son of Joash king of Judah Jeroboam the son of Joash king of Israel began to reign in Samaria, and reigned forty and one years… And Jeroboam slept with his fathers, even with the kings of Israel; and Zachariah his son reigned in his stead\" (KJV)."]
[null,null,null," ",null,null,null,null," "]
[{"$f":"A360","v":3152},"Azariah (Uzziah)","38th year - I.e. the 38th Sacred Calendar Year he reigned",{"$f":"D363-1","v":10},null,null,"Zachariah","6 months"," ","\"In the thirty and eight year of Azariah king of Judah did Zachariah the son of Jeroboam reign over Israel in Samaria six months\" 2 Kings 15:8 (KJV). \"And Jeroboam slept with his fathers, even with the kings of Israel; and Zachariah his son reigned in his stead\" 2 Kings 14:29 (KJV)."]
[{"$f":"A360+1","v":3153},"Azariah (Uzziah)","39th year - I.e. the 39th Sacred Calendar Year he reigned",11,null,null," ",null," "," "]
[null,null,null," ",null,null,null,null," "]
[{"$f":"A363","v":3153},"Azariah (Uzziah)","39th year - I.e. the 39th Sacred Calendar Year he reigned",11,null,null,"Shallum","1 month"," ","2 Kings 15:13"]
[null,null,null," ",null,null,null,null," "]
[{"$f":"A365","v":3153},"Azariah (Uzziah)","39th year - I.e. the 39th Sacred Calendar Year he reigned",{"$f":"D368-1","v":11},null,null,"Menahem","  1st year - I.e. the 1st Sacred Calendar Year he reigned"," ","2 Kings 15:17"]
[{"$f":"A363+1","v":3154},"Azariah (Uzziah)","40th year - I.e. the 40th Sacred Calendar Year he reigned",12,null,null,"Menahem","  2nd year - I.e. the 2nd Sacred Calendar Year he reigned"," "," "]
[{"$f":"A368+1","v":3155},"Azariah (Uzziah)","41st year - I.e. the 41st Sacred Calendar Year he reigned",13,null,null,"Menahem","  3rd year - I.e. the 3rd Sacred Calendar Year he reigned"," "," "]
[3156,"Azariah (Uzziah)","42nd year - I.e. the 42nd Sacred Calendar Year he reigned",14,null,null,"Menahem","  4th year - I.e. the 4th Sacred Calendar Year he reigned"," "," "]
[3157,"Azariah (Uzziah)","43rd year - I.e. the 43rd Sacred Calendar Year he reigned",15,null,null,"Menahem","  5th year - I.e. the 5th Sacred Calendar Year he reigned"," "," "]
[3158,"Azariah (Uzziah)","44th year - I.e. the 44th Sacred Calendar Year he reigned",16,null,null,"Menahem","  6th year - I.e. the 6th Sacred Calendar Year he reigned"," "," "]
[3159,"Azariah (Uzziah)","45th year - I.e. the 45th Sacred Calendar Year he reigned",17,null,null,"Menahem","  7th year - I.e. the 7th Sacred Calendar Year he reigned"," "," "]
[3160,"Azariah (Uzziah)","46th year - I.e. the 46th Sacred Calendar Year he reigned",18,null,null,"Menahem","  8th year - I.e. the 8th Sacred Calendar Year he reigned"," "," "]
[3161,"Azariah (Uzziah)","47th year - I.e. the 47th Sacred Calendar Year he reigned",19,null,null,"Menahem","  9th year - I.e. the 9th Sacred Calendar Year he reigned"," "," "]
[3162,"Azariah (Uzziah)","48th year - I.e. the 48th Sacred Calendar Year he reigned",20,null,null,"Menahem","10th year - I.e. the 10th Sacred Calendar Year he reigned"," ","2 Kings 15:17"]
[3163,"Azariah (Uzziah)","49th year - I.e. the 49th Sacred Calendar Year he reigned",{"$f":"D378-1","v":21},null,null," ",null," "," "]
[3164,"Azariah (Uzziah)","50th year - I.e. the 50th Sacred Calendar Year he reigned",22,null,null," ",null," "," "]
[null,null,null," ",null,null,null,null," "]
[{"$f":"A378","v":3164},"Azariah (Uzziah)","50th year - I.e. the 50th Sacred Calendar Year he reigned",22,null,null,"Pekahiah","  1st year - I.e. the 1st Sacred Calendar Year he reigned"," ","2 Kings 15:23"]
[{"$f":"A378+1","v":3165},"Azariah (Uzziah)","51st year - I.e. the 51st Sacred Calendar Year he reigned",23,null,null,"Pekahiah","  2nd year - I.e. the 2nd Sacred Calendar Year he reigned"," ","2 Kings 15:23 (Here the Hebrew word 'shanatajim' is translated 'two years'. As we have seen before the word is applicable to any duration greater than one (1) year. Please compare other notes above, e.g. Gen. 11:10!)"]
[{"$f":"A381+1","v":3166},"Azariah (Uzziah)","52nd year - I.e. the 52nd Sacred Calendar Year he reigned",24,null,null," ",null," ","2 Kings 15:2; 2 Chron. 26:3"]
[null,null,null," ",null,null,null,null," "]
[{"$f":"A382","v":3166},"Azariah (Uzziah)","52nd year - I.e. the 52nd Sacred Calendar Year he reigned",24,null,null,"Pekah","  1st year - I.e. the 1st Sacred Calendar Year he reigned"," ","2 Kings 15:27"]
[{"$f":"A382+1","v":3167},null,null,25,null,null,"Pekah","  2nd year - I.e. the 2nd Sacred Calendar Year he reigned"," "," "]
[null,null,null," ",null,null,null,null," "]
[{"$f":"A385","v":3167},"Jotham","  1st year - I.e. the 1st Sacred Calendar Year he reigned",25,null,null,"Pekah","  2nd year - I.e. the 2nd Sacred Calendar Year he reigned"," ","2 Kings 15:32"]
[{"$f":"A385+1","v":3168},"Jotham","  2nd year - I.e. the 2nd Sacred Calendar Year he reigned",{"$f":"D389-1","v":5},null,null,"Pekah","  3rd year - I.e. the 3rd Sacred Calendar Year he reigned"," "," "]
[{"$f":"A388+1","v":3169},"Jotham","  3rd year - I.e. the 3rd Sacred Calendar Year he reigned",6,null,null,"Pekah","  4th year - I.e. the 4th Sacred Calendar Year he reigned"," "," "]
[3170,"Jotham","  4th year - I.e. the 4th Sacred Calendar Year he reigned",7,null,null,"Pekah","  5th year - I.e. the 5th Sacred Calendar Year he reigned"," "," "]
[3171,"Jotham","  5th year - I.e. the 5th Sacred Calendar Year he reigned",8,null,null,"Pekah","  6th year - I.e. the 6th Sacred Calendar Year he reigned"," "," "]
[3172,"Jotham","  6th year - I.e. the 6th Sacred Calendar Year he reigned",9,null,null,"Pekah","  7th year - I.e. the 7th Sacred Calendar Year he reigned"," "," "]
[3173,"Jotham","  7th year - I.e. the 7th Sacred Calendar Year he reigned",10,null,null,"Pekah","  8th year - I.e. the 8th Sacred Calendar Year he reigned"," "," "]
[3174,"Jotham","  8th year - I.e. the 8th Sacred Calendar Year he reigned",{"$f":"D395-1","v":11},null,null,"Pekah","  9th year - I.e. the 9th Sacred Calendar Year he reigned"," "," "]
[3175,"Jotham's 9th & Ahaz's","  1st year - I.e. the 1st Sacred Calendar Year he reigned",12,null,null,"Pekah","10th year - I.e. the 10th Sacred Calendar Year he reigned"," ","(According to 2 Kings 15:30 & 17:1 Jotham's 20th year is the same year as Ahaz's 12th year, thus this is a case of co-regency. Said fact is sustained also by the fact that Hoshea, King of Israel slew Pekah and then took over his throne)"]
[3176,"Jotham's 10th & Ahaz's","  2nd year - I.e. the 2nd Sacred Calendar Year he reigned",13,null,null,"Pekah","11th year - I.e. the 11th Sacred Calendar Year he reigned"," "," "]
[3177,"Jotham's 11th & Ahaz's","  3rd year - I.e. the 3rd Sacred Calendar Year he reigned",14,null,null,"Pekah","12th year - I.e. the 12th Sacred Calendar Year he reigned"," "," "]
[3178,"Jotham's 12th & Ahaz's","  4th year - I.e. the 4th Sacred Calendar Year he reigned",15,null,null,"Pekah","13th year - I.e. the 13th Sacred Calendar Year he reigned"," "," "]
[3179,"Jotham's 13th & Ahaz's","  5th year - I.e. the 5th Sacred Calendar Year he reigned",16,null,null,"Pekah","14th year - I.e. the 14th Sacred Calendar Year he reigned"," "," "]
[3180,"Jotham's 14th & Ahaz's","  6th year - I.e. the 6th Sacred Calendar Year he reigned",17,null,null,"Pekah","15th year - I.e. the 15th Sacred Calendar Year he reigned"," "," "]
[3181,"Jotham's 15th & Ahaz's","  7th year - I.e. the 7th Sacred Calendar Year he reigned",18,null,null,"Pekah","16th year - I.e. the 16th Sacred Calendar Year he reigned"," "," "]
[3182,"Jotham's 16th & Ahaz's","  8th year - I.e. the 8th Sacred Calendar Year he reigned",19,null,null,"Pekah","17th year - I.e. the 17th Sacred Calendar Year he reigned"," ","2 Kings 15:33; 2 Chron. 27:1,8"]
[null,null,null," ",null,null,null,null," "]
[{"$f":"A402","v":3182},"Ahaz","  8th year - I.e. the 8th Sacred Calendar Year he reigned",20,null,null,"Pekah","17th year - I.e. the 17th Sacred Calendar Year he reigned"," ","2 Kings 16:1"]
[{"$f":"A402+1","v":3183},"Ahaz","  9th year - I.e. the 9th Sacred Calendar Year he reigned",{"$f":"D406-1","v":20},null,null,"Pekah","18th year - I.e. the 18th Sacred Calendar Year he reigned"," ","[A 65 year or less prophecy found in Isaiah 7:1,3,8-9 \"And it came to pass in the days of Ahaz the son of Jotham, the son of Uzziah, king of Judah... Then said the Lord unto Isaiah... Within threescore and five years shall Ephraim be broken, that it be not a people. And the head of Ephraim is Samaria, and the head of Samaria is Remaliah's son\"]"]
[3184,"Ahaz","10th year - I.e. the 10th Sacred Calendar Year he reigned",{"$f":"D407-1","v":21},null,null,"Pekah","19th year - I.e. the 19th Sacred Calendar Year he reigned"," "," "]
[3185,"Ahaz","11th year - I.e. the 11th Sacred Calendar Year he reigned",{"$f":"D408-1","v":22},null,null,"Pekah","20th year - I.e. the 20th Sacred Calendar Year he reigned"," "]
[3186,"Ahaz (Jotham's 20th year)","12th year - I.e. the 12th Sacred Calendar Year he reigned",23,null,null,"Pekah","21st year - I.e. the 21st Sacred Calendar Year he reigned"," ","2 Kings 15:27"]
[]
[{"$f":"A407+1","v":3186},"Ahaz (Jotham's 20th year)","12th year - I.e. the 12th Sacred Calendar Year he reigned",23,null,null,"Hoshea","  1st year - I.e. the 1st Sacred Calendar Year he reigned"," ","2 Kings 15:30; 17:1"]
[3187,"Ahaz","13th year - I.e. the 13th Sacred Calendar Year he reigned",24,null,null,"Hoshea","  2nd year - I.e. the 2nd Sacred Calendar Year he reigned"," "," "]
[3188,"Ahaz","14th year - I.e. the 14th Sacred Calendar Year he reigned",25,null,null,"Hoshea","  3rd year - I.e. the 3rd Sacred Calendar Year he reigned"," ","2 Kings 18:1"]
[]
[{"$f":"A411+1","v":3188},"Ahaz's 14th & Hezekiah's","  1st year - I.e. the 1st Sacred Calendar Year he reigned",25,null,null,"Hoshea","  3rd year - I.e. the 3rd Sacred Calendar Year he reigned"," ","2 Kings 18:1 Unresolved PROBLEM: Hezekiah's first year is given in 2 Kings 18:1 as the third year of Hoshea's, BUT Hezekiah's 4th and 6th years are given as Hoshea's 7th and 9th years in 2 Kings 17:5-6 & 18:9-11. Considering the reiteration of the latter pairs of years it appears that one should focus upon the question as to why the 1st year is given as the 3rd rather than the 4th year. The answer may be found in considering 2 Chron. 29:3&29:17 \"He [Hezekiah] in the first year of his reign, in the first month, opened the doors of the house of the Lord, and repaired them... Now they began on the first day of the first month to sanctify, and on the eight day of the month came they to the porch of the Lord: so they sanctified the house of the Lord in eight days; and in the sixteenth day of the first month they made an end\".  Going through the ceremonies of becoming king and getting a revolutionary project on foot within the span of 12 hours, i.e. dawn to dusk, would seem possibly less than likely.  More likely, considering Hezekiah's desire to put God first, would be that he would chose to disregard whatever time was given him as a king in a prior year, i.e. the 3rd year of Hoshea, and use that time merely for making his plans for how to give highest priority to God, e.g. by starting on the the sanctification of the House of God on the First Day of the First Month of the First Year of his reign as a Servant and Subject of God.  By so doing Hezekiah would be giving First Title to the Creator of all.  (Another question to consider is whether or not Israel and Judah used the same annual Calendar.  Possibly one of the major sins committed by Jeroboam, King of Israel, and the many evil kings following in his footsteps was to use a different reckoning of time - Consider the sanctity of time in the eyes of the Creator of Time as reflected in e.g. Dan. 7:25 \"And he shall speak great words against the most High, and shall... think to change times and laws\", Ex. 20:8 \"Remember the sabbath day, to keep it holy\", Deut. 5:12 \"Keep the sabbath day to sanctify it...\", versus the institution of a new feast Day, possibly to replace Passover (?), by Jeroboam: \"And Jeroboam said in his heart, Now shall the kingdom return to the house of David; If this people go up to do sacrifice in the house of the Lord at Jerusalem, then shall the heart of this people turn again unto their lord [jealousy is inconsistent with the tenth commandment]... Whereupon the king... made two calves of gold [thus reiterating the sin under Aaron at Mt. Sinai and sinning against the 1st and 2nd commandments], and said unto them [the people], It is too much for you to go up to Jerusalem: behold thy gods, O Israel, which brought thee up out of the land of Egypt [thus directly challenging God's Title to His people and to His Time and His Calendar as protected by the 1st and the 4th commandments as recorded in Deuteronomy 5:6&15]... and Jeroboam ordained a feast in the eighth month, on the fifteenth day of the month, like unto the feast that is in Judah [Which feast? Passover?]\" 1 Kings 12:26-32 (KJV). Is this the basis for the two different Hebrew Calendars, one starting in Nisan, the other in Tishrei, i.e. in the 7th month?)  "]
[3189,"Ahaz's 15th & Hezekiah's","  1st year - I.e. the 1st Sacred Calendar Year he reigned"," ",null,null,"Hoshea","  4th year - I.e. the 4th Sacred Calendar Year he reigned"," ","[Notice the use of the Sacred Calendar, apparently still being used in Judah, even at this time of the very last king of Israel, when even in Judah the most important of all annual Feasts, the Passover, had been long forgotten: \"And Hezekiah sent to all Israel and Judah, and wrote letters... that they should come to the house of the Lord at Jerusalem, to keep the passover unto the Lord God of Israel... in the second month For they could not keep it at that time [i.e. in the first month], because the priests had not sanctified themselves sufficiently...\" 2 Chron. 29:17;30:1-3 (KJV).]"]
[3190,"Ahaz's 16th & Hezekiah's","  2nd year - I.e. the 2nd Sacred Calendar Year he reigned"," ",null,null,"Hoshea","  5th year - I.e. the 5th Sacred Calendar Year he reigned"," ","2 Kings 16:2; 2 Chron. 28:1"]
[3191,"Hezekiah","  3rd year - I.e. the 3rd Sacred Calendar Year he reigned"," ",null,null,"Hoshea","  6th year - I.e. the 6th Sacred Calendar Year he reigned"," "]
[3192,"Hezekiah","  4th year - I.e. the 4th Sacred Calendar Year he reigned"," ",null,null,"Hoshea","  7th year - I.e. the 7th Sacred Calendar Year he reigned"," ","\"And it came to pass in the fourth year of king Hezekiah, which was the seventh year of Hoshea son of Elah king of Israel, that Shalmaneser king of Assyria came up against Samaria, and besieged it. And at the end of three years they took it: even in the sixth year of Hezekiah, that is the ninth year of Hoshea king of Israel, Samaria was taken...\" 2 Kings 18:9-11 (KJV).  \"Then the king of Assyria came up throughout all the land, and went up to Samaria, and besieged it three years. In the ninth year of Hoshea the king of Assyria took Samaria, and carried Israel away into Assyria, and placed them in Halah and in Habor by the river of Gozan, and in the cities of the Medes\" 2 Kings 17:5-6 (KJV)."]
[3193,"Hezekiah","  5th year - I.e. the 5th Sacred Calendar Year he reigned"," ",null,null,"Hoshea","  8th year - I.e. the 8th Sacred Calendar Year he reigned"," "]
[3194,"Hezekiah","  6th year - I.e. the 6th Sacred Calendar Year he reigned"," ",null,null,"Hoshea","  9th year - I.e. the 9th Sacred Calendar Year he reigned"," ","2 Kings 17:1 \"In the twelfth year of Ahaz king of Judah began Hoshea the son of Elah to reign in Samaria over Israel nine years\" (KJV).  \""]
[null,null,null,null,null,null,null,null," "]
[{"$f":"A419+1","v":3194},"Hezekiah","  6th year - I.e. the 6th Sacred Calendar Year he reigned"," ",null,null,"Israel brought into Assyria",null," ","2 Kings 17:6 \"In the ninth year of Hoshea the king of Assyria took Samaria, and carried Israel away into Assyria, and placed them in Halah and in Habor by the river of Gozan, and in the cities of the Medes\" (KJV)."]
[{"$f":"A420+1","v":3195},"Hezekiah","  7th year - I.e. the 7th Sacred Calendar Year he reigned"," ",null,null," ",null," "]
[3196,"Hezekiah","  8th year - I.e. the 8th Sacred Calendar Year he reigned"," ",null,null," ",null," "," "]
[3197,"Hezekiah","  9th year - I.e. the 9th Sacred Calendar Year he reigned"," ",null,null," ",null," "," "]
[3198,"Hezekiah","10th year - I.e. the 10th Sacred Calendar Year he reigned"," ",null,null," ",null," "," "]
[3199,"Hezekiah","11th year - I.e. the 11th Sacred Calendar Year he reigned"," ",null,null," ",null," "," "]
[3200,"Hezekiah","12th year - I.e. the 12th Sacred Calendar Year he reigned"," ",null,null," ",null," "," "]
[3201,"Hezekiah","13th year - I.e. the 13th Sacred Calendar Year he reigned"," ",null,null," ",null," "," "]
[{"$f":"A429+1","v":3202},"Hezekiah","14th year - I.e. the 14th Sacred Calendar Year he reigned"," ",null,null," ",null," ","15 years added to the reign and life of Hezekiah, AND the sun retracing 10 steps on the sundial: \"In those days was Hezekiah sick unto death. And the prophet Isaiah... said... Thus saith the Lord, the God of David thy father… I will add unto thy days fifteen years; and I will deliver thee and this city out of the hand of the king of Assyria; and I will defend this city for mine own sake, and for my servant David's sake... the Lord... he brought the shadow ten degrees backward, by which it had gone down in the dial of Ahaz...\" 2 Kings 20:1,5,6,8-11 (KJV) Cf. Isaiah 38. \"Now it came to pass in the fourteenth year of king Hezekiah, that Sennacherib king of assyria came upagainst all the defenced cities of Judah, and took them... Then Rabshakeh stood, and cried with a loud voice... for thus saith the king of Assyria [Sennacherib] Make an agreement with me by a present, and come out to me...\" Isaiah 36:1,13,16 (KJV). Notice that is a presentment, i.e. an offer for a contract, which trap Hezekiah later fell into when he showed his guests all his treasures. And further: \"At that time Merodach-baladan, the son of Baladan, king of Babylon, sent letters and a present to Hezekiah: for he had heard that he had been sick, and was recovered.  And Hezekaih was glad of them, and shewed them the house of his precious things...\" Isaiah 49:1-2 (KJV). \"Now in the fourteenth year of king Hezekiah did Sennacherib king of Assyria come up against all the fenced cities of Judah, and took them... And the king of Assyria appointed unto Hezekiah king of Judah three hundred talents of silver and thirty talents of gold. And Hezekiah gave him all the silver that was found in the house of the Lord, and in the treeasures of the king's house. At that time did Hezekiah cut off the gold from the doors of the temple of the Lord, and from the pillars which Hezekiah king of Judah had overlaid, and gave it to the king of Assyria...\"  2 Kings 18:13-16 (KJV).  PROPHECY OF BABYLON: \"At that time... came Isaiah the prophet unto king Hezekiah... And Isaiah said unto Hezekiah, Hear the word of the Lord. Behold, the days come, that all that is in thine house, and that which thy fathers have laid up in store unto this day, shall be carried into Babylon: nothing shall be left, saith the Lord...\" 2 Kings 20:12,14,16-17 (KJV). NOTICE: \"And this shall be a sign unto thee, Ye shall eat this year such as groweth of itself; and the second year that which springeth of the same: and in the third year sow ye, and reap, and plant vineyards, and eat the fruit thereof.\" Isaiah 37:30 (KJV). That's a description/instruction for a SABBATH YEAR isn't it?!  So long as it does not match up with a sabbath year a perceive an UNRESOLVED PROBLEM in this timeline of mine!"]
[3203,"Hezekiah","15th year - I.e. the 15th Sacred Calendar Year he reigned"," ",null,null," ",null," "," "]
[3204,"Hezekiah","16th year - I.e. the 16th Sacred Calendar Year he reigned"," ",null,null," ",null," "," "]
[3205,"Hezekiah","17th year - I.e. the 17th Sacred Calendar Year he reigned",{"$f":"D434-1","v":0},null,null," ",null," "," "]
[3206,"Hezekiah","18th year - I.e. the 18th Sacred Calendar Year he reigned",{"$f":"D435-1","v":1},null,null," ",null," "," "]
[3207,"Hezekiah","19th year - I.e. the 19th Sacred Calendar Year he reigned",2,null,null," ",null," "," "]
[3208,"Hezekiah","20th year - I.e. the 20th Sacred Calendar Year he reigned",3,null,null," ",null," "," "]
[3209,"Hezekiah","21st year - I.e. the 21st Sacred Calendar Year he reigned",4,null,null," ",null," "," "]
[3210,"Hezekiah","22nd year - I.e. the 22nd Sacred Calendar Year he reigned",5,null,null," ",null," "," "]
[3211,"Hezekiah","23rd year - I.e. the 23rd Sacred Calendar Year he reigned",6,null,null," ",null," "," "]
[3212,"Hezekiah","24th year - I.e. the 24th Sacred Calendar Year he reigned",7,null,null," ",null," "," "]
[3213,"Hezekiah","25th year - I.e. the 25th Sacred Calendar Year he reigned",8,null,null," ",null," "," "]
[3214,"Hezekiah","26th year - I.e. the 26th Sacred Calendar Year he reigned",9,null,null," ",null," "," "]
[3215,"Hezekiah","27th year - I.e. the 27th Sacred Calendar Year he reigned",10,null,null," ",null," "," "]
[3216,"Hezekiah","28th year - I.e. the 28th Sacred Calendar Year he reigned",{"$f":"D445-1","v":11},null,null," ",null," "," "]
[3217,"Hezekiah","29th year - I.e. the 29th Sacred Calendar Year he reigned",12,null,null," ",null," ","2 Kings 18:2; 20:21;+J438 2 Chron. 29:1; 32:33"]
[null,null,null," ",null,null,null,null," "]
[{"$f":"A445","v":3217},"Manasseh","  1st year - I.e. the 1st Sacred Calendar Year he reigned",12,null,12," ",null," ","2 Kings 20:21; 2 Chron. 32:33"]
[{"$f":"A445+1","v":3218},"Manasseh","  2nd year - I.e. the 2nd Sacred Calendar Year he reigned"," ",null,null," ",null," "]
[3219,"Manasseh","  3rd year - I.e. the 3rd Sacred Calendar Year he reigned"," ",null,null," ",null," "," "]
[3220,"Manasseh","  4th year - I.e. the 4th Sacred Calendar Year he reigned"," ",null,null," ",null," "," "]
[3221,"Manasseh","  5th year - I.e. the 5th Sacred Calendar Year he reigned"," ",null,null," ",null," "," "]
[3222,"Manasseh","  6th year - I.e. the 6th Sacred Calendar Year he reigned"," ",null,null," ",null," "," "]
[3223,"Manasseh","  7th year - I.e. the 7th Sacred Calendar Year he reigned"," ",null,null," ",null," "," "]
[3224,"Manasseh","  8th year - I.e. the 8th Sacred Calendar Year he reigned"," ",null,null," ",null," "," "]
[3225,"Manasseh","  9th year - I.e. the 9th Sacred Calendar Year he reigned"," ",null,null," ",null," "," "]
[3226,"Manasseh","10th year - I.e. the 10th Sacred Calendar Year he reigned"," ",null,null," ",null," "," "]
[3227,"Manasseh","11th year - I.e. the 11th Sacred Calendar Year he reigned"," ",null,null," ",null," "," "]
[3228,"Manasseh","12th year - I.e. the 12th Sacred Calendar Year he reigned"," ",null,null," ",null," "," "]
[3229,"Manasseh","13th year - I.e. the 13th Sacred Calendar Year he reigned"," ",null,null," ",null," "," "]
[3230,"Manasseh","14th year - I.e. the 14th Sacred Calendar Year he reigned"," ",null,null," ",null," "," "]
[3231,"Manasseh","15th year - I.e. the 15th Sacred Calendar Year he reigned"," ",null,null," ",null," "," "]
[3232,"Manasseh","16th year - I.e. the 16th Sacred Calendar Year he reigned"," ",null,null," ",null," "," "]
[3233,"Manasseh","17th year - I.e. the 17th Sacred Calendar Year he reigned"," ",null,null," ",null," "," "]
[3234,"Manasseh","18th year - I.e. the 18th Sacred Calendar Year he reigned"," ",null,null," ",null,null," "]
[3235,"Manasseh","19th year - I.e. the 19th Sacred Calendar Year he reigned"," ",null,null," ",null,null," "]
[3236,"Manasseh","20th year - I.e. the 20th Sacred Calendar Year he reigned"," ",null,null," ",null,null," "]
[3237,"Manasseh","21st year - I.e. the 21st Sacred Calendar Year he reigned"," ",null,null," ",null,null," "]
[3238,"Manasseh","22nd year - I.e. the 22nd Sacred Calendar Year he reigned"," ",null,null," ",null,null," "]
[3239,"Manasseh","23rd year - I.e. the 23rd Sacred Calendar Year he reigned"," ",null,null," ",null,null," "]
[3240,"Manasseh","24th year - I.e. the 24th Sacred Calendar Year he reigned"," ",null,null," ",null,null," "]
[3241,"Manasseh","25th year - I.e. the 25th Sacred Calendar Year he reigned"," ",null,null," ",null,null," "]
[3242,"Manasseh","26th year - I.e. the 26th Sacred Calendar Year he reigned"," ",null,null," ",null,null," "]
[3243,"Manasseh","27th year - I.e. the 27th Sacred Calendar Year he reigned"," ",null,null," ",null,null," "]
[3244,"Manasseh","28th year - I.e. the 28th Sacred Calendar Year he reigned"," ",null,null," ",null,null," "]
[3245,"Manasseh","29th year - I.e. the 29th Sacred Calendar Year he reigned"," ",null,null," ",null,null," "]
[3246,"Manasseh","30th year - I.e. the 30th Sacred Calendar Year he reigned"," ",null,null," ",null,null," "]
[3247,"Manasseh","31st year - I.e. the 31st Sacred Calendar Year he reigned"," ",null,null," ",null,null," "]
[3248,"Manasseh","32nd year - I.e. the 32nd Sacred Calendar Year he reigned"," ",null,null," ",null,null," "]
[3249,"Manasseh","33rd year - I.e. the 33rd Sacred Calendar Year he reigned",{"$f":"D480-1","v":0},null,null," ",null,null," "]
[3250,"Manasseh","34th year - I.e. the 34th Sacred Calendar Year he reigned",1,null,null," ",null,null," "]
[3251,"Manasseh","35th year - I.e. the 35th Sacred Calendar Year he reigned",2,null,null," ",null,null," "]
[3252,"Manasseh","36th year - I.e. the 36th Sacred Calendar Year he reigned",3,null,null," ",null,null," "]
[3253,"Manasseh","37th year - I.e. the 37th Sacred Calendar Year he reigned",4,null,null," ",null,null," "]
[3254,"Manasseh","38th year - I.e. the 38th Sacred Calendar Year he reigned",5,null,null," ",null,null," "]
[3255,"Manasseh","39th year - I.e. the 39th Sacred Calendar Year he reigned",6,null,null," ",null,null," "]
[3256,"Manasseh","40th year - I.e. the 40th Sacred Calendar Year he reigned",7,null,null," ",null,null," ","Sacred Year 3276 is the 430th year starting with 2847 as the 1st Sacral Year when the People of Israel left the Lord for a King of their own, i.e. King Saul."]
[3257,"Manasseh","41st year - I.e. the 41st Sacred Calendar Year he reigned",8,null,null," ",null,null," "]
[3258,"Manasseh","42nd year - I.e. the 42nd Sacred Calendar Year he reigned",9,null,null," ",null,null," "]
[3259,"Manasseh","43rd year - I.e. the 43rd Sacred Calendar Year he reigned",10,null,null," ",null,null," "]
[3260,"Manasseh","44th year - I.e. the 44th Sacred Calendar Year he reigned",11,null,null," ",null,null," "]
[3261,"Manasseh","45th year - I.e. the 45th Sacred Calendar Year he reigned",12,null,null," ",null,null," "]
[3262,"Manasseh","46th year - I.e. the 46th Sacred Calendar Year he reigned",13,null,null," ",null,null," "]
[3263,"Manasseh","47th year - I.e. the 47th Sacred Calendar Year he reigned",14,null,null," ",null,null," "]
[3264,"Manasseh","48th year - I.e. the 48th Sacred Calendar Year he reigned",15,null,null," ",null,null," "]
[3265,"Manasseh","49th year - I.e. the 49th Sacred Calendar Year he reigned",16,null,null," ",null,null," "]
[{"$f":"A495+1","v":3266},"Manasseh","50th year - I.e. the 50th Sacred Calendar Year he reigned",17,null,null," ",null,null," "]
[3267,"Manasseh","51st year - I.e. the 51st Sacred Calendar Year he reigned",18,null,null," ",null,null," "]
[3268,"Manasseh","52nd year - I.e. the 52nd Sacred Calendar Year he reigned",19,null,null," ",null,null," "]
[3269,"Manasseh","53rd year - I.e. the 53rd Sacred Calendar Year he reigned",20,null,null," ",null,null," "]
[3270,"Manasseh","54th year - I.e. the 54th Sacred Calendar Year he reigned",{"$f":"D501-1","v":21},null,null," ",null,null," "]
[3271,"Manasseh","55th year - I.e. the 55th Sacred Calendar Year he reigned",22,null,null," ",null,null,"2 Kings 21:1; 2 Chron. 33:1"]
[null,null,null," "]
[{"$f":"A501","v":3271},"Amon","  1st year - I.e. the 1st Sacred Calendar Year he reigned",22,null,null," "]
[{"$f":"A501+1","v":3272},"Amon","  2nd year - I.e. the 2nd Sacred Calendar Year he reigned",7,null,2," ",null,null," "]
[3273,"Amon","  3rd year - I.e. the 3rd Sacred Calendar Year he reigned",8,1,null," ",null,null,"2 Kings 21:19; 2 Chron. 33:21. Both these text do use the specific word for 'two' in addition to the word for 'years'. Thus in contradistinction to some other texts translated \"two years\" in KJV, e.g. Gen. 11:10. This would indicate that he completed two full years of reign and thus he reigned part of at least three years, possibly four."]
[null,null,null," "]
[{"$f":"A505","v":3273},"Josiah","  1st year - I.e. the 1st Sacred Calendar Year he reigned",8,null,null," "]
[{"$f":"A505+1","v":3274},"Josiah","  2nd year - I.e. the 2nd Sacred Calendar Year he reigned"," ",null,null," ",null,null," "]
[3275,"Josiah","  3rd year - I.e. the 3rd Sacred Calendar Year he reigned"," ",null,null," ",null,null," "]
[3276,"Josiah","  4th year - I.e. the 4th Sacred Calendar Year he reigned"," ",null,null," ",null,null," "]
[3277,"Josiah","  5th year - I.e. the 5th Sacred Calendar Year he reigned"," ",null,null," ",null,null," "]
[3278,"Josiah","  6th year - I.e. the 6th Sacred Calendar Year he reigned"," ",null,null," ",null,null," "]
[3279,"Josiah","  7th year - I.e. the 7th Sacred Calendar Year he reigned"," ",null,null," ",null,null," "]
[3280,"Josiah","  8th year - I.e. the 8th Sacred Calendar Year he reigned",{"$f":"D515-1","v":0},null,null," ",null,null," "]
[3281,"Josiah","  9th year - I.e. the 9th Sacred Calendar Year he reigned",1,null,null," ",null,null," "]
[3282,"Josiah","10th year - I.e. the 10th Sacred Calendar Year he reigned",2,null,null," ",null,null," "]
[3283,"Josiah","11th year - I.e. the 11th Sacred Calendar Year he reigned",3,null,null," ",null,null," "]
[3284,"Josiah","12th year - I.e. the 12th Sacred Calendar Year he reigned",4,null,null," ",null,null," "]
[3285,"Josiah","13th year - I.e. the 13th Sacred Calendar Year he reigned",5,null,null," ",null,null," "]
[3286,"Josiah","14th year - I.e. the 14th Sacred Calendar Year he reigned",6,null,null," ",null,null," "]
[3287,"Josiah","15th year - I.e. the 15th Sacred Calendar Year he reigned",7,null,null," ",null,null," "]
[3288,"Josiah","16th year - I.e. the 16th Sacred Calendar Year he reigned",8,null,null," ",null,null," "]
[3289,"Josiah","17th year - I.e. the 17th Sacred Calendar Year he reigned",9,null,null," ",null,null," "]
[3290,"Josiah","18th year - I.e. the 18th Sacred Calendar Year he reigned",10,null,null," ",null,null," "]
[3291,"Josiah","19th year - I.e. the 19th Sacred Calendar Year he reigned",11,null,null," ",null,null," "]
[3292,"Josiah","20th year - I.e. the 20th Sacred Calendar Year he reigned",12,null,null," ",null,null," "]
[3293,"Josiah","21st year - I.e. the 21st Sacred Calendar Year he reigned",13,null,null," ",null,null," "]
[3294,"Josiah","22nd year - I.e. the 22nd Sacred Calendar Year he reigned",14,null,null," ",null,null," "]
[3295,"Josiah","23rd year - I.e. the 23rd Sacred Calendar Year he reigned",15,null,null," ",null,null," "]
[3296,"Josiah","24th year - I.e. the 24th Sacred Calendar Year he reigned",16,null,null," ",null,null," "]
[3297,"Josiah","25th year - I.e. the 25th Sacred Calendar Year he reigned",17,null,null," ",null,null," "]
[3298,"Josiah","26th year - I.e. the 26th Sacred Calendar Year he reigned",18,null,null," ",null,null," "]
[3299,"Josiah","27th year - I.e. the 27th Sacred Calendar Year he reigned",19,null,null," ",null,null," "]
[3300,"Josiah","28th year - I.e. the 28th Sacred Calendar Year he reigned",20,null,null," ",null,null," "]
[3301,"Josiah","29th year - I.e. the 29th Sacred Calendar Year he reigned",21,null,null," ",null,null," "]
[3302,"Josiah","30th year - I.e. the 30th Sacred Calendar Year he reigned",{"$f":"D537-1","v":22},null,null," ",null,null," "]
[3303,"Josiah","31st year - I.e. the 31st Sacred Calendar Year he reigned",23,null,null,"Pharaoh Neko",null,null,"2 Kings 22:1; 2 Chron. 34:1. Pharaoh Neko killed Josiah in Megiddo when Josiah went out to meet Pharao Neko. 2 Kings 23:29-30."]
[null,null,null," "]
[{"$f":"A537","v":3303},"Jehoahaz","3 months",23,null,null,"Pharaoh Neko",null,null,"2 Kings 23:31; 2 Chron. 36:1-2. \"The people of the land took Jehoahaz the son of Josiah and anointed him, and made him king in place of his father\" (IB) 2 Kings 23:30; 2 Chron. 36:1. Pharaoh-Neko took Jehoahaz as a hostage to Riblah in Egypt, and replaced Jehoahaz with Jehoahaz' brother Eliakim, whom Pharaoh renamed Jehoiakim. 2 Kings 23:31-35"]
[null,null,null," "]
[{"$f":"A539+1","v":3304},"Eliakim (Egypt. Jehoiakim)","  1st year - I.e. the 1st Sacred Calendar Year he reigned",25,null,null,"Pharaoh Neko",null,null,"2 Kings 23:36; 2 Chron. 36:4-5. Pharaoh-Neko took Jehoahaz as a hostage to Riblah in Egypt, and replaced Jehoahaz with Jehoahaz' brother Eliakim, whom Pharaoh renamed Jehoiakim. 2 Kings 23:31-35.  NOTICE: For two reasons the 1st year of Eliakim and the 31st year of Josiah cannot be one and the same Sacred Year, 1. Jeremiah 25:3 counts 23 years inclusive starting at the 13th year of Josiah and ending with the 4th year of Eliakim, which latter year is also stated as being the 1st year of Nebuchadnezzar, and 2. although not specifically stated, it may well be that Neko did to Jehoahaz and Eliakim, and at the same timing of the year, that which later Nebuchadnezzar did to Jehoiachin and Matteniah. Perhaps Nebuchadnezzar did this according to the prior practice of Neko, or perhaps both of those foreign did so based upon some common tradition?  Either way the number 1. reference from Jeremiah 25:3 is sufficient reason for drawing the conclusion as far as the years must be.  A third reason, i.e. 3. is that if Josiah ruled a full 31 years of 12 full months each it is possible that he may have had a 32nd year in which he was the King."]
[3305,"Eliakim (Egypt. Jehoiakim)","  2nd year - I.e. the 2nd Sacred Calendar Year he reigned",{"$f":"D543-1","v":9},null,null,"Pharaoh Neko",null,null," "]
[3306,"Eliakim (Egypt. Jehoiakim)","  3rd year - I.e. the 3rd Sacred Calendar Year he reigned",10,null,null,"Pharaoh Neko",null,null," Dan. 1:1.  \"In the third year of the reign of Jehoiakim, king of Judah, Nebuchadnezzar the king of Babylon came to Jerusalem and besieged it. And the Lord gave Jehoiakim, king of Judah, into his hand, with part of the vessels of the house of God, which he carried into the land of Shinar...\"  [Perhaps Nebuchadnezzar's successes on the battlefields against Egypt and others had something to do with his arising to King in Babylonia during the next Sacred Year?!]"]
[3307,"Eliakim (Egypt. Jehoiakim)","  4th year - I.e. the 4th Sacred Calendar Year he reigned",11,null,null,"Nebuchadnezzar","  1st year - I.e. the 1st Sacred Calendar Year he reigned"," ","Jer. 25:1,11-12. \"The word that was to Jeremiah concerning all the people of Judah in the fourth year of Jehoiakim the son of Josiah king of Judah. It was the first year of Nebuchadnezzar king of Babylon...  And these nations shall serve the king of Babylon seventy years... And it shall be, when seventy years are fulfilled, I will punish the king of Babylon...\".  Because this was already happening under Pharaoh Neko, it seems clear that once Nebuchadnezzar took over the rule over Egypt and Pharaoh Neko, he would at the same time have all \"these nations... serve the king of Babylon\".  Thus the start of the king Nebuchadnezzar's rule is at the same time the start of the 70 years of bondage/servitude under Babylon."]
[3308,"Eliakim (Egypt. Jehoiakim)","  5th year - I.e. the 5th Sacred Calendar Year he reigned",12,null,null,"Nebuchadnezzar","  2nd year - I.e. the 2nd Sacred Calendar Year he reigned","  1st year - I.e. the 1st Sacred Calendar Year he reigned","Dan. 2:1 \"And in the second year of the reign of Nebuchadnezzar, Nebuchadnezzar was dreaming dreams, and his spirit was troubled, and his sleep was finished on him…\" (IB)"]
[3309,"Eliakim (Egypt. Jehoiakim)","  6th year - I.e. the 6th Sacred Calendar Year he reigned",13,null,null,"Nebuchadnezzar","  3rd year - I.e. the 3rd Sacred Calendar Year he reigned","  2nd year - I.e. the 2nd Sacred Calendar Year he reigned"," "]
[3310,"Eliakim (Egypt. Jehoiakim)","  7th year - I.e. the 7th Sacred Calendar Year he reigned",14,null,null,"Nebuchadnezzar","  4th year - I.e. the 4th Sacred Calendar Year he reigned","  3rd year - I.e. the 3rd Sacred Calendar Year he reigned","\"In his days Nebuchadnezzar the king of Babylon [arose], and Jehoiakim was a servant to him three years; and he turned and rebelled against him.\" 2 Kings 24:1"]
[3311,"Eliakim (Egypt. Jehoiakim)","  8th year - I.e. the 8th Sacred Calendar Year he reigned",15,null,null,"Nebuchadnezzar","  5th year - I.e. the 5th Sacred Calendar Year he reigned","  4th year - I.e. the 4th Sacred Calendar Year he reigned"," "]
[3312,"Eliakim (Egypt. Jehoiakim)","  9th year - I.e. the 9th Sacred Calendar Year he reigned",16,null,null,"Nebuchadnezzar","  6th year - I.e. the 6th Sacred Calendar Year he reigned","  5th year - I.e. the 5th Sacred Calendar Year he reigned"," "]
[3313,"Eliakim (Egypt. Jehoiakim)","10th year - I.e. the 10th Sacred Calendar Year he reigned",17,null,null,"Nebuchadnezzar","  7th year - I.e. the 7th Sacred Calendar Year he reigned","  6th year - I.e. the 6th Sacred Calendar Year he reigned"," "]
[3314,"Eliakim (Egypt. Jehoiakim)","11th year - I.e. the 11th Sacred Calendar Year he reigned",18,null,null,"Nebuchadnezzar","  8th year - I.e. the 8th Sacred Calendar Year he reigned","  7th year - I.e. the 7th Sacred Calendar Year he reigned","2 Kings 23:36; 2 Chron. 36:4-5. \"Jehoiakim… reigned eleven years in Jerusalem…  Nebuchadnezzar the king of Babylon came up against him, and bound him in bronze fetters to take him away to Babylon. And Nebuchadnezzar brought some of the vessels of the house of Jehovah to Babylon, and put them in his temple in Babylon\" 2 Chron. 36:5-7."]
[null,null,null," ",null,null,null,null," "]
[{"$f":"A551","v":3314},"Jehoiachin","3 months & 10 days",18,null,null,"Nebuchadnezzar","  8th year - I.e. the 8th Sacred Calendar Year he reigned","  7th year - I.e. the 7th Sacred Calendar Year he reigned","2 Kings 24:8; 2 Chron. 36:9-10. NOTICE \"when the year was expired [\"at the turn of the year\" (IB)], King Nebuchadnezzar sent, and brought him [Jehoiachin] to Babylon… and made Zedekiah his brother [kinsman (IB)] king over Judah and Jerusalem\"! 2 Chron. 36:9-10 (KJV). Thus Matteniah's first year would not be part of Jehoiachin's last year of reign!  Also NOTICE, \"And Jehoichin the king of Judah went out to the king of Babylon, he and his mother[!]... [8 y/o or 18 y/o!?!!!]   And the king of Babylon took him in the eighth year of his [Nebuchadnezzar's] reign. 2 Kings 24:12."]
[null,null,null," "]
[{"$f":"A553+1","v":3315},"Matteniah (Zedekiah)","  1st year - I.e. the 1st Sacred Calendar Year he reigned",21,null,null,"Nebuchadnezzar","  9th year - I.e. the 9th Sacred Calendar Year he reigned","  8th year - I.e. the 8th Sacred Calendar Year he reigned","2 Kings 24:17-18; 2 Chron. 36:10-11"]
[3316,"Matteniah (Zedekiah)","  2nd year - I.e. the 2nd Sacred Calendar Year he reigned"," ",null,null,"Nebuchadnezzar","10th year - I.e. the 10th Sacred Calendar Year he reigned","  9th year - I.e. the 9th Sacred Calendar Year he reigned"," "]
[3317,"Matteniah (Zedekiah)","  3rd year - I.e. the 3rd Sacred Calendar Year he reigned"," ",null,null,"Nebuchadnezzar","11th year - I.e. the 11th Sacred Calendar Year he reigned","10th year - I.e. the 10th Sacred Calendar Year he reigned"," "]
[3318,"Matteniah (Zedekiah)","  4th year - I.e. the 4th Sacred Calendar Year he reigned"," ",null,null,"Nebuchadnezzar","12th year - I.e. the 12th Sacred Calendar Year he reigned","11th year - I.e. the 11th Sacred Calendar Year he reigned","Jer. 28:1,17 The False prophecies of Hananiah and Hananiah's death within two months of his lying prophecy."]
[3319,"Matteniah (Zedekiah)","  5th year - I.e. the 5th Sacred Calendar Year he reigned"," ",null,null,"Nebuchadnezzar","13th year - I.e. the 13th Sacred Calendar Year he reigned","12th year - I.e. the 12th Sacred Calendar Year he reigned"," "]
[3320,"Matteniah (Zedekiah)","  6th year - I.e. the 6th Sacred Calendar Year he reigned"," ",null,null,"Nebuchadnezzar","14th year - I.e. the 14th Sacred Calendar Year he reigned","13th year - I.e. the 13th Sacred Calendar Year he reigned"," "]
[3321,"Matteniah (Zedekiah)","  7th year - I.e. the 7th Sacred Calendar Year he reigned"," ",null,null,"Nebuchadnezzar","15th year - I.e. the 15th Sacred Calendar Year he reigned","14th year - I.e. the 14th Sacred Calendar Year he reigned"," "]
[3322,"Matteniah (Zedekiah)","  8th year - I.e. the 8th Sacred Calendar Year he reigned"," ",null,null,"Nebuchadnezzar","16th year - I.e. the 16th Sacred Calendar Year he reigned","15th year - I.e. the 15th Sacred Calendar Year he reigned"," "]
[3323,"Matteniah (Zedekiah)","  9th year - I.e. the 9th Sacred Calendar Year he reigned"," ",null,null,"Nebuchadnezzar","17th year - I.e. the 17th Sacred Calendar Year he reigned","16th year - I.e. the 16th Sacred Calendar Year he reigned","On the 10th day of the 10th month - Jerusalem besieged by Nebuchadnezzar, king of Babylon"]
[3324,"Matteniah (Zedekiah)","10th year - I.e. the 10th Sacred Calendar Year he reigned"," ",null,null,"Nebuchadnezzar","18th year - I.e. the 18th Sacred Calendar Year he reigned","17th year - I.e. the 17th Sacred Calendar Year he reigned"," "]
[3325,"Matteniah (Zedekiah)","11th year - I.e. the 11th Sacred Calendar Year he reigned"," ",null,null,"Nebuchadnezzar","19th year - I.e. the 19th Sacred Calendar Year he reigned","18th year - I.e. the 18th Sacred Calendar Year he reigned","On the 9th day of the 4th month - Jerusalem was broken up and Mattaniah was brought to Babylon. 2 Kings 25:3-7.  On the 7th day of the 5th month - in the 19th year of Nebuchadnezzar - Nebuzaradan, servant of the king of Babylon, came to Jerusalem, and he burned the house of Jehovah and the king's house, and all the houses of Jerusalem (cf. Interlinear Bible).  \"Nebuzar-adan, captain of the guard, burnt the house of the Lord, and the king's house, and every great man's house burnt he with fire\" (KJV). 2 Kings 25:8-9.  \"And He [God] caused the king of the Chaldeans to go up against them [Judah];... And they burned the house of God, and broke down the wall of Jerusalem; and they burned all its palaces with fire, and destroyed all its beautiful vessels...\" 2 Chron. 36:17-20."]
[{"$f":"A565+1","v":3326},null,null," ",null,null,"Nebuchadnezzar","20th year - I.e. the 20th Sacred Calendar Year he reigned","19th year - I.e. the 19th Sacred Calendar Year he reigned"," "]
[3327,null,null," ",null,null,"Nebuchadnezzar","21st year - I.e. the 21st Sacred Calendar Year he reigned","20th year - I.e. the 20th Sacred Calendar Year he reigned"," "]
[3328,null,null," ",null,null,"Nebuchadnezzar","22nd year - I.e. the 22nd Sacred Calendar Year he reigned","21st year - I.e. the 21st Sacred Calendar Year he reigned"," "]
[3329,null,null," ",null,null,"Nebuchadnezzar","23rd year - I.e. the 23rd Sacred Calendar Year he reigned","22nd year - I.e. the 22nd Sacred Calendar Year he reigned"," "]
[3330,null,null," ",null,null,"Nebuchadnezzar","24th year - I.e. the 24th Sacred Calendar Year he reigned","23rd year - I.e. the 23rd Sacred Calendar Year he reigned","Jer. 52:30 \"in the twenty-third year of Nebuchadnezzar, nabuzar-adan, the chief of the executioners, exiled seven hundred forty-five souls of the Jews…\""]
[3331,null,null," ",null,null,"Nebuchadnezzar","25th year - I.e. the 25th Sacred Calendar Year he reigned"," "," "]
[{"$f":"A571+1","v":3332},null,null," ",null,null,"Nebuchadnezzar","26th year - I.e. the 26th Sacred Calendar Year he reigned"," "," "]
[3333,null,null," ",null,null,"Nebuchadnezzar","27th year - I.e. the 27th Sacred Calendar Year he reigned"," "]
[3334,null,null," ",null,null,"Nebuchadnezzar","28th year - I.e. the 28th Sacred Calendar Year he reigned","20th year - I.e. the 20th Sacred Calendar Year he reigned","of Jehoiachin's captivity"]
[3335,null,null," ",null,null,"Nebuchadnezzar","29th year - I.e. the 29th Sacred Calendar Year he reigned","21st year - I.e. the 21st Sacred Calendar Year he reigned","of Jehoiachin's captivity"]
[3336,"Maximum # of years to deduct based on #s",null,null,{"$f":"SUM(E1:E575)","v":8},null,"Nebuchadnezzar","30th year - I.e. the 30th Sacred Calendar Year he reigned","22nd year - I.e. the 22nd Sacred Calendar Year he reigned","of Jehoiachin's captivity"]
[3337,"Maximum # of compress years",null,null,null,{"$f":"SUM(F2:F576)","v":14},"Nebuchadnezzar","31st year - I.e. the 31st Sacred Calendar Year he reigned","23rd year - I.e. the 23rd Sacred Calendar Year he reigned","of Jehoiachin's captivity"]
[3338,null,null," ","Consider espec. Red ##!",null,"Nebuchadnezzar","32nd year - I.e. the 32nd Sacred Calendar Year he reigned","24th year - I.e. the 24th Sacred Calendar Year he reigned","of Jehoiachin's captivity"]
[3339,null,null," ",null,null,"Nebuchadnezzar","33rd year - I.e. the 33rd Sacred Calendar Year he reigned","25th year - I.e. the 25th Sacred Calendar Year he reigned","of Jehoiachin's captivity"]
[3340,null,null," ",null,null,"Nebuchadnezzar","34th year - I.e. the 34th Sacred Calendar Year he reigned","26th year - I.e. the 26th Sacred Calendar Year he reigned","of Jehoiachin's captivity"]
[3341,null,null," ",null,null,"Nebuchadnezzar","35th year - I.e. the 35th Sacred Calendar Year he reigned","27th year - I.e. the 27th Sacred Calendar Year he reigned","of Jehoiachin's captivity"]
[3342,null,null,null,null,null,"Nebuchadnezzar","36th year - I.e. the 36th Sacred Calendar Year he reigned","28th year - I.e. the 28th Sacred Calendar Year he reigned","of Jehoiachin's captivity"]
[3343,null,null,null,null,null,"Nebuchadnezzar","37th year - I.e. the 37th Sacred Calendar Year he reigned","29th year - I.e. the 29th Sacred Calendar Year he reigned","of Jehoiachin's captivity"]
[3344,null,null,null,null,null,"Nebuchadnezzar","38th year - I.e. the 38th Sacred Calendar Year he reigned","30th year - I.e. the 30th Sacred Calendar Year he reigned","of Jehoiachin's captivity"]
[3345,null,null,null,null,null,"Nebuchadnezzar","39th year - I.e. the 39th Sacred Calendar Year he reigned","31st year - I.e. the 31st Sacred Calendar Year he reigned","of Jehoiachin's captivity"]
[3346,null,null,null,null,null,"Nebuchadnezzar","40th year - I.e. the 40th Sacred Calendar Year he reigned","32nd year - I.e. the 32nd Sacred Calendar Year he reigned","of Jehoiachin's captivity"]
[3347,null,null,null,null,null,"Nebuchadnezzar","41st year - I.e. the 41st Sacred Calendar Year he reigned","33rd year - I.e. the 33rd Sacred Calendar Year he reigned","of Jehoiachin's captivity"]
[3348,null,null,null,null,null,"Nebuchadnezzar","42nd year - I.e. the 42nd Sacred Calendar Year he reigned","34th year - I.e. the 34th Sacred Calendar Year he reigned","of Jehoiachin's captivity"]
[3349,null,null,null,null,null,"Nebuchadnezzar","43rd year - I.e. the 43rd Sacred Calendar Year he reigned","35th year - I.e. the 35th Sacred Calendar Year he reigned","of Jehoiachin's captivity"]
[3350," ",null,null,null,null,"Nebuchadnezzar","44th year - I.e. the 44th Sacred Calendar Year he reigned","36th year - I.e. the 36th Sacred Calendar Year he reigned","of Jehoiachin's captivity"]
[3351,null,null,null,null,null,"Nebuchadnezzar","45th year - I.e. the 45th Sacred Calendar Year he reigned","37th year - I.e. the 37th Sacred Calendar Year he reigned","of Jehoiachin's captivity"]
[null,null,null," "]
[{"$f":"A591","v":3351},"Evil-merodach (=Cyrus?=Belshazzar, son of Nebuchadnezzar), King of Babel","  1st year - I.e. the 1st Sacred Calendar Year he reigned"," ",null,null,"Babylonian captivity","45th year - I.e. the 45th Sacred Calendar Year he reigned","37th year - I.e. the 37th Sacred Calendar Year he reigned"," 2 Kings 25:27-30; 2Chron. 36:22; Jer. 52:31; Dan. 5:11,13; & Ezra 5:12-14. \"And it happened, in the thirty-seventh year of the captivity of Jehoiachin the king of Judah, in the twelfth month, in the twenty seventh [2 Kings; \"twenty-fifth\" Jer.] of the month [Notice that, based upon 2 Chron. 36:9-10, the 1st year of the reign of king Jehoichain CANNOT coincide with the 1st year of his captivity!], Evil-merodach the king of Babylon, in the year he began to reign, lifted up the head of Jehoiachin the king of Judah out of the prison...\"  In Dan. 5:11,13 we find Nebuchadnezzar being referred to as the father of Belshazzar. Then in Ezra 5:12-14 we find \"because our fathers had provoked to wrath the God of Heaven, He gave them into the hand of Nebuchadnezzar the king of Babylon, the Chaldean, and he tore down this house, and he exiled its people to Babylon. But in the first year of Cyrus the king of Babylon, king Cyrus gave an order to build this house of God. And also the vessels of gold and silver from the house of God, which Nebuchadnezzar took out of the temple in Jerusalem...\" (IB).  Thus, 1. Cyrus is named by Ezra immediadely after Nebuchadnezzar, AND 2. Cyrus is referred to as the KING OF BABYLON, and 3. Cyrus is having the same attitude to the Temple as Belshazzar had to the King of Judah per 2 Kings 25:27-30 as related above.  \"And in the first year of Cyrus king of Persia, so that the word of Jehovah by the mouth of Jeremiah might be fulfilled, Jehovah stirred up the spirit of Cyrus king of Persia, and he made a proclamation in all his kingdom, and also in writing, saying, So says Cyrus king of Persia, Jehovah God of heaven has given me all the kingdoms of the earth. And He has commanded me to build Him a house at Jerusalem, which is in Judah...\" Ezra 1:1-2 (IB). \"And when the seventh month had come, and the sons of Israel were in the cities, the people assembled as one man to Jerusalem. Then Jeshua... built the altar of the God of Israel... as it is written in the law of Moses the man of God. And they set the altar on its bases... And he offered burnt offerings on it to Jehovah... They also performed the Feast of Booths... From the first day of the seventh month they began to offer burnt offerings to Jehovah. But the foundation of the temple of Jehovah was not laid.\" Ezra 3:1-6 (IB).  \"Now in the second year of their coming to the house of God at Jerusalem, in the second month, Zerubbabel...began. to oversee the work of the house of Jehovah... And when the builders laid the foundation of the temple of Jehovah... to praise Jehovah, according to the ordinance of David king of Israel...\" Ezra 3:8-10 (IB).  Compare also 2Chron. 36:22."]
[{"$f":"A591+1","v":3352},"Evil-merodach (=Cyrus?=Belshazzar, son of Nebuchadnezzar), King of Babel","  2nd year - I.e. the 2nd Sacred Calendar Year he reigned"," ",null,null,"Babylonian captivity","46th year - I.e. the 46th Sacred Calendar Year he reigned"," ","Now in the second year of their coming to the house of God at Jerusalem, in the second month, Zerubbabel...began. to oversee the work of the house of Jehovah... And when the builders laid the foundation of the temple of Jehovah... to praise Jehovah, according to the ordinance of David king of Israel... Ezra 3:8-10 (IB). (Cf. note above pertaining to Cyrus' first year!)"]
[3353,"Evil-merodach (=Cyrus?=Belshazzar, son of Nebuchadnezzar), King of Babel","  3rd year - I.e. the 3rd Sacred Calendar Year he reigned"," ",null,null,"Babylonian captivity","47th year - I.e. the 47th Sacred Calendar Year he reigned"," ","Dan. 8:1; 10:1. \"In the third year of the reign of king Belshazzar, a vision appeared to me, Daniel, after that which appeared to me at the first\" Dan. 8:1. \"In the third year of Cyrus king of Persia a thing was revealed unto Daniel, whose name was called Belteshazzar\" Dan. 10:1.  Are king Belshazzar and king Cyrus one and the same? Compare note under 1st year above!"]
[3354,"Evil-merodach (=Cyrus?=Belshazzar, son of Nebuchadnezzar), King of Babel","  4th year - I.e. the 4th Sacred Calendar Year he reigned"," ",null,null,"Babylonian captivity","48th year - I.e. the 48th Sacred Calendar Year he reigned"," "," "]
[3355,"Evil-merodach (=Cyrus?=Belshazzar, son of Nebuchadnezzar), King of Babel","  5th year - I.e. the 5th Sacred Calendar Year he reigned"," ",null,null,"Babylonian captivity","49th year - I.e. the 49th Sacred Calendar Year he reigned"," "," "]
[3356,"Evil-merodach (=Cyrus?=Belshazzar, son of Nebuchadnezzar), King of Babel","  6th year - I.e. the 6th Sacred Calendar Year he reigned"," ",null,null,"Babylonian captivity","50th year - I.e. the 50th Sacred Calendar Year he reigned"," "," "]
[3357,"Evil-merodach (=Cyrus?=Belshazzar, son of Nebuchadnezzar), King of Babel","  7th year - I.e. the 7th Sacred Calendar Year he reigned"," ",null,null,"Babylonian captivity","51st year - I.e. the 51st Sacred Calendar Year he reigned"," "," "]
[3358,"Evil-merodach (=Cyrus?=Belshazzar, son of Nebuchadnezzar), King of Babel","  8th year - I.e. the 8th Sacred Calendar Year he reigned"," ",null,null,"Babylonian captivity","52nd year - I.e. the 52nd Sacred Calendar Year he reigned"," "," "]
[3359,"Evil-merodach (=Cyrus?=Belshazzar, son of Nebuchadnezzar), King of Babel","  9th year - I.e. the 9th Sacred Calendar Year he reigned"," ",null,null,"Babylonian captivity","53rd year - I.e. the 53rd Sacred Calendar Year he reigned"," "," "]
[3360,"Evil-merodach (=Cyrus?=Belshazzar, son of Nebuchadnezzar), King of Babel","10th year - I.e. the 10th Sacred Calendar Year he reigned"," ",null,null,"Babylonian captivity","54th year - I.e. the 54th Sacred Calendar Year he reigned"," "," "]
[3361,"Evil-merodach (=Cyrus?=Belshazzar, son of Nebuchadnezzar), King of Babel","11th year - I.e. the 11th Sacred Calendar Year he reigned"," ",null,null,"Babylonian captivity","55th year - I.e. the 55th Sacred Calendar Year he reigned"," "," "]
[3362,"Evil-merodach (=Cyrus?=Belshazzar, son of Nebuchadnezzar), King of Babel","12th year - I.e. the 12th Sacred Calendar Year he reigned"," ",null,null,"Babylonian captivity","56th year - I.e. the 56th Sacred Calendar Year he reigned"," "," "]
[3363,"Evil-merodach (=Cyrus?=Belshazzar, son of Nebuchadnezzar), King of Babel","13th year - I.e. the 13th Sacred Calendar Year he reigned"," ",null,null,"Babylonian captivity","57th year - I.e. the 57th Sacred Calendar Year he reigned"," "," "]
[3364,"Evil-merodach (=Cyrus?=Belshazzar, son of Nebuchadnezzar), King of Babel","14th year - I.e. the 14th Sacred Calendar Year he reigned"," ",null,null,"Babylonian captivity","58th year - I.e. the 58th Sacred Calendar Year he reigned"," "," "]
[3365,"Evil-merodach (=Cyrus?=Belshazzar, son of Nebuchadnezzar), King of Babel","15th year - I.e. the 15th Sacred Calendar Year he reigned"," ",null,null,"Babylonian captivity","59th year - I.e. the 59th Sacred Calendar Year he reigned"," "," "]
[3366,"Evil-merodach (=Cyrus?=Belshazzar, son of Nebuchadnezzar), King of Babel","16th year - I.e. the 16th Sacred Calendar Year he reigned"," ",null,null,"Babylonian captivity","60th year - I.e. the 60th Sacred Calendar Year he reigned"," "," "]
[3367,"Evil-merodach (=Cyrus?=Belshazzar, son of Nebuchadnezzar), King of Babel","17th year - I.e. the 17th Sacred Calendar Year he reigned"," ",null,null,"Babylonian captivity","61st year - I.e. the 61st Sacred Calendar Year he reigned"," "," "]
[3368,"Evil-merodach (=Cyrus?=Belshazzar, son of Nebuchadnezzar), King of Babel","18th year - I.e. the 18th Sacred Calendar Year he reigned"," ",null,null,"Babylonian captivity","62nd year - I.e. the 62nd Sacred Calendar Year he reigned"," "," "]
[3369,"Evil-merodach (=Cyrus?=Belshazzar, son of Nebuchadnezzar), King of Babel","19th year - I.e. the 19th Sacred Calendar Year he reigned"," ",null,null,"Babylonian captivity","63rd year - I.e. the 63rd Sacred Calendar Year he reigned"," "," "]
[3370,"Evil-merodach (=Cyrus?=Belshazzar, son of Nebuchadnezzar), King of Babel","20th year - I.e. the 20th Sacred Calendar Year he reigned"," ",null,null,"Babylonian captivity","64th year - I.e. the 64th Sacred Calendar Year he reigned"," "," "]
[3371,"Evil-merodach (=Cyrus?=Belshazzar, son of Nebuchadnezzar), King of Babel","21st year - I.e. the 21st Sacred Calendar Year he reigned"," ",null,null,"Babylonian captivity","65th year - I.e. the 65th Sacred Calendar Year he reigned"," "," "]
[3372,"Evil-merodach (=Cyrus?=Belshazzar, son of Nebuchadnezzar), King of Babel","22nd year - I.e. the 22nd Sacred Calendar Year he reigned"," ",null,null,"Babylonian captivity","66th year - I.e. the 66th Sacred Calendar Year he reigned"," "," "]
[3373,"Evil-merodach (=Cyrus?=Belshazzar, son of Nebuchadnezzar), King of Babel","23rd year - I.e. the 23rd Sacred Calendar Year he reigned"," ",null,null,"Babylonian captivity","67th year - I.e. the 67th Sacred Calendar Year he reigned"," "," "]
[3374,"Evil-merodach (=Cyrus?=Belshazzar, son of Nebuchadnezzar), King of Babel","24th year - I.e. the 24th Sacred Calendar Year he reigned"," ",null,null,"Babylonian captivity","68th year - I.e. the 68th Sacred Calendar Year he reigned"," "," "]
[3375,"Evil-merodach (=Cyrus?=Belshazzar, son of Nebuchadnezzar), King of Babel","25th year - I.e. the 25th Sacred Calendar Year he reigned"," ",null,null,"Babylonian captivity","69th year - I.e. the 69th Sacred Calendar Year he reigned"," "," "]
[3376,"Evil-merodach (=Cyrus?=Belshazzar, son of Nebuchadnezzar), King of Babel","26th year - I.e. the 26th Sacred Calendar Year he reigned"," ",null,null,"Babylonian captivity","70th year - I.e. the 70th Sacred Calendar Year he reigned"," "," "]
[3377,"Evil-merodach (=Cyrus?=Belshazzar, son of Nebuchadnezzar), King of Babel","27th year - I.e. the 27th Sacred Calendar Year he reigned"," ",null,null,"Babylonian captivity","71st year - I.e. the 71st Sacred Calendar Year he reigned","= 70 full years","Dan. 5:7&29 indicates that Belshazzar, the son of Nebuchadnezzar was the second ruler in the kingdom of Babylon, and that he was about to appoint the third. \"And he shall rule third in the kingdom… Then Belshazzar commanded, and they clothed Daniel with purple, and a necklace of gold around his neck. And they made a proclamation concerning him, that he should be the third ruler in the kingdom. In that night Belshazzar, the king of the Chaldeans, was killed.\""]
[]
[{"$f":"A618+1","v":3377},"Darius, King of the Medo-Persia","  1st year - I.e. the 1st Sacred Calendar Year he reigned"," ",null,null,"Babylonian captivity","71st year - I.e. the 71st Sacred Calendar Year he reigned","= 70 full years","Dan. 5:30-31; 9:1-2; 11:1. \"In that night Belshazzar, the king of the Chaldeans, was killed. And Darius the Mede took the kingdom, being a son of sixty-two years.\" Dan. 5:30-31(IB). \"In the first year of Darius, the son of Ahasuerus, of the seed of the Medes, who was made king over the realm of the Chaldeans, in the first year of his reign, I, Daniel, understood the number of the years by books, which came as the word of Jehovah to Jeremiah the prophet, that He would accomplish seventy years in the desolations of Jerusalem.\" Dan. 9:1-2 (IB).  \"And I, in the first year of Darius the Mede, I was standing for a supporter and for a fortress for him. And now I will declare to you the truth: behold, three kings will yet stand up in Persia. And the fourth shall be rich...\" Dan. 11:1-2 (IB).  \"In the first year of Belshazzar, king of Babylon, Daniel saw a dream and visions...\" Dan. 7:1.  Ezra 6:6-12 is a record of the decree of Darius"]
[3378,"Darius, King of the Medo-Persia","  2nd year - I.e. the 2nd Sacred Calendar Year he reigned"," ",null,null,null,"72nd year - I.e. the 72nd Sacred Calendar Year he reigned"," ","Ezra 4:24; Haggai 2:10,18. \"Then ceased the work of the house of God which is at Jerusalem. So it ceased unto the second year of the reign of Darius king of Persia.\" Ezra 4:24 (KJV).  \"In the four and twentieth day of the ninth month, in the second year of Darius… Consider now from this day and upward, from the four and twentieth day of the ninth month, even from the day that the foundation of the Lord's temple was laid, consider it\". Haggai 2:10,18 (KJV).  It appears as if this is the exact date that the work upon the foundation of the Temple was re-laid as started some 28 years prior.  Notice also the dates which quite obviously are based upon the Sacred Calendar and not, other than the number of the year, upon the King of Babylon. Cf. \"Upon the four and twentieth day of the eleventh month, which is the month Sebat [the name of the 11th month within the modern Hebrew calendar when Nisan as counted as the first month], in the second year of Darius, came the word of the Lord unto Zechariah\" Zech. 1:7 (KJV)."]
[3379,"Darius, King of the Medo-Persia","  3rd year - I.e. the 3rd Sacred Calendar Year he reigned"," ",null,null,null,"73rd year - I.e. the 73rd Sacred Calendar Year he reigned"," ","Dan. 8:1 \"In the third year of the reign of king Belshazzar, a vision appeared to me, Daniel, after that which appeared to me at the first.\" (IB)"]
[3380,"Darius, King of the Medo-Persia","  4th year - I.e. the 4th Sacred Calendar Year he reigned"," ",null,null,null,"74th year - I.e. the 74th Sacred Calendar Year he reigned"," "," "]
[3381,"Darius, King of the Medo-Persia","  5th year - I.e. the 5th Sacred Calendar Year he reigned"," ",null,null,null,"75th year - I.e. the 75th Sacred Calendar Year he reigned"," "," "]
[3382,"Darius, King of the Medo-Persia","  6th year - I.e. the 6th Sacred Calendar Year he reigned"," ",null,null,"Rebuilding of Temple Finished",null," ","Ezra 6:15 \"And this house was finished on the third day of the month Adar, which was in the sixth year of the reign of Darius the king\"."]
[3383,"Darius, King of the Medo-Persia","  7th year - I.e. the 7th Sacred Calendar Year he reigned"," ",null,null,null,null,null," "]
[3384,"Darius, King of the Medo-Persia","  8th year - I.e. the 8th Sacred Calendar Year he reigned"," ",null,null,null,null,null," "]
[3385,"Darius, King of the Medo-Persia","  9th year - I.e. the 9th Sacred Calendar Year he reigned"," ",null,null,null,null,null," "]
[3386,"Darius, King of the Medo-Persia","10th year - I.e. the 10th Sacred Calendar Year he reigned"," ",null,null,null,null,null," "]
[3387,null,"11th year - I.e. the 11th Sacred Calendar Year he reigned"," ",null,null,null,null,null," "]
[3388,null,"12th year - I.e. the 12th Sacred Calendar Year he reigned"," ",null,null,null,null,null," "]
[3389,null,"13th year - I.e. the 13th Sacred Calendar Year he reigned"," ",null,null,null,null,null," "]
[3390,null,"14th year - I.e. the 14th Sacred Calendar Year he reigned"," ",null,null,null,null,null," "]
[3391,null,"15th year - I.e. the 15th Sacred Calendar Year he reigned"," ",null,null,null,null,null," "]
[3392,null,"16th year - I.e. the 16th Sacred Calendar Year he reigned"," ",null,null,null,null,null," "]
[3393,null,"17th year - I.e. the 17th Sacred Calendar Year he reigned"," ",null,null,null,null,null," "]
[3394,null,"18th year - I.e. the 18th Sacred Calendar Year he reigned"," ",null,null,null,null,null," "]
[3395,null,"19th year - I.e. the 19th Sacred Calendar Year he reigned"," ",null,null,null,null,null," "]
[{"$f":"A639+1","v":3396},null,"20th year - I.e. the 20th Sacred Calendar Year he reigned"," ",null,null,null,null,null," "]
[3397,null,"21st year - I.e. the 21st Sacred Calendar Year he reigned"," ",null,null,null,null,null," "]
[3398,null,"22nd year - I.e. the 22nd Sacred Calendar Year he reigned"," ",null,null,null,null,null," "]
[3399,null,"23rd year - I.e. the 23rd Sacred Calendar Year he reigned"," ",null,null,null,null,null," "]
[3400,null,"24th year - I.e. the 24th Sacred Calendar Year he reigned"," ",null,null,null,null,null," "]
[3401,null,"25th year - I.e. the 25th Sacred Calendar Year he reigned"," ",null,null,null,null,null," "]
[3402,null,"26th year - I.e. the 26th Sacred Calendar Year he reigned"," ",null,null,null,null,null," "]
[3403,null,"53rd year - I.e. the 53rd Sacred Calendar Year he reigned"," ",null,null,null,null,null," "]
[3404,null,"54th year - I.e. the 54th Sacred Calendar Year he reigned"," ",null,null,null,null,null," "]
[3405,null,"55th year - I.e. the 55th Sacred Calendar Year he reigned"," ",null,null,null,null,null," "]
[3406,null,null," ",null,null,null,null,null," "]
[3407,null,null," ",null,null,null,null,null," "]
[3408,null,null," ",null,null,null,null,null," "]
[3409,null,null," ",null,null,null,null,null," "]
[3410,null,null," ",null,null,null,null,null," "]
[3411,null,null," ",null,null,null,null,null," "]
[3412,null,null," ",null,null,null,null,null," "]
[3413,null,null," ",null,null,null,null,null," "]
[3414,null,null," ",null,null,null,null,null," "]
[3415,null,null," ",null,null,null,null,null," "]
[3416,null,null," ",null,null,null,null,null," "]
[3417,null,null," ",null,null,null,null,null," "]
[null,null,null," ",null,null,null,null,null," "]
[null,null,null,null,null,null,null,null,null," "]
[null,null,null,null,null,null,null,null,null," "]
[null,null,null,null,null,null,null,null,null," "]
[null,null,null,null,null,null,null,null,null," "]
[null,null,null,null,null,null,null,null,null," "]
[null,null,null,null,null,null,null,null,null," "]
[null,null,null,null,null,null,null,null,null," "]
[null,null,null,null,null,null,null,null,null," "]
[null,null,null,null,null,null,null,null,null," "]
[null,null,null,null,null,null,null,null,null," "]
[null,null,null,null,null,null,null,null,null," "]
[null,null,null,null,null,null,null,null,null," "]
[null,null,null,null,null,null,null,null,null," "]
[null,null,null,null,null,null,null,null,null," "]
[null,null,null,null,null,null,null,null,null," "]
[null,null,null,null,null,null,null,null,null," "]
[null,null,null,null,null,null,null,null,null," "]
[null,null,null,null,null,null,null,null,null," "]
[null,null,null,null,null,null,null,null,null," "]
[null,null,null,null,null,null,null,null,null," "]
[null,null,null,null,null,null,null,null,null," "]
[null,null,null,null,null,null,null,null,null," "]
[null,null,null,null,null,null,null,null,null," "]
[null,null,null,null,null,null,null,null,null," "]
[null,null,null,null,null,null,null,null,null," "]
[null,null,null,null,null,null,null,null,null," "]
[null,null,null,null,null,null,null,null,null," "]
[null,null,null,null,null,null,null,null,null," "]
[null,null,null,null,null,null,null,null,null," "]
[null,null,null,null,null,null,null,null,null," "]
[null,null,null,null,null,null,null,null,null," "]
[null,null,null,null,null,null,null,null,null," "]
[null,null,null,null,null,null,null,null,null," "]
[null,null,null,null,null,null,null,null,null," "]
[null,null,null,null,null,null,null,null,null," "]
[null,null,null,null,null,null,null,null,null," "]
[null,null,null,null,null,null,null,null,null," "]
[null,null,null,null,null,null,null,null,null," "]
[null,null,null,null,null,null,null,null,null," "]
[null,null,null,null,null,null,null,null,null," "]
[null,null,null,null,null,null,null,null,null," "]
[null,null,null,null,null,null,null,null,null," "]
[null,null,null,null,null,null,null,null,null," "]
[null,null,null,null,null,null,null,null,null," "]
[null,null,null,null,null,null,null,null,null," "]
[null,null,null,null,null,null,null,null,null," "]
[null,null,null,null,null,null,null,null,null," "]
[null,null,null,null,null,null,null,null,null," "]
[null,null,null,null,null,null,null,null,null," "]
[null,null,null,null,null,null,null,null,null," "]
[null,null,null,null,null,null,null,null,null," "]
[null,null,null,null,null,null,null,null,null," "]
[null,null,null,null,null,null,null,null,null," "]
[null,null,null,null,null,null,null,null,null," "]
[null,null,null,null,null,null,null,null,null," "]
[null,null,null,null,null,null,null,null,null," "]
[null,null,null,null,null,null,null,null,null," "]
[null,null,null,null,null,null,null,null,null," "]
[null,null,null,null,null,null,null,null,null," "]
[null,null,null,null,null,null,null,null,null," "]
[null,null,null,null,null,null,null,null,null," "]
[null,null,null,null,null,null,null,null,null," "]
[null,null,null,null,null,null,null,null,null," "]
[null,null,null,null,null,null,null,null,null," "]
[null,null,null,null,null,null,null,null,null," "]
[null,null,null,null,null,null,null,null,null," "]
[null,null,null,null,null,null,null,null,null," "]
[null,null,null,null,null,null,null,null,null," "]
[null,null,null,null,null,null,null,null,null," "]
[null,null,null,null,null,null,null,null,null," "]
[null,null,null,null,null,null,null,null,null," "]
[null,null,null,null,null,null,null,null,null," "]
[null,null,null,null,null,null,null,null,null," "]
[null,null,null,null,null,null,null,null,null," "]
[null,null,null,null,null,null,null,null,null," "]
[null,null,null,null,null,null,null,null,null," "]
[null,null,null,null,null,null,null,null,null," "]
[null,null,null,null,null,null,null,null,null," "]
[null,null,null,null,null,null,null,null,null," "]
[null,null,null,null,null,null,null,null,null," "]
[null,null,null,null,null,null,null,null,null," "]
[null,null,null,null,null,null,null,null,null," "]
[null,null,null,null,null,null,null,null,null," "]
[null,null,null,null,null,null,null,null,null," "]
[null,null,null,null,null,null,null,null,null," "]
[null,null,null,null,null,null,null,null,null," "]
[null,null,null,null,null,null,null,null,null," "]
[null,null,null,null,null,null,null,null,null," "]
[null,null,null,null,null,null,null,null,null," "]
[null,null,null,null,null,null,null,null,null," "]
[null,null,null,null,null,null,null,null,null," "]
[null,null,null,null,null,null,null,null,null," "]
[null,null,null,null,null,null,null,null,null," "]
[null,null,null,null,null,null,null,null,null," "]
[null,null,null,null,null,null,null,null,null," "]
[null,null,null,null,null,null,null,null,null," "]
[null,null,null,null,null,null,null,null,null," "]
[null,null,null,null,null,null,null,null,null," "]
[null,null,null,null,null,null,null,null,null," "]
[null,null,null,null,null,null,null,null,null," "]
[null,null,null,null,null,null,null,null,null," "]
[null,null,null,null,null,null,null,null,null," "]
[null,null,null,null,null,null,null,null,null," "]
[null,null,null,null,null,null,null,null,null," "]
[null,null,null,null,null,null,null,null,null," "]
[null,null,null,null,null,null,null,null,null," "]
[null,null,null,null,null,null,null,null,null," "]
[null,null,null,null,null,null,null,null,null," "]
[null,null,null,null,null,null,null,null,null," "]
[null,null,null,null,null,null,null,null,null," "]
[null,null,null,null,null,null,null,null,null," "]
[null,null,null,null,null,null,null,null,null," "]
[null,null,null,null,null,null,null,null,null," "]
[null,null,null,null,null,null,null,null,null," "]
[null,null,null,null,null,null,null,null,null," "]
[null,null,null,null,null,null,null,null,null," "]
[null,null,null,null,null,null,null,null,null," "]
[null,null,null,null,null,null,null,null,null," "]
[null,null,null,null,null,null,null,null,null," "]
[null,null,null,null,null,null,null,null,null," "]
[null,null,null,null,null,null,null,null,null," "]
[null,null,null,null,null,null,null,null,null," "]
[null,null,null,null,null,null,null,null,null," "]
[null,null,null,null,null,null,null,null,null," "]
[null,null,null,null,null,null,null,null,null," "]
[null,null,null,null,null,null,null,null,null," "]
[null,null,null,null,null,null,null,null,null," "]
[null,null,null,null,null,null,null,null,null," "]
[null,null,null,null,null,null,null,null,null," "]
[null,null,null,null,null,null,null,null,null," "]
[null,null,null,null,null,null,null,null,null," "]
[null,null,null,null,null,null,null,null,null," "]
[null,null,null,null,null,null,null,null,null," "]
[null,null,null,null,null,null,null,null,null," "]
[null,null,null,null,null,null,null,null,null," "]
[null,null,null,null,null,null,null,null,null," "]
[null,null,null,null,null,null,null,null,null," "]
[null,null,null,null,null,null,null,null,null," "]
[null,null,null,null,null,null,null,null,null," "]
[null,null,null,null,null,null,null,null,null," "]
[null,null,null,null,null,null,null,null,null," "]
[null,null,null,null,null,null,null,null,null," "]
[null,null,null,null,null,null,null,null,null," "]
[null,null,null,null,null,null,null,null,null," "]
[null,null,null,null,null,null,null,null,null," "]
[null,null,null,null,null,null,null,null,null," "]
[null,null,null,null,null,null,null,null,null," "]
[null,null,null,null,null,null,null,null,null," "]
[null,null,null,null,null,null,null,null,null," "]
[null,null,null,null,null,null,null,null,null," "]
[null,null,null,null,null,null,null,null,null," "]
[null,null,null,null,null,null,null,null,null," "]
[null,null,null,null,null,null,null,null,null," "]
[null,null,null,null,null,null,null,null,null," "]
[null,null,null,null,null,null,null,null,null," "]
[null,null,null,null,null,null,null,null,null," "]
[null,null,null,null,null,null,null,null,null," "]
[null,null,null,null,null,null,null,null,null," "]
[null,null,null,null,null,null,null,null,null," "]
[null,null,null,null,null,null,null,null,null," "]
[null,null,null,null,null,null,null,null,null," "]
[null,null,null,null,null,null,null,null,null," "]
[null,null,null,null,null,null,null,null,null," "]
[null,null,null,null,null,null,null,null,null," "]
[null,null,null,null,null,null,null,null,null," "]
[null,null,null,null,null,null,null,null,null," "]
[null,null,null,null,null,null,null,null,null," "]
[null,null,null,null,null,null,null,null,null," "]
[null,null,null,null,null,null,null,null,null," "]
[null,null,null,null,null,null,null,null,null," "]
[null,null,null,null,null,null,null,null,null," "]
[null,null,null,null,null,null,null,null,null," "]
[null,null,null,null,null,null,null,null,null," "]
[null,null,null,null,null,null,null,null,null," "]
[null,null,null,null,null,null,null,null,null," "]
[null,null,null,null,null,null,null,null,null," "]
[null,null,null,null,null,null,null,null,null," "]
[null,null,null,null,null,null,null,null,null," "]
[null,null,null,null,null,null,null,null,null," "]
[null,null,null,null,null,null,null,null,null," "]
[null,null,null,null,null,null,null,null,null," "]
[null,null,null,null,null,null,null,null,null," "]
[null,null,null,null,null,null,null,null,null," "]
[null,null,null,null,null,null,null,null,null," "]
[null,null,null,null,null,null,null,null,null," "]
[null,null,null,null,null,null,null,null,null," "]
[null,null,null,null,null,null,null,null,null," "]
[null,null,null,null,null,null,null,null,null," "]
[null,null,null,null,null,null,null,null,null," "]
[null,null,null,null,null,null,null,null,null," "]
[null,null,null,null,null,null,null,null,null," "]
[null,null,null,null,null,null,null,null,null," "]
[null,null,null,null,null,null,null,null,null," "]
[null,null,null,null,null,null,null,null,null," "]
[null,null,null,null,null,null,null,null,null," "]
[null,null,null,null,null,null,null,null,null," "]
[null,null,null,null,null,null,null,null,null," "]
[null,null,null,null,null,null,null,null,null," "]
[null,null,null,null,null,null,null,null,null," "]
[null,null,null,null,null,null,null,null,null," "]
[null,null,null,null,null,null,null,null,null," "]
[null,null,null,null,null,null,null,null,null," "]
[null,null,null,null,null,null,null,null,null," "]
[null,null,null,null,null,null,null,null,null," "]
[null,null,null,null,null,null,null,null,null," "]
[null,null,null,null,null,null,null,null,null," "]
[null,null,null,null,null,null,null,null,null," "]
[null,null,null,null,null,null,null,null,null," "]
[null,null,null,null,null,null,null,null,null," "]
[null,null,null,null,null,null,null,null,null," "]
[null,null,null,null,null,null,null,null,null," "]
[null,null,null,null,null,null,null,null,null," "]
[null,null,null,null,null,null,null,null,null," "]
[null,null,null,null,null,null,null,null,null," "]
[null,null,null,null,null,null,null,null,null," "]
[null,null,null,null,null,null,null,null,null," "]
[null,null,null,null,null,null,null,null,null," "]
[null,null,null,null,null,null,null,null,null," "]
[null,null,null,null,null,null,null,null,null," "]
[null,null,null,null,null,null,null,null,null," "]
[null,null,null,null,null,null,null,null,null," "]
[null,null,null,null,null,null,null,null,null," "]
[null,null,null,null,null,null,null,null,null," "]
[null,null,null,null,null,null,null,null,null," "]
[null,null,null,null,null,null,null,null,null," "]
[null,null,null,null,null,null,null,null,null," "]
[null,null,null,null,null,null,null,null,null," "]
[null,null,null,null,null,null,null,null,null," "]
[null,null,null,null,null,null,null,null,null," "]
[null,null,null,null,null,null,null,null,null," "]
[null,null,null,null,null,null,null,null,null," "]
[null,null,null,null,null,null,null,null,null," "]
[null,null,null,null,null,null,null,null,null," "]
[null,null,null,null,null,null,null,null,null," "]
[null,null,null,null,null,null,null,null,null," "]
[null,null,null,null,null,null,null,null,null," "]
[null,null,null,null,null,null,null,null,null," "]
[null,null,null,null,null,null,null,null,null," "]
[null,null,null,null,null,null,null,null,null," "]
[null,null,null,null,null,null,null,null,null," "]
[null,null,null,null,null,null,null,null,null," "]
[null,null,null,null,null,null,null,null,null," "]
[null,null,null,null,null,null,null,null,null," "]
[null,null,null,null,null,null,null,null,null," "]
[null,null,null,null,null,null,null,null,null," "]
[null,null,null,null,null,null,null,null,null," "]
[null,null,null,null,null,null,null,null,null," "]
[null,null,null,null,null,null,null,null,null," "]
[null,null,null,null,null,null,null,null,null," "]
[null,null,null,null,null,null,null,null,null," "]
[null,null,null,null,null,null,null,null,null," "]
[null,null,null,null,null,null,null,null,null," "]
[null,null,null,null,null,null,null,null,null," "]
[null,null,null,null,null,null,null,null,null," "]
[null,null,null,null,null,null,null,null,null," "]
[null,null,null,null,null,null,null,null,null," "]
[null,null,null,null,null,null,null,null,null," "]
[null,null,null,null,null,null,null,null,null," "]
[null,null,null,null,null,null,null,null,null," "]
[null,null,null,null,null,null,null,null,null," "]
[null,null,null,null,null,null,null,null,null," "]
[null,null,null,null,null,null,null,null,null," "]
[null,null,null,null,null,null,null,null,null," "]
[null,null,null,null,null,null,null,null,null," "]
[null,null,null,null,null,null,null,null,null," "]
[null,null,null,null,null,null,null,null,null," "]
[null,null,null,null,null,null,null,null,null," "]
[null,null,null,null,null,null,null,null,null," "]
[null,null,null,null,null,null,null,null,null," "]
[null,null,null,null,null,null,null,null,null," "]
[null,null,null,null,null,null,null,null,null," "]
[null,null,null,null,null,null,null,null,null," "]
[null,null,null,null,null,null,null,null,null," "]
[null,null,null,null,null,null,null,null,null," "]
[null,null,null,null,null,null,null,null,null," "]
[null,null,null,null,null,null,null,null,null," "]
[null,null,null,null,null,null,null,null,null," "]
[null,null,null,null,null,null,null,null,null," "]
[null,null,null,null,null,null,null,null,null," "]
[null,null,null,null,null,null,null,null,null," "]
[null,null,null,null,null,null,null,null,null," "]
[null,null,null,null,null,null,null,null,null," "]
[null,null,null,null,null,null,null,null,null," "]
[null,null,null,null,null,null,null,null,null," "]
[null,null,null,null,null,null,null,null,null," "]
[null,null,null,null,null,null,null,null,null," "]
[null,null,null,null,null,null,null,null,null," "]
[null,null,null,null,null,null,null,null,null," "]
[null,null,null,null,null,null,null,null,null," "]
[null,null,null,null,null,null,null,null,null," "]
[null,null,null,null,null,null,null,null,null," "]
[null,null,null,null,null,null,null,null,null," "]
[null,null,null,null,null,null,null,null,null," "]
[null,null,null,null,null,null,null,null,null," "]
[null,null,null,null,null,null,null,null,null," "]
[null,null,null,null,null,null,null,null,null," "]
[null,null,null,null,null,null,null,null,null," "]
[null,null,null,null,null,null,null,null,null," "]
[null,null,null,null,null,null,null,null,null," "]
[null,null,null,null,null,null,null,null,null," "]
[null,null,null,null,null,null,null,null,null," "]
[null,null,null,null,null,null,null,null,null," "]
[null,null,null,null,null,null,null,null,null," "]
[null,null,null,null,null,null,null,null,null," "]
[null,null,null,null,null,null,null,null,null," "]
[null,null,null,null,null,null,null,null,null," "]
[null,null,null,null,null,null,null,null,null," "]
[null,null,null,null,null,null,null,null,null," "]
[null,null,null,null,null,null,null,null,null," "]
[null,null,null,null,null,null,null,null,null," "]
[null,null,null,null,null,null,null,null,null," "]
[null,null,null,null,null,null,null,null,null," "]
[null,null,null,null,null,null,null,null,null," "]
[null,null,null,null,null,null,null,null,null," "]
[null,null,null,null,null,null,null,null,null," "]
[null,null,null,null,null,null,null,null,null," "]
[null,null,null,null,null,null,null,null,null," "]
[null,null,null,null,null,null,null,null,null," "]
[null,null,null,null,null,null,null,null,null," "]
[null,null,null,null,null,null,null,null,null," "]
[null,null,null,null,null,null,null,null,null," "]
[null,null,null,null,null,null,null,null,null," "]
[null,null,null,null,null,null,null,null,null," "]
[null,null,null,null,null,null,null,null,null," "]
[null,null,null,null,null,null,null,null,null," "]
[null,null,null,null,null,null,null,null,null," "]
[null,null,null,null,null,null,null,null,null," "]
[null,null,null,null,null,null,null,null,null," "]
[null,null,null,null,null,null,null,null,null," "]
[null,null,null,null,null,null,null,null,null," "]
[null,null,null,null,null,null,null,null,null," "]
[null,null,null,null,null,null,null,null,null," "]
[null,null,null,null,null,null,null,null,null," "]
[null,null,null,null,null,null,null,null,null," "]
[null,null,null,null,null,null,null,null,null," "]
[null,null,null,null,null,null,null,null,null," "]
[null,null,null,null,null,null,null,null,null," "]
[null,null,null,null,null,null,null,null,null," "]
[null,null,null,null,null,null,null,null,null," "]
[null,null,null,null,null,null,null,null,null," "]
[null,null,null,null,null,null,null,null,null," "]
[null,null,null,null,null,null,null,null,null," "]
[null,null,null,null,null,null,null,null,null," "]

{"sheet":"Sheet5","index":7,"n_rows":491,"n_cols":24,"rows_kept":491,"cut":false,"hidden":false,"merged":[]}
["   1st Sabbath year",7,"e",null,null,"Adam",null,null,{"$f":"0+6","v":6},"e",{"$f":"1+6","v":7},"e",null,null,null,null,null,null,{"$f":"S2+1","v":236},247]
["   2nd Sabbath year",7,"e",null,null,"-6",null,null,{"$f":"I1+7","v":13},"e",{"$f":"K1+7","v":14},"e",null,null,null,null,null,null,235,246]
["   3rd Sabbath year",7,"e",null,null,"0=7",null,null,20,"e",21,"e",null,null,null,null,null,null,234,245]
["   4th Sabbath year",7,"e",null,null,null,null,null,27,"e",28,"e",null,null,null,null,null,null,233,244]
["   5th Sabbath year",7,"e",null,null,null,null,null,34,"e",35,"e",null,null,null,null,null,null,232,243]
["   6th Sabbath year",7,"e",null,null,null,null,null,41,"e",42,"e",null,null,null,null,null,null,231,242]
["   7th Sabbath year",7,"e",null,null,null,null,null,48,"e",49,"e",null,null,null,null,null,null,230,241]
["1st Year of Jubilee",50,"e",null,null,null,null,null,49,"e",50,"e",null,{"$f":"ABS(I8-(Sheet1!I140+4))","v":3861},null,{"$f":"ABS(K8-(Sheet1!I140+4))","v":3860},null,null,{"$f":"S9+7","v":229},{"$f":"T9+7","v":240},null,"2 Chron. 36:19-21; Lev. 25:8-10"]
["2nd Year of Jubilee",50,"e",null,null,null,null,null,{"$f":"I8+49","v":98},"e",{"$f":"K8+49","v":99},"e",null,{"$f":"ABS(I9-(Sheet1!I140+4))","v":3812},null,{"$f":"ABS(K9-(Sheet1!I140+4))","v":3811},null,null,{"$f":"S10","v":222},{"$f":"T10+1","v":233},null,"2 Chron. 36:19-21; Lev. 25:8-10"]
["   1st Sabbath year",7,"e",null,null,null,null,null,{"$f":"I9+6","v":104},"e",{"$f":"K9+6","v":105},"e",null,null,null,null,null,null,{"$f":"S11+1","v":222},232]
["   2nd Sabbath year",7,"e",null,null,null,null,null,{"$f":"I10+7","v":111},"e",{"$f":"K10+7","v":112},"e",null,null,null,null,null,null,221,231]
["   3rd Sabbath year",7,"e",null,null,null,null,null,{"$f":"I11+7","v":118},"e",{"$f":"K11+7","v":119},"e",null,null,null,null,null,null,220,230]
["   4th Sabbath year",7,"e",null,null,"Set",null,null,{"$f":"I12+7","v":125},"e",{"$f":"K12+7","v":126},"e",null,null,null,null,null,null,{"$f":"S20+1","v":219},{"$f":"T20+1","v":229}]
["      1st Year/Day",1,"e",null,null,null,null,null,{"$f":"I13+1","v":126},"e",{"$f":"K13+1","v":127},"e"]
["      2nd Year/Day",1,"e",null,null,null,null,null,127,"e",128,"e"]
["      3rd Year/Day",1,"e",null,null,null,null,null,128,"e",129,"e"]
["      4th Year/Day",1,"e",null,null,null,null,null,129,"e",130,"e"]
["      5th Year/Day",1,"e",null,null,null,null,null,130,"e",131,"e"]
["      6th Year/Day",1,"e",null,null,null,null,null,131,"e",132,"e"]
["   5th Sabbath year",7,"e",null,null,"-2",null,null,{"$f":"I13+7","v":132},"e",{"$f":"K13+7","v":133},"e",null,null,null,null,null,null,218,228]
["   6th Sabbath year",7,"e",null,null,4,null,null,{"$f":"I20+7","v":139},"e",{"$f":"K20+7","v":140},"e",null,null,null,null,null,null,217,227]
["   7th Sabbath year",7,"e",null,null,null,null,null,{"$f":"I21+7","v":146},"e",{"$f":"K21+7","v":147},"e",null,null,null,null,null,null,216,226]
["3rd Year of Jubilee",50,"e",null,null,null,null,null,{"$f":"I9+49","v":147},"e",{"$f":"K9+49","v":148},"e",null,{"$f":"ABS(I23-(Sheet1!I140+4))","v":3763},null,{"$f":"ABS(K23-(Sheet1!I140+4))","v":3762},null,null,{"$f":"S31+7","v":215},{"$f":"T31+7","v":225},null,"2 Chron. 36:19-21; Lev. 25:8-10"]
["   1st Sabbath year",7,"e",null,null,null,null,null,{"$f":"I23+6","v":153},"e",{"$f":"K23+6","v":154},"e",null,null,null,null,null,null,215,225]
["   2nd Sabbath year",7,"e",null,null,null,null,null,{"$f":"I24+7","v":160},"e",{"$f":"K24+7","v":161},"e",null,null,null,null,null,null,214,224]
["   3rd Sabbath year",7,"e",null,null,null,null,null,167,"e",168,"e",null,null,null,null,null,null,213,223]
["   4th Sabbath year",7,"e",null,null,"Set",null,null,174,"e",175,"e",null,null,null,null,null,null,212,222]
["   5th Sabbath year",7,"e",null,null,"-2",null,null,181,"e",182,"e",null,null,null,null,null,null,211,221]
["   6th Sabbath year",7,"e",null,null,4,null,null,188,"e",189,"e",null,null,null,null,null,null,210,220]
["   7th Sabbath year",7,"e",null,null,null,null,null,195,"e",196,"e",null,null,null,null,null,null,209,219]
["4th Year of Jubilee",50,"e",null,null,null,null,null,{"$f":"I23+49","v":196},"e",{"$f":"K23+49","v":197},"e",null,{"$f":"ABS(I31-(Sheet1!I140+4))","v":3714},null,{"$f":"ABS(K31-(Sheet1!I140+4))","v":3713},null,null,{"$f":"S32","v":208},{"$f":"T32+1","v":218},null,"2 Chron. 36:19-21; Lev. 25:8-10"]
["   1st Sabbath year",7,"e",null,null,null,null,null,{"$f":"I31+6","v":202},"e",{"$f":"K31+6","v":203},"e",null,null,null,null,null,null,{"$f":"S33+1","v":208},217]
["   2nd Sabbath year",7,"e",null,null,null,null,null,{"$f":"I32+7","v":209},"e",{"$f":"K32+7","v":210},"e",null,null,null,null,null,null,207,216]
["   3rd Sabbath year",7,"e",null,null,null,null,null,216,"e",217,"e",null,null,null,null,null,null,206,215]
["   4th Sabbath year",7,"e",null,null,null,null,null,223,"e",224,"e",null,null,null,null,null,null,205,214]
["   5th Sabbath year",7,"e",null,null,"Enos",null,null,230,"e",231,"e",null,null,null,null,null,null,204,213]
["   6th Sabbath year",7,"e",null,null,"-2",null,null,237,"e",238,"e",null,null,null,null,null,null,203,212]
["   7th Sabbath year",7,"e",null,null,4,null,null,244,"e",245,"e",null,null,null,null,null,null,202,211]
["5th Year of Jubilee",50,"e",null,null,null,null,null,{"$f":"I31+49","v":245},"e",{"$f":"K31+49","v":246},"e",null,{"$f":"ABS(I39-(Sheet1!I140+4))","v":3665},null,{"$f":"ABS(K39-(Sheet1!I140+4))","v":3664},null,null,{"$f":"S40+7","v":201},{"$f":"T40+7","v":210},null,"2 Chron. 36:19-21; Lev. 25:8-10"]
["6th Year of Jubilee",50,"e",null,null,null,null,null,{"$f":"I39+49","v":294},"e",{"$f":"K39+49","v":295},"e",null,{"$f":"ABS(I40-(Sheet1!I140+4))","v":3616},null,{"$f":"ABS(K40-(Sheet1!I140+4))","v":3615},null,null,{"$f":"S41","v":194},{"$f":"T41+1","v":203},null,"2 Chron. 36:19-21; Lev. 25:8-10"]
["   1st Sabbath year",7,"e",null,null,null,null,null,{"$f":"I40+6","v":300},"e",{"$f":"K40+6","v":301},"e",null,null,null,null,null,null,{"$f":"S42+1","v":194},202]
["   2nd Sabbath year",7,"e",null,null,null,null,null,{"$f":"I41+7","v":307},"e",{"$f":"K41+7","v":308},"e",null,null,null,null,null,null,193,201]
["   3rd Sabbath year",7,"e",null,null,null,null,null,314,"e",315,"e",null,null,null,null,null,null,192,200]
["   4th Sabbath year",7,"e",null,null,"Cainan",null,null,321,"e",322,"e",null,null,null,null,null,null,191,199]
["   5th Sabbath year",7,"e",null,null,-3,null,null,328,"e",329,"e",null,null,null,null,null,null,190,198]
["   6th Sabbath year",7,"e",null,null,3,null,null,335,"e",336,"e",null,null,null,null,null,null,189,197]
["   7th Sabbath year",7,"e",null,null,null,null,null,342,"e",343,"e",null,null,null,null,null,null,188,196]
["7th Year of Jubilee",50,"e",null,null,null,null,null,{"$f":"I40+49","v":343},"e",{"$f":"K40+49","v":344},"e",null,{"$f":"ABS(I48-(Sheet1!I140+4))","v":3567},null,{"$f":"ABS(K48-(Sheet1!I140+4))","v":3566},null,null,{"$f":"S49+7","v":187},{"$f":"T49+7","v":195},null,"2 Chron. 36:19-21; Lev. 25:8-10"]
["8th Year of Jubilee",50,"e",null,"Mahalaleel",null,null,null,{"$f":"I48+49","v":392},"e",{"$f":"K48+49","v":393},"e",null,{"$f":"ABS(I49-(Sheet1!I140+4))","v":3518},null,{"$f":"ABS(K49-(Sheet1!I140+4))","v":3517},null,null,{"$f":"S50+1","v":180},{"$f":"T50+1","v":188},null,"2 Chron. 36:19-21; Lev. 25:8-10"]
["   1st Sabbath year",7,"e",null,null,"-3",null,null,{"$f":"I49+6","v":398},"e",{"$f":"K49+6","v":399},"e",null,null,null,null,null,null,{"$f":"S51","v":179},{"$f":"T51+1","v":187}]
["   2nd Sabbath year",7,"e",null,null,3,null,null,{"$f":"I50+7","v":405},"e",{"$f":"K50+7","v":406},"e",null,null,null,null,null,null,179,186]
["   3rd Sabbath year",7,"e",null,null,null,null,null,412,"e",413,"e",null,null,null,null,null,null,178,185]
["   4th Sabbath year",7,"e",null,null,null,null,null,419,"e",420,"e",null,null,null,null,null,null,177,184]
["   5th Sabbath year",7,"e",null,null,null,null,null,426,"e",427,"e",null,null,null,null,null,null,176,183]
["   6th Sabbath year",7,"e",null,null,null,null,null,433,"e",434,"e",null,null,null,null,null,null,175,182]
["   7th Sabbath year",7,"e",null,null,null,null,null,440,"e",441,"e",null,null,null,null,null,null,174,181]
["9th Year of Jubilee",50,"e",null,null,null,null,null,{"$f":"I49+49","v":441},"e",{"$f":"K49+49","v":442},"e",null,{"$f":"ABS(I57-(Sheet1!I140+4))","v":3469},null,{"$f":"ABS(K57-(Sheet1!I140+4))","v":3468},null,null,{"$f":"S58","v":173},180,null,"2 Chron. 36:19-21; Lev. 25:8-10"]
["   1st Sabbath year",7,"e",null,null,null,null,null,{"$f":"I57+6","v":447},"e",{"$f":"K57+6","v":448},"e",null,null,null,null,null,null,{"$f":"S59+1","v":173},179]
["   2nd Sabbath year",7,"e",null,null,"Jared",null,null,{"$f":"I58+7","v":454},"e",{"$f":"K58+7","v":455},"e",null,null,null,null,null,null,172,178]
["   3rd Sabbath year",7,"e",null,null,-1,null,null,461,"e",462,"e",null,null,null,null,null,null,171,177]
["   4th Sabbath year",7,"e",null,null,5,null,null,468,"e",469,"e",null,null,null,null,null,null,170,176]
["   5th Sabbath year",7,"e",null,null,null,null,null,475,"e",476,"e",null,null,null,null,null,null,169,175]
["   6th Sabbath year",7,"e",null,null,null,null,null,482,"e",483,"e",null,null,null,null,null,null,168,174]
["   7th Sabbath year",7,"e",null,null,null,null,null,489,"e",490,"e",null,null,null,null,null,null,167,173]
["10th Year of Jubilee",50,"e",null,null,null,null,null,{"$f":"I57+49","v":490},"e",{"$f":"K57+49","v":491},"e",null,{"$f":"ABS(I65-(Sheet1!I140+4))","v":3420},null,{"$f":"ABS(K65-(Sheet1!I140+4))","v":3419},null,null,{"$f":"S67+7","v":166},{"$f":"T67+7","v":172},null,"2 Chron. 36:19-21; Lev. 25:8-10"]
["   Dawn of the Millenium",null,null,null,null,null,null,null,500,"e",501,"e",null,{"$f":"ABS(I66-(Sheet1!I140+4))","v":3410},null,{"$f":"ABS(K66-(Sheet1!I140+4))","v":3409}]
["11th Year of Jubilee",50,"e",null,null,null,null,null,{"$f":"I65+49","v":539},"e",{"$f":"K65+49","v":540},"e",null,{"$f":"ABS(I67-(Sheet1!I140+4))","v":3371},null,{"$f":"ABS(K67-(Sheet1!I140+4))","v":3370},null,null,{"$f":"S68+7","v":159},{"$f":"T68+7","v":165},null,"2 Chron. 36:19-21; Lev. 25:8-10"]
["12th Year of Jubilee",50,"e",null,null,null,null,null,{"$f":"I67+49","v":588},"e",{"$f":"K67+49","v":589},"e",null,{"$f":"ABS(I68-(Sheet1!I140+4))","v":3322},null,{"$f":"ABS(K68-(Sheet1!I140+4))","v":3321},null,null,{"$f":"S69","v":152},{"$f":"T69+1","v":158},null,"2 Chron. 36:19-21; Lev. 25:8-10"]
["   1st Sabbath year",7,"e",null,null,null,null,null,{"$f":"I68+6","v":594},"e",{"$f":"K68+6","v":595},"e",null,null,null,null,null,null,{"$f":"S70+1","v":152},157]
["   2nd Sabbath year",7,"e",null,null,null,null,null,{"$f":"I69+7","v":601},"e",{"$f":"K69+7","v":602},"e",null,null,null,null,null,null,151,156]
["   3rd Sabbath year",7,"e",null,null,null,null,null,608,"e",609,"e",null,null,null,null,null,null,150,155]
["   4th Sabbath year",7,"e",null,null,"Enoch",null,null,615,"e",616,"e",null,null,null,null,null,null,149,154]
["   5th Sabbath year",7,"e",null,null,0,null,null,622,"e",623,"e",null,null,null,null,null,null,148,153]
["   6th Sabbath year",7,"e",null,null,6,null,null,629,"e",630,"e",null,null,null,null,null,null,147,152]
["   7th Sabbath year",7,"e",null,null,null,null,null,636,"e",637,"e",null,null,null,null,null,null,146,151]
["13th Year of Jubilee",50,"e",null,null,null,null,null,{"$f":"I68+49","v":637},"e",{"$f":"K68+49","v":638},"e",null,{"$f":"ABS(I76-(Sheet1!I140+4))","v":3273},null,{"$f":"ABS(K76-(Sheet1!I140+4))","v":3272},null,null,{"$f":"S77+7","v":145},{"$f":"T77+7","v":150},null,"2 Chron. 36:19-21; Lev. 25:8-10"]
["14th Year of Jubilee",50,"e",null,"Methusaleh",null,null,null,{"$f":"I76+49","v":686},"e",{"$f":"K76+49","v":687},"e",null,{"$f":"ABS(I77-(Sheet1!I140+4))","v":3224},null,{"$f":"ABS(K77-(Sheet1!I140+4))","v":3223},null,null,{"$f":"S78","v":138},{"$f":"T78+1","v":143},null,"2 Chron. 36:19-21; Lev. 25:8-10"]
["   1st Sabbath year",7,"e",null,null,"-5",null,null,{"$f":"I77+6","v":692},"e",{"$f":"K77+6","v":693},"e",null,null,null,null,null,null,{"$f":"S79+1","v":138},142]
["   2nd Sabbath year",7,"e",null,null,1,null,null,{"$f":"I78+7","v":699},"e",{"$f":"K78+7","v":700},"e",null,null,null,null,null,null,137,141]
["   3rd Sabbath year",7,"e",null,null,null,null,null,706,"e",707,"e",null,null,null,null,null,null,136,140]
["   4th Sabbath year",7,"e",null,null,null,null,null,713,"e",714,"e",null,null,null,null,null,null,135,139]
["   5th Sabbath year",7,"e",null,null,null,null,null,720,"e",721,"e",null,null,null,null,null,null,134,138]
["   6th Sabbath year",7,"e",null,null,null,null,null,727,"e",728,"e",null,null,null,null,null,null,133,137]
["   7th Sabbath year",7,"e",null,null,null,null,null,734,"e",735,"e",null,null,null,null,null,null,132,136]
["15th Year of Jubilee",50,"e",null,null,null,null,null,{"$f":"I77+49","v":735},"e",{"$f":"K77+49","v":736},"e",null,{"$f":"ABS(I85-(Sheet1!I140+4))","v":3175},null,{"$f":"ABS(K85-(Sheet1!I140+4))","v":3174},null,null,{"$f":"S86+7","v":131},{"$f":"T86+7","v":135},null,"2 Chron. 36:19-21; Lev. 25:8-10"]
["16th Year of Jubilee",50,"e",null,null,null,null,null,{"$f":"I85+49","v":784},"e",{"$f":"K85+49","v":785},"e",null,{"$f":"ABS(I86-(Sheet1!I140+4))","v":3126},null,{"$f":"ABS(K86-(Sheet1!I140+4))","v":3125},null,null,{"$f":"S94+7","v":124},{"$f":"T94+7","v":128},null,"2 Chron. 36:19-21; Lev. 25:8-10"]
["   1st Sabbath year",7,"e",null,null,"-5",null,null,{"$f":"I86+6","v":790},"e",{"$f":"K86+6","v":791},"e",null,null,null,null,null,null,{"$f":"S88+1","v":124},{"$f":"T88+1","v":128}]
["   2nd Sabbath year",7,"e",null,null,1,null,null,{"$f":"I87+7","v":797},"e",{"$f":"K87+7","v":798},"e",null,null,null,null,null,null,123,127]
["   3rd Sabbath year",7,"e",null,null,null,null,null,804,"e",805,"e",null,null,null,null,null,null,122,126]
["   4th Sabbath year",7,"e",null,null,null,null,null,811,"e",812,"e",null,null,null,null,null,null,121,125]
["   5th Sabbath year",7,"e",null,null,null,null,null,818,"e",819,"e",null,null,null,null,null,null,120,124]
["   6th Sabbath year",7,"e",null,null,null,null,null,825,"e",826,"e",null,null,null,null,null,null,119,123]
["   7th Sabbath year",7,"e",null,null,null,null,null,832,"e",833,"e",null,null,null,null,null,null,118,122]
["17th Year of Jubilee",50,"e",null,null,null,null,null,{"$f":"I86+49","v":833},"e",{"$f":"K86+49","v":834},"e",null,{"$f":"ABS(I94-(Sheet1!I140+4))","v":3077},null,{"$f":"ABS(K94-(Sheet1!I140+4))","v":3076},null,null,{"$f":"S95","v":117},{"$f":"T95+1","v":121},null,"2 Chron. 36:19-21; Lev. 25:8-10"]
["   1st Sabbath year",7,"e",null,null,null,null,null,{"$f":"I94+6","v":839},"e",{"$f":"K94+6","v":840},"e",null,null,null,null,null,null,{"$f":"S96+1","v":117},120]
["   2nd Sabbath year",7,"e",null,null,null,null,null,{"$f":"I95+7","v":846},"e",{"$f":"K95+7","v":847},"e",null,null,null,null,null,null,116,119]
["   3rd Sabbath year",7,"e",null,null,null,null,null,853,"e",854,"e",null,null,null,null,null,null,115,118]
["   4th Sabbath year",7,"e",null,null,null,null,null,860,"e",861,"e",null,null,null,null,null,null,114,117]
["   5th Sabbath year",7,"e",null,null,"Lamech",null,null,867,"e",868,"e",null,null,null,null,null,null,113,116]
["   6th Sabbath year",7,"e",null,null,0,null,null,874,"e",875,"e",null,null,null,null,null,null,112,115]
["   7th Sabbath year",7,"e",null,null,6,null,null,881,"e",882,"e",null,null,null,null,null,null,111,114]
["18th Year of Jubilee",50,"e",null,null,null,null,null,{"$f":"I94+49","v":882},"e",{"$f":"K94+49","v":883},"e",null,{"$f":"ABS(I102-(Sheet1!I140+4))","v":3028},null,{"$f":"ABS(K102-(Sheet1!I140+4))","v":3027},null,null,{"$f":"S103+7","v":110},{"$f":"T103+7","v":113},null,"2 Chron. 36:19-21; Lev. 25:8-10"]
["19th Year of Jubilee",50,"e",null,null,null,null,null,{"$f":"I102+49","v":931},"e",{"$f":"K102+49","v":932},"e",null,{"$f":"ABS(I103-(Sheet1!I140+4))","v":2979},null,{"$f":"ABS(K103-(Sheet1!I140+4))","v":2978},null,"Adam died at the end of 19th cycle of 49 years",{"$f":"S104+7","v":103},{"$f":"T104+7","v":106},null,"2 Chron. 36:19-21; Lev. 25:8-10"]
["20th Year of Jubilee",50,"e",null,null,null,null,null,{"$f":"I103+49","v":980},"e",{"$f":"K103+49","v":981},"e",null,{"$f":"ABS(I104-(Sheet1!I140+4))","v":2930},null,{"$f":"ABS(K104-(Sheet1!I140+4))","v":2929},null,"Enoch is taken before the night…",{"$f":"S106+7","v":96},{"$f":"T106+7","v":99},null,"2 Chron. 36:19-21; Lev. 25:8-10"]
["   Eve of the new Millenium",null,null,null,null,null,null,null,{"$f":"I66+500","v":1000},"e",{"$f":"K66+500","v":1001},"e",null,{"$f":"ABS(I105-(Sheet1!I140+4))","v":2910},null,{"$f":"ABS(K105-(Sheet1!I140+4))","v":2909}]
["21st Year of Jubilee",50,"e",null,null,null,null,null,{"$f":"I104+49","v":1029},"e",{"$f":"K104+49","v":1030},"e",null,{"$f":"ABS(I106-(Sheet1!I140+4))","v":2881},null,{"$f":"ABS(K106-(Sheet1!I140+4))","v":2880},null,null,{"$f":"S107","v":89},{"$f":"T107+1","v":92},null,"2 Chron. 36:19-21; Lev. 25:8-10"]
["   1st Sabbath year",7,"e",null,null,null,null,null,{"$f":"I106+6","v":1035},"e",{"$f":"K106+6","v":1036},"e",null,null,null,null,null,null,89,91]
["   2nd Sabbath year",7,"e",null,null,null,null,null,{"$f":"I107+7","v":1042},"e",{"$f":"K107+7","v":1043},"e",null,null,null,null,null,null,88,90]
["   3rd Sabbath year",7,"e",null,null,"Noah",null,null,1049,"e",1050,"e",null,null,null,null,null,null,87,89]
["   4th Sabbath year",7,"e",null,null,0,null,null,1056,"e",1057,"e",null,null,null,null,null,null,86,88]
["   5th Sabbath year",7,"e",null,null,6,null,null,1063,"e",1064,"e",null,null,null,null,null,null,85,87]
["   6th Sabbath year",7,"e",null,null,null,null,null,1070,"e",1071,"e",null,null,null,null,null,null,84,86]
["   7th Sabbath year",7,"e",null,null,null,null,null,1077,"e",1078,"e",null,null,null,null,null,null,83,85]
["22nd Year of Jubilee",50,"e",null,null,null,null,null,{"$f":"I106+49","v":1078},"e",{"$f":"K106+49","v":1079},"e",null,{"$f":"ABS(I114-(Sheet1!I140+4))","v":2832},null,{"$f":"ABS(K114-(Sheet1!I140+4))","v":2831},null,null,{"$f":"S115+7","v":82},84,null,"2 Chron. 36:19-21; Lev. 25:8-10"]
["23rd Year of Jubilee",50,"e",null,null,null,null,null,{"$f":"I114+49","v":1127},"e",{"$f":"K114+49","v":1128},"e",null,{"$f":"ABS(I115-(Sheet1!I140+4))","v":2783},null,{"$f":"ABS(K115-(Sheet1!I140+4))","v":2782},null,null,75,77,null,"2 Chron. 36:19-21; Lev. 25:8-10"]
["24th Year of Jubilee",50,"e",null,null,null,null,null,1176,"e",1177,"e",null,{"$f":"ABS(I116-(Sheet1!I140+4))","v":2734},null,{"$f":"ABS(K116-(Sheet1!I140+4))","v":2733},null,null,68,70,null,"2 Chron. 36:19-21; Lev. 25:8-10"]
["25th Year of Jubilee",50,"e",null,null,null,null,null,1225,"e",1226,"e",null,{"$f":"ABS(I117-(Sheet1!I140+4))","v":2685},null,{"$f":"ABS(K117-(Sheet1!I140+4))","v":2684},null,null,61,63,null,"2 Chron. 36:19-21; Lev. 25:8-10"]
["26th Year of Jubilee",50,"e",null,null,null,null,null,1274,"e",1275,"e",null,{"$f":"ABS(I118-(Sheet1!I140+4))","v":2636},null,{"$f":"ABS(K118-(Sheet1!I140+4))","v":2635},null,null,54,56,null,"2 Chron. 36:19-21; Lev. 25:8-10"]
["27th Year of Jubilee",50,"e",null,null,null,null,null,1323,"e",1324,"e",null,{"$f":"ABS(I119-(Sheet1!I140+4))","v":2587},null,{"$f":"ABS(K119-(Sheet1!I140+4))","v":2586},null,null,47,49,null,"2 Chron. 36:19-21; Lev. 25:8-10"]
["28th Year of Jubilee",50,"e",null,null,null,null,null,1372,"e",1373,"e",null,{"$f":"ABS(I120-(Sheet1!I140+4))","v":2538},null,{"$f":"ABS(K120-(Sheet1!I140+4))","v":2537},null,null,40,42,null,"2 Chron. 36:19-21; Lev. 25:8-10"]
["29th Year of Jubilee",50,"e",null,null,null,null,null,1421,"e",1422,"e",null,{"$f":"ABS(I121-(Sheet1!I140+4))","v":2489},null,{"$f":"ABS(K121-(Sheet1!I140+4))","v":2488},null,null,33,35,null,"2 Chron. 36:19-21; Lev. 25:8-10"]
["30th Year of Jubilee",50,"e",null,null,null,null,null,1470,"e",1471,"e",null,{"$f":"ABS(I122-(Sheet1!I140+4))","v":2440},null,{"$f":"ABS(K122-(Sheet1!I140+4))","v":2439},null,null,{"$f":"S124+7","v":26},{"$f":"T124+7","v":28},null,"2 Chron. 36:19-21; Lev. 25:8-10"]
["   Dawn of the Millenium",null,null,null,null,null,null,null,{"$f":"I105+500","v":1500},"e",{"$f":"K105+500","v":1501},"e",null,{"$f":"ABS(I123-(Sheet1!I140+4))","v":2410},null,{"$f":"ABS(K123-(Sheet1!I140+4))","v":2409}]
["31st Year of Jubilee",50,"e",null,null,null,null,null,{"$f":"I122+49","v":1519},"e",{"$f":"K122+49","v":1520},"e",null,{"$f":"ABS(I124-(Sheet1!I140+4))","v":2391},null,{"$f":"ABS(K124-(Sheet1!I140+4))","v":2390},null,null,{"$f":"S125","v":19},{"$f":"T125+1","v":21},null,"2 Chron. 36:19-21; Lev. 25:8-10"]
["   1st Sabbath year",7,"e",null,null,null,null,null,{"$f":"I124+6","v":1525},"e",{"$f":"K124+6","v":1526},"e",null,null,null,null,null,"Years left until the Flood",{"$f":"S126+1","v":19},20]
["   2nd Sabbath year",7,"e",null,null,null,null,null,{"$f":"I125+7","v":1532},"e",{"$f":"K125+7","v":1533},"e",null,null,null,null,null,{"$f":"I139-I126","v":123},18,19]
["   3rd Sabbath year",7,"e",null,null,null,null,null,1539,"e",1540,"e",null,null,null,null,null,{"$f":"I139-I127","v":116},17,18]
["   4th Sabbath year",7,"e",null,null,null,null,null,1546,"e",1547,"e",null,null,null,null,null,{"$f":"I139-I128","v":109},16,17]
["   5th Sabbath year",7,"e",null,null,"Shem",null,null,1553,"e",1554,"e",null,null,null,null,null,{"$f":"I139-I129","v":102},15,16]
["   6th Sabbath year",7,"e",null,null,"-4",null,null,1560,"e",1561,"e",null,null,null,null,null,{"$f":"I139-I130","v":95},14,15]
["   7th Sabbath year",7,"e",null,null,2,null,null,1567,"e",1568,"e",null,null,null,null,null,{"$f":"I139-I131","v":88},13,14]
["32nd Year of Jubilee",50,"e",null,null,null,null,null,{"$f":"I124+49","v":1568},"e",{"$f":"K124+49","v":1569},"e",null,{"$f":"ABS(I132-(Sheet1!I140+4))","v":2342},null,{"$f":"ABS(K132-(Sheet1!I140+4))","v":2341},null,{"$f":"I139-I132","v":87},{"$f":"S133+7","v":12},{"$f":"T133+7","v":13},null,"2 Chron. 36:19-21; Lev. 25:8-10"]
["33rd Year of Jubilee",50,"e",null,null,null,null,null,{"$f":"I132+49","v":1617},"e",{"$f":"K132+49","v":1618},"e",null,{"$f":"ABS(I133-(Sheet1!I140+4))","v":2293},null,{"$f":"ABS(K133-(Sheet1!I140+4))","v":2292},null,{"$f":"I139-I133","v":38},{"$f":"S134","v":5},{"$f":"T134+1","v":6},null,"2 Chron. 36:19-21; Lev. 25:8-10"]
["   1st Sabbath year",7,"e",null,null,null,null,null,{"$f":"I133+6","v":1623},"e",{"$f":"K133+6","v":1624},"e",null,{"$f":"ABS(I134-(Sheet1!I140+4))","v":2287},null,{"$f":"ABS(K134-(Sheet1!I140+4))","v":2286},null,{"$f":"I139-I134","v":32},5,5,null,"2 Chron. 36:19-21; Lev. 25:8-10"]
["   2nd Sabbath year",7,"e",null,null,null,null,null,{"$f":"I134+7","v":1630},"e",{"$f":"K134+7","v":1631},"e",null,{"$f":"ABS(I135-(Sheet1!I140+4))","v":2280},null,{"$f":"ABS(K135-(Sheet1!I140+4))","v":2279},null,{"$f":"I139-I135","v":25},4,4,null,"2 Chron. 36:19-21; Lev. 25:8-10"]
["   3rd Sabbath year",7,"e",null,null,null,null,null,1637,"e",1638,"e",null,{"$f":"ABS(I136-(Sheet1!I140+4))","v":2273},null,{"$f":"ABS(K136-(Sheet1!I140+4))","v":2272},null,{"$f":"I139-I136","v":18},3,3,null,"2 Chron. 36:19-21; Lev. 25:8-10"]
["   4th Sabbath year",7,"e",null,null,null,null,null,1644,"e",1645,"e",null,{"$f":"ABS(I137-(Sheet1!I140+4))","v":2266},null,{"$f":"ABS(K137-(Sheet1!I140+4))","v":2265},null,{"$f":"I139-I137","v":11},{"$f":"S138+1","v":2},{"$f":"T138+1","v":2},null,"2 Chron. 36:19-21; Lev. 25:8-10"]
["   5th Sabbath year",7,"e",null,null,null,null,null,1651,"e",1652,"e",null,{"$f":"ABS(I138-(Sheet1!I140+4))","v":2259},null,{"$f":"ABS(K138-(Sheet1!I140+4))","v":2258},null,{"$f":"I139-I138","v":4},1,1,null,"2 Chron. 36:19-21; Lev. 25:8-10"]
["    - 4th year in cycle of 7 years (39th of 49 yrs)",null,null,null,null,null,null,null,{"$f":"Sheet1!I16","v":1655},null,{"$f":"Sheet1!K16","v":1656},null,null,{"$f":"ABS(I139-(Sheet1!I140+4))","v":2255},null,{"$f":"ABS(K139-(Sheet1!I140+4))","v":2254},null,"The Flood"]
["   6th Sabbath year",7,"e",null,null,null,null,null,{"$f":"I138+7","v":1658},"e",{"$f":"K138+7","v":1659},"e",null,{"$f":"ABS(I140-(Sheet1!I140+4))","v":2252},null,{"$f":"ABS(K140-(Sheet1!I140+4))","v":2251},null,null,null,null,null,"2 Chron. 36:19-21; Lev. 25:8-10"]
["   7th Sabbath year",7,"e",null,null,null,null,null,1665,"e",1666,"e",null,{"$f":"ABS(I141-(Sheet1!I140+4))","v":2245},null,{"$f":"ABS(K141-(Sheet1!I140+4))","v":2244},null,null,null,null,null,"2 Chron. 36:19-21; Lev. 25:8-10"]
["34th Year of Jubilee",50,"e",null,null,null,null,null,{"$f":"I133+49","v":1666},"e",{"$f":"K133+49","v":1667},"e",null,{"$f":"ABS(I142-(Sheet1!I140+4))","v":2244},null,{"$f":"ABS(K142-(Sheet1!I140+4))","v":2243},null,null,null,null,null,"2 Chron. 36:19-21; Lev. 25:8-10"]
["35th Year of Jubilee",50,"e",null,null,null,null,null,{"$f":"I142+49","v":1715},"e",{"$f":"K142+49","v":1716},"e",null,{"$f":"ABS(I143-(Sheet1!I140+4))","v":2195},null,{"$f":"ABS(K143-(Sheet1!I140+4))","v":2194},null,null,null,null,null,"2 Chron. 36:19-21; Lev. 25:8-10"]
["36th Year of Jubilee",50,"e",null,null,null,null,null,{"$f":"I143+49","v":1764},"e",{"$f":"K143+49","v":1765},"e",null,{"$f":"ABS(I144-(Sheet1!I140+4))","v":2146},null,{"$f":"ABS(K144-(Sheet1!I140+4))","v":2145},null,null,null,null,null,"2 Chron. 36:19-21; Lev. 25:8-10"]
["37th Year of Jubilee",50,"e",null,null,null,null,null,{"$f":"I144+49","v":1813},"e",{"$f":"K144+49","v":1814},"e",null,{"$f":"ABS(I145-(Sheet1!I140+4))","v":2097},null,{"$f":"ABS(K145-(Sheet1!I140+4))","v":2096},null,null,null,null,null,"2 Chron. 36:19-21; Lev. 25:8-10"]
["38th Year of Jubilee",50,"e",null,null,null,null,null,{"$f":"I145+49","v":1862},"e",{"$f":"K145+49","v":1863},"e",null,{"$f":"ABS(I146-(Sheet1!I140+4))","v":2048},null,{"$f":"ABS(K146-(Sheet1!I140+4))","v":2047},null,null,null,null,null,"2 Chron. 36:19-21; Lev. 25:8-10"]
["39th Year of Jubilee",50,"e",null,null,null,null,null,{"$f":"I146+49","v":1911},"e",{"$f":"K146+49","v":1912},"e",null,{"$f":"ABS(I147-(Sheet1!I140+4))","v":1999},null,{"$f":"ABS(K147-(Sheet1!I140+4))","v":1998},null,null,null,null,null,"2 Chron. 36:19-21; Lev. 25:8-10"]
["   1st Sabbath year",7,"e",null,null,null,null,null,{"$f":"I147+6","v":1917},"e",{"$f":"K147+6","v":1918},"e"]
["   2nd Sabbath year",7,"e",null,null,null,null,null,{"$f":"I148+7","v":1924},"e",{"$f":"K148+7","v":1925},"e"]
["   3rd Sabbath year",7,"e",null,null,null,null,null,1931,"e",1932,"e"]
["   4th Sabbath year",7,"e",null,null,null,null,null,1938,"e",1939,"e"]
["   5th Sabbath year",7,"e",null,null,"Abram",null,null,1945,"e",1946,"e"]
["   6th Sabbath year",7,"e",null,null,"-6",null,null,1952,"e",1953,"e"]
["   7th Sabbath year",7,"e",null,null,"0=7",null,null,1959,"e",1960,"e"]
["40th Year of Jubilee",50,"e",null,null,null,null,null,{"$f":"I147+49","v":1960},"e",{"$f":"K147+49","v":1961},"e",null,{"$f":"ABS(I155-(Sheet1!I140+4))","v":1950},null,{"$f":"ABS(K155-(Sheet1!I140+4))","v":1949},null,null,null,null,null,"2 Chron. 36:19-21; Lev. 25:8-10"]
["   Eve of the new Millenium",null,null,null,null,null,null,null,{"$f":"I123+500","v":2000},"e",{"$f":"K123+500","v":2001},"e",null,{"$f":"ABS(I156-(Sheet1!I140+4))","v":1910},null,{"$f":"ABS(K156-(Sheet1!I140+4))","v":1909}]
["41st Year of Jubilee",50,"e",null,null,null,null,null,{"$f":"I155+49","v":2009},"e",{"$f":"K155+49","v":2010},"e",null,{"$f":"ABS(I157-(Sheet1!I140+4))","v":1901},null,{"$f":"ABS(K157-(Sheet1!I140+4))","v":1900},null,null,null,null,null,"2 Chron. 36:19-21; Lev. 25:8-10"]
["42nd Year of Jubilee",50,"e",null,null,null,null,null,{"$f":"I157+49","v":2058},"e",{"$f":"K157+49","v":2059},"e",null,{"$f":"ABS(I158-(Sheet1!I140+4))","v":1852},null,{"$f":"ABS(K158-(Sheet1!I140+4))","v":1851},null,null,null,null,null,"2 Chron. 36:19-21; Lev. 25:8-10"]
["43rd Year of Jubilee",50,"e",null,null,null,null,null,2107,"e",2108,"e",null,{"$f":"ABS(I159-(Sheet1!I140+4))","v":1803},null,{"$f":"ABS(K159-(Sheet1!I140+4))","v":1802},null,null,null,null,null,"2 Chron. 36:19-21; Lev. 25:8-10"]
["44th Year of Jubilee",50,"e",null,null,null,null,null,2156,"e",2157,"e",null,{"$f":"ABS(I160-(Sheet1!I140+4))","v":1754},null,{"$f":"ABS(K160-(Sheet1!I140+4))","v":1753},null,null,null,null,null,"2 Chron. 36:19-21; Lev. 25:8-10"]
["45th Year of Jubilee",50,"e",null,null,null,null,null,2205,"e",2206,"e",null,{"$f":"ABS(I161-(Sheet1!I140+4))","v":1705},null,{"$f":"ABS(K161-(Sheet1!I140+4))","v":1704},null,null,null,null,null,"2 Chron. 36:19-21; Lev. 25:8-10"]
["   1st Sabbath year",7,"e",null,null,null,null,null,{"$f":"I161+6","v":2211},"e",{"$f":"K161+6","v":2212},"e",null,{"$f":"ABS(I162-(Sheet1!I140+4))","v":1699},null,{"$f":"ABS(K162-(Sheet1!I140+4))","v":1698}]
["   2nd Sabbath year",7,"e",null,null,null,null,null,{"$f":"I162+7","v":2218},"e",{"$f":"K162+7","v":2219},"e",null,{"$f":"ABS(I163-(Sheet1!I140+4))","v":1692},null,{"$f":"ABS(K163-(Sheet1!I140+4))","v":1691}]
["   3rd Sabbath year",7,"e",null,null,null,null,null,2225,"e",2226,"e",null,{"$f":"ABS(I164-(Sheet1!I140+4))","v":1685},null,{"$f":"ABS(K164-(Sheet1!I140+4))","v":1684}]
["   4th Sabbath year",7,"e",null,null,null,null,null,2232,"e",2233,"e",null,{"$f":"ABS(I165-(Sheet1!I140+4))","v":1678},null,{"$f":"ABS(K165-(Sheet1!I140+4))","v":1677}]
["   5th Sabbath year",7,"e",null,null,null,null,null,2239,"e",2240,"e",null,{"$f":"ABS(I166-(Sheet1!I140+4))","v":1671},null,{"$f":"ABS(K166-(Sheet1!I140+4))","v":1670}]
["   6th Sabbath year",7,"e",null,null,null,null,null,2246,"e",2247,"e",null,{"$f":"ABS(I167-(Sheet1!I140+4))","v":1664},null,{"$f":"ABS(K167-(Sheet1!I140+4))","v":1663}]
["   7th Sabbath year",7,"e",null,null,null,null,null,2253,"e",2254,"e",null,{"$f":"ABS(I168-(Sheet1!I140+4))","v":1657},null,{"$f":"ABS(K168-(Sheet1!I140+4))","v":1656}]
["46th Year of Jubilee",50,"e",null,null,null,null,null,{"$f":"I161+49","v":2254},"e",{"$f":"K161+49","v":2255},"e",null,{"$f":"ABS(I169-(Sheet1!I140+4))","v":1656},null,{"$f":"ABS(K169-(Sheet1!I140+4))","v":1655},null,null,null,null,null,"2 Chron. 36:19-21; Lev. 25:8-10"]
["47th Year of Jubilee",50,"e",null,null,null,null,null,2303,"e",2304,"e",null,{"$f":"ABS(I170-(Sheet1!I140+4))","v":1607},null,{"$f":"ABS(K170-(Sheet1!I140+4))","v":1606},null,null,null,null,null,"2 Chron. 36:19-21; Lev. 25:8-10"]
["48th Year of Jubilee",50,"e",null,null,null,null,null,2352,"e",2353,"e",null,{"$f":"ABS(I171-(Sheet1!I140+4))","v":1558},null,{"$f":"ABS(K171-(Sheet1!I140+4))","v":1557},null,null,null,null,null,"2 Chron. 36:19-21; Lev. 25:8-10"]
["49th Year of Jubilee",50,"e",null,null,null,null,null,2401,"e",2402,"e",null,{"$f":"ABS(I172-(Sheet1!I140+4))","v":1509},null,{"$f":"ABS(K172-(Sheet1!I140+4))","v":1508},null,null,null,null,null,"2 Chron. 36:19-21; Lev. 25:8-10"]
["50th Year of Jubilee",50,"e",null,null,null,null,null,2450,"e",2451,"e",null,{"$f":"ABS(I173-(Sheet1!I140+4))","v":1460},null,{"$f":"ABS(K173-(Sheet1!I140+4))","v":1459},null,"Exodus 15 Nisan, 2451/1473",null,null,null,"2 Chron. 36:19-21; Lev. 25:8-10"]
["51st Year of Jubilee",50,"e",null,null,null,null,null,2499,"e",2500,"e",null,{"$f":"ABS(I174-(Sheet1!I140+4))","v":1411},null,{"$f":"ABS(K174-(Sheet1!I140+4))","v":1410},null,null,null,null,null,"2 Chron. 36:19-21; Lev. 25:8-10"]
["   Dawn of the Millenium",null,null,null,null,null,null,null,{"$f":"I156+500","v":2500},"e",{"$f":"K156+500","v":2501},"e",null,{"$f":"ABS(I175-(Sheet1!I140+4))","v":1410},null,{"$f":"ABS(K175-(Sheet1!I140+4))","v":1409},null,"Promised Land entered"]
["52nd Year of Jubilee",50,"e",null,null,null,null,null,{"$f":"I174+49","v":2548},"e",{"$f":"K174+49","v":2549},"e",null,{"$f":"ABS(I176-(Sheet1!I140+4))","v":1362},null,{"$f":"ABS(K176-(Sheet1!I140+4))","v":1361}]
["53rd Year of Jubilee",50,"e",null,null,null,null,null,{"$f":"I176+49","v":2597},"e",{"$f":"K176+49","v":2598},"e",null,{"$f":"ABS(I177-(Sheet1!I140+4))","v":1313},null,{"$f":"ABS(K177-(Sheet1!I140+4))","v":1312}]
["54th Year of Jubilee",50,"e",null,null,null,null,null,2646,"e",2647,"e",null,{"$f":"ABS(I178-(Sheet1!I140+4))","v":1264},null,{"$f":"ABS(K178-(Sheet1!I140+4))","v":1263}]
["55th Year of Jubilee",50,"e",null,null,null,null,null,2695,"e",2696,"e",null,{"$f":"ABS(I179-(Sheet1!I140+4))","v":1215},null,{"$f":"ABS(K179-(Sheet1!I140+4))","v":1214}]
["56th Year of Jubilee",50,"e",null,null,null,null,null,2744,"e",2745,"e",null,{"$f":"ABS(I180-(Sheet1!I140+4))","v":1166},null,{"$f":"ABS(K180-(Sheet1!I140+4))","v":1165}]
["57th Year of Jubilee",50,"e",null,null,null,null,null,2793,"e",2794,"e",null,{"$f":"ABS(I181-(Sheet1!I140+4))","v":1117},null,{"$f":"ABS(K181-(Sheet1!I140+4))","v":1116}]
["58th Year of Jubilee",50,"e",null,null,null,null,null,2842,"e",2843,"e",null,{"$f":"ABS(I182-(Sheet1!I140+4))","v":1068},null,{"$f":"ABS(K182-(Sheet1!I140+4))","v":1067}]
["   1st Sabbath year",7,"e",null,null,null,null,null,{"$f":"I182+6","v":2848},"e",{"$f":"K182+6","v":2849},"e",null,{"$f":"ABS(I183-(Sheet1!I140+4))","v":1062},null,{"$f":"ABS(K183-(Sheet1!I140+4))","v":1061}]
["   2nd Sabbath year",7,"e",null,null,null,null,null,{"$f":"I183+7","v":2855},"e",{"$f":"K183+7","v":2856},"e",null,{"$f":"ABS(I184-(Sheet1!I140+4))","v":1055},null,{"$f":"ABS(K184-(Sheet1!I140+4))","v":1054}]
["   3rd Sabbath year",7,"e",null,null,null,null,null,2862,"e",2863,"e",null,{"$f":"ABS(I185-(Sheet1!I140+4))","v":1048},null,{"$f":"ABS(K185-(Sheet1!I140+4))","v":1047}]
["   4th Sabbath year",7,"e",null,null,null,null,null,2869,"e",2870,"e",null,{"$f":"ABS(I186-(Sheet1!I140+4))","v":1041},null,{"$f":"ABS(K186-(Sheet1!I140+4))","v":1040}]
["      Saul's anointing by Samuel?",null,null,null,null,null,null,null,{"$f":"Sheet1!I99","v":2877},null,{"$f":"I187+1","v":2878},null,null,{"$f":"ABS(I187-(Sheet1!I140+4))","v":1033},null,{"$f":"ABS(K187-(Sheet1!I140+4))","v":1032},null,null,null,null,"This, i.e. the '60' below, is the 1st of the Sabbath Years ADDING up to the 60 (when the 1 Jubilee years are excluded) non-Sabbath years among the 70 years of Babylonian captivity counting backwards from the start of Evil-merodach's reign. There were 10 Sabbath Years (and 1 Jubilee year) during those 70 Babylonian Years, thus 70-10=60 to make up for!  This year, i.e. the 2877th Year, is also the 1st year (?) of Saul's reign. It makes sense to consider each man for himself responsible for keeping the sabbath year of rest, and the consequences of not so doing, and thus no congregational responsibility for Israel as a People.  NOTICE: This is the 5th Sabbath Year following the 58th Jubilee Cycle.  What follows then is the beginning of the 6th week following the 58 Jubilee Cycle."]
["   5th Sabbath year",7,"e",null,null,null,null,null,{"$f":"I186+7","v":2876},"e",{"$f":"K186+7","v":2877},"e",null,{"$f":"ABS(I188-(Sheet1!I140+4))","v":1034},null,{"$f":"ABS(K188-(Sheet1!I140+4))","v":1033},null,null,null,null,{"$f":"U191+1","v":60}]
["      Saul's anointing by Samuel?",null,null,null,null,null,null,null,{"$f":"Sheet1!I99","v":2877},null,{"$f":"I189+1","v":2878},null,null,{"$f":"ABS(I189-(Sheet1!I140+4))","v":1033},null,{"$f":"ABS(K189-(Sheet1!I140+4))","v":1032}]
["      David's anointing by Samuel? If this date is correct it occurred in the 5th Year of the 6th Sabbath Cycle of the 59th Jubilee Cycle… Significance? Well, on the 5th Day the Beasts of the Seas and the Fowl of the Air were created.  Adding One (5th+1=6th & 59th+1=60th), as in One Man or as in the One God, one obtains merely that which is the characteristic of Man, i.e. the Mark of Man, the number 6.  Thus the very best any kingdom of Man, even the kingdom of David, can ever be, is the same as that of Man, i.e. Each One is responsible, and to the extent that responsibilities are being delegated to another, e.g. a king, a kingdom, or any government, the result is a BEAST OF THE SEA, a Leviathan, a Dragon, the Mark of the Beast, 666, IMPERFECTION!  In other words: THE LESSON is that NO king, NO kingdom, NO government, other than that of the Creator alone, can ever even hope to attain perfection. For anyone to give their allegiance and/or support etc. to such a creation is DOOMED FROM THE VERY BEGINNING, EVEN UNDER THE VERY BEST OF CIRCUMSTANCES!  One other question: Does the above, and the synchronicity found in similar events, e.g. 49 years later, confirm the veracity of this assumed date for the anointing of king David by Samuel? Who knows?",null,null,null,null,null,null,null,{"$f":"I188+5","v":2881},null,{"$f":"K188+5","v":2882},null,null,{"$f":"ABS(I190-(Sheet1!I140+4))","v":1029},null,{"$f":"ABS(K190-(Sheet1!I140+4))","v":1028}]
["   6th Sabbath year",7,"e",null,null,null,null,null,{"$f":"I188+7","v":2883},"e",{"$f":"K188+7","v":2884},"e",null,{"$f":"ABS(I191-(Sheet1!I140+4))","v":1027},null,{"$f":"ABS(K191-(Sheet1!I140+4))","v":1026},null,null,null,null,{"$f":"U192+1","v":59}]
["   7th Sabbath year",7,"e",null,null,null,null,null,2890,"e",2891,"e",null,{"$f":"ABS(I192-(Sheet1!I140+4))","v":1020},null,{"$f":"ABS(K192-(Sheet1!I140+4))","v":1019},null,null,null,null,{"$f":"U194+1","v":58}]
["59th Year of Jubilee",50,"e",null,null,null,null,null,{"$f":"I182+49","v":2891},"e",{"$f":"K182+49","v":2892},"e",null,{"$f":"ABS(I193-(Sheet1!I140+4))","v":1019},null,{"$f":"ABS(K193-(Sheet1!I140+4))","v":1018}]
["   1st Sabbath year",7,"e",null,null,null,null,null,{"$f":"I193+6","v":2897},"e",{"$f":"K193+6","v":2898},"e",null,{"$f":"ABS(I194-(Sheet1!I140+4))","v":1013},null,{"$f":"ABS(K194-(Sheet1!I140+4))","v":1012},null,null,null,null,{"$f":"U195+1","v":57}]
["   2nd Sabbath year",7,"e",null,null,null,null,null,{"$f":"I194+7","v":2904},"e",{"$f":"K194+7","v":2905},"e",null,{"$f":"ABS(I195-(Sheet1!I140+4))","v":1006},null,{"$f":"ABS(K195-(Sheet1!I140+4))","v":1005},null,null,null,null,{"$f":"U196+1","v":56}]
["   3rd Sabbath year",7,"e",null,null,null,null,null,2911,"e",2912,"e",null,{"$f":"ABS(I196-(Sheet1!I140+4))","v":999},null,{"$f":"ABS(K196-(Sheet1!I140+4))","v":998},null,null,null,null,{"$f":"U197+1","v":55}]
["   4th Sabbath year",7,"e",null,null,null,null,null,2918,"e",2919,"e",null,{"$f":"ABS(I197-(Sheet1!I140+4))","v":992},null,{"$f":"ABS(K197-(Sheet1!I140+4))","v":991},null,null,null,null,{"$f":"U198+1","v":54},"This, i.e. the '54' below, is the 1st of the Sabbath Years ADDING up to the 54 (when the 1 Jubilee years are excluded) non-Sabbath years among the 70-7 years of Babylonian captivity counting backwards from the start of Evil-merodach's reign. There were 9 Sabbath Years (and 1 Jubilee year) during those 70-7 Babylonian Years, thus 63-9=54 to make up for!  This year, i.e. the 2926th Year, is also the 39th year of David's reign. Were kings Saul, and David, up to this point in time keeping the Sabbath years!!!?  NOTICE: This is the 5th Sabbath Year of the 60th Jubilee Cycle.  What follows then is the beginning of the last 6th week within the 6th Cycle of 10 Jubilee Cycles, i.e. a kind of 66 mark."]
["   5th Sabbath year",7,"e",null,null,null,null,null,2925,"e",2926,"e",null,{"$f":"ABS(I198-(Sheet1!I140+4))","v":985},null,{"$f":"ABS(K198-(Sheet1!I140+4))","v":984},null,null,null,null,{"$f":"U200+1","v":53},{"$f":"V200+1","v":54}]
["      Foundation laid to Solomon's Temple. NOTICE the synchronicity between this event and that of David's being anointed by Samuel perhaps exactly 49 years prior.  Significance? See comments pertaining to David's anointing by Samuel (above)!",null,null,null,null,null,null,null,{"$f":"I198+5","v":2930},null,{"$f":"K198+5","v":2931},null,null,{"$f":"ABS(I199-(Sheet1!I140+4))","v":980},null,{"$f":"ABS(K199-(Sheet1!I140+4))","v":979}]
["   6th Sabbath year",7,"e",null,null,null,null,null,{"$f":"I198+7","v":2932},"e",{"$f":"K198+7","v":2933},"e",null,{"$f":"ABS(I200-(Sheet1!I140+4))","v":978},null,{"$f":"ABS(K200-(Sheet1!I140+4))","v":977},null,null,null,"This, i.e. the '59' below, is the 1st of the Sabbath Years ADDING up to the 59 non-Sabbath years among the 70 years of Babylonian captivity counting backwards from the start of Evil-merodach's reign. There were 11 Sabbath Years during those 70 Babylonian Years, thus 70-11=59 to make up for!  This year, i.e. the 2940th Year, is also the 14th year of Solomon's reign. Were kings Saul, David and Solomon up to this point in time keeping the Sabbath years!!!?  NOTICE: This is the last Sabbath Year within the first 60 Jubilee Cycles.  What follows then is the beginning o  the 7th Cycle of 10 Jubilee Cycles, i.e. a kind of a sabbath cycle in and of itself.  Is that what One would call the Day of the Lord?  Would the outcome have been different if the people had been focusing more on learning and applying the Sabbath Principles of the Lord during this next Cycle of 10 Jubilee Cycles?  The answer is of course a given regardless of what timeperiod it pertains to, but perhaps even more here, just the same as THE 7th Day being different from just keeping 'sabbath' on any day of the week...  The Temple of Solomon was finished in 2937, thus the subsequent Sabbath Year, i.e. the one labeled '59' below, was also the first Sabbath Year following the completion of Solomon's Temple.  Could it be then that the non-kept Sabbath Years being accounted for during Jeremiah's prophetic definition of the 70 years of captivity - as here uniquely applied - started to accumulate and somehow to be recorded - based upon the finishing of Solomon's Temple????",{"$f":"U201+1","v":52},53]
["   7th Sabbath year",7,"e",null,null,null,null,null,2939,"e",2940,"e",null,{"$f":"ABS(I201-(Sheet1!I140+4))","v":971},null,{"$f":"ABS(K201-(Sheet1!I140+4))","v":970},null,null,null,59,{"$f":"U203+1","v":51},{"$f":"V203+1","v":52}]
["60th Year of Jubilee",50,"e",null,null,null,null,null,{"$f":"I193+49","v":2940},"e",{"$f":"K193+49","v":2941},"e",null,{"$f":"ABS(I202-(Sheet1!I140+4))","v":970},null,{"$f":"ABS(K202-(Sheet1!I140+4))","v":969},null,null,null,58]
["   1st Sabbath year",7,"e",null,null,null,null,null,{"$f":"I202+6","v":2946},"e",{"$f":"K202+6","v":2947},"e",null,{"$f":"ABS(I203-(Sheet1!I140+4))","v":964},null,{"$f":"ABS(K203-(Sheet1!I140+4))","v":963},null,null,null,57,50,51]
["   2nd Sabbath year",7,"e",null,null,null,null,null,{"$f":"I203+7","v":2953},"e",{"$f":"K203+7","v":2954},"e",null,{"$f":"ABS(I204-(Sheet1!I140+4))","v":957},null,{"$f":"ABS(K204-(Sheet1!I140+4))","v":956},null,null,"This, i.e. the '58' below, is the 1st of the Sabbath Years ADDING up to the 58 non-Sabbath years among the 70 years of Babylonian captivity. There were 12 Sabbath Years during those 70 Babylonian Years, thus 70-12=58 to make up for!  This year, i.e. the 2961st Year, is also the 34th year of Solomon's reign and his last Sabbath Year of reign prior to the reign of Rehoboam king of Judah and of Jeroboam king of Israel! Thus, apparently kings Saul, David and Solomon up to this point in time did keep the Sabbath years!!!?  NOTICE: This is the 1st 49 year Sabbath Cycle after the first 60 such Years of Jubilee.  This Jubilee Cycle is thus in and of itself a kind of a Sabbath Cycle in that it is the beginning of the 7th Cycle of 10 Jubilee Cycles. WHAT HAPPENED? On the 4th Sabbath Year in the 1st, i.e. 61st, Jubilee Cycle the People changed their Calendar from the one which was designed to keep them truly oriented in Time, i.e. relative to the entire creation, and to the Creator.  NOTICE on the 4th Day of Creation the Heavenly Luminaries were created as our Divine Calendar and as our one and only True Reference in Time! Significant? Seems to me it is!!!!  On that particular Sabbath Year, i.e. the 4th, and middle, Sabbath Year of the 61 Cycle of Jubilees since creation, and the 2nd one not kept, the people should have had occation for commemorating the 4th Day of Creation in a very special way!!!!  PERHAPS, in like manner we are missing a parallell LESSON from the exact date upon which the crucifixion of Jehoshua, the Messiah, took place????!!!!  Please see and compare that date below on this chart!  -  This suggests also that there was a predictable event happening once again counting 70*7 years from king Darius of Persia and Daniel's recognition and understanding of Jeremiah's 70 year prophecy!!! Let me see... And what about the significance of the 3rd Sabbath year within the Cycle?  Perhaps something about the perfection of the number three as in that which was completed during the first 3 Creation Days?  Perhaps something about the importance of commemorating the basis of our existance as living and mobile organisms? Perhaps staying oriented in Time is such an essential basis of our existance???!!!",56,49,50]
["   3rd Sabbath year",7,"e",null,null,null,null,null,2960,"e",2961,"e",null,{"$f":"ABS(I205-(Sheet1!I140+4))","v":950},null,{"$f":"ABS(K205-(Sheet1!I140+4))","v":949},null,null,{"$f":"S206+1","v":58},55,48,49]
["   4th Sabbath year",7,"e",null,null,null,null,null,2967,"e",2968,"e",null,{"$f":"ABS(I206-(Sheet1!I140+4))","v":943},null,{"$f":"ABS(K206-(Sheet1!I140+4))","v":942},null,null,{"$f":"S207+1","v":57},54,47,48]
["   5th Sabbath year",7,"e",null,null,null,null,null,2974,"e",2975,"e",null,{"$f":"ABS(I207-(Sheet1!I140+4))","v":936},null,{"$f":"ABS(K207-(Sheet1!I140+4))","v":935},null,null,{"$f":"S208+1","v":56},53,46,47,"This, i.e. the '53' below, is the 1st of the Sabbath Years ADDING up to the 53 non-Sabbath years among the 70-7 years of Babylonian captivity counting backwards from the start of Evil-merodach's reign. There were 9 Sabbath Years plus 1 Jubilee year = 10 years of rest during those 70-7 Babylonian Years, thus 63-10=53 to make up for!  This year, i.e. the 2982nd Year, is also the 15th year of Rehoboam's reign. Were kings Saul, David, Solomon, and Rehoboam, up to this point in time, keeping the Sabbath years!!!?  NOTICE: This is the 6th Sabbath Year following the first 60 Jubilee Cycles.  What follows then is the beginning of the 7th week within the 7th Cycle of 10 Jubilee Cycles, i.e. the first sabbath within a kind of a sabbath cycle in and of itself.  Is that what One would call the Day of the Lord?  Would the outcome have been different if the people had been focusing more on learning and applying the Sabbath Principles of the Lord during this next Cycle of 10 Jubilee Cycles?  The answer is of course a given regardless of what time period it pertains to, but perhaps even more here, just the same as THE 7th Day being different from just keeping 'sabbath' on any day of the week...  "]
["   6th Sabbath year",7,"e",null,null,null,null,null,2981,"e",2982,"e",null,{"$f":"ABS(I208-(Sheet1!I140+4))","v":929},null,{"$f":"ABS(K208-(Sheet1!I140+4))","v":928},null,null,{"$f":"S209+1","v":55},52,45,46,53]
["   7th Sabbath year",7,"e",null,null,null,null,null,2988,"e",2989,"e",null,{"$f":"ABS(I209-(Sheet1!I140+4))","v":922},null,{"$f":"ABS(K209-(Sheet1!I140+4))","v":921},null,null,{"$f":"S210+1","v":54},51,44,45,52]
["61st Year of Jubilee",50,"e",null,null,null,null,null,{"$f":"I202+49","v":2989},"e",{"$f":"K202+49","v":2990},"e",null,{"$f":"ABS(I210-(Sheet1!I140+4))","v":921},null,{"$f":"ABS(K210-(Sheet1!I140+4))","v":920},null,null,{"$f":"S219+8","v":53},{"$f":"T219+8","v":50},{"$f":"U211","v":43},{"$f":"V211","v":44},{"$f":"W219+8","v":51}]
["   1st Sabbath year",7,"e",null,null,null,null,null,{"$f":"I210+6","v":2995},"e",{"$f":"K210+6","v":2996},"e",null,{"$f":"ABS(I211-(Sheet1!I140+4))","v":915},null,{"$f":"ABS(K211-(Sheet1!I140+4))","v":914},null,null,{"$f":"S213+1","v":52},{"$f":"T213+1","v":49},{"$f":"U213+1","v":43},{"$f":"V213+1","v":44},{"$f":"W213+1","v":50}]
["   Eve of the new Millenium",null,null,null,null,null,null,null,{"$f":"I175+500","v":3000},"e",{"$f":"K175+500","v":3001},"e",null,{"$f":"ABS(I212-(Sheet1!I140+4))","v":910},null,{"$f":"ABS(K212-(Sheet1!I140+4))","v":909}]
["   2nd Sabbath year",7,"e",null,null,null,null,null,{"$f":"I211+7","v":3002},"e",{"$f":"K211+7","v":3003},"e",null,{"$f":"ABS(I213-(Sheet1!I140+4))","v":908},null,{"$f":"ABS(K213-(Sheet1!I140+4))","v":907},null,null,{"$f":"S214+1","v":51},48,42,43,49]
["   3rd Sabbath year",7,"e",null,null,null,null,null,{"$f":"I213+7","v":3009},"e",{"$f":"K213+7","v":3010},"e",null,{"$f":"ABS(I214-(Sheet1!I140+4))","v":901},null,{"$f":"ABS(K214-(Sheet1!I140+4))","v":900},null,null,50,47,41,42,48]
["   4th Sabbath year",7,"e",null,null,null,null,null,{"$f":"I214+7","v":3016},"e",{"$f":"K214+7","v":3017},"e",null,{"$f":"ABS(I215-(Sheet1!I140+4))","v":894},null,{"$f":"ABS(K215-(Sheet1!I140+4))","v":893},null,null,49,46,40,41,47]
["   5th Sabbath year",7,"e",null,null,null,null,null,{"$f":"I215+7","v":3023},"e",{"$f":"K215+7","v":3024},"e",null,{"$f":"ABS(I216-(Sheet1!I140+4))","v":887},null,{"$f":"ABS(K216-(Sheet1!I140+4))","v":886},null,null,48,45,39,40,46]
["   6th Sabbath year",7,"e",null,null,null,null,null,{"$f":"I216+7","v":3030},"e",{"$f":"K216+7","v":3031},"e",null,{"$f":"ABS(I217-(Sheet1!I140+4))","v":880},null,{"$f":"ABS(K217-(Sheet1!I140+4))","v":879},null,null,47,44,38,39,45]
["   7th Sabbath year",7,"e",null,null,null,null,null,{"$f":"I217+7","v":3037},"e",{"$f":"K217+7","v":3038},"e",null,{"$f":"ABS(I218-(Sheet1!I140+4))","v":873},null,{"$f":"ABS(K218-(Sheet1!I140+4))","v":872},null,null,46,43,37,38,44]
["62nd Year of Jubilee",50,"e",null,null,null,null,null,{"$f":"I210+49","v":3038},"e",{"$f":"K210+49","v":3039},"e",null,{"$f":"ABS(I219-(Sheet1!I140+4))","v":872},null,{"$f":"ABS(K219-(Sheet1!I140+4))","v":871},null,null,{"$f":"S227+8","v":45},{"$f":"T227+8","v":42},{"$f":"U220","v":36},{"$f":"V220","v":37},{"$f":"W227+8","v":43}]
["   1st Sabbath year",7,"e",null,null,null,null,null,{"$f":"I219+6","v":3044},"e",{"$f":"K219+6","v":3045},"e",null,{"$f":"ABS(I220-(Sheet1!I140+4))","v":866},null,{"$f":"ABS(K220-(Sheet1!I140+4))","v":865},null,null,{"$f":"S221+1","v":44},41,36,37,42]
["   2nd Sabbath year",7,"e",null,null,null,null,null,{"$f":"I220+7","v":3051},"e",{"$f":"K220+7","v":3052},"e",null,{"$f":"ABS(I221-(Sheet1!I140+4))","v":859},null,{"$f":"ABS(K221-(Sheet1!I140+4))","v":858},null,null,43,40,35,36,41,"After 1 week and 62 weeks, i.e. cf. Daniel 9:26,27. Then add the 7 weeks.  Remember this is a first fruits, a wave offering, or a warning of things to come! Thus after 1 Sabbath Cycle + 62 Jubilee Cycles is the time of the first harvest of the cycle/revolution/year, i.e. the time of the beginning of the famine in the time of Elisha. Then add 7 Jubilee Cycles and we get to the end of that week within which the 2nd Temple is finished in the midst of the week, i.e. in 3391!"]
["   3rd Sabbath year",7,"e",null,null,null,null,null,3058,"e",3059,"e",null,{"$f":"ABS(I222-(Sheet1!I140+4))","v":852},null,{"$f":"ABS(K222-(Sheet1!I140+4))","v":851},null,null,42,39,34,35,40]
["   4th Sabbath year",7,"e",null,null,null,null,null,3065,"e",3066,"e",null,{"$f":"ABS(I223-(Sheet1!I140+4))","v":845},null,{"$f":"ABS(K223-(Sheet1!I140+4))","v":844},null,null,41,38,33,34,39]
["   5th Sabbath year",7,"e",null,null,null,null,null,3072,"e",3073,"e",null,{"$f":"ABS(I224-(Sheet1!I140+4))","v":838},null,{"$f":"ABS(K224-(Sheet1!I140+4))","v":837},null,null,40,37,32,33,38]
["   6th Sabbath year",7,"e",null,null,null,null,null,3079,"e",3080,"e",null,{"$f":"ABS(I225-(Sheet1!I140+4))","v":831},null,{"$f":"ABS(K225-(Sheet1!I140+4))","v":830},null,null,39,36,31,32,37]
["   7th Sabbath year",7,"e",null,null,null,null,null,3086,"e",3087,"e",null,{"$f":"ABS(I226-(Sheet1!I140+4))","v":824},null,{"$f":"ABS(K226-(Sheet1!I140+4))","v":823},null,null,38,35,30,31,36]
["63rd Year of Jubilee",50,"e",null,null,null,null,null,{"$f":"I219+49","v":3087},"e",{"$f":"K219+49","v":3088},"e",null,{"$f":"ABS(I227-(Sheet1!I140+4))","v":823},null,{"$f":"ABS(K227-(Sheet1!I140+4))","v":822},null,null,{"$f":"S228+8","v":37},{"$f":"T228+8","v":34},{"$f":"U228+7","v":29},{"$f":"V228+7","v":30},{"$f":"W228+8","v":35}]
["64th Year of Jubilee",50,"e",null,null,null,null,null,{"$f":"I227+49","v":3136},"e",{"$f":"K227+49","v":3137},"e",null,{"$f":"ABS(I228-(Sheet1!I140+4))","v":774},null,{"$f":"ABS(K228-(Sheet1!I140+4))","v":773},null,null,{"$f":"S229+8","v":29},{"$f":"T229+8","v":26},{"$f":"U229+7","v":22},{"$f":"V229+7","v":23},{"$f":"W229+8","v":27}]
["65th Year of Jubilee",50,"e",null,null,null,null,null,{"$f":"I228+49","v":3185},"e",{"$f":"K228+49","v":3186},"e",null,{"$f":"ABS(I229-(Sheet1!I140+4))","v":725},null,{"$f":"ABS(K229-(Sheet1!I140+4))","v":724},null,null,{"$f":"S230+1","v":21},18,{"$f":"U230","v":15},{"$f":"V230","v":16},{"$f":"W230+1","v":19}]
["   1st Sabbath year",7,"e",null,null,null,null,null,{"$f":"I229+6","v":3191},"e",{"$f":"K229+6","v":3192},"e",null,{"$f":"ABS(I230-(Sheet1!I140+4))","v":719},null,{"$f":"ABS(K230-(Sheet1!I140+4))","v":718},null,null,20,17,{"$f":"U231+1","v":15},16,18]
["   2nd Sabbath year",7,"e",null,null,null,null,null,{"$f":"I230+7","v":3198},"e",{"$f":"K230+7","v":3199},"e",null,{"$f":"ABS(I231-(Sheet1!I140+4))","v":712},null,{"$f":"ABS(K231-(Sheet1!I140+4))","v":711},null,null,19,16,14,15,17]
["   3rd Sabbath year",7,"e",null,null,null,null,null,3205,"e",3206,"e",null,{"$f":"ABS(I232-(Sheet1!I140+4))","v":705},null,{"$f":"ABS(K232-(Sheet1!I140+4))","v":704},null,null,18,15,13,14,16]
["   4th Sabbath year",7,"e",null,null,null,null,null,3212,"e",3213,"e",null,{"$f":"ABS(I233-(Sheet1!I140+4))","v":698},null,{"$f":"ABS(K233-(Sheet1!I140+4))","v":697},null,null,17,14,12,13,15]
["   5th Sabbath year",7,"e",null,null,null,null,null,3219,"e",3220,"e",null,{"$f":"ABS(I234-(Sheet1!I140+4))","v":691},null,{"$f":"ABS(K234-(Sheet1!I140+4))","v":690},null,null,16,13,11,12,14]
["   6th Sabbath year",7,"e",null,null,null,null,null,3226,"e",3227,"e",null,{"$f":"ABS(I235-(Sheet1!I140+4))","v":684},null,{"$f":"ABS(K235-(Sheet1!I140+4))","v":683},null,null,15,12,10,11,13]
["   7th Sabbath year",7,"e",null,null,null,null,null,3233,"e",3234,"e",null,{"$f":"ABS(I236-(Sheet1!I140+4))","v":677},null,{"$f":"ABS(K236-(Sheet1!I140+4))","v":676},null,null,14,11,9,10,12]
["66th Year of Jubilee",50,"e",null,null,null,null,null,{"$f":"I229+49","v":3234},"e",{"$f":"K229+49","v":3235},"e",null,{"$f":"ABS(I237-(Sheet1!I140+4))","v":676},null,{"$f":"ABS(K237-(Sheet1!I140+4))","v":675},null,null,{"$f":"S263+8","v":13},{"$f":"T263+8","v":10},{"$f":"U263+7","v":8},{"$f":"V263+7","v":9},{"$f":"W263+8","v":11}]
["   1st Sabbath year",7,"e",null,null,null,null,null,{"$f":"I237+6","v":3240},"e",{"$f":"K237+6","v":3241},"e",null,{"$f":"ABS(I238-(Sheet1!I140+4))","v":670},null,{"$f":"ABS(K238-(Sheet1!I140+4))","v":669}]
["      1st Year/Day",1,"e",null,null,null,null,null,{"$f":"I238+1","v":3241},"e",{"$f":"K238+1","v":3242},"e",null,{"$f":"ABS(I239-(Sheet1!I140+4))","v":669},null,{"$f":"ABS(K239-(Sheet1!I140+4))","v":668},null,null,null,{"$f":"K468-2555","v":3242},{"$f":"T467","v":"365x7=2555"}]
["      2nd Year/Day",1,"e",null,null,null,null,null,3242,"e",3243,"e",null,{"$f":"ABS(I240-(Sheet1!I140+4))","v":668},null,{"$f":"ABS(K240-(Sheet1!I140+4))","v":667},null,null,null,null,{"$f":"T469","v":"5797-2555=3242"}]
["      3rd Year/Day",1,"e",null,null,null,null,null,3243,"e",3244,"e",null,{"$f":"ABS(I241-(Sheet1!I140+4))","v":667},null,{"$f":"ABS(K241-(Sheet1!I140+4))","v":666}]
["      4th Year/Day",1,"e",null,null,null,null,null,3244,"e",3245,"e",null,{"$f":"ABS(I242-(Sheet1!I140+4))","v":666},null,{"$f":"ABS(K242-(Sheet1!I140+4))","v":665}]
["      5th Year/Day",1,"e",null,null,null,null,null,3245,"e",3246,"e",null,{"$f":"ABS(I243-(Sheet1!I140+4))","v":665},null,{"$f":"ABS(K243-(Sheet1!I140+4))","v":664}]
["      6th Year/Day",1,"e",null,null,null,null,null,3246,"e",3247,"e",null,{"$f":"ABS(I244-(Sheet1!I140+4))","v":664},null,{"$f":"ABS(K244-(Sheet1!I140+4))","v":663}]
["   2nd Sabbath year",7,"e",null,null,null,null,null,{"$f":"I238+7","v":3247},"e",{"$f":"K238+7","v":3248},"e",null,{"$f":"ABS(I245-(Sheet1!I140+4))","v":663},null,{"$f":"ABS(K245-(Sheet1!I140+4))","v":662}]
["      1st Year/Day",1,"e",null,null,null,null,null,{"$f":"I245+1","v":3248},"e",{"$f":"K245+1","v":3249},"e",null,{"$f":"ABS(I246-(Sheet1!I140+4))","v":662},null,{"$f":"ABS(K246-(Sheet1!I140+4))","v":661}]
["      2nd Year/Day",1,"e",null,null,null,null,null,3249,"e",3250,"e",null,{"$f":"ABS(I247-(Sheet1!I140+4))","v":661},null,{"$f":"ABS(K247-(Sheet1!I140+4))","v":660}]
["      3rd Year/Day",1,"e",null,null,null,null,null,3250,"e",3251,"e",null,{"$f":"ABS(I248-(Sheet1!I140+4))","v":660},null,{"$f":"ABS(K248-(Sheet1!I140+4))","v":659},null,null,null,null,{"$f":"T468","v":"But on May 13, 1981 things began to change. \"At a certain moment on May 13, 1981, during an open-air papal audience in St. Peter’s Square, in the presence of some 75,000 people and before the eyes of an estimated 11 million television viewers, Pope John Paul spied a little girl wearing a small picture of Christ’s mother as Our Lady of Fatima. Just as he bent from the slow-moving ‘Popemobile’ in a spontaneous gesture toward the child, hired assassin Mehmet Ali Agca squeezed off two bullets, aimed precisely where his head had been. As two pilgrims fell wounded to the ground, two more shots rang out and this time John Paul’s blood stained his white papal cassock.\"12 Malachi Martin continues in his book: \"after what were arguably the very pointed events that had taken place in St. Peter’s Square, after exhaustive examination of the documents and living witnesses and participants connected with the Fatima events themselves, and after nothing less than a personal communication [a vision?] from Heaven during his long convalescence -- John Paul ... came face-to-face with the realization that, far from pointing to some distant future time, the contents of the now famous Fatima message - and, specifically the secret contents directed to papal attention - amounted to a geopolitical agenda attached to an immediate time-table.\"13 (From http://www.lis.net.au/~dbird/10atheism_islam.htm)  Footnotes: 9. Martin M, The Keys of This Blood, Simon and Shuster, New York, (c) 1990, pp. 47, 48; 10. Ibid., p. 48.; 11. Ibid.; 12. Ibid., p. 46.; 13. Ibid., p. 48. Emphasis supplied."}]
["      4th Year/Day",1,"e",null,null,null,null,null,3251,"e",3252,"e",null,{"$f":"ABS(I249-(Sheet1!I140+4))","v":659},null,{"$f":"ABS(K249-(Sheet1!I140+4))","v":658}]
["      5th Year/Day",1,"e",null,null,null,null,null,3252,"e",3253,"e",null,{"$f":"ABS(I250-(Sheet1!I140+4))","v":658},null,{"$f":"ABS(K250-(Sheet1!I140+4))","v":657}]
["      6th Year/Day",1,"e",null,null,null,null,null,3253,"e",3254,"e",null,{"$f":"ABS(I251-(Sheet1!I140+4))","v":657},null,{"$f":"ABS(K251-(Sheet1!I140+4))","v":656}]
["   3rd Sabbath year",7,"e",null,null,null,null,null,{"$f":"I245+7","v":3254},"e",{"$f":"K245+7","v":3255},"e",null,{"$f":"ABS(I252-(Sheet1!I140+4))","v":656},null,{"$f":"ABS(K252-(Sheet1!I140+4))","v":655}]
["   4th Sabbath year",7,"e",null,null,null,null,null,{"$f":"I252+7","v":3261},"e",{"$f":"K252+7","v":3262},"e",null,{"$f":"ABS(I253-(Sheet1!I140+4))","v":649},null,{"$f":"ABS(K253-(Sheet1!I140+4))","v":648}]
["   5th Sabbath year",7,"e",null,null,null,null,null,{"$f":"I253+7","v":3268},"e",{"$f":"K253+7","v":3269},"e",null,{"$f":"ABS(I254-(Sheet1!I140+4))","v":642},null,{"$f":"ABS(K254-(Sheet1!I140+4))","v":641}]
["   6th Sabbath year",7,"e",null,null,null,null,null,{"$f":"I254+7","v":3275},"e",{"$f":"K254+7","v":3276},"e",null,{"$f":"ABS(I255-(Sheet1!I140+4))","v":635},null,{"$f":"ABS(K255-(Sheet1!I140+4))","v":634},null,null,null,null,"360x7=2520"]
["      1st Year/Day",1,"e",null,null,null,null,null,{"$f":"I255+1","v":3276},"e",{"$f":"K255+1","v":3277},"e",null,{"$f":"ABS(I256-(Sheet1!I140+4))","v":634},null,{"$f":"ABS(K256-(Sheet1!I140+4))","v":633},null,null,null,{"$f":"K468-2520","v":3277},"5797-2520=3277"]
["      2nd Year/Day",1,"e",null,null,null,null,null,3277,"e",3278,"e",null,{"$f":"ABS(I257-(Sheet1!I140+4))","v":633},null,{"$f":"ABS(K257-(Sheet1!I140+4))","v":632}]
["      3rd Year/Day",1,"e",null,null,null,null,null,3278,"e",3279,"e",null,{"$f":"ABS(I258-(Sheet1!I140+4))","v":632},null,{"$f":"ABS(K258-(Sheet1!I140+4))","v":631}]
["      4th Year/Day",1,"e",null,null,null,null,null,3279,"e",3280,"e",null,{"$f":"ABS(I259-(Sheet1!I140+4))","v":631},null,{"$f":"ABS(K259-(Sheet1!I140+4))","v":630}]
["      5th Year/Day",1,"e",null,null,null,null,null,3280,"e",3281,"e",null,{"$f":"ABS(I260-(Sheet1!I140+4))","v":630},null,{"$f":"ABS(K260-(Sheet1!I140+4))","v":629}]
["      6th Year/Day",1,"e",null,null,null,null,null,3281,"e",3282,"e",null,{"$f":"ABS(I261-(Sheet1!I140+4))","v":629},null,{"$f":"ABS(K261-(Sheet1!I140+4))","v":628}]
["   7th Sabbath year",7,"e",null,null,null,null,null,{"$f":"I255+7","v":3282},"e",{"$f":"K255+7","v":3283},"e",null,{"$f":"ABS(I262-(Sheet1!I140+4))","v":628},null,{"$f":"ABS(K262-(Sheet1!I140+4))","v":627}]
["67th Year of Jubilee",50,"e",null,null,null,null,null,{"$f":"I237+49","v":3283},"e",{"$f":"K237+49","v":3284},"e",null,{"$f":"ABS(I263-(Sheet1!I140+4))","v":627},null,{"$f":"ABS(K263-(Sheet1!I140+4))","v":626},null,null,{"$f":"S264+1","v":5},{"$f":"T264+1","v":2},{"$f":"U264","v":1},{"$f":"V264","v":2},{"$f":"W264+1","v":3}]
["   1st Sabbath year",7,"e",null,null,null,null,null,{"$f":"I263+6","v":3289},"e",{"$f":"K263+6","v":3290},"e",null,{"$f":"ABS(I264-(Sheet1!I140+4))","v":621},null,{"$f":"ABS(K264-(Sheet1!I140+4))","v":620},null,null,{"$f":"S266+1","v":4},1,1,{"$f":"V266+1","v":2},{"$f":"W266+1","v":2}]
["      12th year of Josiah: Middle of the Week burning of the bones of the priests…",null,null,null,null,null,null,null,null,null,null,null,null,null,null,null,null,{"$f":"K278-70","v":3290}]
["   2nd Sabbath year",7,"e",null,null,null,null,null,{"$f":"I264+7","v":3296},"e",{"$f":"K264+7","v":3297},"e",null,{"$f":"ABS(I266-(Sheet1!I140+4))","v":614},null,{"$f":"ABS(K266-(Sheet1!I140+4))","v":613},null,{"$f":"K278-63","v":3297},{"$f":"S269+1","v":3},{"$f":"T269+1","v":11},{"$f":"U269+1","v":10},1,1]
["      The Great Passover in the (3*3*2=18 NOTICE> 332 = Josiah!) 18th Year of king Josiah was celebrated in the 3,300th Year, in the 3rd Year of the 3rd Sabbath Cycle on the 1st 49 Year Cycle of the last 33 (100-67=33) Cycles in the 1st 100 49 Year Cycles!"]
["          The 3rd Year of the 3rd Sabbath Cycle",null,null,null,null,null,null,null,{"$f":"I266+3","v":3299},null,null,null,null,{"$f":"ABS(I268-(Sheet1!I140+4))","v":611}]
["   3rd Sabbath year",7,"e",null,null,null,null,null,{"$f":"I266+7","v":3303},"e",{"$f":"K266+7","v":3304},"e",null,{"$f":"ABS(I269-(Sheet1!I140+4))","v":607},null,{"$f":"ABS(K269-(Sheet1!I140+4))","v":606},null,null,{"$f":"S270+1","v":2},10,9,9,10]
["   4th Sabbath year",7,"e",null,null,null,null,null,{"$f":"I269+7","v":3310},"e",{"$f":"K269+7","v":3311},"e",null,{"$f":"ABS(I270-(Sheet1!I140+4))","v":600},null,{"$f":"ABS(K270-(Sheet1!I140+4))","v":599},null,null,1,9,8,8,9]
["   5th Sabbath year",7,"e",null,null,null,null,null,{"$f":"I270+7","v":3317},"e",{"$f":"K270+7","v":3318},"e",null,{"$f":"ABS(I271-(Sheet1!I140+4))","v":593},null,{"$f":"ABS(K271-(Sheet1!I140+4))","v":592},null,{"$f":"Sheet7!S919","v":"7th Moon new year? :  \"And it came to pass in the fourth year of Jehoiakim the son of Josiah king of Judah, that this word came unto Jeremiah from the Lord, saying, Take thee a roll of a book, and write therein all the words that I have spoken unto thee against Israel, and against Judah, and against all the nations, from the day I spake unto thee, from the days of Josiah, even unto this day...\" (Jer. 36:1-2).  <<<<<<<<>>>>><<  \"...And it came to pass in the fifth year of Jehoiakim the son of Josiah king of Judah, in the ninth month, that they porclaimed a fast before the Lord to  all the people in Jerusalem, and to all the people that came from the cities of Judah unto Jerusalem. Then read Baruch in the book the words of Jeremiah in the house of the Lord... Now the king sat in the winter-house in the ninth month: and there was a fire on the hearth burning before him...  Then the word of the Lord came to Jeremiah, after that the king had burned the roll, and the words which Baruch wrote at the mouth of Jeremiah, saying, Take thee again another roll, and write in it all the former words that were in the first roll, which Jehoiakim the king of Judah hath burned. And thou shalt say to Jehoiakim king of Judah, Thus saith the Lord; Thou hast burned this roll, saying, Why hast thou written therein, saying, The king of Babylon shall certainly come and destroy this land, and shall cause to cease from thence man and beast?\" (Jer. 36:9-10,22, 27-29).  NOTE: It appears from this text that Jerusalem was not as yet invaded by the Babylonians in the beginning of, i.e. the 9th month, of the 5th year of Jehoiakim."},12,8,7,7,8]
["   6th Sabbath year",7,"e",null,null,null,null,null,{"$f":"I271+7","v":3324},"e",{"$f":"K271+7","v":3325},"e",null,{"$f":"ABS(I272-(Sheet1!I140+4))","v":586},null,{"$f":"ABS(K272-(Sheet1!I140+4))","v":585},null,null,11,7,6,6,7]
["   7th Sabbath year",7,"e",null,null,null,null,null,{"$f":"I272+7","v":3331},"e",{"$f":"K272+7","v":3332},"e",null,{"$f":"ABS(I273-(Sheet1!I140+4))","v":579},null,{"$f":"ABS(K273-(Sheet1!I140+4))","v":578},null,null,10,6,{"$f":"U275+1","v":5},{"$f":"V275+1","v":5},6]
["68th Year of Jubilee",50,"e",null,null,null,null,null,{"$f":"I263+49","v":3332},"e",{"$f":"K263+49","v":3333},"e",null,{"$f":"ABS(I274-(Sheet1!I140+4))","v":578},null,{"$f":"ABS(K274-(Sheet1!I140+4))","v":577},null,null,9,5,null,null,5]
["   1st Sabbath year",7,"e",null,null,null,null,null,{"$f":"I274+6","v":3338},"e",{"$f":"K274+6","v":3339},"e",null,{"$f":"ABS(I275-(Sheet1!I140+4))","v":572},null,{"$f":"ABS(K275-(Sheet1!I140+4))","v":571},null,null,8,4,4,4,4]
["   2nd Sabbath year",7,"e",null,null,null,null,null,{"$f":"I275+7","v":3345},"e",{"$f":"K275+7","v":3346},"e",null,{"$f":"ABS(I276-(Sheet1!I140+4))","v":565},null,{"$f":"ABS(K276-(Sheet1!I140+4))","v":564},null,null,7,3,3,3,3]
["   3rd Sabbath year",7,"e",null,null,null,null,null,3352,"e",3353,"e",null,{"$f":"ABS(I277-(Sheet1!I140+4))","v":558},null,{"$f":"ABS(K277-(Sheet1!I140+4))","v":557},null,null,{"$f":"S278+1","v":6},2,2,2,2]
["   4th Sabbath year",7,"e",null,null,null,null,null,3359,"e",3360,"e",null,{"$f":"ABS(I278-(Sheet1!I140+4))","v":551},null,{"$f":"ABS(K278-(Sheet1!I140+4))","v":550},null,null,{"$f":"S280+1","v":5},"Counting from Artaxerxes' decree 457 BC"]
["     1st Year of 5th Sabbath Cycle: Artaxerxes' Decree was made \"in the first year of Cyrus king of Persia\", i.e. in the 3361st Sacred Year. Ezra 1:1."]
["   5th Sabbath year",7,"e",null,{"$f":"E281-7","v":7},null,null,null,{"$f":"I278+7","v":3366},"e",{"$f":"K278+7","v":3367},"e",null,{"$f":"ABS(I280-(Sheet1!I140+4))","v":544},null,{"$f":"ABS(K280-(Sheet1!I140+4))","v":543},null,null,{"$f":"S281+1","v":4},1]
["   6th Sabbath year",7,"e",null,{"$f":"E283-7","v":14},null,null,null,3373,"e",3374,"e",null,{"$f":"ABS(I281-(Sheet1!I140+4))","v":537},null,{"$f":"ABS(K281-(Sheet1!I140+4))","v":536},null,null,{"$f":"S283+1","v":3},{"$f":"T280+1","v":2}]
["      6th Moon of the 6th Year of 7th Sabbath Cycle: The wall of Jerusalem completed on the 25th Day of Elul, i.e. the 6 Moon of the 3380th Sacred year. Neh. 6:15."]
["   7th Sabbath year",7,"e",null,{"$f":"E284-1","v":21},null,null,null,{"$f":"I281+7","v":3380},"e",{"$f":"K281+7","v":3381},"e",null,{"$f":"ABS(I283-(Sheet1!I140+4))","v":530},null,{"$f":"ABS(K283-(Sheet1!I140+4))","v":529},null,null,{"$f":"S284+1","v":2},{"$f":"T281+1","v":3}]
["69th Year of Jubilee",50,"e",null,{"$f":"E294-49","v":22},null,null,null,{"$f":"I274+49","v":3381},"e",{"$f":"K274+49","v":3382},"e",null,{"$f":"ABS(I284-(Sheet1!I140+4))","v":529},null,{"$f":"ABS(K284-(Sheet1!I140+4))","v":528},null,null,1,{"$f":"T283+1","v":4}]
["      End of 70 Years Captivity in Babylon. Notice that this 70 year cycle ends at the very end of the 6th Year of the 1st Sabbath Cycle within this 69th Jubilee Cycle!  Thus again we are reminded that Man was created on the 6th Creation Day on the 1st Sabbath Cycle of All...  [I do not at this time perceive any connections to the 62nd and/or to the 70th Sabbath Cycle, so other than this 69th Cycle I do not find that Daniel's prophecy should pertain to these particular numbers...]",null,null,null,null,null,null,null,{"$f":"Sheet8!D50","v":3386},null,{"$f":"I285+1","v":3387},null,null,{"$f":"ABS(I285-(Sheet1!I140+4))","v":524},null,{"$f":"ABS(K285-(Sheet1!I140+4))","v":523},null,null,"Counting from End of Babylonian captivity and Darius 1st year"]
["   1st Sabbath year",7,"e",null,{"$f":"E288-7","v":28},null,null,null,{"$f":"I284+6","v":3387},"e",{"$f":"K284+6","v":3388},"e",null,{"$f":"ABS(I286-(Sheet1!I140+4))","v":523},null,{"$f":"ABS(K286-(Sheet1!I140+4))","v":522},null,null,1,{"$f":"T284+1","v":5}]
["      Darius' Decree to reinstate the rebuilding of the Temple in Jerusalem, i.e. in the 3388th Sacred year, took place on the 1st Sabbath Year of the 70th Jubilee Cycle."]
["   2nd Sabbath year",7,"e",null,{"$f":"E289-7","v":35},null,null,null,{"$f":"I286+7","v":3394},"e",{"$f":"K286+7","v":3395},"e",null,{"$f":"ABS(I288-(Sheet1!I140+4))","v":516},null,{"$f":"ABS(K288-(Sheet1!I140+4))","v":515},null,null,{"$f":"S286+1","v":2},{"$f":"T286+1","v":6},null,"Doctored to fit 63 BC"]
["   3rd Sabbath year",7,"e",null,{"$f":"E290-7","v":42},null,null,null,{"$f":"I288+7","v":3401},"e",{"$f":"K288+7","v":3402},"e",null,{"$f":"ABS(I289-(Sheet1!I140+4))","v":509},null,{"$f":"ABS(K289-(Sheet1!I140+4))","v":508},null,null,{"$f":"S288+1","v":3},7,null,1]
["   4th Sabbath year",7,"e",null,{"$f":"E291-7","v":49},null,null,null,{"$f":"I289+7","v":3408},"e",{"$f":"K289+7","v":3409},"e",null,{"$f":"ABS(I290-(Sheet1!I140+4))","v":502},null,{"$f":"ABS(K290-(Sheet1!I140+4))","v":501},null,null,4,8,null,2]
["   5th Sabbath year",7,"e",null,{"$f":"E292-7","v":56},null,null,null,{"$f":"I290+7","v":3415},"e",{"$f":"K290+7","v":3416},"e",null,{"$f":"ABS(I291-(Sheet1!I140+4))","v":495},null,{"$f":"ABS(K291-(Sheet1!I140+4))","v":494},null,null,5,9,null,3]
["   6th Sabbath year",7,"e",null,{"$f":"E293-7","v":63},null,null,null,{"$f":"I291+7","v":3422},"e",{"$f":"K291+7","v":3423},"e",null,{"$f":"ABS(I292-(Sheet1!I140+4))","v":488},null,{"$f":"ABS(K292-(Sheet1!I140+4))","v":487},null,null,6,10,null,4]
["   7th Sabbath year",7,"e",null,{"$f":"E294-1","v":70},null,null,null,{"$f":"I292+7","v":3429},"e",{"$f":"K292+7","v":3430},"e",null,{"$f":"ABS(I293-(Sheet1!I140+4))","v":481},null,{"$f":"ABS(K293-(Sheet1!I140+4))","v":480},null,null,7,11,null,5]
["70th Year of Jubilee",50,"e",null,{"$f":"E295-49","v":71},null,null,null,{"$f":"I284+49","v":3430},"e",{"$f":"K284+49","v":3431},"e",null,{"$f":"ABS(I294-(Sheet1!I140+4))","v":480},null,{"$f":"ABS(K294-(Sheet1!I140+4))","v":479},null,null,8,12,null,6]
["71st Year of Jubilee",50,"e",null,{"$f":"E297-49","v":120},null,null,null,{"$f":"I294+49","v":3479},"e",{"$f":"K294+49","v":3480},"e",null,{"$f":"ABS(I295-(Sheet1!I140+4))","v":431},null,{"$f":"ABS(K295-(Sheet1!I140+4))","v":430},null,null,{"$f":"S294+8","v":16},{"$f":"T294+8","v":20},null,{"$f":"V294+8","v":14}]
["   Dawn of the Millenium",null,null,null,null,null,null,null,{"$f":"I212+500","v":3500},"e",{"$f":"K212+500","v":3501},"e",null,{"$f":"ABS(I296-(Sheet1!I140+4))","v":410},null,{"$f":"ABS(K296-(Sheet1!I140+4))","v":409}]
["72nd Year of Jubilee",50,"e",null,{"$f":"E298-49","v":169},null,null,null,{"$f":"I295+49","v":3528},"e",{"$f":"K295+49","v":3529},"e",null,{"$f":"ABS(I297-(Sheet1!I140+4))","v":382},null,{"$f":"ABS(K297-(Sheet1!I140+4))","v":381},null,null,{"$f":"S295+8","v":24},{"$f":"T295+8","v":28},null,{"$f":"V295+8","v":22}]
["73rd Year of Jubilee",50,"e",null,{"$f":"E299-49","v":218},null,null,null,{"$f":"I297+49","v":3577},"e",{"$f":"K297+49","v":3578},"e",null,{"$f":"ABS(I298-(Sheet1!I140+4))","v":333},null,{"$f":"ABS(K298-(Sheet1!I140+4))","v":332},null,null,{"$f":"S297+8","v":32},36,null,30]
["74th Year of Jubilee",50,"e",null,{"$f":"E308-49","v":267},null,null,null,{"$f":"I298+49","v":3626},"e",{"$f":"K298+49","v":3627},"e",null,{"$f":"ABS(I299-(Sheet1!I140+4))","v":284},null,{"$f":"ABS(K299-(Sheet1!I140+4))","v":283},null,null,40,44,null,38]
["   1st Sabbath year",7,"e",null,{"$f":"E301-7","v":273},null,null,null,{"$f":"I299+6","v":3632},"e",{"$f":"K299+6","v":3633},"e",null,{"$f":"ABS(I300-(Sheet1!I140+4))","v":278},null,{"$f":"ABS(K300-(Sheet1!I140+4))","v":277},null,null,{"$f":"S299+1","v":41},45,null,39]
["   2nd Sabbath year",7,"e",null,{"$f":"E302-7","v":280},null,null,null,{"$f":"I300+7","v":3639},"e",{"$f":"K300+7","v":3640},"e",null,{"$f":"ABS(I301-(Sheet1!I140+4))","v":271},null,{"$f":"ABS(K301-(Sheet1!I140+4))","v":270},null,null,42,46,null,40]
["   3rd Sabbath year",7,"e",null,{"$f":"E303-7","v":287},null,null,null,{"$f":"I301+7","v":3646},"e",{"$f":"K301+7","v":3647},"e",null,{"$f":"ABS(I302-(Sheet1!I140+4))","v":264},null,{"$f":"ABS(K302-(Sheet1!I140+4))","v":263},null,null,43,47,null,41]
["   4th Sabbath year",7,"e",null,{"$f":"E304-7","v":294},null,null,null,{"$f":"I302+7","v":3653},"e",{"$f":"K302+7","v":3654},"e",null,{"$f":"ABS(I303-(Sheet1!I140+4))","v":257},null,{"$f":"ABS(K303-(Sheet1!I140+4))","v":256},null,null,44,48,null,42]
["   5th Sabbath year",7,"e",null,{"$f":"E305-7","v":301},null,null,null,{"$f":"I303+7","v":3660},"e",{"$f":"K303+7","v":3661},"e",null,{"$f":"ABS(I304-(Sheet1!I140+4))","v":250},null,{"$f":"ABS(K304-(Sheet1!I140+4))","v":249},null,null,45,49,null,43]
["   6th Sabbath year",7,"e",null,{"$f":"E307-7","v":308},null,null,null,{"$f":"I304+7","v":3667},"e",{"$f":"K304+7","v":3668},"e",null,{"$f":"ABS(I305-(Sheet1!I140+4))","v":243},null,{"$f":"ABS(K305-(Sheet1!I140+4))","v":242},null,null,46,50,null,44]
["      On the 5th Year of the 7th Sabbath Cycle in the 75th Jubilee Cycle, i.e. in 144 BC - Destruction of the 2nd Temple: First, during Maccabean times, the Maccabean leader Simon the Hasmonean razed Mt. Zion to ground level. The reason for this was the Syrians had encamped in David's City during the reign of Antiochus Epiphanus and they were able to harass the worshippers going to the Temple. The Temple itself could not be defended because of the Syrian presence. Nevertheless, Judas Maccabees managed to regain control of Jerusalem from the hands of Antiochus, and he cleansed the Temple in 164 BC after Antiochus had completely defiled it with a pagan statue of Zeus in the Holy of Holies, and sacrifice of swine on the altar. Simon, the younger brother of Judas, gained complete authority over Jerusalem some twenty years later, and he decided that Mt. Zion should not exist anymore. So David's City and the underlying older cities (Jebus and Migdol Edar (Gen. 35:21) were completely removed to the bedrock. Simon then transplanted Mt. Zion to the present site of Mt. Zion on the southwestern part of Old Jerusalem, outside the southern city wall. The so-called David's Tomb (adjacent to the Crusader building of the Last Supper) is nothing but a transplant of the original David's Tomb location. Simon then proceeded to rebuild the Temple. Actually he moved the Temple site somewhat to the north and a new Holy of Holies and a new altar were built in place of the desecrated ones. After this he built a fort north of the Temple, the Baris, to protect the Temple. It was this fort that was modified and enlarged by Herod as Fort Antonio (the present day Haram-esh-Sharif site). (Ref.: http://www.biblediscoveries.com/templesite.html)."]
["   7th Sabbath year",7,"e",null,{"$f":"E308-1","v":315},null,null,null,{"$f":"I305+7","v":3674},"e",{"$f":"K305+7","v":3675},"e",null,{"$f":"ABS(I307-(Sheet1!I140+4))","v":236},null,{"$f":"ABS(K307-(Sheet1!I140+4))","v":235},null,null,{"$f":"S305+1","v":47},{"$f":"T305+1","v":51},null,{"$f":"V305+1","v":45}]
["75th Year of Jubilee",50,"e",null,{"$f":"E316-49","v":316},null,null,null,{"$f":"I299+49","v":3675},"e",{"$f":"K299+49","v":3676},"e",null,{"$f":"ABS(I308-(Sheet1!I140+4))","v":235},null,{"$f":"ABS(K308-(Sheet1!I140+4))","v":234},null,null,{"$f":"S299+8","v":48},{"$f":"T299+8","v":52},null,{"$f":"V299+8","v":46}]
["   1st Sabbath year",7,"e",null,{"$f":"E310-7","v":322},null,null,null,{"$f":"I308+6","v":3681},"e",{"$f":"K308+6","v":3682},"e",null,{"$f":"ABS(I309-(Sheet1!I140+4))","v":229},null,{"$f":"ABS(K309-(Sheet1!I140+4))","v":228},null,null,{"$f":"S308+1","v":49},{"$f":"T308+1","v":53},null,47]
["   2nd Sabbath year",7,"e",null,329,null,null,null,{"$f":"I309+7","v":3688},"e",{"$f":"K309+7","v":3689},"e",null,{"$f":"ABS(I310-(Sheet1!I140+4))","v":222},null,{"$f":"ABS(K310-(Sheet1!I140+4))","v":221},null,null,50,54,null,48]
["   3rd Sabbath year",7,"e",null,336,null,null,null,3695,"e",3696,"e",null,{"$f":"ABS(I311-(Sheet1!I140+4))","v":215},null,{"$f":"ABS(K311-(Sheet1!I140+4))","v":214},null,null,51,55,null,49]
["   4th Sabbath year",7,"e",null,{"$f":"E313-7","v":343},null,null,null,3702,"e",3703,"e",null,{"$f":"ABS(I312-(Sheet1!I140+4))","v":208},null,{"$f":"ABS(K312-(Sheet1!I140+4))","v":207},null,null,52,56,null,50]
["   5th Sabbath year",7,"e",null,350,null,null,null,3709,"e",3710,"e",null,{"$f":"ABS(I313-(Sheet1!I140+4))","v":201},null,{"$f":"ABS(K313-(Sheet1!I140+4))","v":200},null,null,53,{"$f":"T312+1","v":57},null,51]
["   6th Sabbath year",7,"e",null,357,null,null,null,3716,"e",3717,"e",null,{"$f":"ABS(I314-(Sheet1!I140+4))","v":194},null,{"$f":"ABS(K314-(Sheet1!I140+4))","v":193},null,null,54,58,null,52]
["   7th Sabbath year",7,"e",null,{"$f":"E316-1","v":364},null,null,null,3723,"e",3724,"e",null,{"$f":"ABS(I315-(Sheet1!I140+4))","v":187},null,{"$f":"ABS(K315-(Sheet1!I140+4))","v":186},null,null,55,59,null,53]
["76th Year of Jubilee",50,"e",null,{"$f":"E325-49","v":365},null,null,null,{"$f":"I308+49","v":3724},"e",{"$f":"K308+49","v":3725},"e",null,{"$f":"ABS(I316-(Sheet1!I140+4))","v":186},null,{"$f":"ABS(K316-(Sheet1!I140+4))","v":185},null,null,{"$f":"S308+8","v":56},{"$f":"T308+8","v":60},null,{"$f":"V308+8","v":54}]
["   1st Sabbath year",7,"e",null,{"$f":"E318-7","v":371},null,null,null,{"$f":"I316+6","v":3730},"e",{"$f":"K316+6","v":3731},"e",null,{"$f":"ABS(I317-(Sheet1!I140+4))","v":180},null,{"$f":"ABS(K317-(Sheet1!I140+4))","v":179},null,null,{"$f":"S316+1","v":57},61,null,55]
["   2nd Sabbath year",7,"e",null,378,null,null,null,{"$f":"I317+7","v":3737},"e",{"$f":"K317+7","v":3738},"e",null,{"$f":"ABS(I318-(Sheet1!I140+4))","v":173},null,{"$f":"ABS(K318-(Sheet1!I140+4))","v":172},null,null,58,62,null,56]
["   3rd Sabbath year",7,"e",null,385,null,null,null,3744,"e",3745,"e",null,{"$f":"ABS(I319-(Sheet1!I140+4))","v":166},null,{"$f":"ABS(K319-(Sheet1!I140+4))","v":165},null,null,59,63,null,57]
["   4th Sabbath year",7,"e",null,{"$f":"E322-7","v":392},null,null,null,3751,"e",3752,"e",null,{"$f":"ABS(I320-(Sheet1!I140+4))","v":159},null,{"$f":"ABS(K320-(Sheet1!I140+4))","v":158},null,null,60,64,null,58]
["       On the 3rd Year of the 5th Sabbath Cycle in the 77 Jubilee Cycle, i.e. in 63 BC Judah was incorporated into the Roman Empire (Ref.: http://campus.northpark.edu/history/WebChron/MiddleEast/HerodTemple.html). The Roman legions left Jerusalem only in 289 AD (http://www.biblediscoveries.com/templesite.html)."]
["   5th Sabbath year",7,"e",null,399,null,null,null,{"$f":"I320+7","v":3758},"e",{"$f":"K320+7","v":3759},"e",null,{"$f":"ABS(I322-(Sheet1!I140+4))","v":152},null,{"$f":"ABS(K322-(Sheet1!I140+4))","v":151},null,null,{"$f":"S320+1","v":61},{"$f":"T320+1","v":65},null,{"$f":"V320+1","v":59}]
["   6th Sabbath year",7,"e",null,406,null,null,null,3765,"e",3766,"e",null,{"$f":"ABS(I323-(Sheet1!I140+4))","v":145},null,{"$f":"ABS(K323-(Sheet1!I140+4))","v":144},null,null,62,66,null,60]
["   7th Sabbath year",7,"e",null,{"$f":"E325-1","v":413},null,null,null,3772,"e",3773,"e",null,{"$f":"ABS(I324-(Sheet1!I140+4))","v":138},null,{"$f":"ABS(K324-(Sheet1!I140+4))","v":137},null,null,63,67,null,61]
["77th Year of Jubilee",50,"e",null,{"$f":"E335-49","v":414},null,null,null,{"$f":"I316+49","v":3773},"e",{"$f":"K316+49","v":3774},"e",null,{"$f":"ABS(I325-(Sheet1!I140+4))","v":137},null,{"$f":"ABS(K325-(Sheet1!I140+4))","v":136},null,null,64,68,null,62]
["   1st Sabbath year",7,"e",null,{"$f":"E327-7","v":420},null,null,null,{"$f":"I325+6","v":3779},"e",{"$f":"K325+6","v":3780},"e",null,{"$f":"ABS(I326-(Sheet1!I140+4))","v":131},null,{"$f":"ABS(K326-(Sheet1!I140+4))","v":130},null,null,65,69,null,63]
["   2nd Sabbath year",7,"e",null,{"$f":"E328-7","v":427},null,null,null,{"$f":"I326+7","v":3786},"e",{"$f":"K326+7","v":3787},"e",null,{"$f":"ABS(I327-(Sheet1!I140+4))","v":124},null,{"$f":"ABS(K327-(Sheet1!I140+4))","v":123},null,null,66,70,null,64]
["   3rd Sabbath year",7,"e",null,{"$f":"E330-7","v":434},null,null,null,{"$f":"I327+7","v":3793},"e",{"$f":"K327+7","v":3794},"e",null,{"$f":"ABS(I328-(Sheet1!I140+4))","v":117},null,{"$f":"ABS(K328-(Sheet1!I140+4))","v":116},null,null,67,71,null,65]
["     On the 4th/5th Year of the 5th Sabbath Cycle in the 78 Jubilee Cycle, i.e. in 19/20 BC the 3rd Temple was begun by Herod the Great who died in 4 BC, being succeded by Archelaus who finished the Temple in 63 AD"]
["   4th Sabbath year",7,"e",null,{"$f":"E331-7","v":441},null,null,null,{"$f":"I328+7","v":3800},"e",{"$f":"K328+7","v":3801},"e",null,{"$f":"ABS(I330-(Sheet1!I140+4))","v":110},null,{"$f":"ABS(K330-(Sheet1!I140+4))","v":109},null,null,{"$f":"S328+1","v":68},{"$f":"T328+1","v":72},null,{"$f":"V328+1","v":66}]
["   5th Sabbath year",7,"e",null,{"$f":"E333-7","v":448},null,null,null,{"$f":"I330+7","v":3807},"e",{"$f":"K330+7","v":3808},"e",null,{"$f":"ABS(I331-(Sheet1!I140+4))","v":103},null,{"$f":"ABS(K331-(Sheet1!I140+4))","v":102},null,null,{"$f":"S330+1","v":69},{"$f":"T330+1","v":73},null,{"$f":"V330+1","v":67}]
["     On the 6th year of the 6th cycle of 7 years ((35+6=41) 41st of 49 yrs) NOTICE the number 6 as being the Day Man was created, and the prior completion of 11 cycles of 7*7=49 Years, i.e. Sabbath Cycles. Cf. the New Adam!  In addition the subsequent Year, which is the 6th Sabbath Year of the Cycle is ALSO the 70th Sabbath Year after the completion of the 70 years of Captivity in Babylon.  Considering, however, the fact that few had yet gone back to Israel to cultivate the land it is hard to perceive that year as being the 1st not kept Sabbath Year in a new 70 Sabbath Year Cycle. Thus, if that one is omitted, then the 70th Sabbath since the Exile out of Babylon and the 7th Sabbath year in the 77th Jubilee Cycle are one and the same. One wonders whether the years in this cycle of 70 Sabbath year ended somehow in another captivity situation, e.g. under Roman captivity?  And if so, what is the nature of the end of it?",null,null,null,null,null,null,null,{"$f":"I331+(N331-N332)","v":3906},null,{"$f":"K331+(P331-P332)","v":3907},null,null,{"$f":"P332+1","v":4},null,3,null,"Jehoshua born [by definition/ParentalPowerOfChoice/LMP on beginning of 1 Nisan, 3 BCE = end of Adar 4 BCE?], conceived [on 15 Nisan, 3 BCE?], & delivered [around the middle of the 10th moon, i.e. at the first full moon, 3 BCE?]"]
["   6th Sabbath year",7,"e",null,{"$f":"E334-7","v":455},null,null,null,{"$f":"I331+7","v":3814},"e",{"$f":"K331+7","v":3815},"e",null,{"$f":"ABS(I333-(Sheet1!I140+4))","v":96},null,{"$f":"ABS(K333-(Sheet1!I140+4))","v":95},null,null,{"$f":"S331+1","v":70},{"$f":"T331+1","v":74},null,{"$f":"V331+1","v":68}]
["   7th Sabbath year",7,"e",null,{"$f":"E336-7","v":462},null,null,null,{"$f":"I333+7","v":3821},"e",{"$f":"K333+7","v":3822},"e",null,{"$f":"ABS(I334-(Sheet1!I140+3))","v":88},null,{"$f":"ABS(K334-(Sheet1!I140+3))","v":87},null,null,null,null,null,{"$f":"V333+1","v":69}]
["78th Year of Jubilee",50,"e",null,{"$f":"E334+1","v":463},null,null,null,{"$f":"I325+49","v":3822},"e",{"$f":"K325+49","v":3823},"e",null,{"$f":"ABS(I335-(Sheet1!I140+3))","v":87},null,{"$f":"ABS(K335-(Sheet1!I140+3))","v":86},null,null,null,null,null,{"$f":"V334+1","v":70}]
["   1st Sabbath year",7,"e",null,{"$f":"E337-7","v":469},null,null,null,{"$f":"I335+6","v":3828},"e",{"$f":"K335+6","v":3829},"e",null,{"$f":"ABS(I336-(Sheet1!I140+3))","v":81},null,{"$f":"ABS(K336-(Sheet1!I140+3))","v":80},null,null,null,null,null,{"$f":"V335+1","v":71}]
["   2nd Sabbath year",7,"e",null,{"$f":"E338-7","v":476},null,null,null,{"$f":"I336+7","v":3835},"e",{"$f":"K336+7","v":3836},"e",null,{"$f":"ABS(I337-(Sheet1!I140+3))","v":74},null,{"$f":"ABS(K337-(Sheet1!I140+3))","v":73},null,null,null,null,null,{"$f":"V336+1","v":72}]
["   3rd Sabbath year",7,"e",null,{"$f":"E340-7","v":483},null,null,null,{"$f":"I337+7","v":3842},"e",{"$f":"K337+7","v":3843},"e",null,{"$f":"ABS(I338-(Sheet1!I140+3))","v":67},null,{"$f":"ABS(K338-(Sheet1!I140+3))","v":66},null,"Cf. Jehoshua's baptism!",null,null,null,{"$f":"V337+1","v":73}]
["     On the 4th Year in the 4th Cycle of 7 Years (I.e. in the middle of the middle week (cf. \"and in the midst of the week he shall cause the sacrifice and the oblation to cease\" Dan. 9:27), and in the 25th of 49 yrs (The number 25 pertains to sonship, i.e. as in being a Son of God!)). Also NOTICE> 78 Jubilee Cycles completed: 78 = 3 * 26 = 6 * 13 !  The 79th is the beginning of 4 * 26, and of 7 * 13.",null,null,null,null,null,null,null,{"$f":"I332+33","v":3939},null,{"$f":"K332+33","v":3940},null,null,{"$f":"P339-1","v":30},null,{"$f":"ABS(K339-(Sheet1!I140+3))","v":31},null,"Jehoshua Crucified at the end of 14th Nisan, 31 CE; exactly 33 years after 14th Nisan, 3 BCE?]"]
["   4th Sabbath year",7,"e",null,490,null,null,null,{"$f":"I338+7","v":3849},"e",{"$f":"K338+7","v":3850},"e",null,{"$f":"ABS(I340-(Sheet1!I140+3))","v":60},null,{"$f":"ABS(K340-(Sheet1!I140+3))","v":59},null,"Cf. The stoning of Stephen etc."]
["   5th Sabbath year",7,"e",null,null,null,null,null,{"$f":"I340+7","v":3856},"e",{"$f":"K340+7","v":3857},"e",null,{"$f":"ABS(I341-(Sheet1!I140+3))","v":53},null,{"$f":"ABS(K341-(Sheet1!I140+3))","v":52}]
["   6th Sabbath year",7,"e",null,null,null,null,null,{"$f":"I341+7","v":3863},"e",{"$f":"K341+7","v":3864},"e",null,{"$f":"ABS(I342-(Sheet1!I140+3))","v":46},null,{"$f":"ABS(K342-(Sheet1!I140+3))","v":45},null,"The Jerusalem Council: AD 48, according to the latest authoritative German theological scholarship, is the most certain date for the Jerusalem Council, which opened the Gospel to the gentiles, and ended the exclusive Jewish character of the New Testament Church. [Vilis]"]
["   7th Sabbath year",7,"e",null,null,null,null,null,{"$f":"I342+7","v":3870},"e",{"$f":"K342+7","v":3871},"e",null,{"$f":"ABS(I343-(Sheet1!I140+3))","v":39},null,{"$f":"ABS(K343-(Sheet1!I140+3))","v":38}]
["79th Year of Jubilee",50,"e",null,null,null,null,null,{"$f":"I335+49","v":3871},"e",{"$f":"K335+49","v":3872},"e",null,{"$f":"ABS(I344-(Sheet1!I140+3))","v":38},null,{"$f":"ABS(K344-(Sheet1!I140+3))","v":37}]
["   1st Sabbath year",7,"e",null,null,null,null,null,{"$f":"I344+6","v":3877},"e",{"$f":"K344+6","v":3878},"e",null,{"$f":"ABS(I345-(Sheet1!I140+3))","v":32},null,{"$f":"ABS(K345-(Sheet1!I140+3))","v":31}]
["   2nd Sabbath year",7,"e",null,null,null,null,null,{"$f":"I345+7","v":3884},"e",{"$f":"K345+7","v":3885},"e",null,{"$f":"ABS(I346-(Sheet1!I140+3))","v":25},null,{"$f":"ABS(K346-(Sheet1!I140+3))","v":24},null,"Cf. the Destruction of Jerusalem"]
["   3rd Sabbath year",7,"e",null,null,null,null,null,3891,"e",3892,"e",null,{"$f":"ABS(I347-(Sheet1!I140+3))","v":18},null,{"$f":"ABS(K347-(Sheet1!I140+3))","v":17}]
["   4th Sabbath year",7,"e",null,null,null,null,null,3898,"e",3899,"e",null,{"$f":"ABS(I348-(Sheet1!I140+3))","v":11},null,{"$f":"ABS(K348-(Sheet1!I140+3))","v":10}]
["   5th Sabbath year",7,"e",null,null,null,null,null,3905,"e",3906,"e",null,{"$f":"ABS(I349-(Sheet1!I140+3))","v":4},null,{"$f":"ABS(K349-(Sheet1!I140+3))","v":3}]
["   6th Sabbath year",7,"e",null,null,null,null,null,3912,"e",3913,"e",null,{"$f":"ABS(I350-(Sheet1!I140+3))","v":3},null,{"$f":"ABS(K350-(Sheet1!I140+3))","v":4}]
["   7th Sabbath year",7,"e",null,null,null,null,null,3919,"e",3920,"e",null,{"$f":"ABS(I351-(Sheet1!I140+3))","v":10},null,{"$f":"ABS(K351-(Sheet1!I140+3))","v":11}]
["80th Year of Jubilee",50,"e",null,null,null,null,null,{"$f":"I344+49","v":3920},"e",{"$f":"K344+49","v":3921},"e",null,{"$f":"ABS(I352-(Sheet1!I140+3))","v":11},null,{"$f":"ABS(K352-(Sheet1!I140+3))","v":12},null,"80, a higher power of 8, represents something NEW!"]
["81st Year of Jubilee",50,"e",null,null,null,null,null,{"$f":"I352+49","v":3969},"e",{"$f":"K352+49","v":3970},"e",null,{"$f":"ABS(I353-(Sheet1!I140+3))","v":60},null,{"$f":"ABS(K353-(Sheet1!I140+3))","v":61}]
["   Eve of the new Millenium",null,null,null,null,null,null,null,{"$f":"I296+500","v":4000},"e",{"$f":"K296+500","v":4001},"e",null,{"$f":"ABS(I354-(Sheet1!I140+3))","v":91},null,{"$f":"ABS(K354-(Sheet1!I140+3))","v":92}]
["82nd Year of Jubilee",50,"e",null,null,null,null,null,{"$f":"I353+49","v":4018},"e",{"$f":"K353+49","v":4019},"e",null,{"$f":"ABS(I355-(Sheet1!I140+3))","v":109},null,{"$f":"ABS(K355-(Sheet1!I140+3))","v":110},null,null,null,null,null,"2 Chron. 36:19-21; Lev. 25:8-10"]
["83rd Year of Jubilee",50,"e",null,null,null,null,null,{"$f":"I355+49","v":4067},"e",{"$f":"K355+49","v":4068},"e",null,{"$f":"ABS(I356-(Sheet1!I140+3))","v":158},null,{"$f":"ABS(K356-(Sheet1!I140+3))","v":159},null,null,null,null,null,"2 Chron. 36:19-21; Lev. 25:8-10"]
["84th Year of Jubilee",50,"e",null,null,null,null,null,4116,"e",4117,"e",null,{"$f":"ABS(I357-(Sheet1!I140+3))","v":207},null,{"$f":"ABS(K357-(Sheet1!I140+3))","v":208},null,null,null,null,null,"2 Chron. 36:19-21; Lev. 25:8-10"]
["85th Year of Jubilee",50,"e",null,null,null,null,null,4165,"e",4166,"e",null,{"$f":"ABS(I358-(Sheet1!I140+3))","v":256},null,{"$f":"ABS(K358-(Sheet1!I140+3))","v":257},null,null,null,null,null,"2 Chron. 36:19-21; Lev. 25:8-10"]
["86th Year of Jubilee",50,"e",null,null,null,null,null,4214,"e",4215,"e",null,{"$f":"ABS(I359-(Sheet1!I140+3))","v":305},null,{"$f":"ABS(K359-(Sheet1!I140+3))","v":306},null,null,null,null,null,"2 Chron. 36:19-21; Lev. 25:8-10"]
["87th Year of Jubilee",50,"e",null,null,null,null,null,4263,"e",4264,"e",null,{"$f":"ABS(I360-(Sheet1!I140+3))","v":354},null,{"$f":"ABS(K360-(Sheet1!I140+3))","v":355},null,null,null,null,null,"2 Chron. 36:19-21; Lev. 25:8-10"]
["88th Year of Jubilee",50,"e",null,null,null,null,null,4312,"e",4313,"e",null,{"$f":"ABS(I361-(Sheet1!I140+3))","v":403},null,{"$f":"ABS(K361-(Sheet1!I140+3))","v":404},null,null,null,null,null,"2 Chron. 36:19-21; Lev. 25:8-10"]
["   1st Sabbath year",7,"e",null,null,null,null,null,{"$f":"I361+6","v":4318},"e",{"$f":"K361+6","v":4319},"e",null,{"$f":"ABS(I362-(Sheet1!I140+3))","v":409},null,{"$f":"ABS(K362-(Sheet1!I140+3))","v":410}]
["   2nd Sabbath year",7,"e",null,null,null,null,null,{"$f":"I362+7","v":4325},"e",{"$f":"K362+7","v":4326},"e",null,{"$f":"ABS(I363-(Sheet1!I140+3))","v":416},null,{"$f":"ABS(K363-(Sheet1!I140+3))","v":417}]
["   3rd Sabbath year",7,"e",null,null,null,null,null,4332,"e",4333,"e",null,{"$f":"ABS(I364-(Sheet1!I140+3))","v":423},null,{"$f":"ABS(K364-(Sheet1!I140+3))","v":424}]
["   4th Sabbath year",7,"e",null,null,null,null,null,4339,"e",4340,"e",null,{"$f":"ABS(I365-(Sheet1!I140+3))","v":430},null,{"$f":"ABS(K365-(Sheet1!I140+3))","v":431}]
["   5th Sabbath year",7,"e",null,null,null,null,null,4346,"e",4347,"e",null,{"$f":"ABS(I366-(Sheet1!I140+3))","v":437},null,{"$f":"ABS(K366-(Sheet1!I140+3))","v":438}]
["   6th Sabbath year",7,"e",null,null,null,null,null,4353,"e",4354,"e",null,{"$f":"ABS(I367-(Sheet1!I140+3))","v":444},null,{"$f":"ABS(K367-(Sheet1!I140+3))","v":445},null,"From AD 48 to AD 538, which year terminated the freedom of the Gospel worldwide, and the beginning of 1260 years of Papal domination, is PRECISELY 10 JUBILEES! 10 X 7 X 7 YEARS! THIS IS EXACTLY EQUAL TO 70 WEEKS OF YEARS! This is the period of the PURE CHURCH, without Judaizing elements before 48AD, and free of Papal Catholic corruption which followed after 538AD. [Vilis]"]
["   7th Sabbath year",7,"e",null,null,null,null,null,4360,"e",4361,"e",null,{"$f":"ABS(I368-(Sheet1!I140+3))","v":451},null,{"$f":"ABS(K368-(Sheet1!I140+3))","v":452}]
["89th Year of Jubilee",50,"e",null,null,null,null,null,{"$f":"I361+49","v":4361},"e",{"$f":"K361+49","v":4362},"e",null,{"$f":"ABS(I369-(Sheet1!I140+3))","v":452},null,{"$f":"ABS(K369-(Sheet1!I140+3))","v":453},null,null,null,null,null,"2 Chron. 36:19-21; Lev. 25:8-10"]
["90th Year of Jubilee",50,"e",null,null,null,null,null,4410,"e",4411,"e",null,{"$f":"ABS(I370-(Sheet1!I140+3))","v":501},null,{"$f":"ABS(K370-(Sheet1!I140+3))","v":502},null,null,null,null,null,"2 Chron. 36:19-21; Lev. 25:8-10"]
["91st Year of Jubilee",50,"e",null,null,null,null,null,4459,"e",4460,"e",null,{"$f":"ABS(I371-(Sheet1!I140+3))","v":550},null,{"$f":"ABS(K371-(Sheet1!I140+3))","v":551},null,null,null,null,null,"2 Chron. 36:19-21; Lev. 25:8-10"]
["   Dawn of the Millenium",null,null,null,null,null,null,null,{"$f":"I354+500","v":4500},"e",{"$f":"K354+500","v":4501},"e",null,{"$f":"ABS(I372-(Sheet1!I140+3))","v":591},null,{"$f":"ABS(K372-(Sheet1!I140+3))","v":592}]
["92nd Year of Jubilee",50,"e",null,null,null,null,null,{"$f":"I371+49","v":4508},"e",{"$f":"K371+49","v":4509},"e",null,{"$f":"ABS(I373-(Sheet1!I140+3))","v":599},null,{"$f":"ABS(K373-(Sheet1!I140+3))","v":600},null,null,null,null,null,"2 Chron. 36:19-21; Lev. 25:8-10"]
["93rd Year of Jubilee",50,"e",null,null,null,null,null,{"$f":"I373+49","v":4557},"e",{"$f":"K373+49","v":4558},"e",null,{"$f":"ABS(I374-(Sheet1!I140+3))","v":648},null,{"$f":"ABS(K374-(Sheet1!I140+3))","v":649},null,null,null,null,null,"2 Chron. 36:19-21; Lev. 25:8-10"]
["94th Year of Jubilee",50,"e",null,null,null,null,null,4606,"e",4607,"e",null,{"$f":"ABS(I375-(Sheet1!I140+3))","v":697},null,{"$f":"ABS(K375-(Sheet1!I140+3))","v":698},null,null,null,null,null,"2 Chron. 36:19-21; Lev. 25:8-10"]
["95th Year of Jubilee",50,"e",null,null,null,null,null,4655,"e",4656,"e",null,{"$f":"ABS(I376-(Sheet1!I140+3))","v":746},null,{"$f":"ABS(K376-(Sheet1!I140+3))","v":747},null,null,null,null,null,"2 Chron. 36:19-21; Lev. 25:8-10"]
["96th Year of Jubilee",50,"e",null,null,null,null,null,4704,"e",4705,"e",null,{"$f":"ABS(I377-(Sheet1!I140+3))","v":795},null,{"$f":"ABS(K377-(Sheet1!I140+3))","v":796},null,null,null,null,null,"2 Chron. 36:19-21; Lev. 25:8-10"]
["97th Year of Jubilee",50,"e",null,null,null,null,null,4753,"e",4754,"e",null,{"$f":"ABS(I378-(Sheet1!I140+3))","v":844},null,{"$f":"ABS(K378-(Sheet1!I140+3))","v":845},null,null,null,null,null,"2 Chron. 36:19-21; Lev. 25:8-10"]
["98th Year of Jubilee",50,"e",null,null,null,null,null,4802,"e",4803,"e",null,{"$f":"ABS(I379-(Sheet1!I140+3))","v":893},null,{"$f":"ABS(K379-(Sheet1!I140+3))","v":894},null,null,null,null,null,"2 Chron. 36:19-21; Lev. 25:8-10"]
["99th Year of Jubilee",50,"e",null,null,null,null,null,4851,"e",4852,"e",null,{"$f":"ABS(I380-(Sheet1!I140+3))","v":942},null,{"$f":"ABS(K380-(Sheet1!I140+3))","v":943},null,null,null,null,null,"2 Chron. 36:19-21; Lev. 25:8-10"]
["100th Year of Jubilee",50,"e",null,null,null,null,null,4900,"e",4901,"e",null,{"$f":"ABS(I381-(Sheet1!I140+3))","v":991},null,{"$f":"ABS(K381-(Sheet1!I140+3))","v":992},null,null,null,null,null,"2 Chron. 36:19-21; Lev. 25:8-10"]
["101st Year of Jubilee",50,"e",null,"Aleph",null,null,null,4949,"e",4950,"e",null,{"$f":"ABS(I382-(Sheet1!I140+3))","v":1040},null,{"$f":"ABS(K382-(Sheet1!I140+3))","v":1041},null,null,null,null,null,"2 Chron. 36:19-21; Lev. 25:8-10"]
["102nd Year of Jubilee",50,"e",null,"Beth",null,null,null,4998,"e",4999,"e",null,{"$f":"ABS(I383-(Sheet1!I140+3))","v":1089},null,{"$f":"ABS(K383-(Sheet1!I140+3))","v":1090},null,null,null,null,null,"2 Chron. 36:19-21; Lev. 25:8-10"]
["   Eve of the new Millenium",null,null,null,null,null,null,null,{"$f":"I372+500","v":5000},"e",{"$f":"K372+500","v":5001},"e",null,{"$f":"ABS(I384-(Sheet1!I140+3))","v":1091},null,{"$f":"ABS(K384-(Sheet1!I140+3))","v":1092}]
["103rd Year of Jubilee",50,"e",null,"Gimmel",null,null,null,{"$f":"I383+49","v":5047},"e",{"$f":"K383+49","v":5048},"e",null,{"$f":"ABS(I385-(Sheet1!I140+3))","v":1138},null,{"$f":"ABS(K385-(Sheet1!I140+3))","v":1139},null,null,null,null,null,"2 Chron. 36:19-21; Lev. 25:8-10"]
["104th Year of Jubilee",50,"e",null,"Daleth",null,null,null,{"$f":"I385+49","v":5096},"e",{"$f":"K385+49","v":5097},"e",null,{"$f":"ABS(I386-(Sheet1!I140+3))","v":1187},null,{"$f":"ABS(K386-(Sheet1!I140+3))","v":1188},null,null,null,null,null,"2 Chron. 36:19-21; Lev. 25:8-10"]
["105th Year of Jubilee",50,"e",null,"He",null,null,null,{"$f":"I386+49","v":5145},"e",{"$f":"K386+49","v":5146},"e",null,{"$f":"ABS(I387-(Sheet1!I140+3))","v":1236},null,{"$f":"ABS(K387-(Sheet1!I140+3))","v":1237},null,null,null,null,null,"2 Chron. 36:19-21; Lev. 25:8-10"]
["106th Year of Jubilee",50,"e",null,"Vav",null,null,null,{"$f":"I387+49","v":5194},"e",{"$f":"K387+49","v":5195},"e",null,{"$f":"ABS(I388-(Sheet1!I140+3))","v":1285},null,{"$f":"ABS(K388-(Sheet1!I140+3))","v":1286},null,null,null,null,null,"2 Chron. 36:19-21; Lev. 25:8-10"]
["107th Year of Jubilee",50,"e",null,"Zayin",null,null,null,{"$f":"I388+49","v":5243},"e",{"$f":"K388+49","v":5244},"e",null,{"$f":"ABS(I389-(Sheet1!I140+3))","v":1334},null,{"$f":"ABS(K389-(Sheet1!I140+3))","v":1335},null,null,null,null,null,"2 Chron. 36:19-21; Lev. 25:8-10"]
["108th Year of Jubilee",50,"e",null,"Cheth",null,null,null,{"$f":"I389+49","v":5292},"e",{"$f":"K389+49","v":5293},"e",null,{"$f":"ABS(I390-(Sheet1!I140+3))","v":1383},null,{"$f":"ABS(K390-(Sheet1!I140+3))","v":1384},null,null,null,null,null,"2 Chron. 36:19-21; Lev. 25:8-10"]
["   1st Sabbath year",7,"e",null,null,null,null,null,{"$f":"I390+6","v":5298},"e",{"$f":"K390+6","v":5299},"e",null,{"$f":"ABS(I391-(Sheet1!I140+3))","v":1389},null,{"$f":"ABS(K391-(Sheet1!I140+3))","v":1390}]
["   2nd Sabbath year",7,"e",null,null,null,null,null,{"$f":"I391+7","v":5305},"e",{"$f":"K391+7","v":5306},"e",null,{"$f":"ABS(I392-(Sheet1!I140+3))","v":1396},null,{"$f":"ABS(K392-(Sheet1!I140+3))","v":1397}]
["   3rd Sabbath year",7,"e",null,null,null,null,null,5312,"e",5313,"e",null,{"$f":"ABS(I393-(Sheet1!I140+3))","v":1403},null,{"$f":"ABS(K393-(Sheet1!I140+3))","v":1404}]
["   4th Sabbath year",7,"e",null,null,null,null,null,5319,"e",5320,"e",null,{"$f":"ABS(I394-(Sheet1!I140+3))","v":1410},null,{"$f":"ABS(K394-(Sheet1!I140+3))","v":1411}]
["   5th Sabbath year",7,"e",null,null,null,null,null,5326,"e",5327,"e",null,{"$f":"ABS(I395-(Sheet1!I140+3))","v":1417},null,{"$f":"ABS(K395-(Sheet1!I140+3))","v":1418}]
["   6th Sabbath year",7,"e",null,null,null,null,null,5333,"e",5334,"e",null,{"$f":"ABS(I396-(Sheet1!I140+3))","v":1424},null,{"$f":"ABS(K396-(Sheet1!I140+3))","v":1425},null,"From AD 48 to the Lutheran Reformation, beginning in 1518 is exactly 30 JUBILEES or 30 x 7 x 7 years!  From AD 538 to the Lutheran Reformation, beginning in 1518 is exactly 20 JUBILEES! [Vilis]"]
["   7th Sabbath year",7,"e",null,null,null,null,null,5340,"e",5341,"e",null,{"$f":"ABS(I397-(Sheet1!I140+3))","v":1431},null,{"$f":"ABS(K397-(Sheet1!I140+3))","v":1432}]
["109th Year of Jubilee",50,"e",null,"Teth",null,null,null,{"$f":"I390+49","v":5341},"e",{"$f":"K390+49","v":5342},"e",null,{"$f":"ABS(I398-(Sheet1!I140+3))","v":1432},null,{"$f":"ABS(K398-(Sheet1!I140+3))","v":1433},null,null,null,null,null,"2 Chron. 36:19-21; Lev. 25:8-10"]
["110th Year of Jubilee",50,"e",null,"Yod",null,null,null,{"$f":"I398+49","v":5390},"e",{"$f":"K398+49","v":5391},"e",null,{"$f":"ABS(I399-(Sheet1!I140+3))","v":1481},null,{"$f":"ABS(K399-(Sheet1!I140+3))","v":1482},null,null,null,null,null,"2 Chron. 36:19-21; Lev. 25:8-10"]
["   1st Sabbath year",7,"e",null,null,null,null,null,{"$f":"I399+6","v":5396},"e",{"$f":"K399+6","v":5397},"e",null,{"$f":"ABS(I400-(Sheet1!I140+3))","v":1487},null,{"$f":"ABS(K400-(Sheet1!I140+3))","v":1488},null,null,null,null,null,"2 Chron. 36:19-21; Lev. 25:8-10"]
["   2nd Sabbath year",7,"e",null,null,null,null,null,{"$f":"I400+7","v":5403},"e",{"$f":"K400+7","v":5404},"e",null,{"$f":"ABS(I401-(Sheet1!I140+3))","v":1494},null,{"$f":"ABS(K401-(Sheet1!I140+3))","v":1495},null,null,null,null,null,"2 Chron. 36:19-21; Lev. 25:8-10"]
["   3rd Sabbath year",7,"e",null,null,null,null,null,5410,"e",5411,"e",null,{"$f":"ABS(I402-(Sheet1!I140+3))","v":1501},null,{"$f":"ABS(K402-(Sheet1!I140+3))","v":1502},null,null,null,null,null,"2 Chron. 36:19-21; Lev. 25:8-10"]
["   4th Sabbath year",7,"e",null,null,null,null,null,5417,"e",5418,"e",null,{"$f":"ABS(I403-(Sheet1!I140+3))","v":1508},null,{"$f":"ABS(K403-(Sheet1!I140+3))","v":1509},null,null,null,null,null,"2 Chron. 36:19-21; Lev. 25:8-10"]
["   5th Sabbath year",7,"e",null,null,null,null,null,5424,"e",5425,"e",null,{"$f":"ABS(I404-(Sheet1!I140+3))","v":1515},null,{"$f":"ABS(K404-(Sheet1!I140+3))","v":1516},null,null,null,null,null,"2 Chron. 36:19-21; Lev. 25:8-10"]
["   6th Sabbath year",7,"e",null,null,null,null,null,5431,"e",5432,"e",null,{"$f":"ABS(I405-(Sheet1!I140+3))","v":1522},null,{"$f":"ABS(K405-(Sheet1!I140+3))","v":1523},null,null,null,null,null,"2 Chron. 36:19-21; Lev. 25:8-10"]
["   7th Sabbath year",7,"e",null,null,null,null,null,5438,"e",5439,"e",null,{"$f":"ABS(I406-(Sheet1!I140+3))","v":1529},null,{"$f":"ABS(K406-(Sheet1!I140+3))","v":1530},null,null,null,null,null,"2 Chron. 36:19-21; Lev. 25:8-10"]
["111st Year of Jubilee",50,"e",null,"Kaf",null,null,null,{"$f":"I399+49","v":5439},"e",{"$f":"K399+49","v":5440},"e",null,{"$f":"ABS(I407-(Sheet1!I140+3))","v":1530},null,{"$f":"ABS(K407-(Sheet1!I140+3))","v":1531},null,null,null,null,null,"2 Chron. 36:19-21; Lev. 25:8-10"]
["   1st Sabbath year",7,"e",null,null,null,null,null,{"$f":"I407+6","v":5445},"e",{"$f":"K407+6","v":5446},"e",null,{"$f":"ABS(I408-(Sheet1!I140+3))","v":1536},null,{"$f":"ABS(K408-(Sheet1!I140+3))","v":1537},null,null,null,null,null,"2 Chron. 36:19-21; Lev. 25:8-10"]
["   2nd Sabbath year",7,"e",null,null,null,null,null,{"$f":"I408+7","v":5452},"e",{"$f":"K408+7","v":5453},"e",null,{"$f":"ABS(I409-(Sheet1!I140+3))","v":1543},null,{"$f":"ABS(K409-(Sheet1!I140+3))","v":1544},null,null,null,null,null,"2 Chron. 36:19-21; Lev. 25:8-10"]
["   3rd Sabbath year",7,"e",null,null,null,null,null,5459,"e",5460,"e",null,{"$f":"ABS(I410-(Sheet1!I140+3))","v":1550},null,{"$f":"ABS(K410-(Sheet1!I140+3))","v":1551},null,null,null,null,null,"2 Chron. 36:19-21; Lev. 25:8-10"]
["   4th Sabbath year",7,"e",null,null,null,null,null,5466,"e",5467,"e",null,{"$f":"ABS(I411-(Sheet1!I140+3))","v":1557},null,{"$f":"ABS(K411-(Sheet1!I140+3))","v":1558},null,null,null,null,null,"2 Chron. 36:19-21; Lev. 25:8-10"]
["   5th Sabbath year",7,"e",null,null,null,null,null,5473,"e",5474,"e",null,{"$f":"ABS(I412-(Sheet1!I140+3))","v":1564},null,{"$f":"ABS(K412-(Sheet1!I140+3))","v":1565},null,null,null,null,null,"2 Chron. 36:19-21; Lev. 25:8-10"]
["   6th Sabbath year",7,"e",null,null,null,null,null,5480,"e",5481,"e",null,{"$f":"ABS(I413-(Sheet1!I140+3))","v":1571},null,{"$f":"ABS(K413-(Sheet1!I140+3))","v":1572},null,null,null,null,null,"2 Chron. 36:19-21; Lev. 25:8-10"]
["   7th Sabbath year",7,"e",null,null,null,null,null,5487,"e",5488,"e",null,{"$f":"ABS(I414-(Sheet1!I140+3))","v":1578},null,{"$f":"ABS(K414-(Sheet1!I140+3))","v":1579},null,null,null,null,null,"2 Chron. 36:19-21; Lev. 25:8-10"]
["112nd Year of Jubilee",50,"e",null,"Lamed",null,null,null,{"$f":"I407+49","v":5488},"e",{"$f":"K407+49","v":5489},"e",null,{"$f":"ABS(I415-(Sheet1!I140+3))","v":1579},null,{"$f":"ABS(K415-(Sheet1!I140+3))","v":1580},null,null,null,null,null,"2 Chron. 36:19-21; Lev. 25:8-10"]
["   Dawn of the Millenium",null,null,null,null,null,null,null,{"$f":"I384+500","v":5500},"e",{"$f":"K384+500","v":5501},"e",null,{"$f":"ABS(I416-(Sheet1!I140+3))","v":1591},null,{"$f":"ABS(K416-(Sheet1!I140+3))","v":1592}]
["113rd Year of Jubilee",50,"e",null,"Mem",null,null,null,{"$f":"I415+49","v":5537},"e",{"$f":"K415+49","v":5538},"e",null,{"$f":"ABS(I417-(Sheet1!I140+3))","v":1628},null,{"$f":"ABS(K417-(Sheet1!I140+3))","v":1629},null,null,null,null,null,"2 Chron. 36:19-21; Lev. 25:8-10"]
["   1st Sabbath year",7,"e",null,null,null,null,null,{"$f":"I417+6","v":5543},"e",{"$f":"K417+6","v":5544},"e",null,{"$f":"ABS(I418-(Sheet1!I140+3))","v":1634},null,{"$f":"ABS(K418-(Sheet1!I140+3))","v":1635}]
["   2nd Sabbath year",7,"e",null,null,null,null,null,{"$f":"I418+7","v":5550},"e",{"$f":"K418+7","v":5551},"e",null,{"$f":"ABS(I419-(Sheet1!I140+3))","v":1641},null,{"$f":"ABS(K419-(Sheet1!I140+3))","v":1642}]
["   3rd Sabbath year",7,"e",null,null,null,null,null,5557,"e",5558,"e",null,{"$f":"ABS(I420-(Sheet1!I140+3))","v":1648},null,{"$f":"ABS(K420-(Sheet1!I140+3))","v":1649}]
["   4th Sabbath year",7,"e",null,null,null,null,null,5564,"e",5565,"e",null,{"$f":"ABS(I421-(Sheet1!I140+3))","v":1655},null,{"$f":"ABS(K421-(Sheet1!I140+3))","v":1656}]
["   5th Sabbath year",7,"e",null,null,null,null,null,5571,"e",5572,"e",null,{"$f":"ABS(I422-(Sheet1!I140+3))","v":1662},null,{"$f":"ABS(K422-(Sheet1!I140+3))","v":1663},null,"\"The Great Lisbon Earthquake was in 1755, exactly 6 x 13 years before the Falling of the Stars in 1833, both prophesied by Christ as signs of the end. 1755 to the Great Dark Day of 1780 is exactly 2 x 13 years. The Darkening of the Sun was also prophesied by Christ. So 1780 to 1833 is 4 x 13 years. The Great Dark Day in 1780 to 1798 is 18 years = 6+6+6 years, remeniscent of \"666\". The Lutheran reformation of 1518 to the Dark Day of 1780 is 69 x 18 years. The Lutheran reformation of 1518 to 1798 is 70 x 18 years, or 70 x (6+6+6) years. \" [Vilis]"]
["   6th Sabbath year",7,"e",null,null,null,null,null,5578,"e",5579,"e",null,{"$f":"ABS(I423-(Sheet1!I140+3))","v":1669},null,{"$f":"ABS(K423-(Sheet1!I140+3))","v":1670}]
["   7th Sabbath year",7,"e",null,null,null,null,null,5585,"e",5586,"e",null,{"$f":"ABS(I424-(Sheet1!I140+3))","v":1676},null,{"$f":"ABS(K424-(Sheet1!I140+3))","v":1677}]
["114th Year of Jubilee",50,"e",null,"Nun",null,null,null,{"$f":"I417+49","v":5586},"e",{"$f":"K417+49","v":5587},"e",null,{"$f":"ABS(I425-(Sheet1!I140+3))","v":1677},null,{"$f":"ABS(K425-(Sheet1!I140+3))","v":1678},null,null,null,null,null,"2 Chron. 36:19-21; Lev. 25:8-10"]
["   1st Sabbath year",7,"e",null,null,null,null,null,{"$f":"I425+6","v":5592},"e",{"$f":"K425+6","v":5593},"e",null,{"$f":"ABS(I426-(Sheet1!I140+3))","v":1683},null,{"$f":"ABS(K426-(Sheet1!I140+3))","v":1684}]
["   2nd Sabbath year",7,"e",null,null,null,null,null,{"$f":"I426+7","v":5599},"e",{"$f":"K426+7","v":5600},"e",null,{"$f":"ABS(I427-(Sheet1!I140+3))","v":1690},null,{"$f":"ABS(K427-(Sheet1!I140+3))","v":1691}]
["   3rd Sabbath year",7,"e",null,null,null,null,null,5606,"e",5607,"e",null,{"$f":"ABS(I428-(Sheet1!I140+3))","v":1697},null,{"$f":"ABS(K428-(Sheet1!I140+3))","v":1698}]
["   4th Sabbath year",7,"e",null,null,null,null,null,5613,"e",5614,"e",null,{"$f":"ABS(I429-(Sheet1!I140+3))","v":1704},null,{"$f":"ABS(K429-(Sheet1!I140+3))","v":1705},null,"From 538 AD to 1798 is 1260 years. 84 x 15 = 1260 = 70 x (6+6+6). This suggests the \"666\" of Revelation 13.18 (18=6+6+6) and 13, well, I'm not superstitious, but the devil seems to have an affinity for this number. The American Moon rocket Apollo 13 lifted off at 1313 hours, and had its accident in space on April 13, 1970, which nearly cost the lives of its crew. [Vilis]"]
["   5th Sabbath year",7,"e",null,null,null,null,null,5620,"e",5621,"e",null,{"$f":"ABS(I430-(Sheet1!I140+3))","v":1711},null,{"$f":"ABS(K430-(Sheet1!I140+3))","v":1712}]
["   6th Sabbath year",7,"e",null,null,null,null,null,5627,"e",5628,"e",null,{"$f":"ABS(I431-(Sheet1!I140+3))","v":1718},null,{"$f":"ABS(K431-(Sheet1!I140+3))","v":1719}]
["   7th Sabbath year",7,"e",null,null,null,null,null,5634,"e",5635,"e",null,{"$f":"ABS(I432-(Sheet1!I140+3))","v":1725},null,{"$f":"ABS(K432-(Sheet1!I140+3))","v":1726}]
["115th Year of Jubilee",50,"e",null,"Samech",null,null,null,{"$f":"I425+49","v":5635},"e",{"$f":"K425+49","v":5636},"e",null,{"$f":"ABS(I433-(Sheet1!I140+3))","v":1726},null,{"$f":"ABS(K433-(Sheet1!I140+3))","v":1727},null,null,null,null,null,"2 Chron. 36:19-21; Lev. 25:8-10"]
["   1st Sabbath year",7,"e",null,null,"Eyin",null,null,{"$f":"I433+6","v":5641},"e",{"$f":"K433+6","v":5642},"e",null,{"$f":"ABS(I434-(Sheet1!I140+3))","v":1732},null,{"$f":"ABS(K434-(Sheet1!I140+3))","v":1733}]
["      2nd Year/Day",null,null,null,null,null,null,null,{"$f":"I434+1","v":5642},"e",{"$f":"K434+1","v":5643},"e",null,{"$f":"ABS(I435-(Sheet1!I140+3))","v":1733},null,{"$f":"ABS(K435-(Sheet1!I140+3))","v":1734},null,"The Moon Day: “But now back to the times when Ellen Harmon was born. On that Monday, November 26, when the twins arrived in the second-floor bedroom of the Harmon home, John Quincy Adams was President of the United States. The next year, after a bitter election campaign, he would be replaced by Andrew Jackson. Experiments were being conducted in building the country's first railroad. In 1826, just one year before, the American Temperance Society was incorporated in Boston.  {1BIO 22.1}”  Per http://www.candlelightingtimes.org/calendar/cal.htm these days correspond: ” 7 Kislev, 5588 - November 26, 1827”. Kislev is the 9th month in the Hebrew calendar. The corresponding day of ovulation, and approximate conception, if Ellen was born at full term, is “6 Adar, 5587 - March 5, 1827”.  However, considering the health status of people in those days it is not unlikely that Ellen and her twin sister had a premature birth. Thus it is entirely possible that the life of Ellen began (in utero) on or around Nissan 1, 5587 (Hebrew Calendar). [(5643 or) 5644 on my Calendar. I.e. 5643 full years after the beginning of creation. Notice: 5+6+4+3=18=6+6+6=666=50+50+5+50+500+5+5+1=eLLen goULD VVhIte. Like all of Mankind she had the 6 Mark, Mankind having been created on the 6th day of creation week.  It’s important to add the One (1) God, the creator to the 6 for perfection (7) and for renewal (8), isn’t it?] “ELLEN WHITE DIED FRIDAY, JULY 16, 1915” [EGW CD-ROM]"]
["   2nd Sabbath year",7,"e",null,null,"Eyin",null,null,{"$f":"I434+7","v":5648},"e",{"$f":"K434+7","v":5649},"e",null,{"$f":"ABS(I436-(Sheet1!I140+3))","v":1739},null,{"$f":"ABS(K436-(Sheet1!I140+3))","v":1740},null,"\"1873, which is the beginning point of the antitypical Feast of Tabernacles celebration week, is exactly 40 years after the November 13, 1833 falling of the stars.\" [Vilis]"]
["   3rd Sabbath year",7,"e",null,null,"Eyin",null,null,{"$f":"I436+7","v":5655},"e",{"$f":"K436+7","v":5656},"e",null,{"$f":"ABS(I437-(Sheet1!I140+3))","v":1746},null,{"$f":"ABS(K437-(Sheet1!I140+3))","v":1747}]
["      4th Year/Day",null,null,null,null,null,null,null,{"$f":"I437+4","v":5659},null,{"$f":"I438+1","v":5660},null,null,{"$f":"ABS(I438-(Sheet1!I140+3))","v":1750},null,{"$f":"ABS(K438-(Sheet1!I140+3))","v":1751}]
["   4th Sabbath year",7,"e",null,null,"Eyin",null,null,{"$f":"I437+7","v":5662},"e",{"$f":"K437+7","v":5663},"e",null,{"$f":"ABS(I439-(Sheet1!I140+3))","v":1753},null,{"$f":"ABS(K439-(Sheet1!I140+3))","v":1754}]
["   5th Sabbath year",7,"e",null,null,"Eyin",null,null,5669,"e",5670,"e",null,{"$f":"ABS(I440-(Sheet1!I140+3))","v":1760},null,{"$f":"ABS(K440-(Sheet1!I140+3))","v":1761}]
["   6th Sabbath year",7,"e",null,null,"Eyin",null,null,5676,"e",5677,"e",null,{"$f":"ABS(I441-(Sheet1!I140+3))","v":1767},null,{"$f":"ABS(K441-(Sheet1!I140+3))","v":1768}]
["   7th Sabbath year",7,"e",null,null,"Eyin",null,null,5683,"e",5684,"e",null,{"$f":"ABS(I442-(Sheet1!I140+3))","v":1774},null,{"$f":"ABS(K442-(Sheet1!I140+3))","v":1775},null,"\"From 1798 to 1868 is 70 years. 1868 is an official \"[Vilis I. Lietuvietis] sabbatical  year\" according to the Mosaic calendar.\" [Vilis]"]
["116th Year of Jubilee",50,"e",null,"Eyin",null,null,null,{"$f":"I433+49","v":5684},"e",{"$f":"K433+49","v":5685},"e",null,{"$f":"ABS(I443-(Sheet1!I140+3))","v":1775},null,{"$f":"ABS(K443-(Sheet1!I140+3))","v":1776},null,null,null,null,null,"2 Chron. 36:19-21; Lev. 25:8-10"]
["   1st Sabbath year",7,"e",null,null,null,null,null,{"$f":"I443+6","v":5690},"e",{"$f":"K443+6","v":5691},"e",null,{"$f":"ABS(I444-(Sheet1!I140+3))","v":1781},null,{"$f":"ABS(K444-(Sheet1!I140+3))","v":1782},null,null,"\"1335 + 538 = 1873. What significance do we find in history concerning 1873? 1873 was the beginning of the proclamation of the 3 angel's messages to all the world by the Seventh-day Adventists! This was the beginning year for our foreign missions, which took off like a skyrocket in 1873.\" [Vilis]"]
["   2nd Sabbath year",7,"e",null,null,null,null,null,{"$f":"I444+7","v":5697},"e",{"$f":"K444+7","v":5698},"e",null,{"$f":"ABS(I445-(Sheet1!I140+3))","v":1788},null,{"$f":"ABS(K445-(Sheet1!I140+3))","v":1789}]
["   3rd Sabbath year",7,"e",null,null,null,null,null,5704,"e",5705,"e",null,{"$f":"ABS(I446-(Sheet1!I140+3))","v":1795},null,{"$f":"ABS(K446-(Sheet1!I140+3))","v":1796}]
["   4th Sabbath year",7,"e",null,null,null,null,null,5711,"e",5712,"e",null,{"$f":"ABS(I447-(Sheet1!I140+3))","v":1802},null,{"$f":"ABS(K447-(Sheet1!I140+3))","v":1803}]
["   5th Sabbath year",7,"e",null,null,null,null,null,5718,"e",5719,"e",null,{"$f":"ABS(I448-(Sheet1!I140+3))","v":1809},null,{"$f":"ABS(K448-(Sheet1!I140+3))","v":1810},null,"\"From 1798 to 1903 is 105 = 7 x 15 years...  1903 AD, THE MIDPOINT BETWEEN 1798 AND 2008.\" [Vilis]"]
["   6th Sabbath year",7,"e",null,null,null,null,null,5725,"e",5726,"e",null,{"$f":"ABS(I449-(Sheet1!I140+3))","v":1816},null,{"$f":"ABS(K449-(Sheet1!I140+3))","v":1817}]
["   7th Sabbath year",7,"e",null,null,null,null,null,5732,"e",5733,"e",null,{"$f":"ABS(I450-(Sheet1!I140+3))","v":1823},null,{"$f":"ABS(K450-(Sheet1!I140+3))","v":1824}]
["117th Year of Jubilee",50,"e",null,"Peh",null,null,null,{"$f":"I443+49","v":5733},"e",{"$f":"K443+49","v":5734},"e",null,{"$f":"ABS(I451-(Sheet1!I140+3))","v":1824},null,{"$f":"ABS(K451-(Sheet1!I140+3))","v":1825},null,"WW I",null,null,null,"2 Chron. 36:19-21; Lev. 25:8-10"]
["   1st Sabbath year",7,"e",null,null,"Tsade",null,null,{"$f":"I451+6","v":5739},"e",{"$f":"K451+6","v":5740},"e",null,{"$f":"ABS(I452-(Sheet1!I140+3))","v":1830},null,{"$f":"ABS(K452-(Sheet1!I140+3))","v":1831}]
["   2nd Sabbath year",7,"e",null,null,"Tsade",null,null,{"$f":"I452+7","v":5746},"e",{"$f":"K452+7","v":5747},"e",null,{"$f":"ABS(I453-(Sheet1!I140+3))","v":1837},null,{"$f":"ABS(K453-(Sheet1!I140+3))","v":1838}]
["   3rd Sabbath year",7,"e",null,null,"Tsade",null,null,{"$f":"I453+7","v":5753},"e",{"$f":"K453+7","v":5754},"e",null,{"$f":"ABS(I454-(Sheet1!I140+3))","v":1844},null,{"$f":"ABS(K454-(Sheet1!I140+3))","v":1845}]
["   4th Sabbath year",7,"e",null,null,"Tsade",null,null,{"$f":"I454+7","v":5760},"e",{"$f":"K454+7","v":5761},"e",null,{"$f":"ABS(I455-(Sheet1!I140+3))","v":1851},null,{"$f":"ABS(K455-(Sheet1!I140+3))","v":1852},null,"WW II"]
["      1st Year/Day",1,"e",null,null,"Tsade",null,null,{"$f":"I455+1","v":5761},"e",{"$f":"K455+1","v":5762},"e",null,{"$f":"ABS(I456-(Sheet1!I140+3))","v":1852},null,{"$f":"ABS(K456-(Sheet1!I140+3))","v":1853}]
["      2nd Year/Day",1,"e",null,null,"Tsade",null,null,5762,"e",5763,"e",null,{"$f":"ABS(I457-(Sheet1!I140+3))","v":1853},null,{"$f":"ABS(K457-(Sheet1!I140+3))","v":1854}]
["      3rd Year/Day",1,"e",null,null,"Tsade",null,null,5763,"e",5764,"e",null,{"$f":"ABS(I458-(Sheet1!I140+3))","v":1854},null,{"$f":"ABS(K458-(Sheet1!I140+3))","v":1855}]
["      4th Year/Day",1,"e",null,null,"Tsade",null,null,5764,"e",5765,"e",null,{"$f":"ABS(I459-(Sheet1!I140+3))","v":1855},null,{"$f":"ABS(K459-(Sheet1!I140+3))","v":1856},null,"Israel re-established"]
["      5th Year/Day",1,"e",null,null,"Tsade",null,null,5765,"e",5766,"e",null,{"$f":"ABS(I460-(Sheet1!I140+3))","v":1856},null,{"$f":"ABS(K460-(Sheet1!I140+3))","v":1857}]
["      6th Year/Day",1,"e",null,null,"Tsade",null,null,5766,"e",5767,"e",null,{"$f":"ABS(I461-(Sheet1!I140+3))","v":1857},null,{"$f":"ABS(K461-(Sheet1!I140+3))","v":1858},null,"Velikovski's and Hubbard's 1st major publications…"]
["   5th Sabbath year",7,"e",null,null,"Tsade",null,null,{"$f":"I455+7","v":5767},"e",{"$f":"K455+7","v":5768},"e",null,{"$f":"ABS(I462-(Sheet1!I140+3))","v":1858},null,{"$f":"ABS(K462-(Sheet1!I140+3))","v":1859}]
["   6th Sabbath year",7,"e",null,null,"Tsade",null,null,{"$f":"I462+7","v":5774},"e",{"$f":"K462+7","v":5775},"e",null,{"$f":"ABS(I463-(Sheet1!I140+3))","v":1865},null,{"$f":"ABS(K463-(Sheet1!I140+3))","v":1866}]
["   7th Sabbath year",7,"e",null,null,"Tsade",null,null,{"$f":"I463+7","v":5781},"e",{"$f":"K463+7","v":5782},"e",null,{"$f":"ABS(I464-(Sheet1!I140+3))","v":1872},null,{"$f":"ABS(K464-(Sheet1!I140+3))","v":1873}]
["118th Year of Jubilee",50,"e",null,"Tsade",null,null,null,{"$f":"I451+49","v":5782},"e",{"$f":"K451+49","v":5783},"e",null,{"$f":"ABS(I465-(Sheet1!I140+3))","v":1873},null,{"$f":"ABS(K465-(Sheet1!I140+3))","v":1874},null,null,null,null,null,"2 Chron. 36:19-21; Lev. 25:8-10"]
["   1st Sabbath year",7,"e",null,null,"Koph",null,null,{"$f":"I465+6","v":5788},"e",{"$f":"K465+6","v":5789},"e",null,{"$f":"ABS(I466-(Sheet1!I140+3))","v":1879},null,{"$f":"ABS(K466-(Sheet1!I140+3))","v":1880}]
["   2nd Sabbath year",7,"e",null,null,"Koph",null,null,{"$f":"I466+7","v":5795},"e",{"$f":"K466+7","v":5796},"e",null,{"$f":"ABS(I467-(Sheet1!I140+3))","v":1886},null,{"$f":"ABS(K467-(Sheet1!I140+3))","v":1887},null,null,null,"365x7=2555"]
["      1st Year/Day",1,"e",null,null,"Koph",null,null,{"$f":"I467+1","v":5796},"e",{"$f":"K467+1","v":5797},"e",null,{"$f":"ABS(I468-(Sheet1!I140+3))","v":1887},null,{"$f":"ABS(K468-(Sheet1!I140+3))","v":1888},null,null,null,{"$f":"Sheet1!W141","v":"But on May 13, 1981 things began to change. \"At a certain moment on May 13, 1981, during an open-air papal audience in St. Peter’s Square, in the presence of some 75,000 people and before the eyes of an estimated 11 million television viewers, Pope John Paul spied a little girl wearing a small picture of Christ’s mother as Our Lady of Fatima. Just as he bent from the slow-moving ‘Popemobile’ in a spontaneous gesture toward the child, hired assassin Mehmet Ali Agca squeezed off two bullets, aimed precisely where his head had been. As two pilgrims fell wounded to the ground, two more shots rang out and this time John Paul’s blood stained his white papal cassock.\"12 Malachi Martin continues in his book: \"after what were arguably the very pointed events that had taken place in St. Peter’s Square, after exhaustive examination of the documents and living witnesses and participants connected with the Fatima events themselves, and after nothing less than a personal communication [a vision?] from Heaven during his long convalescence -- John Paul ... came face-to-face with the realization that, far from pointing to some distant future time, the contents of the now famous Fatima message - and, specifically the secret contents directed to papal attention - amounted to a geopolitical agenda attached to an immediate time-table.\"13 (From http://www.lis.net.au/~dbird/10atheism_islam.htm)  Footnotes: 9. Martin M, The Keys of This Blood, Simon and Shuster, New York, (c) 1990, pp. 47, 48; 10. Ibid., p. 48.; 11. Ibid.; 12. Ibid., p. 46.; 13. Ibid., p. 48. Emphasis supplied."}]
["      2nd Year/Day",1,"e",null,null,"Koph",null,null,5797,"e",5798,"e",null,{"$f":"ABS(I469-(Sheet1!I140+3))","v":1888},null,{"$f":"ABS(K469-(Sheet1!I140+3))","v":1889},null,null,null,"5797-2555=3242"]
["      3rd Year/Day",1,"e",null,null,"Koph",null,null,5798,"e",5799,"e",null,{"$f":"ABS(I470-(Sheet1!I140+3))","v":1889},null,{"$f":"ABS(K470-(Sheet1!I140+3))","v":1890}]
["      4th Year/Day",1,"e",null,null,"Koph",null,null,5799,"e",5800,"e",null,{"$f":"ABS(I471-(Sheet1!I140+3))","v":1890},null,{"$f":"ABS(K471-(Sheet1!I140+3))","v":1891}]
["      5th Year/Day",1,"e",null,null,"Koph",null,null,5800,"e",5801,"e",null,{"$f":"ABS(I472-(Sheet1!I140+3))","v":1891},null,{"$f":"ABS(K472-(Sheet1!I140+3))","v":1892}]
["      6th Year/Day",1,"e",null,null,"Koph",null,null,5801,"e",5802,"e",null,{"$f":"ABS(I473-(Sheet1!I140+3))","v":1892},null,{"$f":"ABS(K473-(Sheet1!I140+3))","v":1893}]
["   3rd Sabbath year",7,"e",null,null,"Koph",null,null,{"$f":"I467+7","v":5802},"e",{"$f":"K467+7","v":5803},"e",null,{"$f":"ABS(I474-(Sheet1!I140+3))","v":1893},null,{"$f":"ABS(K474-(Sheet1!I140+3))","v":1894}]
["   4th Sabbath year",7,"e",null,null,"Koph",null,null,{"$f":"I474+7","v":5809},"e",{"$f":"K474+7","v":5810},"e",null,{"$f":"ABS(I475-(Sheet1!I140+3))","v":1900},null,{"$f":"ABS(K475-(Sheet1!I140+3))","v":1901}]
["   5th Sabbath year",7,"e",null,null,"Koph",null,null,{"$f":"I475+7","v":5816},"e",{"$f":"K475+7","v":5817},"e",null,{"$f":"ABS(I476-(Sheet1!I140+3))","v":1907},null,{"$f":"ABS(K476-(Sheet1!I140+3))","v":1908}]
["      1st Year/Day",1,"e",null,null,"Koph",null,null,{"$f":"I476+1","v":5817},"e",{"$f":"K476+1","v":5818},"e",null,{"$f":"ABS(I477-(Sheet1!I140+3))","v":1908},null,{"$f":"ABS(K477-(Sheet1!I140+3))","v":1909}]
["      2nd Year/Day",1,"e",null,null,"Koph",null,null,5818,"e",5819,"e",null,{"$f":"ABS(I478-(Sheet1!I140+3))","v":1909},null,{"$f":"ABS(K478-(Sheet1!I140+3))","v":1910}]
["      3rd Year/Day",1,"e",null,null,"Koph",null,null,5819,"e",5820,"e",null,{"$f":"ABS(I479-(Sheet1!I140+3))","v":1910},null,{"$f":"ABS(K479-(Sheet1!I140+3))","v":1911}]
["      4th Year/Day",1,"e",null,null,"Koph",null,null,5820,"e",5821,"e",null,{"$f":"ABS(I480-(Sheet1!I140+3))","v":1911},null,{"$f":"ABS(K480-(Sheet1!I140+3))","v":1912}]
["      5th Year/Day",1,"e",null,null,"Koph",null,null,5821,"e",5822,"e",null,{"$f":"ABS(I481-(Sheet1!I140+3))","v":1912},null,{"$f":"ABS(K481-(Sheet1!I140+3))","v":1913}]
["      6th Year/Day",1,"e",null,null,"Koph",null,null,5822,"e",5823,"e",null,{"$f":"ABS(I482-(Sheet1!I140+3))","v":1913},null,{"$f":"ABS(K482-(Sheet1!I140+3))","v":1914}]
["   6th Sabbath year",7,"e",null,null,"Koph",null,null,{"$f":"I476+7","v":5823},"e",{"$f":"K476+7","v":5824},"e",null,{"$f":"ABS(I483-(Sheet1!I140+3))","v":1914},null,{"$f":"ABS(K483-(Sheet1!I140+3))","v":1915},null,"\"From 538 to 2008 is 30 JUBILEES. From 538 to 2008 is 1260 + 210 = 210 x 7 = 70 x (6+6+6) + 10 x (7+7+7) = 70 x (7+7+7) = 30 JUBILEES. From 1798 to 2008 is 210 = 3 x 70 years, or 30 weeks of years. 1888 to 2008 is 120 years, the same time period given to Noah's generation to repent and board the Ark. Matthew 24.37 (42). Genesis 6.3.\" [Vilis]  \"From 1798 to 2008 is 210 = 7 x 30 = 14 x 15 years.\" [Vilis]"]
["   7th Sabbath year",7,"e",null,null,"Koph",null,null,{"$f":"I483+7","v":5830},"e",{"$f":"K483+7","v":5831},"e",null,{"$f":"ABS(I484-(Sheet1!I140+3))","v":1921},null,{"$f":"ABS(K484-(Sheet1!I140+3))","v":1922}]
["119th Year of Jubilee",50,"e",null,"Koph",null,null,null,{"$f":"I465+49","v":5831},"e",{"$f":"K465+49","v":5832},"e",null,{"$f":"ABS(I485-(Sheet1!I140+3))","v":1922},null,{"$f":"ABS(K485-(Sheet1!I140+3))","v":1923},null,null,null,null,null,"2 Chron. 36:19-21; Lev. 25:8-10"]
["120th Year of Jubilee",50,"e",null,"Resh",null,null,null,{"$f":"I485+49","v":5880},"e",{"$f":"K485+49","v":5881},"e",null,{"$f":"ABS(I486-(Sheet1!I140+3))","v":1971},null,{"$f":"ABS(K486-(Sheet1!I140+3))","v":1972},null,null,null,null,null,"2 Chron. 36:19-21; Lev. 25:8-10"]
["121st Year of Jubilee",50,"e",null,"Shin",null,null,null,{"$f":"I486+49","v":5929},"e",{"$f":"K486+49","v":5930},"e",null,{"$f":"ABS(I487-(Sheet1!I140+3))","v":2020},null,{"$f":"ABS(K487-(Sheet1!I140+3))","v":2021},null,null,null,null,null,"2 Chron. 36:19-21; Lev. 25:8-10"]
["122nd Year of Jubilee",50,"e",null,"Tav",null,null,null,{"$f":"I487+49","v":5978},"e",{"$f":"K487+49","v":5979},"e",null,{"$f":"ABS(I488-(Sheet1!I140+3))","v":2069},null,{"$f":"ABS(K488-(Sheet1!I140+3))","v":2070},null,null,null,null,null,"2 Chron. 36:19-21; Lev. 25:8-10"]
["   Eve of the new Millenium",null,null,null,null,null,null,null,{"$f":"I416+500","v":6000},"e",{"$f":"K416+500","v":6001},"e",null,{"$f":"ABS(I489-(Sheet1!I140+3))","v":2091},null,{"$f":"ABS(K489-(Sheet1!I140+3))","v":2092}]
["123rd Year of Jubilee",50,"e",null,null,null,null,null,{"$f":"I488+49","v":6027},"e",{"$f":"K488+49","v":6028},"e",null,{"$f":"ABS(I490-(Sheet1!I140+3))","v":2118},null,{"$f":"ABS(K490-(Sheet1!I140+3))","v":2119},null,null,null,null,null,"2 Chron. 36:19-21; Lev. 25:8-10"]
["124th Year of Jubilee",50,"e",null,null,null,null,null,{"$f":"I490+49","v":6076},"e",{"$f":"K490+49","v":6077},"e",null,{"$f":"ABS(I491-(Sheet1!I140+3))","v":2167},null,{"$f":"ABS(K491-(Sheet1!I140+3))","v":2168},null,null,null,null,null,"2 Chron. 36:19-21; Lev. 25:8-10"]

{"sheet":"Sheet6","index":8,"n_rows":220,"n_cols":10,"rows_kept":220,"cut":false,"hidden":false,"merged":[]}
[{"$f":"Sheet4!A295","v":3095},"Jehoash (Joash)","35th year - I.e. the 35th Sacred Calendar Year he reigned",{"$f":"D2-1","v":22},null,null,"Jehoahaz","13th year - I.e. the 13th Sacred Calendar Year he reigned"," "," "]
[{"$f":"A1+1","v":3096},"Jehoash (Joash)","36th year - I.e. the 36th Sacred Calendar Year he reigned",{"$f":"D3-1","v":23},null,null,"Jehoahaz","14th year - I.e. the 14th Sacred Calendar Year he reigned"," "," "]
[{"$f":"A2+1","v":3097},"Jehoash (Joash)","37th year - I.e. the 37th Sacred Calendar Year he reigned",24,null,null,"Jehoahaz","15th year - I.e. the 15th Sacred Calendar Year he reigned"," "," "]
[null,null,null," ",null,null,null,null," "]
[{"$f":"A3","v":3097},"Jehoash (Joash)","37th year - I.e. the 37th Sacred Calendar Year he reigned"," ",null,null,"Jehoahaz's 15th & Jehoash's","  1st year - I.e. the 1st Sacred Calendar Year he reigned"," ","2 Kings 13:10"]
[{"$f":"A3+1","v":3098},"Jehoash (Joash)","38th year - I.e. the 38th Sacred Calendar Year he reigned",25,null,null,"Jehoahaz's 16th & Jehoash's","  2nd year - I.e. the 2nd Sacred Calendar Year he reigned"," "," "]
[null,null,null," ",null,null,null,null," "]
[{"$f":"A6","v":3098},"Jehoash's 38th & Amaziah's","  1st year - I.e. the 1st Sacred Calendar Year he reigned",25,null,null,"Jehoahaz's 16th & Jehoash's","  2nd year - I.e. the 2nd Sacred Calendar Year he reigned"," ","2 Kings 14:1"]
[{"$f":"A6+1","v":3099},"Jehoash's 39th & Amaziah's","  2nd year - I.e. the 2nd Sacred Calendar Year he reigned"," ",null,null,"Jehoahaz's 17th & Jehoash's","  3rd year - I.e. the 3rd Sacred Calendar Year he reigned"," ","2 Kings 13:1"]
[{"$f":"A9+1","v":3100},"Jehoash's 40th & Amaziah's","  3rd year - I.e. the 3rd Sacred Calendar Year he reigned"," ",null,null,"Jehoash","  4th year - I.e. the 4th Sacred Calendar Year he reigned"," ","2 Chron. 24:1"]
[{"$f":"A10+1","v":3101},"Amaziah","  4th year - I.e. the 4th Sacred Calendar Year he reigned"," ",null,null,"Jehoash","  5th year - I.e. the 5th Sacred Calendar Year he reigned"," "," "]
[3102,"Amaziah","  5th year - I.e. the 5th Sacred Calendar Year he reigned"," ",null,null,"Jehoash","  6th year - I.e. the 6th Sacred Calendar Year he reigned"," "," "]
[3103,"Amaziah","  6th year - I.e. the 6th Sacred Calendar Year he reigned"," ",null,null,"Jehoash","  7th year - I.e. the 7th Sacred Calendar Year he reigned"," "," "]
[3104,"Amaziah","  7th year - I.e. the 7th Sacred Calendar Year he reigned"," ",null,null,"Jehoash","  8th year - I.e. the 8th Sacred Calendar Year he reigned"," "," "]
[3105,"Amaziah","  8th year - I.e. the 8th Sacred Calendar Year he reigned"," ",null,null,"Jehoash","  9th year - I.e. the 9th Sacred Calendar Year he reigned"," "," "]
[3106,"Amaziah","  9th year - I.e. the 9th Sacred Calendar Year he reigned"," ",null,null,"Jehoash","10th year - I.e. the 10th Sacred Calendar Year he reigned"," "," "]
[3107,"Amaziah","10th year - I.e. the 10th Sacred Calendar Year he reigned"," ",null,null,"Jehoash","11th year - I.e. the 11th Sacred Calendar Year he reigned"," "," "]
[3108,"Amaziah","11th year - I.e. the 11th Sacred Calendar Year he reigned"," ",null,null,"Jehoash","12th year - I.e. the 12th Sacred Calendar Year he reigned"," "," "]
[3109,"Amaziah","12th year - I.e. the 12th Sacred Calendar Year he reigned"," ",null,null,"Jehoash","13th year - I.e. the 13th Sacred Calendar Year he reigned"," "," "]
[3110,"Amaziah","13th year - I.e. the 13th Sacred Calendar Year he reigned"," ",null,null,"Jehoash","14th year - I.e. the 14th Sacred Calendar Year he reigned"," "," "]
[3111,"Amaziah","14th year - I.e. the 14th Sacred Calendar Year he reigned"," ",null,null,"Jehoash","15th year - I.e. the 15th Sacred Calendar Year he reigned"," "," "]
[3112,"Amaziah","15th year - I.e. the 15th Sacred Calendar Year he reigned"," ",null,null,"Jehoash","16th year - I.e. the 16th Sacred Calendar Year he reigned"," ","2 Kings 13:10"]
[null,null,null," ",null,null,null,null," "]
[{"$f":"A22","v":3112},"Amaziah","15th year - I.e. the 15th Sacred Calendar Year he reigned",{"$f":"D25-1","v":2},null,null,"Jeroboam","  1st year - I.e. the 1st Sacred Calendar Year he reigned"," ","2 Kings 14:23"]
[{"$f":"A22+1","v":3113},"Amaziah","16th year - I.e. the 16th Sacred Calendar Year he reigned",{"$f":"D26-1","v":3},null,null,"Jeroboam","  2nd year - I.e. the 2nd Sacred Calendar Year he reigned"," "," "]
[3114,"Amaziah","17th year - I.e. the 17th Sacred Calendar Year he reigned",{"$f":"D27-1","v":4},null,null,"Jeroboam","  3rd year - I.e. the 3rd Sacred Calendar Year he reigned"," "," "]
[3115,"Amaziah's 18th & Azariah's","  1st year - I.e. the 1st Sacred Calendar Year he reigned",{"$f":"D28-1","v":5},null,null,"Jeroboam","  4th year - I.e. the 4th Sacred Calendar Year he reigned"," "," "]
[3116,"Amaziah's 19th & Azariah's","  2nd year - I.e. the 2nd Sacred Calendar Year he reigned",{"$f":"D29-1","v":6},null,null,"Jeroboam","  5th year - I.e. the 5th Sacred Calendar Year he reigned"," "," "]
[3117,"Amaziah's 20th & Azariah's","  3rd year - I.e. the 3rd Sacred Calendar Year he reigned",7,null,null,"Jeroboam","  6th year - I.e. the 6th Sacred Calendar Year he reigned"," "," "]
[3118,"Amaziah's 21th & Azariah's","  4th year - I.e. the 4th Sacred Calendar Year he reigned",8,null,null,"Jeroboam","  7th year - I.e. the 7th Sacred Calendar Year he reigned"," "," "]
[3119,"Amaziah's 22th & Azariah's","  5th year - I.e. the 5th Sacred Calendar Year he reigned",9,null,null,"Jeroboam","  8th year - I.e. the 8th Sacred Calendar Year he reigned"," "," "]
[3120,"Amaziah's 23th & Azariah's","  6th year - I.e. the 6th Sacred Calendar Year he reigned",10,null,null,"Jeroboam","  9th year - I.e. the 9th Sacred Calendar Year he reigned"," "," "]
[3121,"Amaziah's 24th & Azariah's","  7th year - I.e. the 7th Sacred Calendar Year he reigned",11,null,null,"Jeroboam","10th year - I.e. the 10th Sacred Calendar Year he reigned"," "," "]
[3122,"Amaziah's 25th & Azariah's","  8th year - I.e. the 8th Sacred Calendar Year he reigned",12,null,null,"Jeroboam","11th year - I.e. the 11th Sacred Calendar Year he reigned"," "," "]
[3123,"Amaziah's 26th & Azariah's","  9th year - I.e. the 9th Sacred Calendar Year he reigned",13,null,null,"Jeroboam","12th year - I.e. the 12th Sacred Calendar Year he reigned"," "," "]
[3124,"Amaziah's 27th & Azariah's","10th year - I.e. the 10th Sacred Calendar Year he reigned",14,null,null,"Jeroboam","13th year - I.e. the 13th Sacred Calendar Year he reigned"," "," "]
[3125,"Amaziah's 28th & Azariah's","11th year - I.e. the 11th Sacred Calendar Year he reigned",{"$f":"D38-1","v":15},null,null,"Jeroboam","14th year - I.e. the 14th Sacred Calendar Year he reigned"," "," "]
[3126,"Amaziah's 29th & Azariah's","12th year - I.e. the 12th Sacred Calendar Year he reigned",16,null,null,"Jeroboam","15th year - I.e. the 15th Sacred Calendar Year he reigned"," ","2 Kings 14:2,17; 2 Chron. 25:1,25,27-28"]
[]
[{"$f":"A37+1","v":3126},"Azariah (Uzziah)","12th year - I.e. the 12th Sacred Calendar Year he reigned",16,null,null,"Jeroboam","15th year - I.e. the 15th Sacred Calendar Year he reigned"," ","2 Kings 14:21; 2 Chron. 26:1,3"]
[{"$f":"A38+1","v":3127},"Azariah (Uzziah)","13th year - I.e. the 13th Sacred Calendar Year he reigned",{"$f":"D42-1","v":17},null,null,"Jeroboam","16th year - I.e. the 16th Sacred Calendar Year he reigned"," "]
[3128,"Azariah (Uzziah)","14th year - I.e. the 14th Sacred Calendar Year he reigned",18,null,null,"Jeroboam","17th year - I.e. the 17th Sacred Calendar Year he reigned"," ","[Hosea's prophecy of Israel's destruction Hosea 1:1-5 \"The word of the Lord that came unto Hosea, the son of Beeri, in the days of Uzziah, Jotham, Ahaz, and Hezekiah, kings of Judah, and in the days of Jeroboam the son of Joash, king of Israel…  And the Lord said... for yet a little while, and I will avenge the blood of Jezreel upon the house of Jehu, and will cause to cease the kingdom of the house of Israel. And it shall come to pass at that day, that I will break the bow of Israel in the valley of Jezreel. (KJV)]"]
[3129,"Azariah (Uzziah)","15th year - I.e. the 15th Sacred Calendar Year he reigned",19,null,null,"Jeroboam","18th year - I.e. the 18th Sacred Calendar Year he reigned"," ","[Amos' prophecy: \"The words of Amos… which he saw concerning Israel in the days of Uzziah king of Judah, and in the days of Jeroboam the son of Joash king of Israel, two years before the earthquake. And he said, The Lord will roar from Zion, and utter his voice from Jerusalem...\"  Amos 1:1-2 (KJV).]"]
[3130,"Azariah (Uzziah)","16th year - I.e. the 16th Sacred Calendar Year he reigned",20,null,null,"Jeroboam","19th year - I.e. the 19th Sacred Calendar Year he reigned"," "]
[3131,"Azariah (Uzziah)","17th year - I.e. the 17th Sacred Calendar Year he reigned",21,null,null,"Jeroboam","20th year - I.e. the 20th Sacred Calendar Year he reigned"," "]
[3132,"Azariah (Uzziah)","18th year - I.e. the 18th Sacred Calendar Year he reigned",22,null,null,"Jeroboam","21st year - I.e. the 21st Sacred Calendar Year he reigned"," "]
[3133,"Azariah (Uzziah)","19th year - I.e. the 19th Sacred Calendar Year he reigned",23,null,null,"Jeroboam","22nd year - I.e. the 22nd Sacred Calendar Year he reigned"," "]
[3134,"Azariah (Uzziah)","20th year - I.e. the 20th Sacred Calendar Year he reigned",24,null,null,"Jeroboam","23rd year - I.e. the 23rd Sacred Calendar Year he reigned"," "]
[3135,"Azariah (Uzziah)","21st year - I.e. the 21st Sacred Calendar Year he reigned",25,null,null,"Jeroboam","24th year - I.e. the 24th Sacred Calendar Year he reigned"," "]
[3136,"Azariah (Uzziah)","22nd year - I.e. the 22nd Sacred Calendar Year he reigned",26,null,null,"Jeroboam","25th year - I.e. the 25th Sacred Calendar Year he reigned"," "]
[3137,"Azariah (Uzziah)","23rd year - I.e. the 23rd Sacred Calendar Year he reigned",27,null,null,"Jeroboam","26th year - I.e. the 26th Sacred Calendar Year he reigned"," "]
[3138,"Azariah (Uzziah)","24th year - I.e. the 24th Sacred Calendar Year he reigned",28,null,null,"Jeroboam","27th year - I.e. the 27th Sacred Calendar Year he reigned"," ","2 Kings 15:1,5. PROBLEM UNRESOLVED: Either this text expands the time-line by 23 years, more or less, OR else, if it pertains to King Azariah (Uzziah) becoming a leper at this time, then his son and successor/judge is not yet born for another 4 years. It cannot possibly pertain to Jotham taking over his responsibility at age 25 y/o at this time, because Jotham's father Azariah was at this time only 27 or 28 y/o (i.e. given this scenario).  It is of course possible, even likely, that Azariah (Uzziah) continued to rule actively for a number of years after the onset of his leprosy and until he would allow his son Jotham to take over as his leprosy was getting worse."]
[3139,"Azariah (Uzziah)","25th year - I.e. the 25th Sacred Calendar Year he reigned"," ",null,null,"Jeroboam","28th year - I.e. the 28th Sacred Calendar Year he reigned"," "]
[3140,"Azariah (Uzziah)","26th year - I.e. the 26th Sacred Calendar Year he reigned"," ",null,null,"Jeroboam","29th year - I.e. the 29th Sacred Calendar Year he reigned"," "]
[3141,"Azariah (Uzziah)","27th year - I.e. the 27th Sacred Calendar Year he reigned"," ",null,null,"Jeroboam","30th year - I.e. the 30th Sacred Calendar Year he reigned"," "," "]
[3142,"Azariah (Uzziah)","28th year - I.e. the 28th Sacred Calendar Year he reigned",{"$f":"D57-1","v":0},null,null,"Jeroboam","31st year - I.e. the 31st Sacred Calendar Year he reigned"," "," "]
[3143,"Azariah (Uzziah)","29th year - I.e. the 29th Sacred Calendar Year he reigned",1,null,null,"Jeroboam","32nd year - I.e. the 32nd Sacred Calendar Year he reigned"," "," "]
[{"$f":"A57+1","v":3144},"Azariah (Uzziah)","30th year - I.e. the 30th Sacred Calendar Year he reigned",2,null,null,"Jeroboam","33rd year - I.e. the 33rd Sacred Calendar Year he reigned"," "," "]
[3145,"Azariah (Uzziah)","31st year - I.e. the 31st Sacred Calendar Year he reigned",3,null,null,"Jeroboam","34th year - I.e. the 34th Sacred Calendar Year he reigned"," "," "]
[3146,"Azariah (Uzziah)","32nd year - I.e. the 32nd Sacred Calendar Year he reigned",4,null,null,"Jeroboam","35th year - I.e. the 35th Sacred Calendar Year he reigned"," "," "]
[3147,"Azariah (Uzziah)","33rd year - I.e. the 33rd Sacred Calendar Year he reigned",5,null,null,"Jeroboam","36th year - I.e. the 36th Sacred Calendar Year he reigned"," "," "]
[3148,"Azariah (Uzziah)","34th year - I.e. the 34th Sacred Calendar Year he reigned",6,null,null,"Jeroboam","37th year - I.e. the 37th Sacred Calendar Year he reigned"," "," "]
[3149,"Azariah (Uzziah)","35th year - I.e. the 35th Sacred Calendar Year he reigned",7,null,null,"Jeroboam","38th year - I.e. the 38th Sacred Calendar Year he reigned"," "," "]
[3150,"Azariah (Uzziah)","36th year - I.e. the 36th Sacred Calendar Year he reigned",8,null,null,"Jeroboam","39th year - I.e. the 39th Sacred Calendar Year he reigned"," "," "]
[3151,"Azariah (Uzziah)","37th year - I.e. the 37th Sacred Calendar Year he reigned",9,null,null,"Jeroboam","40th year - I.e. the 40th Sacred Calendar Year he reigned"," "," "]
[3152,"Azariah (Uzziah)","38th year - I.e. the 38th Sacred Calendar Year he reigned",10,null,null,"Jeroboam","41st year - I.e. the 41st Sacred Calendar Year he reigned"," ","2 Kings 14:23,29. \"In the fifteenth year of Amaziah the son of Joash king of Judah Jeroboam the son of Joash king of Israel began to reign in Samaria, and reigned forty and one years… And Jeroboam slept with his fathers, even with the kings of Israel; and Zachariah his son reigned in his stead\" (KJV)."]
[null,null,null," ",null,null,null,null," "]
[{"$f":"A66","v":3152},"Azariah (Uzziah)","38th year - I.e. the 38th Sacred Calendar Year he reigned",{"$f":"D69-1","v":10},null,null,"Zachariah","6 months"," ","\"In the thirty and eight year of Azariah king of Judah did Zachariah the son of Jeroboam reign over Israel in Samaria six months\" 2 Kings 15:8 (KJV). \"And Jeroboam slept with his fathers, even with the kings of Israel; and Zachariah his son reigned in his stead\" 2 Kings 14:29 (KJV)."]
[{"$f":"A66+1","v":3153},"Azariah (Uzziah)","39th year - I.e. the 39th Sacred Calendar Year he reigned",11,null,null," ",null," "," "]
[null,null,null," ",null,null,null,null," "]
[{"$f":"A69","v":3153},"Azariah (Uzziah)","39th year - I.e. the 39th Sacred Calendar Year he reigned",11,null,null,"Shallum","1 month"," ","2 Kings 15:13"]
[null,null,null," ",null,null,null,null," "]
[{"$f":"A71","v":3153},"Azariah (Uzziah)","39th year - I.e. the 39th Sacred Calendar Year he reigned",{"$f":"D74-1","v":11},null,null,"Menahem","  1st year - I.e. the 1st Sacred Calendar Year he reigned"," ","2 Kings 15:17"]
[{"$f":"A69+1","v":3154},"Azariah (Uzziah)","40th year - I.e. the 40th Sacred Calendar Year he reigned",12,null,null,"Menahem","  2nd year - I.e. the 2nd Sacred Calendar Year he reigned"," "," "]
[3155,"Azariah (Uzziah)","41st year - I.e. the 41st Sacred Calendar Year he reigned",13,null,null,"Menahem","  3rd year - I.e. the 3rd Sacred Calendar Year he reigned"," "," "]
[3156,"Azariah (Uzziah)","42nd year - I.e. the 42nd Sacred Calendar Year he reigned",14,null,null,"Menahem","  4th year - I.e. the 4th Sacred Calendar Year he reigned"," "," "]
[3157,"Azariah (Uzziah)","43rd year - I.e. the 43rd Sacred Calendar Year he reigned",15,null,null,"Menahem","  5th year - I.e. the 5th Sacred Calendar Year he reigned"," "," "]
[3158,"Azariah (Uzziah)","44th year - I.e. the 44th Sacred Calendar Year he reigned",16,null,null,"Menahem","  6th year - I.e. the 6th Sacred Calendar Year he reigned"," "," "]
[3159,"Azariah (Uzziah)","45th year - I.e. the 45th Sacred Calendar Year he reigned",17,null,null,"Menahem","  7th year - I.e. the 7th Sacred Calendar Year he reigned"," "," "]
[3160,"Azariah (Uzziah)","46th year - I.e. the 46th Sacred Calendar Year he reigned",18,null,null,"Menahem","  8th year - I.e. the 8th Sacred Calendar Year he reigned"," "," "]
[3161,"Azariah (Uzziah)","47th year - I.e. the 47th Sacred Calendar Year he reigned",19,null,null,"Menahem","  9th year - I.e. the 9th Sacred Calendar Year he reigned"," "," "]
[3162,"Azariah (Uzziah)","48th year - I.e. the 48th Sacred Calendar Year he reigned",20,null,null,"Menahem","10th year - I.e. the 10th Sacred Calendar Year he reigned"," ","2 Kings 15:17"]
[3163,"Azariah (Uzziah)","49th year - I.e. the 49th Sacred Calendar Year he reigned",{"$f":"D84-1","v":21},null,null," ",null," "," "]
[3164,"Azariah (Uzziah)","50th year - I.e. the 50th Sacred Calendar Year he reigned",22,null,null," ",null," "," "]
[null,null,null," ",null,null,null,null," "]
[{"$f":"A84","v":3164},"Azariah (Uzziah)","50th year - I.e. the 50th Sacred Calendar Year he reigned",22,null,null,"Pekahiah","  1st year - I.e. the 1st Sacred Calendar Year he reigned"," ","2 Kings 15:23"]
[{"$f":"A84+1","v":3165},"Azariah (Uzziah)","51st year - I.e. the 51st Sacred Calendar Year he reigned",23,null,null,"Pekahiah","  2nd year - I.e. the 2nd Sacred Calendar Year he reigned"," ","2 Kings 15:23 (Here the Hebrew word 'shanatajim' is translated 'two years'. As we have seen before the word is applicable to any duration greater than one (1) year. Please compare other notes above, e.g. Gen. 11:10!)"]
[{"$f":"A87+1","v":3166},"Azariah (Uzziah)","52nd year - I.e. the 52nd Sacred Calendar Year he reigned",24,null,null," ",null," ","2 Kings 15:2; 2 Chron. 26:3"]
[null,null,null," ",null,null,null,null," "]
[{"$f":"A88","v":3166},"Azariah (Uzziah)","52nd year - I.e. the 52nd Sacred Calendar Year he reigned",24,null,null,"Pekah","  1st year - I.e. the 1st Sacred Calendar Year he reigned"," ","2 Kings 15:27"]
[{"$f":"A88+1","v":3167},null,null,25,null,null,"Pekah","  2nd year - I.e. the 2nd Sacred Calendar Year he reigned"," "," "]
[null,null,null," ",null,null,null,null," "]
[{"$f":"A91","v":3167},"Jotham","  1st year - I.e. the 1st Sacred Calendar Year he reigned",25,null,null,"Pekah","  2nd year - I.e. the 2nd Sacred Calendar Year he reigned"," ","2 Kings 15:32"]
[{"$f":"A91+1","v":3168},"Jotham","  2nd year - I.e. the 2nd Sacred Calendar Year he reigned",{"$f":"D95-1","v":-1},null,null,"Pekah","  3rd year - I.e. the 3rd Sacred Calendar Year he reigned"," "," "]
[]
[]
[]
[]
[]
[]
[]
[]
[]
[{"$f":"Sheet4!A295","v":3095},"Jehoash (Joash)","35th year - I.e. the 35th Sacred Calendar Year he reigned",{"$f":"D105-1","v":22},null,null,"Jehoahaz","13th year - I.e. the 13th Sacred Calendar Year he reigned"," "," "]
[{"$f":"A104+1","v":3096},"Jehoash (Joash)","36th year - I.e. the 36th Sacred Calendar Year he reigned",{"$f":"D106-1","v":23},null,null,"Jehoahaz","14th year - I.e. the 14th Sacred Calendar Year he reigned"," "," "]
[3097,"Jehoash (Joash)","37th year - I.e. the 37th Sacred Calendar Year he reigned",24,null,null,"Jehoahaz","15th year - I.e. the 15th Sacred Calendar Year he reigned"," "," "]
[null,null,null," ",null,null,null,null," "]
[{"$f":"A106","v":3097},"Jehoash (Joash)","37th year - I.e. the 37th Sacred Calendar Year he reigned"," ",null,null,"Jehoahaz's 15th & Jehoash's","  1st year - I.e. the 1st Sacred Calendar Year he reigned"," ","2 Kings 13:10"]
[{"$f":"A106+1","v":3098},"Jehoash (Joash)","38th year - I.e. the 38th Sacred Calendar Year he reigned",25,null,null,"Jehoahaz's 16th & Jehoash's","  2nd year - I.e. the 2nd Sacred Calendar Year he reigned"," "," "]
[null,null,null," ",null,null,null,null," "]
[{"$f":"A109","v":3098},"Jehoash's 38th & Amaziah's","  1st year - I.e. the 1st Sacred Calendar Year he reigned",25,null,null,"Jehoahaz's 16th & Jehoash's","  2nd year - I.e. the 2nd Sacred Calendar Year he reigned"," ","2 Kings 14:1"]
[{"$f":"A109+1","v":3099},"Jehoash's 39th & Amaziah's","  2nd year - I.e. the 2nd Sacred Calendar Year he reigned"," ",null,null,"Jehoahaz's 17th & Jehoash's","  3rd year - I.e. the 3rd Sacred Calendar Year he reigned"," ","2 Kings 13:1"]
[3100,"Jehoash's 40th & Amaziah's","  3rd year - I.e. the 3rd Sacred Calendar Year he reigned"," ",null,null,"Jehoash","  4th year - I.e. the 4th Sacred Calendar Year he reigned"," ","2 Chron. 24:1"]
[3101,"Amaziah","  4th year - I.e. the 4th Sacred Calendar Year he reigned"," ",null,null,"Jehoash","  5th year - I.e. the 5th Sacred Calendar Year he reigned"," "," "]
[3102,"Amaziah","  5th year - I.e. the 5th Sacred Calendar Year he reigned"," ",null,null,"Jehoash","  6th year - I.e. the 6th Sacred Calendar Year he reigned"," "," "]
[3103,"Amaziah","  6th year - I.e. the 6th Sacred Calendar Year he reigned"," ",null,null,"Jehoash","  7th year - I.e. the 7th Sacred Calendar Year he reigned"," "," "]
[3104,"Amaziah","  7th year - I.e. the 7th Sacred Calendar Year he reigned"," ",null,null,"Jehoash","  8th year - I.e. the 8th Sacred Calendar Year he reigned"," "," "]
[3105,"Amaziah","  8th year - I.e. the 8th Sacred Calendar Year he reigned"," ",null,null,"Jehoash","  9th year - I.e. the 9th Sacred Calendar Year he reigned"," "," "]
[3106,"Amaziah","  9th year - I.e. the 9th Sacred Calendar Year he reigned"," ",null,null,"Jehoash","10th year - I.e. the 10th Sacred Calendar Year he reigned"," "," "]
[3107,"Amaziah","10th year - I.e. the 10th Sacred Calendar Year he reigned"," ",null,null,"Jehoash","11th year - I.e. the 11th Sacred Calendar Year he reigned"," "," "]
[3108,"Amaziah","11th year - I.e. the 11th Sacred Calendar Year he reigned"," ",null,null,"Jehoash","12th year - I.e. the 12th Sacred Calendar Year he reigned"," "," "]
[3109,"Amaziah","12th year - I.e. the 12th Sacred Calendar Year he reigned"," ",null,null,"Jehoash","13th year - I.e. the 13th Sacred Calendar Year he reigned"," "," "]
[3110,"Amaziah","13th year - I.e. the 13th Sacred Calendar Year he reigned"," ",null,null,"Jehoash","14th year - I.e. the 14th Sacred Calendar Year he reigned"," "," "]
[3111,"Amaziah","14th year - I.e. the 14th Sacred Calendar Year he reigned"," ",null,null,"Jehoash","15th year - I.e. the 15th Sacred Calendar Year he reigned"," "," "]
[3112,"Amaziah","15th year - I.e. the 15th Sacred Calendar Year he reigned"," ",null,null,"Jehoash","16th year - I.e. the 16th Sacred Calendar Year he reigned"," ","2 Kings 13:10"]
[null,null,null," ",null,null,null,null," "]
[{"$f":"A125","v":3112},"Amaziah","15th year - I.e. the 15th Sacred Calendar Year he reigned"," ",null,null,"Jeroboam","  1st year - I.e. the 1st Sacred Calendar Year he reigned"," ","2 Kings 14:23"]
[{"$f":"A125+1","v":3113},"Amaziah","16th year - I.e. the 16th Sacred Calendar Year he reigned"," ",null,null,"Jeroboam","  2nd year - I.e. the 2nd Sacred Calendar Year he reigned"," "," "]
[3114,"Amaziah","17th year - I.e. the 17th Sacred Calendar Year he reigned"," ",null,null,"Jeroboam","  3rd year - I.e. the 3rd Sacred Calendar Year he reigned"," "," "]
[3115,"Amaziah","18th year - I.e. the 18th Sacred Calendar Year he reigned"," ",null,null,"Jeroboam","  4th year - I.e. the 4th Sacred Calendar Year he reigned"," "," "]
[3116,"Amaziah","19th year - I.e. the 19th Sacred Calendar Year he reigned"," ",null,null,"Jeroboam","  5th year - I.e. the 5th Sacred Calendar Year he reigned"," "," "]
[3117,"Amaziah","20th year - I.e. the 20th Sacred Calendar Year he reigned"," ",null,null,"Jeroboam","  6th year - I.e. the 6th Sacred Calendar Year he reigned"," "," "]
[3118,"Amaziah","21st year - I.e. the 21st Sacred Calendar Year he reigned"," ",null,null,"Jeroboam","  7th year - I.e. the 7th Sacred Calendar Year he reigned"," "," "]
[3119,"Amaziah","22nd year - I.e. the 22nd Sacred Calendar Year he reigned"," ",null,null,"Jeroboam","  8th year - I.e. the 8th Sacred Calendar Year he reigned"," "," "]
[3120,"Amaziah","23rd year - I.e. the 23rd Sacred Calendar Year he reigned"," ",null,null,"Jeroboam","  9th year - I.e. the 9th Sacred Calendar Year he reigned"," "," "]
[3121,"Amaziah","24th year - I.e. the 24th Sacred Calendar Year he reigned"," ",null,null,"Jeroboam","10th year - I.e. the 10th Sacred Calendar Year he reigned"," "," "]
[3122,"Amaziah","25th year - I.e. the 25th Sacred Calendar Year he reigned",{"$f":"D138-1","v":0},null,null,"Jeroboam","11th year - I.e. the 11th Sacred Calendar Year he reigned"," "," "]
[3123,"Amaziah","26th year - I.e. the 26th Sacred Calendar Year he reigned",1,null,null,"Jeroboam","12th year - I.e. the 12th Sacred Calendar Year he reigned"," "," "]
[3124,"Amaziah","27th year - I.e. the 27th Sacred Calendar Year he reigned",2,null,null,"Jeroboam","13th year - I.e. the 13th Sacred Calendar Year he reigned"," "," "]
[3125,"Amaziah","28th year - I.e. the 28th Sacred Calendar Year he reigned",3,null,null,"Jeroboam","14th year - I.e. the 14th Sacred Calendar Year he reigned"," "," "]
[3126,"Amaziah","29th year - I.e. the 29th Sacred Calendar Year he reigned",4,null,null,"Jeroboam","15th year - I.e. the 15th Sacred Calendar Year he reigned"," ","2 Kings 14:2,17; 2 Chron. 25:1,25"]
[3127,null,null,5,null,null,"Jeroboam","16th year - I.e. the 16th Sacred Calendar Year he reigned"," ","2 Kings 14:21; 2 Chron. 25:27-28"]
[3128,null,null,6,null,null,"Jeroboam","17th year - I.e. the 17th Sacred Calendar Year he reigned"," ","2 Kings 14:21; 2 Chron. 25:27-28"]
[3129,null,null,7,null,null,"Jeroboam","18th year - I.e. the 18th Sacred Calendar Year he reigned"," ","2 Kings 14:21; 2 Chron. 25:27-28"]
[3130,null,null,8,null,null,"Jeroboam","19th year - I.e. the 19th Sacred Calendar Year he reigned"," ","2 Kings 14:21; 2 Chron. 25:27-28"]
[3131,null,null,9,null,null,"Jeroboam","20th year - I.e. the 20th Sacred Calendar Year he reigned"," ","2 Kings 14:21; 2 Chron. 25:27-28"]
[3132,null,null,10,null,null,"Jeroboam","21st year - I.e. the 21st Sacred Calendar Year he reigned"," ","2 Kings 14:21; 2 Chron. 25:27-28"]
[3133,null,null,11,null,null,"Jeroboam","22nd year - I.e. the 22nd Sacred Calendar Year he reigned"," ","2 Kings 14:21; 2 Chron. 25:27-28"]
[3134,null,null,12,null,null,"Jeroboam","23rd year - I.e. the 23rd Sacred Calendar Year he reigned"," ","2 Kings 14:21; 2 Chron. 25:27-28"]
[3135,null,null,13,null,null,"Jeroboam","24th year - I.e. the 24th Sacred Calendar Year he reigned"," ","2 Kings 14:21; 2 Chron. 25:27-28"]
[3136,null,null,14,null,null,"Jeroboam","25th year - I.e. the 25th Sacred Calendar Year he reigned"," ","2 Kings 14:21; 2 Chron. 25:27-28"]
[3137,null,null,{"$f":"D153-1","v":15},null,null,"Jeroboam","26th year - I.e. the 26th Sacred Calendar Year he reigned"," ","2 Kings 14:21; 2 Chron. 25:27-28"]
[3138,null,null,16,null,null,"Jeroboam","27th year - I.e. the 27th Sacred Calendar Year he reigned"," ","2 Kings 14:21; 2 Chron. 25:27-28"]
[null,null,null," ",null,null,null,null," "]
[{"$f":"A153","v":3138},"Azariah (Uzziah)","  1st year - I.e. the 1st Sacred Calendar Year he reigned",16,null,null,"Jeroboam","27th year - I.e. the 27th Sacred Calendar Year he reigned"," ","2 Kings 14:21; 15:1; 2 Chron. 26:1"]
[{"$f":"A153+1","v":3139},"Azariah (Uzziah)","  2nd year - I.e. the 2nd Sacred Calendar Year he reigned"," ",null,null,"Jeroboam","28th year - I.e. the 28th Sacred Calendar Year he reigned"," ","[Hosea's prophecy of Israel's destruction Hosea 1:1-5 \"The word of the Lord that came unto Hosea, the son of Beeri, in the days of Uzziah, Jotham, Ahaz, and Hezekiah, kings of Judah, and in the days of Jeroboam the son of Joash, king of Israel…  And the Lord said... for yet a little while, and I will avenge the blood of Jezreel upon the house of Jehu, and will cause to cease the kingdom of the house of Israel. And it shall come to pass at that day, that I will break the bow of Israel in the valley of Jezreel. (KJV)]"]
[3140,"Azariah (Uzziah)","  3rd year - I.e. the 3rd Sacred Calendar Year he reigned"," ",null,null,"Jeroboam","29th year - I.e. the 29th Sacred Calendar Year he reigned"," ","[Amos' prophecy: \"The words of Amos… which he saw concerning Israel in the days of Uzziah king of Judah, and in the days of Jeroboam the son of Joash king of Israel, two years before the earthquake. And he said, The Lord will roar from Zion, and utter his voice from Jerusalem...\"  Amos 1:1-2 (KJV).]"]
[3141,"Azariah (Uzziah)","  4th year - I.e. the 4th Sacred Calendar Year he reigned"," ",null,null,"Jeroboam","30th year - I.e. the 30th Sacred Calendar Year he reigned"," "," "]
[3142,"Azariah (Uzziah)","  5th year - I.e. the 5th Sacred Calendar Year he reigned"," ",null,null,"Jeroboam","31st year - I.e. the 31st Sacred Calendar Year he reigned"," "," "]
[3143,"Azariah (Uzziah)","  6th year - I.e. the 6th Sacred Calendar Year he reigned"," ",null,null,"Jeroboam","32nd year - I.e. the 32nd Sacred Calendar Year he reigned"," "," "]
[3144,"Azariah (Uzziah)","  7th year - I.e. the 7th Sacred Calendar Year he reigned"," ",null,null,"Jeroboam","33rd year - I.e. the 33rd Sacred Calendar Year he reigned"," "," "]
[3145,"Azariah (Uzziah)","  8th year - I.e. the 8th Sacred Calendar Year he reigned"," ",null,null,"Jeroboam","34th year - I.e. the 34th Sacred Calendar Year he reigned"," "," "]
[3146,"Azariah (Uzziah)","  9th year - I.e. the 9th Sacred Calendar Year he reigned"," ",null,null,"Jeroboam","35th year - I.e. the 35th Sacred Calendar Year he reigned"," "," "]
[3147,"Azariah (Uzziah)","10th year - I.e. the 10th Sacred Calendar Year he reigned"," ",null,null,"Jeroboam","36th year - I.e. the 36th Sacred Calendar Year he reigned"," "," "]
[3148,"Azariah (Uzziah)","11th year - I.e. the 11th Sacred Calendar Year he reigned"," ",null,null,"Jeroboam","37th year - I.e. the 37th Sacred Calendar Year he reigned"," "," "]
[3149,"Azariah (Uzziah)","12th year - I.e. the 12th Sacred Calendar Year he reigned"," ",null,null,"Jeroboam","38th year - I.e. the 38th Sacred Calendar Year he reigned"," "," "]
[3150,"Azariah (Uzziah)","13th year - I.e. the 13th Sacred Calendar Year he reigned"," ",null,null,"Jeroboam","39th year - I.e. the 39th Sacred Calendar Year he reigned"," "," "]
[3151,"Azariah (Uzziah)","14th year - I.e. the 14th Sacred Calendar Year he reigned"," ",null,null,"Jeroboam","40th year - I.e. the 40th Sacred Calendar Year he reigned"," "," "]
[3152,"Azariah (Uzziah)","15th year - I.e. the 15th Sacred Calendar Year he reigned"," ",null,null,"Jeroboam","41st year - I.e. the 41st Sacred Calendar Year he reigned"," ","2 Kings 14:23,29. \"In the fifteenth year of Amaziah the son of Joash king of Judah Jeroboam the son of Joash king of Israel began to reign in Samaria, and reigned forty and one years… And Jeroboam slept with his fathers, even with the kings of Israel; and Zachariah his son reigned in his stead\" (KJV)."]
[3153,"Azariah (Uzziah)","16th year - I.e. the 16th Sacred Calendar Year he reigned"," ",null,null," ",null," "," "]
[3154,"Azariah (Uzziah)","17th year - I.e. the 17th Sacred Calendar Year he reigned"," ",null,null," ",null," "," "]
[3155,"Azariah (Uzziah)","18th year - I.e. the 18th Sacred Calendar Year he reigned"," ",null,null," ",null," "," "]
[3156,"Azariah (Uzziah)","19th year - I.e. the 19th Sacred Calendar Year he reigned"," ",null,null," ",null," "," "]
[3157,"Azariah (Uzziah)","20th year - I.e. the 20th Sacred Calendar Year he reigned"," ",null,null," ",null," "," "]
[3158,"Azariah (Uzziah)","21st year - I.e. the 21st Sacred Calendar Year he reigned"," ",null,null," ",null," "," "]
[3159,"Azariah (Uzziah)","22nd year - I.e. the 22nd Sacred Calendar Year he reigned"," ",null,null," ",null," "," "]
[3160,"Azariah (Uzziah)","23rd year - I.e. the 23rd Sacred Calendar Year he reigned"," ",null,null," ",null," "," "]
[3161,"Azariah (Uzziah)","24th year - I.e. the 24th Sacred Calendar Year he reigned"," ",null,null," ",null," "," "]
[3162,"Azariah (Uzziah)","25th year - I.e. the 25th Sacred Calendar Year he reigned"," ",null,null," ",null," "," "]
[3163,"Azariah (Uzziah)","26th year - I.e. the 26th Sacred Calendar Year he reigned"," ",null,null," ",null," "," "]
[3164,"Azariah (Uzziah)","27th year - I.e. the 27th Sacred Calendar Year he reigned"," ",null,null," ",null," "," "]
[3165,"Azariah (Uzziah)","28th year - I.e. the 28th Sacred Calendar Year he reigned",{"$f":"D183-1","v":0},null,null," ",null," "," "]
[3166,"Azariah (Uzziah)","29th year - I.e. the 29th Sacred Calendar Year he reigned",1,null,null," ",null," "," "]
[3167,"Azariah (Uzziah)","30th year - I.e. the 30th Sacred Calendar Year he reigned",2,null,null," ",null," "," "]
[3168,"Azariah (Uzziah)","31st year - I.e. the 31st Sacred Calendar Year he reigned",3,null,null," ",null," "," "]
[{"$f":"A185+1","v":3169},"Azariah (Uzziah)","32nd year - I.e. the 32nd Sacred Calendar Year he reigned",4,null,null," ",null," "," "]
[3170,"Azariah (Uzziah)","33rd year - I.e. the 33rd Sacred Calendar Year he reigned",5,null,null," ",null," "," "]
[3171,"Azariah (Uzziah)","34th year - I.e. the 34th Sacred Calendar Year he reigned",6,null,null," ",null," "," "]
[3172,"Azariah (Uzziah)","35th year - I.e. the 35th Sacred Calendar Year he reigned",7,null,null," ",null," "," "]
[3173,"Azariah (Uzziah)","36th year - I.e. the 36th Sacred Calendar Year he reigned",8,null,null," ",null," "," "]
[3174,"Azariah (Uzziah)","37th year - I.e. the 37th Sacred Calendar Year he reigned",{"$f":"D192-1","v":9},null,null," ",null," "," "]
[3175,"Azariah (Uzziah)","38th year - I.e. the 38th Sacred Calendar Year he reigned",10,null,23," ",null," "," "]
[null,null,null," ",null,null,null,null," "]
[{"$f":"A192","v":3175},"Azariah (Uzziah)","38th year - I.e. the 38th Sacred Calendar Year he reigned",{"$f":"D195-1","v":10},null,null,"Zachariah","6 months"," ","\"In the thirty and eight year of Azariah king of Judah did Zachariah the son of Jeroboam reign over Israel in Samaria six months\" 2 Kings 15:8 (KJV). \"And Jeroboam slept with his fathers, even with the kings of Israel; and Zachariah his son reigned in his stead\" 2 Kings 14:29 (KJV)."]
[{"$f":"A192+1","v":3176},"Azariah (Uzziah)","39th year - I.e. the 39th Sacred Calendar Year he reigned",11,null,null," ",null," "," "]
[null,null,null," ",null,null,null,null," "]
[{"$f":"A195","v":3176},"Azariah (Uzziah)","39th year - I.e. the 39th Sacred Calendar Year he reigned",11,null,null,"Shallum","1 month"," ","2 Kings 15:13"]
[null,null,null," ",null,null,null,null," "]
[{"$f":"A197","v":3176},"Azariah (Uzziah)","39th year - I.e. the 39th Sacred Calendar Year he reigned",{"$f":"D200-1","v":11},null,null,"Menahem","  1st year - I.e. the 1st Sacred Calendar Year he reigned"," ","2 Kings 15:17"]
[{"$f":"A195+1","v":3177},"Azariah (Uzziah)","40th year - I.e. the 40th Sacred Calendar Year he reigned",12,null,null,"Menahem","  2nd year - I.e. the 2nd Sacred Calendar Year he reigned"," "," "]
[3178,"Azariah (Uzziah)","41st year - I.e. the 41st Sacred Calendar Year he reigned",13,null,null,"Menahem","  3rd year - I.e. the 3rd Sacred Calendar Year he reigned"," "," "]
[3179,"Azariah (Uzziah)","42nd year - I.e. the 42nd Sacred Calendar Year he reigned",14,null,null,"Menahem","  4th year - I.e. the 4th Sacred Calendar Year he reigned"," "," "]
[3180,"Azariah (Uzziah)","43rd year - I.e. the 43rd Sacred Calendar Year he reigned",15,null,null,"Menahem","  5th year - I.e. the 5th Sacred Calendar Year he reigned"," "," "]
[3181,"Azariah (Uzziah)","44th year - I.e. the 44th Sacred Calendar Year he reigned",16,null,null,"Menahem","  6th year - I.e. the 6th Sacred Calendar Year he reigned"," "," "]
[3182,"Azariah (Uzziah)","45th year - I.e. the 45th Sacred Calendar Year he reigned",17,null,null,"Menahem","  7th year - I.e. the 7th Sacred Calendar Year he reigned"," "," "]
[3183,"Azariah (Uzziah)","46th year - I.e. the 46th Sacred Calendar Year he reigned",18,null,null,"Menahem","  8th year - I.e. the 8th Sacred Calendar Year he reigned"," "," "]
[3184,"Azariah (Uzziah)","47th year - I.e. the 47th Sacred Calendar Year he reigned",19,null,null,"Menahem","  9th year - I.e. the 9th Sacred Calendar Year he reigned"," "," "]
[3185,"Azariah (Uzziah)","48th year - I.e. the 48th Sacred Calendar Year he reigned",20,null,null,"Menahem","10th year - I.e. the 10th Sacred Calendar Year he reigned"," ","2 Kings 15:17"]
[3186,"Azariah (Uzziah)","49th year - I.e. the 49th Sacred Calendar Year he reigned",{"$f":"D210-1","v":21},null,null," ",null," "," "]
[3187,"Azariah (Uzziah)","50th year - I.e. the 50th Sacred Calendar Year he reigned",22,null,null," ",null," "," "]
[null,null,null," ",null,null,null,null," "]
[{"$f":"A210","v":3187},"Azariah (Uzziah)","50th year - I.e. the 50th Sacred Calendar Year he reigned",22,null,null,"Pekahiah","  1st year - I.e. the 1st Sacred Calendar Year he reigned"," ","2 Kings 15:23"]
[{"$f":"A210+1","v":3188},"Azariah (Uzziah)","51st year - I.e. the 51st Sacred Calendar Year he reigned",23,null,null,"Pekahiah","  2nd year - I.e. the 2nd Sacred Calendar Year he reigned"," ","2 Kings 15:23 (Here the Hebrew word 'shanatajim' is translated 'two years'. As we have seen before the word is applicable to any duration greater than one (1) year. Please compare other notes above, e.g. Gen. 11:10!)"]
[3189,"Azariah (Uzziah)","52nd year - I.e. the 52nd Sacred Calendar Year he reigned",24,null,null," ",null," ","2 Kings 15:2; 2 Chron. 26:3"]
[null,null,null," ",null,null,null,null," "]
[{"$f":"A214","v":3189},"Azariah (Uzziah)","52nd year - I.e. the 52nd Sacred Calendar Year he reigned",24,null,null,"Pekah","  1st year - I.e. the 1st Sacred Calendar Year he reigned"," ","2 Kings 15:27"]
[{"$f":"A214+1","v":3190},null,null,25,null,null,"Pekah","  2nd year - I.e. the 2nd Sacred Calendar Year he reigned"," "," "]
[null,null,null," ",null,null,null,null," "]
[{"$f":"A217","v":3190},"Jotham","  1st year - I.e. the 1st Sacred Calendar Year he reigned",25,null,null,"Pekah","  2nd year - I.e. the 2nd Sacred Calendar Year he reigned"," ","2 Kings 15:32"]
[{"$f":"A217+1","v":3191},"Jotham","  2nd year - I.e. the 2nd Sacred Calendar Year he reigned",{"$f":"D221-1","v":-1},null,null,"Pekah","  3rd year - I.e. the 3rd Sacred Calendar Year he reigned"," "," "]

{"sheet":"Sheet7","index":9,"n_rows":1916,"n_cols":47,"rows_kept":1916,"cut":false,"hidden":false,"merged":[[1,2,1,3]]}
[null,"AT",null,null,null,"Velikovsky references"]
[null,null,"BC/AD",null,"AT & archeological based comments",null,null,null,"King(s) ruling in Judah",null,null,null,null,null,"King(s) ruling in Israel"]
["The Sacred Calendar Completed years after Creation",null,null,null,null,null,null,null,null,null,null,"Age at Coronation [black ## above belong to red # below]",null,null,null,null," ","Nebuchadnezzar's years of reign as given by Jeremiah the prophet. Jer 52:2830 ---------------- Age at Coronation [black ## above belong to red # below]"]
[null,null,null,null,null,"Velikovsky’s “…nomenclature for the Egyptian dysasties.\n The Middle Kingdom of Egypt (the division into Eleventh and Twelfth Dynasties is unnecessary) came to its end in a natural catastrophe in the mid-fifteenth century before the present era; the land was invaded by the Arabs (Amalekites, known as Amu to the Egyptians, or as Hyksos to Greek authors). The Arab Dynasty ruled for over four hundred years, till about -1020. Already before that date there were vassal princes in Thebes. The Arab domination of Egypt was terminated by the united efforts of Saul of Israel and Kamose and Ahmose of Thebes. For the next (almost) two hundred years (ca. -1200 to ca. -830) the land was ruled by the Theban Dynasty (known as the Eighteenth) of Thutmoses and Amenhoteps. Close to the end of that period, Akhnaton moved the capi9tal to Akhet-Aton (el-Amarna) but Thebes was soon restored as the capital under Smenkhkare and Ay.\n The Theban period was followed by the Libyan domination of Sosenks [= Shoshenk, cf. Ages in Chaos, p. 174-176] and Osorkons for over one hundred years (ca. -830 to ca. -720). Next came the Ethiopian rule that endured for fifty or sixty years; however, at the same time the Assyrians pressed from the north and the land was occupied repeatedly by Sennacherib (who crowned Haremheb), Esarhaddon, and Assurbanipal (who elevated Necho I-Rameses I to be a vassal king). When Necho was killed by invading Ethiopians, Assurbanipal once more occupied Thebes (-663).\n The period of the Tanitic Dynasty follows: Seti (Psammetich of the Greek authors), son of Ramses I (Necho I), obtained independence from Assurbanipal and acted as his ally in his wars against the Chaldeans and Medes, Seti’s capital was in Tanis in the Delta, The Tanitic Dynasty endured from -663 to -525. After Seti reigned Ramses II (Necho II), his son, who for a lengthy period had been Seti’s co-ruler. He carried on a prolonged war with Nebuchadnezzar, the Chaldean. Ramses’ heir Merneptah (Hophra of Jeremiah and Apries of Herodutus) lost the throne to a rebel, General Amasis, the latter reigned in peace for over forty years and died when Cambyses the Persian was already on his march of conquest toward Egypt.\n From -525 to -332, for close to two hundred years, Egypt was dominated by the Persian kings (Cambyses, Darius, Xerxes, Artaxerxes I, Darius II, Artaxerxes II and III); some of them were crowned also as Egyptian pharaohs; they kept native governors in Egypt like Psamshek or Nekht-hor.\n In the fourth century, during the reigns of Artaxerxer II and Artaxerxes III, Egypt achieved a measure of independence comparable to the independence the Greek states maintained during thetime of the Great Kings of Persia.  Nepherites, Acoris, Nectanebo I (Ramses III), Tachos, and Nectanebo II were the indigenous kings of that period and they could be termed Native Kings or, if preferred, Sebennytic Dynasty, for the place of origin of the most famous of them. At the same time a Priestly Dynasty established already by Darius II (about -420) ruled in the military outposts-the oases of the Libyan desert. Thjey continued there till past -300.\n The Persians succeeded in -343 to reconquering Egypt, Nectanebo II escaping to the Sudan, but ten years later Egypt received Alexander as its liberator (-332). The Macedonian Dynasty endured three hundred years, with the Ptolemies on the throne till Cleopatra’s suicide in -30. Thereafter the Roman caesars ruled Egypt.\n This order of dynastic succession, relieved of thenumbered dynasties, is simple to comprehend: Arab, Theban, Libyan, Ethiopian (repeatedly interrupted by Assyrian conquests), Tanitic, Persian (partly Sebennytic), and Macedonian Dynasties in this sequence. As can readily be seen, for most of the fourteen hundred years (ca. -1450 to -30), Egypt was ruled by foreigners: the three periods when it was ruled by native kings were under the Theban (-1020 to -830), the Tanitic (-663 to -525), and the Sebennytic (ca. -391 to -341) Dynasties, altogether something like 380 years out of 1420.” (Peoples of the Sea, p. 194:2-195:end.)\n"]
[null,null,null,null,null,"12th to 10th centuries BC in Egypt: \"the twelfth-tenth-century period in Egypt has no vacancy to accommodate any stray dynasty; the Hyksos domination of Egypt continued till the mid-eleventh century and from then on, for two centuries, till the mid-eleventh century and from then on, for two centuries, the Eighteenth Dynasty ruled over Egypt in one of her most glorious periods, Ahmose, Amenhotep I, Thumose I, Hatshepsut, Thutmose III, Amenhotep II, Thutmose IV, Amenhotep III, Akhnaton, Smenkhkare, and Tutankhamen successively occupying the throne.\"  (Peoples of the Sea, p. 190:6.) \"...places the terminal years of this [18th] dynasty in about -830.\"  (Peoples of the Sea, p. 191:3.)"]
[null,null,null,null,null,"18th Dynasty: \"…the Eighteenth Dynasty ruled from the days of Saul until Jehu, and the great temples of Luxor and Karnak, creations of Thutmose III and Amenhotep III, were built not before but fter the Temple in Jerusalem was erected.\"  (Ages of Chaos, p.320:4) \"David was a contemporary of Ahmose, founder of the Eighteenth Dynasty, and of Amenhotep I; Solomon was a contemporary of Thutmose I and Hatshepsut. And we found that the celebrated journey to God's Land and Punt was the voyage to Palestine and Phoenicia descriped in the Scriptures as the visit of the Queen of Sheba.\"  (Ages of Chaos, p.337:4.)"]
[{"$f":"A8-1","v":2846},null,{"$f":"C8+1","v":1077},{"$f":"IF(C7<>\"\",IF(C7=C8,\"\",C7-1),\"\")","v":1076},null,null,null,null,null,null,null," ",null,null," ",null,null," "]
[2847,null,1076,1075,null,null,null,null,null,null,null," ",null,null," ",null,null," "]
[2848,null,1075,1074,null,null,null,null,null,null,null," ",null,null,null,null,null," "]
[2849,null,1074,1073,null,null,null,null,null,null,null," ",null,null,null,null,null," "," "]
[2850,null,1073,1072,null,null,null,null,null,null,null," ",null,null,null,null,null," "," "]
[2851,null,1072,1071,null,null,null,null,null,null,null," ",null,null,null,null,null," "," "]
[2852,null,1071,1070,null,null,null,null,null,null,null," ",null,null,null,null,null," "," "]
[{"$f":"A15-1","v":2853},null,1070,1069,null,null,null,null,null,null,null," ",null,null,null,null,null,{"$f":"R15-1","v":0}," "]
[2854,null,1069,1068,null,null,null,null,null,null,null," ",null,null,null,null,null,{"$f":"R16-1","v":1}," "]
[2855,null,1068,1067,null,null,null,null,null,null,null," ",null,null,null,null,null,{"$f":"R17-1","v":2}," "]
[2856,null,1067,1066,null,null,null,null,null,null,null," ",null,null,null,null,null,{"$f":"R18-1","v":3}," "]
[2857,null,1066,1065,null,null,null,null,null,null,null," ",null,null,null,null,null,{"$f":"R19-1","v":4}," "]
[2858,null,1065,1064,null,null,null,null,null,null,null," ",null,null,null,null,null,5," "]
[2859,null,1064,1063,null,null,null,null,null,null,null,{"$f":"L21-1","v":1},null,null,null,null,null,6," "]
[2860,null,1063,1062,null,null,null,null,null,null,null,2,null,null,null,null,null,7," "]
[2861,null,1062,1061,null,null,null,null,null,null,null,3,null,null,null,null,null,8," "]
[2862,null,1061,1060,null,null,null,null,null,null,null,4,null,null,null,null,null,9," "]
[2863,null,1060,1059,null,null,null,null,null,null,null,5,null,null,null,null,null,10," "]
[2864,null,1059,1058,null,null,null,null,null,null,null,6,null,null,null,null,null,11," "]
[2865,null,1058,1057,null,null,null,null,null,null,null,7,null,null,null,null,null,12," "]
[2866,null,1057,1056,null,null,null,null,null,null,null,8,null,null,null,null,null,13," "]
[2867,null,1056,1055,null,null,null,null,null,null,null,9,null,null,null,null,null,14," "]
[2868,null,1055,1054,null,null,null,null,null,null,null,10,null,null,null,null,null,15," "]
[2869,null,1054,1053,null,null,null,null,null,null,null,11,null,null,null,null,null,16," "]
[2870,null,1053,1052,null,null,null,null,null,null,null,12,null,null,null,null,null,17," "]
[2871,null,1052,1051,null,null,null,null,null,null,null,13,null,null,null,null,null,18]
[2872,null,1051,1050,null,null,null,null,null,null,null,14,null,null,null,null,null,19]
[2873,null,1050,1049,null,null,null,null,null,null,null,15,null,null,null,null,null,20]
[2874,null,1049,1048,null,null,null,null,null,null,null,16,null,null,null,null,null,21," "]
[2875,null,1048,1047,null,null,null,null,null,null,null,17,null,null,null,null,null,22,"A significant event clearly established in time and clearly occurring prior to the anointing of Saul by Samuel: Eli dies and the Ark of the Covenant is taken by the Philistines: \"And the Philistines fought... And the ark of God was taken; and the two sons of Eli, Hophni and Phinehas, were slain... Now Eli was ninety and eight years old... And it came to pass... that he fell from off the seat backward by the side of the gate, and his neck brake, and he died: for he was an old man, and heavy. And he had judged Israel forty years... And the ark of the Lord was in the country of the Philistines seven months... And the men of Kirjath-jearim came, and fetched up the ark of the Lord, and brought it into the house of Abinadab in the hill, and sanctified Eleazar his son to keep the ark of the Lord. And it came to pass, while the ark abode in Kirjath-jearim, that the time was long; for it was twenty years: and all the house of Israel lamented after the Lord...\" 1 Sam. 4:10,11,15,18; 6:1; 7:2.  \"And David arose, and went with all the people that were with him from Baale of Judah [Baalah, which is Kirjath-Jearim... Kirjath-baal, which is Kirjath-jearim\" Joshua 15:9,60 (KJV)], to bring up from thence the ark of God, whose name is called by the name of the Lord of host that dwelleth between the cherubims... And they brought it out of the house of Abinadab which was at Gibeah... And the ark of the Lord continued in the house of Obed-edom the Gittite three months: and the Lord blessed Obed-edom, and all his household... So David went and brought up the ark of God from the house of Obed-edom into the city of David with gladness... And David danced before the Lord... And as the ark of the Lord came into the city of David, Michal Saul's daughter looked through a window, and saw king David leaping and dancing before the Lord; and she despised him in her heart. And they brought in the ark of the Lord, and set it in his place, in the midst of the tabernacle that David had pitched for it:... Therefore Michal the daughter of Saul had no child unto the day of her death\" 2 Sam 6:2,4,11,12,14,16,17,23 (KJV).  NOTICE: From the above texts it can be seen that Eli died about 20 years and 10 months [7 month + 20 years + 3 months] before the ark was brought to the city of David."]
[2876,null,1047,1046,null,null,null,null,null,null,null,18,null,null,null,null,null,23,"[NOTICE the necessarily short time span between the events relating to the sons of Eli, and the events relating to the sons of Samuel and the anointing of Saul as king. A PK syndrome? (PK=Priest's Kid).  No wonder the people of Israel had these events fresh in mind! No wonder they were sensitive to such issues! Remember: Hurt people hurt people. And: FEAR=False Evidence Appearing Right!]"]
[2877,null,1046,1045,null,null,null,null,"Saul",null,"  1st year - I.e. the 1st Sacred Calendar Year he reigned",19,null,null,"Saul",null,"  1st year - I.e. the 1st Sacred Calendar Year he reigned",24,"Interpretation #1 of 1 Sam. 13:1: Based first of all upon the principle for counting the seven sabbaths towards the 50th day, i.e. the Feast of Weeks, where the counting starts on the first sabbath of one full 7*24 hour week after the Passover sacrifice, AND considering that the 490-7=483 years ending with Cyrus' decree in 3360, One MUST THEN conclude that the period of rule of kings over Israel & Judah was consummated (e.g. by the anointing of Saul) before the end of the Sabbath Year ending 2877 years after Creation. Cf. Lev. 23:5-6,9-11,14-16. BUT then follows that 1 Sam. 13:1, if giving reference, as in \"Interpretation #2\" below, to the beginning and total number of years of Saul's reign, that either David's anointing took place earlier than indicated by the \"HIDDEN PROPHECY\" below, OR some other event.  That other event IS most likely the termination of the reign of king Saul as pronounced by Samuel: \"But now thy kingdom shall not continue: the Lord hath sought him a man after his own heart, and the Lord hath commanded him to be captain over his people, because thou hast not kept that which the Lord commanded thee.\" 1 Sam. 13:14 (KJV), and \"And Samuel said unto him, The Lord hath rent the kingdom of Israel from thee this day, and hath given it to a neighbour of thine, that is better than thou.\" 1 Sam. 15:28 (KJV), and, after the anointing of David, \"And the Lord hath done to him, as he spake by me: for the Lord hath rent the kingdom out of thine hand, and given it to thy neighbour, even to David: Because thou obeyedst not the voice of the Lord, nor executedst his fierce wrath upon Amalek, therefore hath the Lord done this thing unto thee this day.\" 1 Samuel 28:17-18 (KJV)]."]
[2878,null,1045,1044,null,null,null,null,"Saul",null,"  2nd year - I.e. the 2nd Sacred Calendar Year he reigned",20,null,null,"Saul",null,"  2nd year - I.e. the 2nd Sacred Calendar Year he reigned",25,"\"And it came to pass, when Samuel was old, that he made his sons judges over Israel. Now the name of his firstborn was Joel; and the name of his second, Abiah: they were judges in Beer-sheba. And his sons walked not in his ways, but turned aside after lucre, and took bribes, and perverted judgment. Then all the elders of Israel gathered themselves together, and came to Samuel unto Ramah, And said unto him, Behold, thou art old, and thy sons walk not in thy ways: now make us a king to judge us like all the nations\" 1 Sam. 8:1-5 (KJV). \"And as they [Samuel and Saul] were going down to the end of the city, Samuel said to Saul, Bid the servant pass on before us, (and he passed on,) but stand thou still a while, that I may shew thee the word of God. Then Samuel took a vial of oil, and poured it upon his [Saul's] head, and kissed him, and said, Is it not because the Lord hath anointed thee to be captain over his inheritance?\" 1 Sam. 9:27-10:1 (KJV). \"And afterward they desired a king: and God gave unto them Saul the son of Cis, a man of the tribe of Benjamin, by the space of forty years\" Acts 13:21 (KJV).  NOTICE: The two Greek words translated as \"by the space of forty years\" are Strong's #2094 & #5062: #2094 \"etos; appar. a prim. word; a year\"; #5062 \"tessarakonta; the decade of 5064; forty\".  Cf. #5063: \"tessarakontaetes; from 5062 and 2094; of forty years of age\".  The 40 years thus do NOT seem to refer to the reign of Saul, but to his age at anointment.  This fact is confirmed by the following: Eli died at 98 years of age after having been a judge of Israel for 40 years, (see 1 Sam. 4:15,18 (KJV)).  At the time when Hanna spoke to Eli in the temple of God Eli's sons were already old enough to serve in the temple and to be of ill repute, thus Eli was hardly less than 30-40 years old at the time, even if this meeting with Hanna occured before Eli was a judge of Israel, which assumption is then hardly necessary, nor indicated by the Scriptures.  Thus Hannah most likely spoke to Eli after Eli was 58 years old, i.e. after he became a judge in Israel. BUT Eli died only eleven (11) years before Samuel died!  (See references on Sheet 1!)  Thus the time from Hannah's barrenness, i.e. prior to the birth of Samuel, unto the death of Samuel not likely more than 40+11=51 years, and cannot be more than 68[98-(15+15)]+11=79 years!  Now, at the time before Saul was made king \"And it came to pass, when Samuel was old, that he made his sons judges over Israel... Joel... Abiah... they were judges in Beer-sheba... Then all the elders of Israel gathered themselves together, and came to Samuel unto Ramah, And said unto him, Behold, thou art old, and thy sons walk not in thy ways: now make us a king to judge us like all the nations\" 1 Sam. 8:4-5 (KJV).  At the time of Eli's death Samuel was most likely <40 [51-11=40 cf. above] and not possibly >68 [79-11=68 cf. above]. Putting the anointing of Saul as king prior to the death of Eli is thus precluded!  But that, and the sequence of the Scriptural record, and the absence of Eli and his sons early in Saul's reign (1 Sam. 14:18) means that Saul must have been anointed during the last 11 years of Samuel's life, i.e. after the death of Eli and Eli's sons when Samuel became the (sole) judge. From the references found [on this Sheet #7] at the end of Saul's reign it is clear that Samuel died only about 2 years before king Saul and Jonathan.  Thus if not utterly impossible, it is still highly unlikely, all things above considered, that the Greek words used in Acts 13:21 can mean that Saul reigned for 40 years.  Considering the above King Saul most likely reigned less than 12 years, i.e. he was anointed some time after Samuel became sole judge and had at least about a year(?) to put his sons in place!  Furthermore, Saul was old enough to have a grown son, i.e. Jonathan, old enough to do battle as a soldier on his own (1 Sam. 13:3) prior to the time when David first came in contact with them, so 40 years of age for Saul at that time is certainly not unlikely.  Furthermore, Ishbosheth, apparently a younger brother of Jonathan (cf. 1 Sam. 14:49-51 [Ishui=Ishbosheth?], 31:2 [Abinadab is NOT= Abner ! Cf. 2 Sam. 2:8], 2 Sam. 2:10, 1 Chron. 8:33 & 9:39 with a foot note at \"Esh-ba-al\" stating \"or, Ish-bosheth, 2 Sam. 4.4 & 9.6,10\"), was 5 years older than David, i.e. Ishboshet was 40 when David was 35 y/o, thus Jonathan was likely of an age close to that of David's, perhaps 6-10 years older than David, and Saul would likely have been at least 35+15=50 y/o [Ishboshet was 35 y/o when Saul died and Saul must have been at least 15 y/o when he fathered his oldest son] when he, Saul, was killed.  Which of course means that he reigned at minimum of 50-40=10 years [Saul's age when he died less his age when he started to reign].  Because Ish-Bosheth is not listed as a son of Saul in the beginning of Saul's reign (1 Sam. 14:49 KJV) some are suggesting that Ish-bosheth, and thus also the 5 year younger David, were not yet born at that time.  A consequence of such an argument is that Saul must have reigned for >40 years. Thus it is important to consider this issue.  Certainly the names Ishui, Esh-Ba-al, and Ish-bosheth are different names with different meanings though reminiscent of one another. Ishui means 'level' and is related to the name Jesuit, Esh-Ba-al means 'man of Baal', and Ish-Bosheth means 'man of shame' (see Strong's).  Ishui is listed second among 3 sons. Esh-Ba-al and Ish-bosheth are listed last among four sons while the name Ishui is no longer present and Mal-chi-shu-a is moved up from 3rd to 2nd position. Considering the meaning of the name Ish-bosheth, i.e. 'man of shame', it seems more likely, under these circumstances, that Ishui did some shameful act and was demoted to the last position among his brethren, while also having his name changed, rather than indicating that he was not yet born at the time."]
[2879,null,1044,1043,null,null,null,null,"Saul",null,"  3rd year - I.e. the 3rd Sacred Calendar Year he reigned",21,null,null,"Saul",null,"  3rd year - I.e. the 3rd Sacred Calendar Year he reigned",26,"Interpretation #2 of 1 Sam. 13:1: IF 1 Sam. 13:1 is taken as a summary of Saul's lawful 2 year (plus) reign prior to the anointing of David, AND IF the note below, i.e. 'Another HIDDEN TIME PROPHECY?…' is correctly positioned in time, THEN this year is the year when Saul was anointed. IF my interpretation in the note 'Saul ruled at least part of one year and...' is only correct as to the 2 year portion of the text then the next year below is the correct year for Saul's anointing."]
[2880,null,1043,1042,null,null,null,null,"Saul",null,"  4th year - I.e. the 4th Sacred Calendar Year he reigned",22,null,null,"Saul",null,"  4th year - I.e. the 4th Sacred Calendar Year he reigned",27,"Interpretation #3 of 1 Sam. 13:1: Saul ruled at least part of one year and two subsequent full years prior to the year when the David was anointed by Samuel (perhaps 3-4, or more, years considering the additional events recorded prior to the anointing of David): \"And Saul said unto Ahiah [a great grandson of Eli the priest (1 Sam. 14:3 (KJV) - Notice that neither Eli, nor Phinehas are available, i.e. confirmation that this event occurred after their death!], Bring hither the ark of God. For the ark of God was at that time [back (see 1 Sam. 6:1)] with the children of Israel\" 1 Sam. 14:18 (KJV).  \"Saul reigned one year; and when he had reigned two years over Israel, Saul chose him three thousand men of Israel... And Jonathan smote the garrison of the Philistines that was in Geba... And he tarried seven days, according to the set time that Samuel had appointed: but Samuel came not to Gilgal; and the people were scattered from him. And Saul said, Bring hither a burnt offering to me, and peace offerings. And he offered the burnt offering. And it came to pass, that as soon as he had made an end of offering the burnt offering, behold, Samuel came...\" 1 Sam. 13:1-2,3,8-10 (KJV). NOTICE> It seems to me that the curious English and Hebrew formulation in the beginning of 1 Sam. 13:1 indicates that Saul's reign did not start at the head of a year, thus Saul was a \"son\" of, rather than \"the king\" of the year.  Following that 1st year of his reign he then reigned 2 full years prior to the events related in the following verses.  Although not specified it seems possible that the sacrifice announced by Samuel may have been a Passover event or possibly a New Moon event of the First month of the new Sacred year - perhaps Samuel's apparent delay was due to a delay in a New Moon sighting - considering the wording of the beginning of 1 Sam. 13:1."]
[2881,null,1042,1041,null,null,null,null,"Saul",null,"  5th year - I.e. the 5th Sacred Calendar Year he reigned",23,null,null,"Saul",null,"  5th year - I.e. the 5th Sacred Calendar Year he reigned",28,"Addendum #1 to interpretations ##1-3: It appears from from the following arguments (##1-4) THAT the event of Saul's being anointed in secret by Samuel, very well could have been a Passover related celebration, e.g. the Feast of Weeks, i.e. the 50th day after the Sabbath of the Feast of Unleavened Bread, AND thus that the anointing of Saul may have taken place near the beginning of a Sacred Year, i.e. at the beginning of the 3rd month of the Sacred Year (2 + 7 = 9 weeks = 2 months plus):  #1) The three men in 1 Sam. 10:3 are carrying three essentials for the sacrifice offered unto the Lord on the Feast of Weeks, one of which is uniquely named for such sacrifice in the Torah, i.e. the loaves (Lev. 23:17 \"Ye shall bring out of your habitations two wave loaves of two tenth deals: they shall be of fine flour; they shall be baken with leaven; they are the firstfruits unto the Lord...\"), while the others, i.e. the kids and the wine were common for all sacrifices even for the daily sacrifice, #2) All the events, i.e. the \"signs\" (v.9) re in 1 Sam 10:1-10, came to pass in one (1) day: \"And it was so, that when he had turned his back to go from Samuel, God gave him another heart: and all those signs came to pass THAT DAY\" 1 Sam. 10:9, #3) The day before was a feast (per footnote 7 in Orville's KJV, but cf. for the word translated \"sacrifice\"/\"feast\" Strong's #2076 \"a prim. root; to slaughter an animal (usually in sacrifice), #2077 \"from 2076; prop. a slaughter, i.e. the flesh of an animal; by impl. a sacrifice (the victim or the act)\", #2078 \"the same as 2077; sacrifice; Zebach, a Midianitish prince\") or \"a sacrifice of the people to day in the high place\" 1 Sam. 9:12 and could thus be the 7th Sabbat following Passover, AND #4) A Pentecost type experience for Saul: \"The Spirit of the Lord will come upon thee, and thou shalt prophesy with them [the company of prophets], and shalt be turned into another man\" 1 Sam. 10:6 (KJV). NOTICE> It may appear from the KJV translation of 1 Sam. 9:26, especially \"the spring of the day…\" that this terminology may have something to do with the spring season, i.e. the beginning of the year, whereas the Hebrew words (according to Strong's) merely means 'the lifting (\"the spring\") of darkness (\"of the day\")', a phrase which if it was to be applied (perhaps in a dual sense) to the day/year principle would have to be applied to the transition from the 6th to the 7th month of the year."]
[2882,null,1041,1040,null,null,null,null,"Saul",null,"  6th year - I.e. the 6th Sacred Calendar Year he reigned",24,null,null,"Saul",null,"  6th year - I.e. the 6th Sacred Calendar Year he reigned",29,"[Another HIDDEN TIME PROPHECY? The names Solomon and Jedidiah (cf. 2 Sam. 12:24-25) adds up the 418 (Thus 3299-418=2881).  If applied to the same end event as that of Josiah, the initiating event may well be that of David's being anointed by Samuel, i.e. considering that the prophecy was given unto David.  Cf. the conspicuous reference to the prophet Samuel in: \"And there was no passover like to that kept in Israel from the days of Samuel the prophet\" 2 Chron. 35:1,18 (KJV). See more notes at end of Solomons reign!] NOTICE> Considering all the other notes pertaining to Saul's reign, especially the fairly certain dating of Eli's death, a minimum lawful two year reign of Saul's prior to David's anointing, and Samuel's death at the very latest 1 and 1/2 year prior to David's move to Hebron, David must certainly have been anointed after the completion of the 2877th year and prior to the completion of the 2886th year as herein calculated!"]
[2883,null,1040,1039,null,null,"Kamose and Amose: \"Saul was a contemporary of Kamose and Amose, founders of the Eighteenth Dynasty, and together they besieged and took Avaris, the fortress-capital of the Hyksos-Amalekites. I also identified Avaris in el-Arish. There Saul took the last Hyksos king, Agag, prisoner.\" (Peoples of the Sea, p.107:2.)",null,"Saul",null,"  7th year - I.e. the 7th Sacred Calendar Year he reigned",25,null,null,"Saul",null,"  7th year - I.e. the 7th Sacred Calendar Year he reigned",30,"[Calculations for Hidden time prophecy:]",{"$f":"A879-418","v":2884},"An attempt to find a starting point for this potential time prophecy…"]
[2884,null,1039,1038,null,null,null,null,"Saul",null,"  8th year - I.e. the 8th Sacred Calendar Year he reigned",26,null,null,"Saul",null,"  8th year - I.e. the 8th Sacred Calendar Year he reigned",31,"Addendum #2 to interpretations ##1-3: It appears from from the following arguments (##1-5) THAT the event at Gilgal, shortly after Saul's being anointed in secret by Samuel, very well could have been the Passover itself, a Passover related celebration, e.g. the Feast of Weeks, i.e. the 50th day after the Sabbath of the Feast of Unleavened Bread, or even the Day of Atonement, AND thus that the anointing of Saul may have taken place during the first half of a Sacred Year, or at the latest on the Day of Trumpets, i.e. the 1st Day of the 7th Month:  #1) 1 Sam. 9:25-10:1-8, especially \"And thou shalt go down before me to Gilgal; and, behold, I will come down unto thee, to offer burnt offerings, and to sacrifice sacrifices of peace offerings: seven days shalt thou tarry…\" 1 Sam. 9:26; 10:8, #2) The fact that the very name Gilgal is associated with the essence of Passover, \"And the Lord said unto Joshua, This day have I rolled away the reproach of Egypt from off you. Wherefore the name of the place is called Gilgal unto this day\" Joshua 5:9 (KJV), #3) The fact that Gilgal was a place where the first Passover celebration was kept following the entry into the Promised Land (and their first harvest?), \"And the children of Israel encamped in Gilgal, and kept the passover on the fourteenth day of the month at even in the plains of Jericho\" Joshua 5:10 (KJV), #4) The fact that the word passover is never used in 1 or 2 Samuel, nor in 1 Kings or 1 Chron., while in 2 Kings only in re to Josiah (23:21-23) and in 2 Chron. only in re to Hezekiah (30:1,2,5,15,18) and Josiah (35:1,6-19), #5) The three men in 1 Sam. 10:3 are carrying three essentials for the sacrifice offered unto the Lord on the Feast of Weeks, one of which is uniquely named for such sacrifice in the Torah, i.e. the loaves (Lev. 23:17 \"Ye shall bring out of your habitations two wave loaves of two tenth deals: they shall be of fine flour; they shall be baken with leaven; they are the firstfruits unto the Lord...\"), while the others, i.e. the kids and the wine were common for all sacrifices even for the daily sacrifice, #6) All the events, i.e. the \"signs\" (v.9) re in 1 Sam 10:1-10, came to pass in one (1) day: \"And it was so, that when he had turned his back to go from Samuel, God gave him another heart: and all those signs came to pass THAT DAY\" 1 Sam. 10:9, AND #6) From the fact that Passover was kept in a prominent way in \"the days of Samuel\": \"And there was no passover like to that kept in Israel from the days of Samuel the prophet...\" 2 Chron. 35:18 (KJV).  NOTICE> It may appear from the KJV translation of 1 Sam. 9:26, especially \"the spring of the day…\" that this terminology may have something to do with the spring season, i.e. the beginning of the year, whereas the Hebrew words (according to Strong's) merely means 'the lifting (\"the spring\") of darkness (\"of the day\")', a phrase which if it was to be applied (perhaps in a dual sense) to the day/year principle would have to be applied to the transition from the 6th to the 7th month of the year.",{"$f":"2877+418","v":3295},"The exact date for David's - and Saul's - being anointed still missing, Spanning the range of possibilities and thus attempting to find significant ending events at the end of 418 years…"]
[2885,null,1038,1037,null,null,null,null,"Saul",null,"  9th year - I.e. the 9th Sacred Calendar Year he reigned",27,null,null,"Saul",null,"  9th year - I.e. the 9th Sacred Calendar Year he reigned",32," ",{"$f":"2886+418","v":3304},"Ditto"]
[2886,null,1037,1036,null,null,null,null,"Saul",null,"10th year - I.e. the 10th Sacred Calendar Year he reigned",28,null,null,"Saul",null,"10th year - I.e. the 10th Sacred Calendar Year he reigned",33,"Is this the year Samuel died? \"And Samuel died; and all the Israelites were gathered together, and lamented him, and buried him in his house at Ramah. And David arose, and went down to the wilderness of Paran. And there was a man in Maon... Now the name of the man was Nabal; and the name of his wife Abigail: and she was a woman of good understanding; and of a beautiful countenance... And it came to pass about ten days after, that the Lord smote Nabal, that he died... And David sent and communed with Abigail, to take her to him to wife... And Abigail hasted, and arose, and rode upon an ass, with five damsels of her's that went after her; and she went after the messengers of David, and became his wife. David also took Ahinoam of Jezreel; and they were also both of them his wives\" 1 Sam. 25:1-3,38,39,42-43 (KJV).  Considering David's need for peace at a time when he was forming a family (1 Sam. 25:43), and the events related in 1 Sam. 27:1-4,7 (KJV) it seems likely that these events occured during the 39th year of king Saul's reign:  \"And David said in his heart, I shall now perish one day by the hand of Saul: there is nothing better for me than that I should speedily escape into the land of the Philistines; and Saul shall despair of me, to seek me any more in any coast of Israel: so shall I escape out of his hand... And David arose and he passed over ... unto Achish, the son of Maoch, king of Gath. And David dwelt with Achish at Gath, he and his men, every man with his household, even David with his two wives, Ahinoam the Jezreelitess, and Abigail the Carmelitess, Nabal's wife. And it was told Saul that David was fled to Gath: and he sought no more again for him... And the time that David dwelt in the country of the Philistines was a full year and four months\".  NOTICE> 70 weeks is 1 year, 4 months, and two weeks - in \"our\" modern Catholic, i.e. Gregorian the Pope, Calendar.  In the Biblical, i.e. the Sacred Calendar, 1 year and 4 months is either 66 weeks or 70 weeks depending on whether there is a 13th month in the 1 year!"]
[2887,null,{"$f":"C49+1","v":1036},1035,null,null,null,null,"Saul",null,"11th year - I.e. the 11th Sacred Calendar Year he reigned",{"$f":"L49-1","v":29},null,null,"Saul",null,"11th year - I.e. the 11th Sacred Calendar Year he reigned",34,"King David and his 70 weeks - or was it 66 weeks - before his reign in Hebron started? An event prophecy demonstrating the nature of the 2nd coming of Christ?  \"And the time that David dwelt in the country of the Philistines was a full year and four months\" 1 Sam. 27:7 (KJV).  NOTICE> 70 weeks is 1 year, 4 months, and two weeks - in \"our\" modern Catholic, i.e. Gregorian the Pope, Calendar.  In the Biblical, i.e. the Sacred, Calendar, 1 year and 4 months is either 66 weeks or 70 weeks depending on whether there is a 13th month in the 1 year! So what is the lesson in this event?  Well, as for me it is clear: David separated himself and his family from \"his\" system, \"his\" society, \"his\" church, for the purpose of finding peace and quiet for his family until his persecutors died as a consequence of their own actions, i.e. due to their failure to live in harmony with the law and the precepts of our Creator... Thus my long time persuit in learning how to effectively separate myself and my family from the system find support and confirmation even in this 70 week prophetic event - as in literally thousands of other bible passages.  The bible is loaded with this concept - as in A to Z, alpha to omega, or aleph to tav...  For consideration:  Could the 2,300 days be applied also to the events David experienced during these years? If so what lessons could be learned from such considerations? What happened around 2,300 literal days after David moved out of the way of Saul, i.e. after the beginning of his 70 weeks?  And what about 1,260 days? NOTICE> Counting backwards in time 2,300 days, i.e. 6.5 years brings us to the year of the anointing of David by Samuel if the \"HIDDEN TIME PROPHECY\" is thus correctly placing it!?!!! Coincidence, or? How about counting backwards from Cyrus' decree 2,300 years?  3360-2300=1060. The closest event to 1060 is Noah's birth which occurred 1056 years after Creation.  Thus at 1060 Noah turned 4 years old...  Significance? Certainly!  Study the name Noah and its various generic roots in Strong's and compare it to the realizations experienced by many sincere bible students in 1844!  Ever noticed the significance of symmetry and mirror images in the Bible?!!! By the way Noah was born at the beginning of a Sabbath year and the name Noah means 'rest' as in Sabbath..."]
[{"$f":"A51","v":2888},null,{"$f":"C51","v":1035},1034,null,null,null,null,"Saul",null,"12th year - I.e. the 12th Sacred Calendar Year he reigned",30,null,null,"Saul",null,"12th year - I.e. the 12th Sacred Calendar Year he reigned",35]
[null,null,null,"",null,null,null,null,null,null,null," ",null,null,null,null,null," "]
[{"$f":"A52-1","v":2888},null,{"$f":"C52+1","v":1035},1034,null,null,null,null,"David","t ?    2 Sam. 16:8","  1st year - I.e. the 1st Sacred Calendar Year he reigned",30,null,null,"The House of Saul & Abner",null,null,{"$f":"R52-1","v":35},"2 Sam. 5:4-5; 15:7; 1 Kings 2:10-12.  It is clear from 2 Sam. 2:1-4 that David was anointed King of Judah, by \"the men of Judah\" (KJV) AFTER the events of King Saul's death as referenced by the words \"after this\" 2 Sam. 2:1 and \"It was the men of Jabesh-gilead who buried Saul\" 2 Sam. 2:4. The full story of King Saul's and Jonathan's deaths is recorded in 1 Sam. 31 and 2 Sam. 1. NOTICE IN RE the dates for David's moving from Ziklag to Hebron, and for getting himself wives and offspring: The first six sons of David (each from a different mother!) and their birth order are recorded in 2 Sam. 3:2-5.  These six sons were all born in Hebron. Two of these 6 mothers are recorded as being wives of David prior to his moving to Hebron, \"So David went up thither [to Hebron], and his two wifes also, Ahinoam the Jezreelitess, and Abigail Naabal's wife the Carmelite\" 2 Sam. 2:2 (KJV). \"And it came to pass after this [the death of Saul and Jonathan as recorded in 1 Sam. 31 and 2 Sam. 1], that David enquired of the Lord... And he [the Lord] said, Unto Hebron. So David went up thither...\" 2 Sam. 2:1-2 (KJV).  How long time after the death of Saul did this move to Hebron take place? \"Now it came to pass after the death of Saul, when David was returned from the slaughter of the Amalekites, and David had abode [i.e. been back with his two recovered wives \"And David recovered all that the Amalekites had carried away: and David rescued his two wives\" 1 Sam. 30:18 (KJV)] two days in Ziklag [where he had been living 1 year and 4 month at that time \"And David dwelt with Achish at Gath, he and his men, every man with his household, even David with his two wives, Ahinoam the Jezreelitess, and Abigail the Carmelitess, Nabal's wife... And David said unto Achish, If I have now found grace in thine eyes, let them give me a place in some town in the country, that I may dwell there: for why should thy servant dwell in the royal city with thee? Then Achish gave him Ziklag that day: wherefore Ziklag pertaineth unto the kings of Judah unto this day. And the time that David dwelt in the country of the Philistines was a full year and four months\" 1 Sam. 27:3,5-7 (KJV)]; It came even to pass on the third day, that, behold, a man came out of the camp from Saul...\" 2 Sam. 1:1-2 (KJV). It is clear that it was some time prior to his stay with the Philistines that he got himself his two wives, \"And Abigail hasted, and arose, and rode upon an ass, with five damsels of her's that went after her; and she went after the messengers of David, and became his wife. David also took Ahinoam of Jezreel; and they were also both of them his wives. But Saul had given Michal his daughter, David's wife, to Phalti the son of Laish, which was of Gallim\" 1 Sam 25:42-44 (KJV). Thus David's first wife was Michal, but \"Wherefore David arose and went, he and his men, and slew of the Philestines two hundred men; and David brought their foreskins, and they gave them in full tale to the king, that he might be the king's son in law. And Saul gave him Michal his daughter to wife. And Saul saw and knew that the Lord was with David, and that Michal Saul's daughter loved him\" 1 Sam. 18:27-28 (KJV). \"Michal the daughter of Saul had no child unto the day of her death\" 2 Sam. 6:23 (KJV). Though she [or her sister?] seems to have been bringing up five foster children of her sister Merab's (see 1 Sam. 18:19 (KJV)), or else born unto Merab's husband Adriel, as recorded in 2 Sam. 21:8 (KJV)."]
[2889,null,1034,1033,null,null,null,null,"David",null,"  2nd year - I.e. the 2nd Sacred Calendar Year he reigned"," ",null,null,"The House of Saul & Abner",null,null,{"$f":"R53-1","v":36},"\"But Abner the son of Ner, captain of Saul's host…\" 2 Sam. 2:8 (KJV). \"...and the name of the captain of his [Saul's] host was Abner, the son of Ner, Saul's uncle. And Kish was the father of Saul; and Ner the father of Abner was the son of Abiel\" 1 Sam. 14:50-51 (KJV).  \"Now there was long war between the house of Saul and the house of David: but David waxed stronger and stronger, and the house of Saul waxed weaker and weaker. And unto David were sons born in Hebron...\" 2 Sam 3:1-2 (KJV)."]
[2890,null,1033,1032,null,null,null,null,"David",null,"  3rd year - I.e. the 3rd Sacred Calendar Year he reigned"," ",null,null,"The House of Saul & Abner",null,null,{"$f":"R54-1","v":37}]
[2891,null,1032,1031,null,null,"Amenhotep I: \"David was a contemporary of Amenhotep I.\"  (Peoples of the Sea, p.107:2.)",null,"David",null,"  4th year - I.e. the 4th Sacred Calendar Year he reigned"," ",null,null,"The House of Saul & Abner",null,null,{"$f":"R55-1","v":38}]
[2892,null,1031,1030,null,null,null,null,"David",null,"  5th year - I.e. the 5th Sacred Calendar Year he reigned"," ",5,null,"The House of Saul & Abner",null,null,{"$f":"R56-1","v":39}]
[2893,null,1030,1029,null,null,null,null,"David",null,"  6th year - I.e. the 6th Sacred Calendar Year he reigned"," ",null,null,"Ishbosheth",null,"  1st year - I.e. the 1st Sacred Calendar Year he reigned",40,"Ish-Bosheth is an interesting name meaning \"Man of Shame\".  Was he a son or a grand-son of Saul?  2 Sam. 4:4-8 may seem to indicate he was Jonathan's son, i.e. Mephibosheth. However, if such was the case then 2 Sam. 20:24-30 (KJV) and 2 Sam. 21:1-14 must have occured while David was still living in Hebron during David's first seven years of reign, i.e. before Ishbosheth was killed, a fact which seems unlikely, even impossible, considering the context, e.g. the reference to Absalom's death in 2 Sam. 19:1, which text seems to be part of the same event as 2 Sam. 19:24 (KJV). Also it seems impossible that Jonathan's son could have been 40 years old at a time when David himself was only about 36 years old. Cf. \"Ish-bosheth Saul's son was forty years old when he began to reign over Israel, and reigned two years ['shatajim shanim']. But the house of Judah followed David\" 2 Sam. 2:10.  Furthermore, considering the text, \"Jonathan, Saul's son, had a son that was lame of his feet. He was five years old when the tidings came of Saul and Jonathan out of Jezreel, and his nurse took him up, and fled: and it came to pass, as she made haste to flee, that he fell, and became lame. And his name was Mephibosheth\" 2 Sam. 4:4 (KJV), and its reference to what seems to be 1 Sam. 29 through 30:1 (KJV), events which seems to be concurrent, events happening as it appears on one and the same day, with the battle where Saul and Jonathan were killed, Mephibosheth could be no more than 5+6=11 years old when Ishbosheth was 40 years old."]
[2894,null,{"$f":"C58+1","v":1029},1028,null,null,null,null,"David",null,"  7th year - I.e. the 7th Sacred Calendar Year he reigned"," ",null,null,"Ishbosheth",null,"  2nd year - I.e. the 2nd Sacred Calendar Year he reigned"," ","2 Sam. 5:4-5; 15:7; 1 Kings 2:10-12. King David ruled 7 years and six months in Hebron. Thus Davids 1st year in Jerusalem would correspond to the 8th year (or the 9th if the 1st year was less than 6 months and each year represents a full 12/13 month year) of his in Hebron."]
[{"$f":"A60","v":2895},null,{"$f":"C60","v":1028},1027,null,null,null,null,"David",null,"  8th year - I.e. the 8th Sacred Calendar Year he reigned"," ",null,null,"Ishbosheth",null,"  3rd year - I.e. the 3rd Sacred Calendar Year he reigned"," ","2 Sam. 2:10; 3:6-16. It is clear from the events recorded in these texts that David took over the rule directly from Isbosheth, the son of Saul, there being no other intermediaries. In v. 10 Hebrew words for both 'two' and 'years' are being used, thus indicating that two full years of reign were completed, not merely a time period greater than one year as clearly indicated in texts where only the one Hebrew word 'years' is used, such texts being usually mistranslated as 'two years'. (Cf. notes referencing e.g. Gen. 11:10!)  One may still argue as to whether such years are referencing any part of a Sacred Calendar year, or whether reference is given to two full 12/13 month periods. In either case there is likely to be some odd day(s), week(s), and/or month(s) over and above the \"two years\" reigned, especially considering the circumstances of the transfer of rule from one King to another."]
[null,null,null,"",null,null,null,null,null,null,null," ",null,null,null,null,null," "]
[{"$f":"A61-1","v":2895},null,{"$f":"C61+1","v":1028},1027,null,null,null,null,"David",null,"  8th year - I.e. the 8th Sacred Calendar Year he reigned"," ",null,null,"David","t ?    2 Sam. 16:8","  1st year - I.e. the 1st Sacred Calendar Year he reigned"," ","2 Sam. 5:3-5; 15:7; 1 Kings 2:10-12; 1 Chron. 3:4. \"Then came all the tribes of Israel to David unto Hebron, and spake, saying, Behold, we are thy bone and thy flesh… So all the elders of Israel came to the king to Hebron; and king David made a league with them in Hebron before the Lord: and they anointed David king over Israel...\" 2 Sam. 5 1,3 (KJV). \"And David arose, and went with all the people that were with him from Baale of Judah [\"Baalah, which is Kirjath-Jearim... Kirjath-baal, which is Kirjath-jearim\" Jos. 15:9,60 (KJV)], to bring up from thence the ark of God, whose name is called by the name of the Lord of host that dwelleth between the cherubims... And they brought it out of the house of Abinadab which was at Gibeah... And the ark of the Lord continued in the house of Obed-edom  the Gittite three months: and the Lord blessed Obed-edom, and all his household... So David went and brought up the ark of God from the house of Obed-edom into the city of David with gladness... And David danced before the Lord... And as the ark of the Lord came into the city of David, Michal Saul's daughter looked through a window, and saw king David leaping and dancing before the Lord; and she despised him in her heart. And they brought in the ark of the Lord, and set it in his place, in the midst of the tabernacle that David had pitched for it:... Therefore Michal the daughter of Saul had no child unto the day of her death\" 2 Sam 6:2,4,11,12,14,16,17,23.  NOTICE: These events took place twenty (20) years and seven (7) months after Eli died: \"And the Philistines fought... And the ark of God was taken; and the two sons of Eli, Hophni and Phinehas, were slain... Now Eli was ninety and eight years old... And it came to pass... that he fell from off the seat backward by the side of the gate, and his neck brake, and he died: for he was an old man, and heavy. And he had judged Israel forty years... And the ark of the Lord was in the country of the Philistines seven months... And the men of Kirjath-jearim came, and fetched up the ark of the Lord, and brought it into the house of Abinadab in the hill, and sanctified Eleazar his son to keep the ark of the Lord. And it came to pass, while the ark abode in Kirjath-jearim, that the time was long; for it was twenty years: and all the house of Israel lamented after the Lord...\" 1 Sam. 4:10,11,15,18; 6:1; 7:2, and notes above @ note for that year."]
[2896,null,1027,1026,null,null,null,null,"David",null,"  9th year - I.e. the 9th Sacred Calendar Year he reigned"," ",null,null,"David",null,"  2nd year - I.e. the 2nd Sacred Calendar Year he reigned"," "," "]
[2897,null,1026,1025,null,null,null,null,"David",null,"10th year - I.e. the 10th Sacred Calendar Year he reigned"," ",null,null,"David",null,"  3rd year - I.e. the 3rd Sacred Calendar Year he reigned"," "," "]
[2898,null,1025,1024,null,null,null,null,"David",null,"11th year - I.e. the 11th Sacred Calendar Year he reigned"," ",null,null,"David",null,"  4th year - I.e. the 4th Sacred Calendar Year he reigned"," "," "]
[2899,null,1024,1023,null,null,null,null,"David",null,"12th year - I.e. the 12th Sacred Calendar Year he reigned",{"$f":"L65-1","v":1},null,null,"David",null,"  5th year - I.e. the 5th Sacred Calendar Year he reigned"," "," "]
[2900,null,1023,1022,null,null,null,null,"David",null,"13th year - I.e. the 13th Sacred Calendar Year he reigned",2,null,null,"David",null,"  6th year - I.e. the 6th Sacred Calendar Year he reigned"," "," "]
[2901,null,1022,1021,null,null,null,null,"David",null,"14th year - I.e. the 14th Sacred Calendar Year he reigned",3,null,null,"David",null,"  7th year - I.e. the 7th Sacred Calendar Year he reigned"," "," "]
[2902,null,1021,1020,null,null,null,null,"David",null,"15th year - I.e. the 15th Sacred Calendar Year he reigned",4,null,null,"David",null,"  8th year - I.e. the 8th Sacred Calendar Year he reigned"," "," "]
[2903,null,1020,1019,null,null,null,null,"David",null,"16th year - I.e. the 16th Sacred Calendar Year he reigned",5,null,null,"David",null,"  9th year - I.e. the 9th Sacred Calendar Year he reigned"," "," "]
[2904,null,1019,1018,null,null,null,null,"David",null,"17th year - I.e. the 17th Sacred Calendar Year he reigned",6,null,null,"David",null,"10th year - I.e. the 10th Sacred Calendar Year he reigned"," "," "]
[2905,null,1018,1017,null,null,null,null,"David",null,"18th year - I.e. the 18th Sacred Calendar Year he reigned",7,null,null,"David",null,"11th year - I.e. the 11th Sacred Calendar Year he reigned"," "," "]
[2906,null,1017,{"$f":"IF(C71<>\"\",IF(C71=C72,\"\",C71-1),\"\")","v":1016},null,null,null,null,"David",null,"19th year - I.e. the 19th Sacred Calendar Year he reigned",8,null,null,"David",null,"12th year - I.e. the 12th Sacred Calendar Year he reigned"," "," "]
[2907,null,1016,1015,null,null,null,null,"David",null,"20th year - I.e. the 20th Sacred Calendar Year he reigned",9,null,null,"David",null,"13th year - I.e. the 13th Sacred Calendar Year he reigned"," "," "]
[2908,null,1015,1014,null,null,null,null,"David",null,"21st year - I.e. the 21st Sacred Calendar Year he reigned",10,null,null,"David",null,"14th year - I.e. the 14th Sacred Calendar Year he reigned"," "," "]
[2909,null,1014,1013,null,null,null,null,"David",null,"22nd year - I.e. the 22nd Sacred Calendar Year he reigned",11,null,null,"David",null,"15th year - I.e. the 15th Sacred Calendar Year he reigned"," "," "]
[2910,null,1013,1012,null,null,null,null,"David",null,"23rd year - I.e. the 23rd Sacred Calendar Year he reigned",12,null,null,"David",null,"16th year - I.e. the 16th Sacred Calendar Year he reigned"," "," "]
[2911,null,1012,1011,null,null,null,null,"David",null,"24th year - I.e. the 24th Sacred Calendar Year he reigned",13,null,null,"David",null,"17th year - I.e. the 17th Sacred Calendar Year he reigned"," "," "]
[2912,null,1011,1010,null,null,null,null,"David",null,"25th year - I.e. the 25th Sacred Calendar Year he reigned",14,null,null,"David",null,"18th year - I.e. the 18th Sacred Calendar Year he reigned"," "," "]
[2913,null,1010,1009,null,null,null,null,"David",null,"26th year - I.e. the 26th Sacred Calendar Year he reigned",15,null,null,"David",null,"19th year - I.e. the 19th Sacred Calendar Year he reigned"," "," "]
[2914,null,1009,1008,null,null,null,null,"David",null,"27th year - I.e. the 27th Sacred Calendar Year he reigned",16,null,null,"David",null,"20th year - I.e. the 20th Sacred Calendar Year he reigned"," "," "]
[2915,null,1008,1007,null,null,null,null,"David",null,"28th year - I.e. the 28th Sacred Calendar Year he reigned",17,null,null,"David",null,"21st year - I.e. the 21st Sacred Calendar Year he reigned"," "," "]
[2916,null,1007,1006,null,null,null,null,"David",null,"29th year - I.e. the 29th Sacred Calendar Year he reigned",18,null,null,"David",null,"22nd year - I.e. the 22nd Sacred Calendar Year he reigned"," "," "]
[2917,null,1006,1005,null,null,null,null,"David",null,"30th year - I.e. the 30th Sacred Calendar Year he reigned",19,null,null,"David",null,"23rd year - I.e. the 23rd Sacred Calendar Year he reigned"," "," "]
[2918,null,1005,1004,null,null,null,null,"David",null,"31st year - I.e. the 31st Sacred Calendar Year he reigned",20,null,null,"David",null,"24th year - I.e. the 24th Sacred Calendar Year he reigned"," "," "]
[2919,null,1004,1003,null,null,null,null,"David",null,"32nd year - I.e. the 32nd Sacred Calendar Year he reigned",21,null,null,"David",null,"25th year - I.e. the 25th Sacred Calendar Year he reigned"," "," "]
[2920,null,1003,1002,null,null,null,null,"David",null,"33rd year - I.e. the 33rd Sacred Calendar Year he reigned",22,null,null,"David",null,"26th year - I.e. the 26th Sacred Calendar Year he reigned"," "," "]
[2921,null,1002,1001,null,null,null,null,"David",null,"34th year - I.e. the 34th Sacred Calendar Year he reigned",23,null,null,"David",null,"27th year - I.e. the 27th Sacred Calendar Year he reigned"," "," "]
[2922,null,1001,1000,null,null,null,null,"David",null,"35th year - I.e. the 35th Sacred Calendar Year he reigned",24,null,null,"David",null,"28th year - I.e. the 28th Sacred Calendar Year he reigned"," "," "]
[2923,null,1000,999,null,null,null,null,"David",null,"36th year - I.e. the 36th Sacred Calendar Year he reigned",25,null,null,"David",null,"29th year - I.e. the 29th Sacred Calendar Year he reigned"," "," "]
[2924,null,999,998,null,null,null,null,"David",null,"37th year - I.e. the 37th Sacred Calendar Year he reigned",26,null,null,"David",null,"30th year - I.e. the 30th Sacred Calendar Year he reigned"," "," "]
[2925,null,998,997,null,null,null,null,"David",null,"38th year - I.e. the 38th Sacred Calendar Year he reigned",27,null,null,"David",null,"31st year - I.e. the 31st Sacred Calendar Year he reigned"," "," "]
[2926,null,997,996,null,null,null,null,"David",null,"39th year - I.e. the 39th Sacred Calendar Year he reigned",28,null,null,"David",null,"32nd year - I.e. the 32nd Sacred Calendar Year he reigned"," "," "]
[2927,null,{"$f":"C93+1","v":996},995,null,null,null,null,"Solomon's access yr & David's",null,"40th year - I.e. the 40th Sacred Calendar Year he reigned",{"$f":"L93-1","v":29},null,null,"Solomon's access yr & David's",null,"33rd year - I.e. the 33rd Sacred Calendar Year he reigned"," ","2 Sam. 5:4-5; 15:7; 1 Kings 2:10-12; 1 Chron. 3:4"]
[{"$f":"A95","v":2928},null,{"$f":"C95","v":995},994,null,null,null,null,null,null,null,30,1,null,null,null,null," ","2 Sam. 5:4-5; 15:7; 1 Kings 2:10-12; 1 Chron. 3:4. Because King David ruled a full 40/33 years, any additional day(s), week(s), and/or month(s) would make the first year of Solomon that much shorter. (If the 40/33 years were each and all representing a full 12/13 months year, and if there were any additional odd day(s), week(s), and/or months(s), then there could potentially be even a 42nd/35th Calendar year of his reign)."]
[null,null,null,"",null,null,null,null,"David's 40th & Solomon's",null,"Accession year"," ",null,null,"David's 33th & Solomon's",null,"Accession year"," ","Based upon 2 Sam 15:7 the addition of a 41st incomplete year, i.e. Solomon's 1st, is well supported…"]
[{"$f":"A96-1","v":2928},null,{"$f":"C96+1","v":995},994,null,null,null,null,"Solomon","t  ","  1st year - I.e. the 1st Sacred Calendar Year he reigned","< or = 30",null,null,"Solomon",null,"  1st year - I.e. the 1st Sacred Calendar Year he reigned"," ","1 Kings 2:10-12. From 2 Sam. 15:7 - \"And it came to pass after forty years, that Absalom said unto the king...\" (KJV); \"And at the end of forty years, it happened\" (IB I); \"And it was at the end of forty years...\" (IB II) 'miketz' = 'from=mi' + 'kets' = Strong's #7093 \"contr. from 7112: an extremity; adv. (with prep. pref.) after\"; #7112 \"a prim. root; to chop off (lit. or fig.)\" - it is clear that the Absalom lived and caused David to flee from him at the very end of, or even after the completion of, David's 40th year, i.e. into David's 41st year.  Considering David's reference to this event in his succession speech to Solomon as recorded in 1 Kings 2:7 there existed no significant co-regency between King David and King Solomon.  Also I'm not aware of any texts where Solomon was anointed or otherwise placed on David's throne prior to David's last year of reign (Cf. the discussion below). Indeed, in 1 Chron. 23:1 we read \"So when David was old and full of days, he made Solomon his son king over Israel...\".  The words \"full of days\" could as well have been translated \"seven days\". Remember, seven stands for completion. I believe that those \"seven days\" may well represent 7*10=70 full years, remembering also that David was 30 years old when he became king, thus 30+40=70 years. It seems clear, from 1 Chron. 23:1 and 1 Kings 1:39 (as the crowning event of that entire first chapter), that there was a first anointing event initiated due to the urgency of the situation. There was in fact a second anointment of Solomon, which is recorded in 1 Chron. 29:22 (as the crowning event of chapters 28 and 29 of 1 Chronicles. Thus is confirmed the fact that Solomon did not have a prolonged co-regency, and none prior to Davids 41st year of reign. According to 1 Chron. 3:4-5, \"These six were born unto him [David] in Hebron; and there he reigned seven years and six months: and in Jerusalem he reigned thirty and three years. And these were born unto him in Jerusalem; Shimea, and Shobab, and Nathan, and Solomon, four, of Bath-shua the daughter of Ammiel\", Solomon's age at Coronation must have been 33 or less, but because Solomon was probably the youngest son of four - although Solomon replaced the first-born who died, we do not know the age of the one who died and the second and third may well have been born before the first-born died - of his mother born in Jerusalem, Solomon was probably 30 years old or less, most likely much less considering the sequence of events related in 2 Sam. 5-10 prior to 2 Sam. 11 and David's sin against Uriah the Hittite and husband of Bath-shua, at the time he [Solomon] began his reign. NOTICE> Solomon was appointed to be the successor on the throne of David already at or even before the time of his, Solomon's, birth, \"And David comforted Bath-Sheba his wife, and went in unto her, and lay with her: and she bare a son, and he called his name Solomon: and the Lord loved him. And he sent by the hand of Nathan the prophet; and he called his name Jedidiah, because of the Lord\" 2 Sam.12:24-25 (KJV), and \"And David said to Solomon, My son... the word of the Lord came to me, saying... Behold, a son shall be born to thee, who shall be a man of rest; and I will give him rest from all his enemies round about: for his name shall be Solomon, and I will give peace and quietness unto Israel in his days. He shall build an house for my name; and he shall be my son, and I will be his father; and I will establish the throne of his kingkom over Israel for ever. Now, my son, the Lord be with thee; and prosper thou, and build the house of the Lord thy God, as he hath said of thee. Only the Lord give thee wisdom and understanding, and give thee charge concerning Israel, that thou mayest keep the law of the Lord thy God\" 1 Chron. 22:7-12 (KJV). \"Wherefore Nathan spake unto Bath-sheba the mother of Solomon, saying... Go and get thee in unto king David, and say unto him, Didst not thou, my lord, O king, swear unto thine handmaid, saying, Assuredly Solomon thy son shall reign after me, and he shall sit upon my throne? why then doth Adonijah reign? And Bath-sheba went in unto the king into the chamber: and the king was very old; and Abishag the Shunammite ministered unto the king. And Bath-sheba bowed, and did obeisance unto the king. And the king said, What wouldest thou? and she said unto him, My lord, thou swarest by the Lord thy God unto thine handmaid, saying, Assuredly Solomon thy son shall reign after me, and he shall sit upon my throne... And the king sware, and said, As the Lord liveth, that hath redeemed my soul out of all distress, Even as I sware unto thee by the Lord God of Israel, saying, Assuredly Solomon thy son shall reign after me, and he shall sit upon my throne in my stead; even so will I certainly do this day.\" 1 Kings 1:11,13,15-17,29-30 (KJV)."]
[{"$f":"A97-1","v":2929},null,994,993,null,null,null,null,"Solomon",null,"  2nd year - I.e. the 2nd Sacred Calendar Year he reigned",{"$f":"L97-1","v":2},null,null,"Solomon",null,"  2nd year - I.e. the 2nd Sacred Calendar Year he reigned"," "," "]
[{"$f":"A98-1","v":2930},null,993,992,null,null,null,null,"Solomon",null,"  3rd year - I.e. the 3rd Sacred Calendar Year he reigned",3,null,null,"Solomon",null,"  3rd year - I.e. the 3rd Sacred Calendar Year he reigned"," "," "]
[{"$f":"Sheet1!I102","v":2931},null,992,991,null,null,null,null,"Solomon",null,"  4th year - I.e. the 4th Sacred Calendar Year he reigned",4,null,null,"Solomon",null,"  4th year - I.e. the 4th Sacred Calendar Year he reigned"," ","1 Kings 6:1&37-38; (Cf. Acts 13:17&19-20)"]
[{"$f":"A98+1","v":2932},null,991,990,null,null,null,null,"Solomon",null,"  5th year - I.e. the 5th Sacred Calendar Year he reigned",5,null,null,"Solomon",null,"  5th year - I.e. the 5th Sacred Calendar Year he reigned"," "," "]
[2933,null,990,989,null,null,null,null,"Solomon",null,"  6th year - I.e. the 6th Sacred Calendar Year he reigned",6,null,null,"Solomon",null,"  6th year - I.e. the 6th Sacred Calendar Year he reigned"," "," "]
[2934,null,989,988,null,null,null,null,"Solomon",null,"  7th year - I.e. the 7th Sacred Calendar Year he reigned",7,null,null,"Solomon",null,"  7th year - I.e. the 7th Sacred Calendar Year he reigned"," "," "]
[2935,null,988,987,null,null,null,null,"Solomon",null,"  8th year - I.e. the 8th Sacred Calendar Year he reigned",8,null,null,"Solomon",null,"  8th year - I.e. the 8th Sacred Calendar Year he reigned"," "," "]
[2936,null,987,986,null,null,null,null,"Solomon",null,"  9th year - I.e. the 9th Sacred Calendar Year he reigned",9,null,null,"Solomon",null,"  9th year - I.e. the 9th Sacred Calendar Year he reigned"," "," "]
[2937,null,986,985,null,null,null,null,"Solomon",null,"10th year - I.e. the 10th Sacred Calendar Year he reigned",10,null,null,"Solomon",null,"10th year - I.e. the 10th Sacred Calendar Year he reigned"," ","Solomon's Civil Calendar [Quoted from The Chronology of Ezra Seven by Siegfrid Hord, p. 18]\n\nFrom the time of Solomon we have another evidence for the fall-to-fall civil year. 1 Kings 6:1,37,38 states that the work on the Temple of Solomon began in the 2d month of the 4th year of the king and that it was completed in the 8th month of Solomon's 11th year, having been in building for 7 years. \n\nIf in the Old Testament, months received numerals, they were always numbered from Abib, or Nisan, regardless of whether the reckoning of the year was from the spring or from the fall. In a year beginning with Ethanim (later Tishri), this 7th month in the ecclesiastical year was therefore not numbered as the 1st month of the civil year-although it was the first-but retained its number 7. A civil fall-to-fall year thus began with the 7th month, had the 12th month toward the middle, and ended with the 6th. [12] Hence, if two successive events are dated in the 6th and the 7th months of one and the same reigning year of a king, it means that the year began with the 1st month as among the Babylonians, and that the 7th month followed the 6th in the same calendar year. If, however, two successive events are dated in the 9th and the 1st months of the same reigning year of a king-as for example in Nehemiah 1 and 2-the calendar is one in which the 1st month is not the beginning of a new year. See the two calendar schemes side by side in Table 1 on page 72.\n\nIntervals beginning with an event are generally reckoned by anniversaries of that event, and not by the calendar year, like the reigning years of the kings. [13] Therefore, the 7 years of Temple building  must be reckoned from the date of the beginning of building activities and not from the beginning of a calendar year.\nIn reckoning time periods the first and the last units of a period were usually included, whether they were complete or not. This method is called “inclusive reckoning.” One out of many Biblical examples of the use of this method is found in 2 Chronicles 10:5, 12. Although Rehoboam had asked the people to return “after three days,” “all the people came to Rehoboam on the third day, as the king bade.” \n\nTo us such a reckoning would seem to be just as strange as if we should ask a man on Monday to return after three days and see him coming back on Wednesday instead of on Thursday as expected. For, the ancient Hebrews “inclusive reckoning” was a commonly used method of computing time, [14] as also among other ancient peoples. [15] If Solomon's reigning years began in the spring (with Nisan), and coincided with the ecclesiastical year, then the construction of the Temple would have occupied 8 years instead of 7, as Figure 2 will show. Only if we assume that his reigning years started in the fall (with Tishri) and that the 2nd month in his 4th reigning year fell more than a half year after the civil New Year's Day, can we harmonize the different data given in the texts mentioned. [16]\n\n\n[NOTICE: Siegfrid Horn is in error on one important point here. Apparently he has not recognized that the Bible is always using accession time, not only re the regnal years of kings, but also re days, months, weeks, years, re any and all events. Not recognizing this fact makes for complex and artificial explanations that may seem to work, but which are not necessary and not correct! Thus, re the particulars exemplified by Siegfrid Horn: 1) Re the 7 years of building Solomon's Temple. The beginning of building was in Solomon's 4th year, which is the accession year of building the temple, thus the corresponding reckoning is 4/0, 5/1, 6/2, 7/3, 8/4, 9/5, 10/6, 11/7. Accordingly we find that Solomon's temple was completed in Solomon's 11th year, which is also the 7th year of building the temple, i.e. as recorded in 1 Kings 6:1,37,38. Nothing strange about it!   2) Re 2 Chron 10:5, 12 and Rehoboam. Here Siegfrid Horn is failing to recognize that reference is given to a specific time in the week, i.e. to Tuesday night after sunset, not to any time reckoning relative to anything else. Such relative time reckoning is rarely if ever used in the Scriptures, since doing so would be very confusing, given the fact that such terminology was commonly understood as referencing the days of the week. Only if very specifically designated as relative reckoning should relative reckoning be considered! Thus, Rehoboam asked the people to return for a meeting on Tuesday night after sunset and the people came to him in good time for that meeting, i.e. before sunset while it was still the Third Day of the week. Nothing strange about it! No inclusive reckoning! Inclusive reckoning is Roman/Lating reckoning, not Scriptural reckoning!]"]
[2938,null,985,984,null,null,null,null,"Solomon",null,"11th year - I.e. the 11th Sacred Calendar Year he reigned",11,null,null,"Solomon",null,"11th year - I.e. the 11th Sacred Calendar Year he reigned"," ","The Temple of Solomon completed"]
[2939,null,984,983,null,null,null,null,"Solomon",null,"12th year - I.e. the 12th Sacred Calendar Year he reigned",12,null,null,"Solomon",null,"12th year - I.e. the 12th Sacred Calendar Year he reigned"," "," "]
[2940,null,983,982,null,null,null,null,"Solomon",null,"13th year - I.e. the 13th Sacred Calendar Year he reigned",13,null,null,"Solomon",null,"13th year - I.e. the 13th Sacred Calendar Year he reigned"," "," "]
[2941,null,982,981,null,null,null,null,"Solomon",null,"14th year - I.e. the 14th Sacred Calendar Year he reigned",14,null,null,"Solomon",null,"14th year - I.e. the 14th Sacred Calendar Year he reigned"," "," "]
[2942,null,981,980,null,null,null,null,"Solomon",null,"15th year - I.e. the 15th Sacred Calendar Year he reigned",15,null,null,"Solomon",null,"15th year - I.e. the 15th Sacred Calendar Year he reigned"," "," "]
[2943,null,980,979,null,null,null,null,"Solomon",null,"16th year - I.e. the 16th Sacred Calendar Year he reigned",16,null,null,"Solomon",null,"16th year - I.e. the 16th Sacred Calendar Year he reigned"," "," "]
[2944,null,979,978,null,null,null,null,"Solomon",null,"17th year - I.e. the 17th Sacred Calendar Year he reigned",17,null,null,"Solomon",null,"17th year - I.e. the 17th Sacred Calendar Year he reigned"," "," "]
[2945,null,978,977,null,null,null,null,"Solomon",null,"18th year - I.e. the 18th Sacred Calendar Year he reigned",18,null,null,"Solomon",null,"18th year - I.e. the 18th Sacred Calendar Year he reigned"," "," "]
[2946,null,977,976,null,null,null,null,"Solomon",null,"19th year - I.e. the 19th Sacred Calendar Year he reigned",19,null,null,"Solomon",null,"19th year - I.e. the 19th Sacred Calendar Year he reigned"," "," "]
[2947,null,976,975,null,null,"Thutmose I, Queen of Sheba, Hatshepsut, and Paruah: \"Solomon was a contemporary of Thutmose I, whose daughter he married and whose other daughter and heir-Hatshepsut- became the sovereign of Egypt. The illustrated description of her travels to the Holy Land (Divine Land) and Phoenicia (Punt) corresponds in every detail to the description of the visit of Queen Shwa (Sheba) whom the historian Josephus described as Queen of Egypt and Ethiopia.... Paruah... received Queen Hatshepsut at her arrival in the Holy Land, and it was Paruah, father of Jehoshaphat, who governed Ezion-Geber under Solomon (1 Kings 4:17).\" (Peoples of the Sea, p.107:2.)",null,"Solomon",null,"20th year - I.e. the 20th Sacred Calendar Year he reigned",20,null,null,"Solomon",null,"20th year - I.e. the 20th Sacred Calendar Year he reigned"," ","1 Kings 9:10-11: 10 And it came to pass at the end of twenty years, when Solomon had built the two houses, the house of the LORD, and the king's house, 11 (Now Hiram the king of Tyre had furnished Solomon with cedar trees and fir trees, and with gold, according to all his desire,) that then king Solomon gave Hiram twenty cities in the land of Galilee. (KJV)\n2 Chr 8:1-2:    1 And it came to pass at the end of twenty years, wherein Solomon had built the house of the LORD, and his own house, 2 That the cities which Huram had restored to Solomon, Solomon built them, and caused the children of Israel to dwell there. (KJV)\nNext after the above passages is outlined much info in connection with the comings and goings of the Queen of Sheba."]
[2948,null,975,974,null,"Hatshepsut's 9th year: \"Hatshepsut's visit to the Divine Land took place in the ninth year of the queen…\" (Peoples of the Sea, p. 206:4.)  \"King Solomon took an Egyptian princess to be one of his wives, probably his chief wife. The Scriptures do not preserve her name. It is knows only that her father; the pharaoh, made an expedition against southern Palestine, the home of hte Philistines and the Canaanites, burned Gezer, and gave it as dowry to his daughter (I Kings 9:16). The pharaoh, whose name is also omitted in the Scriptures-talmudic tradition calls him Shishak-was, accorfding to the scheme presented here, Thutmose I, the third king of the New Kingdom... Although very sparse records are preserved from hte reign of Thutmose I, he was often mentioned as the father of Queen Hatshepsut. He shared the throne with her and made her his successor. Hatshepsut, the great and celebrated queen, left inscriptions, bas-reliefs, and figures of herself in abundance.\" (Ages in Chaos, p. 103:5-104:2,4.) \"In the Jewish Antiquities of Josephus we find the story of the Queen of Sheba introduced by these words: Now the woman who at that time ruled as queen of Egypt and Ethiopia was thoroughly trained in wisdom and remarkable in other ways, and, when she heard of Solomon's virtue and understanding, was led to him by a strong desire to see him which arose from the things told daily about his country...\"  (Ages in Chaos, p. 107:4.)",null,null,"Solomon",null,"21st year - I.e. the 21st Sacred Calendar Year he reigned",21,null,null,"Solomon",null,"21st year - I.e. the 21st Sacred Calendar Year he reigned"," "," "]
[2949,null,974,973,null,"-870 to -840; Amenhotep III=Nimmuria, Amenhotep IV=Naphuria=Akhnaton and his son in law Tutankhamen; The El-Amarna Letters: \"…the letters of el-Amarna, sent and received by Amenhotep III and Akhnaton, were written…in -870 to -840, at the time of King Jehoshaphat in Jerusalem.\"  (Ages in Chaos, p. 229:2.)  \"The city of Akhet-Aton was built by the schismatic king Amenhotep IV... who changed his name to Akhnaton. But shortly after his reign the capital city of Akhet-Aton was abandoned, his religion was stamped as heresy, and his images were mutilated. His son-in-law, the young pharaoh Tutankhamen, reigned briefly in the old capital, Thebes. Then the dynasty became extinct. Akhet-Aton had a short history of only about twenty-five years before it was deserted by its inhabitants.  The time of the letters can be established with some precision. they were addressed to Nimmuria (Ni-ib-mu'-wa-ri-ia, Mi-im-mu-ri-ia, Im-mu-ri-ia, Nam-huria), who was Amenhotep III, and to Naphuria (Na-ap-hu-ru-ri-ia, Nam-hur-ia), who was Amenhotep  IV (Akhnaton)...\" (Ages in Chaos, p.224:3-4. cf. p. 233:5-234:1) \"...identification...Abdi-Hiba with Jehoshaphat, Rib-Addi with Ahab, and Ben-Hadad with Abdi-Ashirta...\"  (Ages in Chaos, p.234:4.) \"Hazael, the king of Damascus, is called Aziry, Azira, or Azaru in the el-Amarna letters. The king of Moab, Mesha, is called... Mesh in the letters.\"  (Ages in Chaos, p.235:3.)",null,null,"Solomon",null,"22nd year - I.e. the 22nd Sacred Calendar Year he reigned",22,null,null,"Solomon",null,"22nd year - I.e. the 22nd Sacred Calendar Year he reigned"," "," "]
[2950,null,973,972,null,null,null,null,"Solomon",null,"23rd year - I.e. the 23rd Sacred Calendar Year he reigned",23,null,null,"Solomon",null,"23rd year - I.e. the 23rd Sacred Calendar Year he reigned"," "," "]
[2951,null,972,971,null,null,null,null,"Solomon",null,"24th year - I.e. the 24th Sacred Calendar Year he reigned",24,null,null,"Solomon",null,"24th year - I.e. the 24th Sacred Calendar Year he reigned"," ","Solomon's Palace completed"]
[2952,null,971,970,null,null,null,null,"Solomon",null,"25th year - I.e. the 25th Sacred Calendar Year he reigned",25,null,null,"Solomon",null,"25th year - I.e. the 25th Sacred Calendar Year he reigned"," "," "]
[2953,null,970,969,null,null,null,null,"Solomon",null,"26th year - I.e. the 26th Sacred Calendar Year he reigned",26,null,null,"Solomon",null,"26th year - I.e. the 26th Sacred Calendar Year he reigned"," "," "]
[2954,null,969,968,null,null,null,null,"Solomon",null,"27th year - I.e. the 27th Sacred Calendar Year he reigned",27,null,null,"Solomon",null,"27th year - I.e. the 27th Sacred Calendar Year he reigned"," "," "]
[2955,null,968,967,null,null,null,null,"Solomon",null,"28th year - I.e. the 28th Sacred Calendar Year he reigned",28,null,null,"Solomon",null,"28th year - I.e. the 28th Sacred Calendar Year he reigned"," "," "]
[2956,null,967,966,null,null,null,null,"Solomon",null,"29th year - I.e. the 29th Sacred Calendar Year he reigned",29,null,null,"Solomon",null,"29th year - I.e. the 29th Sacred Calendar Year he reigned"," "," "]
[2957,null,966,965,null,null,null,null,"Solomon",null,"30th year - I.e. the 30th Sacred Calendar Year he reigned",30,null,null,"Solomon",null,"30th year - I.e. the 30th Sacred Calendar Year he reigned"," ","The names 'Solomon' & 'Jedidiah' given in the year:",null,null,null,{"$f":"A95-30","v":2898},"(Cf. 2 Sam. 12:24-25)"]
[2958,null,965,964,null,null,null,null,"Solomon",null,"31st year - I.e. the 31st Sacred Calendar Year he reigned",31,null,null,"Solomon",null,"31st year - I.e. the 31st Sacred Calendar Year he reigned"," "," ",null,null,"+",{"$f":"W130","v":418}]
[2959,null,964,963,null,null,null,null,"Solomon",null,"32nd year - I.e. the 32nd Sacred Calendar Year he reigned",32,null,null,"Solomon",null,"32nd year - I.e. the 32nd Sacred Calendar Year he reigned"," "," ",null,null,"=",{"$f":"W124+W125","v":3316},"(The year when Nebuchadnezzar first besieged Jerusalem in his 1st year of reign)"]
[2960,null,963,962,null,null,null,null,"Solomon",null,"33rd year - I.e. the 33rd Sacred Calendar Year he reigned",33,null,null,"Solomon",null,"33rd year - I.e. the 33rd Sacred Calendar Year he reigned"," ","Years until the passover in Hezekiah's first year of reign:",null,null,null,null,null,{"$f":"A662-W124","v":300}]
[2961,null,962,961,null,"-858; Shalmaneser III=Burraburiash=Shalmaiati=\"king of Hatti\": \"-858, Shalmaneser III become king of Assyria\" (Ages in Chaos, p.308:4) \"Shalmaneser, the Assyrian king of the ninth century, was…the king of Hatti of the el-Amarna letters. After he secured the domain he inherited from his father, Assurnasirpal, and increased it by the conquest of Babylon and of other areas, he wrote: The land of Hatti to its farthest border I brought under my sway. From the source of the Tigris to the source of the Euphrates my hands conquered.\" (Ages in Chaos, p. 314:4.) \"...most probably Burraburiash is the alter ego fo Shalmaneser the Assyrian.\"  (Ages of Chaos, p.321:2.) \"All clues point to the identification of Burraburiash with Shalmaneser of the Assyrian inscriptions, with Shalmaiati of the letter of the king of Tyre, and with the \"king of Hatti.\" \"  (Ages of Chaos, p.322:2.)",null,null,"Solomon",null,"34th year - I.e. the 34th Sacred Calendar Year he reigned",34,null,null,"Solomon",null,"34th year - I.e. the 34th Sacred Calendar Year he reigned"," "," "]
[2962,null,961,960,null,"2nd yr of Shalmaneser: \"Shalameser passed through this city [Danuna in Syria] in his second year-he called it Dihnunu)\" (Ages of Chaos, p.317:3)",null,null,"Solomon",null,"35th year - I.e. the 35th Sacred Calendar Year he reigned",35,null,null,"Solomon",null,"35th year - I.e. the 35th Sacred Calendar Year he reigned"," ","[Another HIDDEN TIME PROPHECY? The names Solomon and Jedidiah (cf. 2 Sam. 12:24-25) adds up the 418.  If applied to the same end event as that of Josiah, the initiating event may well be that of David's anointing by Samuel.  Cf. the conspicuous reference to the prophet Samuel in: \"And there was no passover like to that kept in Israel from the days of Samuel the prophet\" 2 Chron. 35:1,18 (KJV).]"]
[2963,null,960,959,null,null,null,null,"Solomon",null,"36th year - I.e. the 36th Sacred Calendar Year he reigned",36,null,null,"Solomon",null,"36th year - I.e. the 36th Sacred Calendar Year he reigned"," ","The word number of 'Solomon' & 'Jedidiah' when added:",null,null,null,{"$f":"300+30+40+5+10+4+10+4+10+5","v":418}]
[2964,null,959,958,null,"\"Year four [of Shalmaneser III ~ -855?]. To the city of Nikdime [and] Nikdiera. They became frightened at my mighty, awe-inspiring weapons and my grim warfare, [and] cast themselves upon the sea in wicker [?] boats---. I followed after them in boats of---, fought a great battle on the sea, defeated them, and with their blood I dyed the sea like wool.\" (Ages in Cahos, p.309:2.) \"From the annals of Shalmaneser we know that he subjugated the seacoast of Syria as far as Tyre. The Assyrian terror and the heavy tribute forced the Phoenicians to look for a new home, and a number of them left Tyre and other cities, went to the North African shore halfway along the Mediterranean, and founded there the colony of Carthage. (Ages in Chaos, p.316:5-317:1.) \"Shalmaneser captured Ugarit, the city of Nikdem, in the fourth year of his reign...\"  (Ages of Chaos, p.317:4.)",null,null,"Solomon",null,"37th year - I.e. the 37th Sacred Calendar Year he reigned",37,null,null,"Solomon",null,"37th year - I.e. the 37th Sacred Calendar Year he reigned"," ","Cleansing completed by Passover in:",{"$f":"A879","v":3302},null,", which is:",{"$f":"T131-A126","v":343},"years after the 1st Passover following the Prophecy to Jerobeam by the Prophet of the Lord."]
[2965,null,958,957,null,null,null,null,"Solomon",null,"38th year - I.e. the 38th Sacred Calendar Year he reigned",38,null,null,"Solomon",null,"38th year - I.e. the 38th Sacred Calendar Year he reigned"," ","Which would give us David's anointing by Samuel as:",null,null,null,{"$f":"T131-W130","v":2884},"years after creation."]
[2966,null,{"$f":"C134+1","v":957},956,null,"6th year of Shalmaneser; Biridri & Ahab: \"Shalmaneser relates that in his sixth year, two years after he drove King Nikdem into the sea, a prince named Biridri, helped by a coalition of twelve princes, opposed him at Karkar. Among Biridri's allies were Ahab, the prince of Israel...\" (Ages in Chaos, p.310:3.) \"Cities and princes who wrote to the pharaoh about the approach of the invader are also mentioned in the annals of Shalmaneser as those who, with the assistance of Egypt (Musri), fought against him in the sixth year of his reign. They fought again in his eleventh year, and once more in his fourteenth year. From the commander of this coalition, Biridri of the Assyrian annals, or Biridia of the letters (written also Biridi), there are military reports to the pharaoh about his preparations for defense against the aggressor.\"  (Ages of Chaos, p.323:3.)","\"Menelik, king of Ethiopia and son of the Queen of the South, guest of Solomon, returned to Palestine to rob its Temple; after succeeding in stealing the holy Ark by a ruse, he fled to Ethiopia, pursued by Solomon, his father, to the borders of Egypt…\"  (Ages in Chaos, p.210:footnote 14.)",null,"Solomon",null,"39th year - I.e. the 39th Sacred Calendar Year he reigned",{"$f":"L134-1","v":39},null,null,"Solomon",null,"39th year - I.e. the 39th Sacred Calendar Year he reigned"," "," "]
[2967,null,{"$f":"C137+1","v":956},955,null,null,null,null,"Solomon's 40th yr & Rehoboam's accession year",null,"40th year - I.e. the 40th Sacred Calendar Year he reigned",40,null,null,"Solomon",null,"40th year - I.e. the 40th Sacred Calendar Year he reigned"," ","1 Kings 11:42 \"And the time that Solomon reigned in Jerusalem over all Israel was forty years. And Solomon slept with his fathers, and was buried in the city of David his father: and Rehoboam his son reigned in his stead\" (KJV)."]
[null,null,null,{"$f":"IF(C135<>\"\",IF(C135=C136,\"\",C135-1),\"\")","v":""}]
[null,null,null,{"$f":"IF(C136<>\"\",IF(C136=C137,\"\",C136-1),\"\")","v":""},null,null,null,null,null,null,null,null,null,null,null,null,"  1st year - I.e. the 1st Sacred Calendar Year he reigned"," "]
[{"$f":"A134+1","v":2968},null,{"$f":"C139+1","v":955},{"$f":"IF(C137<>\"\",IF(C137=C138,\"\",IF(C137=D136,IF(C137=C138+1,C137-1,\"\"),C137-1)),\"\")","v":954},null,null,"Ano, Jeroboam's wife - a sister of Pharaoh's wife: \"In the Greek version of the Old Testament-the Septuagint-made in Alexandria in Egypt in the third century before the present era, there is found the information that when Jeroboam heard in Egypt of Solomon's death he spoke in the ears of the king of Egypt, saying, \"Let me go, and I will depart into my land.\" And Susakim (Shishak) gave to Jeroboam to be his wife Ano, the elsest sister of Thelkemina, his own wife. She was great among the daughters of the king, and she bore to Jeroboam Abijah. This information is of importance because it gives us the name of the queen's sister; the extant Hebrew Bible told us only that Jeroboam fled abroad \"to Shishak, king of Egypt, and was in Egypt until the death of Solomon.\" According to the Septuagint, Jeroboam received an Egyptian princess for a wife, like Hadad the Edomite only one generation earlier (IKings 11:19).\" (Ages in Chaos, p. 167:6-168:1.)   >>>>>>>>><<<<<<<<< NOTICE:  Could it be that the Egyptian influence of Jeroboam's wife induced him to a calendar change, perhaps even using a basically Egyptian Calendar?????",null,"Rehoboam","t","  1st year - I.e. the 1st full Scriptural Calendar Year he reigned"," ",null,null,"Jeroboam",null,"  1st year - I.e. the 1st Sacred Calendar Year he reigned"," ","1 Kings 12; 1 Kings 14:21. \"And Rehoboam the son of Solomon reigned in Judah. Rehoboam was forty and one years old when he began to reign, and he reigned seventeen years in Jerusalem, the city which the Lord did choose out of all the tribes of Israel, to put his name there.\" 1 Kings 14:21 (KJV).  \"And Rehoboam went to Shechem: for all Israel were come to Shechem to make him king. And it came to pass, when Jeroboam the son of Nebat, who was yet in Egypt, heard of it, (for he was fled from the presence of king Solomon, and Jeroboam dwelt in Egypt;) That they sent and called him. And Jeroboam and all the congregation of Israel came, and spake unto Rehoboam, saying, Thy father made...\" 1 Kings 12:1-4 (KJV).  \"Solomon sought therefore to kill Jeroboam. And Jeroboam arose, and fled into Egypt, unto Shishak king of Egypt, and was in Egypt until the death of Solomon\" 1 Kings 11:40 (KJV).  \"Howbeit I [the Lord, the God of Israel], will not take the whole kingdom out of his [Solomon's] hand: but I will make him prince all the days of his life for David my servant's sake, whom I chose, because he kept my commandments and my statutes: But I will take the kingdom out of his son's hand, and will give it unto thee [Jeroboam], even ten tribes\" 1 Kings 1:34-35 (KJV).  NOTICE: It is clear that by the time Jeroboam came to Shechem Solomon was dead. Whether or not Solomon was dead at the time Rehoboam went to Shechem is less clear but seems likely considering that it was Israel, not Solomon who was \"to make him king\".  Thus a co-regency between Solomon and Rehoboam has no obvious basis in the text, and thus the 1st year of Rehoboam must have started in Solomon's 41st year, i.e. after Solomon completed his full 40 years of reign."]
[null,null,{"$f":"C139","v":954},{"$f":"IF(C138<>\"\",IF(C138=C139,\"\",IF(C138=D137,IF(C138=C139+1,C138-1,\"\"),C138-1)),\"\")","v":""},null,null,"Sarira=Zeruah=the mother of Jeroboam: \"Of the word 'Sarira\" or \"Serirot\" (plural) in the poem of Keret we have an explanation in the Septuagint, the Greek translation of the Scriptures. An addition to I Kings 12:24 gives some details concerning Jeroboam. His mother, called Zeruah in I Kings 11:26, is referred to there as Sarira. When he was appointed by Solomon to be over the northern part of the kingdom he built a town in Mount Ephraim and named it Sarira. When, after the death of Solomon, Jeroboam returned from his exile in \"Egypt he \"came into the land of Sarira.\" The tribe of Ephraim assembled there and, according to the Septuagint, Jeroboam fortified Sarira. Sarira was the name of a fortress built first about -920 and possibly of every fortress built following the plan of Jeroboam's fortress, which he called by th name of his mother. In the days of Keret, one generation later, the name Edom-Serirot (plural of Sarira) is used.\"  (Ages in Chaos, p. 217:3-4.)",null,"Rehoboam",null,"  1st year - I.e. the 1st Sacred Calendar Year he reigned"," ",null,null,"Jeroboam",null,"  2nd year - I.e. the 2nd Sacred Calendar Year he reigned"," ","1 Kings 12:25 - 13:34.  This entire passage makes it very clear, especially considering the primary meaning of the Hebrew words, that Jeroboam set up two distinct and separate Calendars. The Hebrew word translated 'calf' is 'eglei', which according to Strong's #5695-99 represents \"a (male) calf (as frisking round)...from an unused root meaning to revolve, circular... something revolving, i.e. a wheeled vehicle\".  The Hebrew word translated 'gold' is 'zahav', which is Strong's #2091 \"from an unused root meaning to shimmer; gold; figuratively something gold-colored (i.e. yellow), as oil, a clear sky\". Thus whether or not Jerobeam actually had golden calves made as symbols representing two separate Calendars is besides the point, the words used in the text may certainly represent 'Calendars describing the revolving seasons, months, the moon, the sun, &c.,' just as well as, or even much better than, 'a calf or a steer'.  Considering the word 'gold' one would be inclined to think in terms of solar based Calendars, i.e. 'sun worship', in contradistinction to the Biblical lunar based Sacred Calendar.  So what two Calendars did Jerobeam establish?  Was one of them the Scriptural Calendar beginning Tishri 22, and perhaps the other one the Babylonian Calendar beginning Nissan 1?  Or were both of them distinct and separate from the Scriptural Calendar?  1 Kings 12:29-30 \"And he [Jeroboam] set the one in Beth-el, and the other put he in Dan. And this thing became a sin: for the people went to worship before the one, even unto Dan\".  This text seems to indicate that the one in Dan was being preferred at the expense of (cf. Hebr. 'jashav' meaning 'to sit', i.e. 'sit down' or 'set down', or perhaps even 'lay off') the one in the House of the Lord, i.e. the one in Beth-el, which latter one may well have been the old Scriptural Calendar.  A study of the meaning of the names of the Hebrew months seems quite revealing:  A cursory study seems to indicate that only the 1st, 2nd, 7th, and 8th months had their names changed from that of the Scriptural Calendar.  Alternatively, could it be that, at this particular time, the former seventh month, the month of the Day of Atonement, now became the month of Rosh Hashana, i.e. the month of the New Year beginning from Tishrei 1 rather than from Tishrei 22? Its name was changed from Ethanim, meaning \"a present, a gift, munificence\" (Strong's #866-868), to Tishrei meaning \"my arrival, my gift\" (cf. Strong's #8670).  Thus the meaning of the names are deceptively similar, while it appears that in effect the reference was changed from the Creator to king Jeroboam.  Was Jeroboam's arrival as king now being referenced and celebrated by the annual feast of Rosh Hashana, as well as his gifts of the golden calves, i.e. of the newly established Calendar? Actually the Hebrew text in 1 Kings 12:29 is better translated \"And he SAT DOWN the one in Beth-el, and the other he GAVE in Dan\", thus further emphasizing the meaning of the name of the new seventh month, i.e. Tishrei beginning the year on Tisrei 1?  Could it be that in the eighth month, of this new, i.e. civil, year, \"Jeroboam ordained a feast in the eighth month, on the fifteenth day of the month, like unto the feast that is in Judah...?\"  Apparently this new feast was to replace the annual Passover celebration in Jerusalem, which was to be celebrated on the fifteenth Day of the first or the second month of the year.  Interestingly the Bible uses the following words \"the month which he had DEVISED of his own heart\" 1 Kings 12:33 (KJV).  The meaning of the new name of the old eighth month, i.e. 'Chishlav', is \"a contrivance, a fabrication, to plot, intelligence\" (Strong's #2803,2808-2810).  Seems revealing enough to me.  The old Biblical name for the same month is 'Bul', meaning \"produce\" (Strong's #944-945&2481).  The names of the old first numbered two months, Abib (or simply Rishon), and Zif, were replaced by the new names Nisan and Iyyar, probably in an effort to avoid reminding the people of of the times closely associated with the Passover celebrations in Jerusalem.  I.e. consistent with 1 Kings 12:26-27 \"And Jeroboam said in his heart, Now shall the kingdom return to the house of David: If this people go up to do sacrifice in the house of the Lord at Jerusalem, then shall the heart of this people turn again unto their lord...\".  Further, the Hebrew text makes it quite clear that the new Calendar implied 'a sacrifice' namely in terms of wasting a certain time period, e.g. the first six numbered months of the Scriptural Year. Thus \"he offered upon the altar... sacrificing unto the calves...... offered upon the altar... offered upon the altar, and burnt incense... the ashes poured out from the altar...\" 1 Kings 12:32-33,13:5 (KJV).\n\nConclusions: Based upon the calendar used in the papyri found in Elephantine it seems most likely that the two calendars in question were simply the Scriptural calendar beginning Tishrei 22 and the Babylonian calendar beginning Aviv 1. However, consider the question re how these calendars, both of them, were affected by the solar system event during king Hezekiah in the 8th century BCE! - Quite possibly neither one of them would have needed much if any modification... The changes in the length of the year would have been, probably, reflected in fewer, even the total elimination of, leap months. In fact, considering that the name Adar, the name of the Twelfth Moon, means 'expand' (cf. \"More about Biblical times\" in the Tree of Life Calandar) it may well be that prior to the change in the time of Hezekiah the Twelfth Month was itself a leap month? Notice also that the leap month is not found in the Scriptures at all and the earliest reference to the Twelfth Moon is 1 Chronicles 27:15, which is a reference, it seems, to an established order from the time of king David. All other references are found in books authored after the time of Hezekiah and to points in time after Hezekiah, i.e. 1Ch 27:15; Jer 52:31; Eze 32:1; 2Ki 25:27; Est 3:7, 13; 8:12; 9:1, 15, 17, 19, 21; Ezra 6:15.\n\n"]
[{"$f":"A137+1","v":2969},null,{"$f":"C141+1","v":954},{"$f":"IF(C139<>\"\",IF(C139=C140,\"\",IF(C139=D138,IF(C139=C140+1,C139-1,\"\"),C139-1)),\"\")","v":953},null,null,null,null,"Rehoboam",null,"  2nd year - I.e. the 2nd Sacred Calendar Year he reigned"," ",null,null,"Jeroboam",null,"  2nd year - I.e. the 2nd Sacred Calendar Year he reigned"," ","[(HIDDEN TIME) PROPHECY FULFILLED EXACTLY 332 YEARS LATER: \"And, behold, there came a man of God out of Judah by the word of the Lord unto Beth-el… And he cried against the altar in the word of the Lord, and said, O altar, altar, thus saith the Lord; Behold, a child shall be born unto the house of David, Josiah by name; and upon thee shall he offer the priests of the high places that burn incense upon thee, and men's bones shall be burnt upon thee. And he gave a sign the same day, saying, This is the sign which the Lord hath spoken; Behold, the altar shall be rent, and the ashes that are upon it shall be poured out.\" 1 Kings 13:1-3 (KJV).]"]
[null,null,{"$f":"C141","v":953},"",null,null,null,null,"Rehoboam",null,"  2nd year - I.e. the 2nd Sacred Calendar Year he reigned"," ",null,null,"Jeroboam",null,"  3rd year - I.e. the 3rd Sacred Calendar Year he reigned"," ","Josiah was born in the Sacred year:",{"$f":"A845-8","v":3277},null,", which is:",{"$f":"T140-A137","v":309},"years after the 1st Passover following the Prophecy."]
[{"$f":"A139+1","v":2970},null,{"$f":"C143+1","v":953},952,null,"10th yr of Shalmaneser, Biridia=Brirdri, Hazael and his father: \"In the tenth year of his reign Shalmaneser fought against another coalition, again under Biridre (Biridia). When Biridri died, Hazael, exploiting the absence of an Egyptian governor, killed his own father.\" (Ages in Chaos, p.315:1.)",null,null,"Rehoboam",null,"  3rd year - I.e. the 3rd Sacred Calendar Year he reigned"," ",null,null,"Jeroboam",null,"  3rd year - I.e. the 3rd Sacred Calendar Year he reigned"," ","The sacrifice of human bones was in:",{"$f":"A867","v":3296},null,", which is:",{"$f":"T141-A137","v":328},"years after the 1st Passover following the Prophecy."]
[null,null,{"$f":"C143","v":952},"",null,null,null,null,"Rehoboam",null,"  3rd year - I.e. the 3rd Sacred Calendar Year he reigned"," ",null,null,"Jeroboam",null,"  4th year - I.e. the 4th Sacred Calendar Year he reigned"," ","Cleansing completed by Passover in:",{"$f":"A879","v":3302},null,", which is:",{"$f":"T142-A137","v":334},"years after the 1st Passover following the Prophecy."]
[{"$f":"A141+1","v":2971},null,{"$f":"C145+1","v":952},951,null,null,null,null,"Rehoboam",null,"  4th year - I.e. the 4th Sacred Calendar Year he reigned"," ",null,null,"Jeroboam",null,"  4th year - I.e. the 4th Sacred Calendar Year he reigned"," ","\"So they strengthened the kingdom of Judah, and made Rehoboam the son of Solomon strong, three [full] years: for three years they walked in the way of David and Solomon\" 2 Chron. 11:17 (KJV)."]
[null,null,{"$f":"C145","v":951},"",null,null,null,null,"Rehoboam",null,"  4th year - I.e. the 4th Sacred Calendar Year he reigned"," ",null,null,"Jeroboam",null,"  5th year - I.e. the 5th Sacred Calendar Year he reigned"," ","The word number of the Hebrew name 'Josiah' is:",null,null,null,{"$f":"10+1+300+10+5+6","v":332},{"$f":"40+400+2+40+90+80","v":652}]
[{"$f":"A143+1","v":2972},null,{"$f":"C147+1","v":951},950,null,null,"Unspecified dating; Pharaoh Shishak = Thutmose III: \"Five years after Solomon's death Pharaoh Shishak invaded Judah and took Jerusalem and carried away everything of value from the palace and the Temple.\" (Peoples of the Sea, p.106:2:6lines from the bottom.)  Thutmose III (Shishak of the Scriptures) invaded Palestine, besieged its fortified cities, and accepted surrender of the king of Kadesh-Jerusalem, the vessels and the furnishings that he removed from the Temple and the palace and had depicted on a wall of the Karnak temple were compared .. (Peoples of the Sea, p.107:2.)  \"Hadad's son Genubath (of 1 Kings 11:20) is mentioned in inscriptions of Thutmose III; Ano, the wife of Jeroboam (her name is given in the Septuagint), was a princess of the household of Thutmose III, and a canopic jar of hers is preserved in the Metropolitan Museum of Art.\"  (Peoples of the Sea, p.108:1.) \"The annals of Thutmose III, after giving the date of the first victorious expedition to extend the boundaries of Egypt, record: ANNALS OF KARNAK: Now at that time the Asiatics had fallen into disagreement each man fighting against his neighbor.\" (Ages in Chaos, p. 148:2.) \"And it came to pass, that in the fifth year of king Rehoboam, Shishak king of Egypt came up against Jerusalem . . .\" (II Chronicles 12:2-4. Ages in Chaos, p. 152:2.)",null,"Rehoboam",null,"  5th year - I.e. the 5th Sacred Calendar Year he reigned"," ",null,null,"Jeroboam",null,"  5th year - I.e. the 5th Sacred Calendar Year he reigned"," ","[\"And it came to pass, when Rehoboam had established the kingdom, and had strengthened himself, he forsook the law of the Lord, and all Israel with him. And it came to pass in the fifth year of king Rehoboam, that Shishak king of Egypt came up against Jerusalem: and he took away the treasures of the house of the Lord, and the treasures of the king's house; he even took away all: and he took away all the shields of gold which Solomon has made. And king Rehoboam made in their stead brasen shields, and committed them unto the hands of the chief of the guard, which kept the door of the king's house...\" 1 Kings 14:25-27 (KJV).] \"And it came to pass, that in the fifth year of king Rehoboam, Shishak king of Egypt came up against Jerusalem . . .\" (II Chronicles 12:2-4.)"]
[null,null,{"$f":"C147","v":950},"",null,null,null,null,"Rehoboam",null,"  5th year - I.e. the 5th Sacred Calendar Year he reigned"," ",null,null,"Jeroboam",null,"  6th year - I.e. the 6th Sacred Calendar Year he reigned"," ","Jehoiade the priest born? Cf. Jehoash's (Joash's) 38th year!",null,null,"Aleph",1,400]
[{"$f":"A145+1","v":2973},null,{"$f":"C149+1","v":950},949,null,null,null,null,"Rehoboam",null,"  6th year - I.e. the 6th Sacred Calendar Year he reigned"," ",null,null,"Jeroboam",null,"  6th year - I.e. the 6th Sacred Calendar Year he reigned"," ",null,null,null,"Beth",2,300]
[null,null,{"$f":"C149","v":949},"",null,null,null,null,"Rehoboam",null,"  6th year - I.e. the 6th Sacred Calendar Year he reigned"," ",null,null,"Jeroboam",null,"  7th year - I.e. the 7th Sacred Calendar Year he reigned"," "," ",null,null,"Gimmel",3,200]
[{"$f":"A147+1","v":2974},null,{"$f":"C151+1","v":949},948,null,null,"\"Year 25\" [of?] Pharaoh Shishak = Thutmose III: \"In less than five months-in one hundred and forty-eight days, to be exact- the Palestine campaign was over.  The next year Thutmose III returned to Palestine on an inspection tour and received tribute. In Palestine the pharaoh took a daughter of the royal family to be one of his wives and brought her home ... The next year (\"year 25\") Pharaoh returned to Palestine for inspection. This time he visited northern Palestine (Upper Retenu)...\" (Ages in Chaos, p. 163:5-164:2)   NOTICE: Could it be that year 25 equals the age of Thutmose III and that he was in fact the son of Solomon and Hatshepshut as also chronicled in Ethiopia???",null,"Rehoboam",null,"  7th year - I.e. the 7th Sacred Calendar Year he reigned"," ",null,null,"Jeroboam",null,"  7th year - I.e. the 7th Sacred Calendar Year he reigned"," ",null,null,null,"Daleth",4,100]
[null,null,{"$f":"C151","v":948},"",null,null,null,null,"Rehoboam",null,"  7th year - I.e. the 7th Sacred Calendar Year he reigned"," ",null,null,"Jeroboam",null,"  8th year - I.e. the 8th Sacred Calendar Year he reigned"," "," ",null,null,"He",5,90]
[{"$f":"A149+1","v":2975},null,{"$f":"C153+1","v":948},947,null,null,"\"Three years after the conquest of Megiddo, Kadesh, and other cities, he [Thutmose III] had carved on the walls at Karnak pictures of trees and plants that he had brought from Palestine, with this inscription…\" (Ages in Chaos, p.171:4.)",null,"Rehoboam",null,"  8th year - I.e. the 8th Sacred Calendar Year he reigned"," ",null,null,"Jeroboam",null,"  8th year - I.e. the 8th Sacred Calendar Year he reigned"," ",null,null,null,"Vav",6,80]
[null,null,{"$f":"C153","v":947},"",null,null,null,null,"Rehoboam",null,"  8th year - I.e. the 8th Sacred Calendar Year he reigned"," ",null,null,"Jeroboam",null,"  9th year - I.e. the 9th Sacred Calendar Year he reigned"," "," ",null,null,"Zeith",7,70]
[{"$f":"A151+1","v":2976},null,{"$f":"C155+1","v":947},946,null,null,null,null,"Rehoboam",null,"  9th year - I.e. the 9th Sacred Calendar Year he reigned"," ",null,null,"Jeroboam",null,"  9th year - I.e. the 9th Sacred Calendar Year he reigned"," ",null,null,null,"Cheth",8,60]
[null,null,{"$f":"C155","v":946},"",null,null,null,null,"Rehoboam",null,"  9th year - I.e. the 9th Sacred Calendar Year he reigned"," ",null,null,"Jeroboam",null,"10th year - I.e. the 10th Sacred Calendar Year he reigned"," "," ",null,null,"Teth",9,50]
[{"$f":"A153+1","v":2977},null,{"$f":"C157+1","v":946},945,null,null,null,null,"Rehoboam",null,"10th year - I.e. the 10th Sacred Calendar Year he reigned"," ",null,null,"Jeroboam",null,"10th year - I.e. the 10th Sacred Calendar Year he reigned"," ",null,null,null,"Jod",10,40]
[null,null,{"$f":"C157","v":945},"",null,null,null,null,"Rehoboam",null,"10th year - I.e. the 10th Sacred Calendar Year he reigned"," ",null,null,"Jeroboam",null,"11th year - I.e. the 11th Sacred Calendar Year he reigned"," "," ",null,null,"Kaf",20,30]
[{"$f":"A155+1","v":2978},null,{"$f":"C159+1","v":945},944,null,"18th yr of Shalmaneser, Hazael of Aram & battle: \"The annals of Shalmaneser also verify what was said in the el-Amarna letters concerning Hazael (Aziru): \"In my eighteenth year of reign, I crossed the Euphrates for the sixteenth time. Hazael of Aram [Amuru] came forth to battle.\" He wrote that Hazael made his stand at Mount Senir (Anti-Lebanon), \"Mount Saniru, a mountain peak which is in front of Mount Lebanon.\" This strategic position of Hazael protected Tunip (Baalbek). In the battle Shalmaneser captured 1121 chariots, \"As far as Damascus, his royal city, I advanced. His orchards I cut down.\" Four years later Shalmaneser, according to his annals, went \"against the cities of Hazael of Aram [Amuru]\" and \"captured four of his cities.\" \" (Ages of Chaos, p. 316:3-4) \"In the eighteenth year of his reign Shalmaneser wrote that he had received \"the tribute of the men of Tyre, Sidon, and of Jehu, of the house of Omri.\"  (Ages of Chaos, p.318:1.)",null,null,"Rehoboam",null,"11th year - I.e. the 11th Sacred Calendar Year he reigned"," ",null,null,"Jeroboam",null,"11th year - I.e. the 11th Sacred Calendar Year he reigned"," ",null,null,null,"Lamed",30,20]
[null,null,{"$f":"C159","v":944},"",null,null,null,null,"Rehoboam",null,"11th year - I.e. the 11th Sacred Calendar Year he reigned"," ",null,null,"Jeroboam",null,"12th year - I.e. the 12th Sacred Calendar Year he reigned"," "," ",null,null,"Mem",40,10]
[{"$f":"A157+1","v":2979},null,{"$f":"C161+1","v":944},943,null,null,null,null,"Rehoboam",null,"12th year - I.e. the 12th Sacred Calendar Year he reigned"," ",null,null,"Jeroboam",null,"12th year - I.e. the 12th Sacred Calendar Year he reigned"," ",null,null,null,"Nun",50,9]
[null,null,{"$f":"C161","v":943},"",null,null,null,null,"Rehoboam",null,"12th year - I.e. the 12th Sacred Calendar Year he reigned"," ",null,null,"Jeroboam",null,"13th year - I.e. the 13th Sacred Calendar Year he reigned"," "," ",null,null,"Samech",60,8]
[{"$f":"A159+1","v":2980},null,{"$f":"C163+1","v":943},942,null,null,null,null,"Rehoboam",null,"13th year - I.e. the 13th Sacred Calendar Year he reigned"," ",null,null,"Jeroboam",null,"13th year - I.e. the 13th Sacred Calendar Year he reigned"," ",null,null,null,"Eyin",70,7]
[null,null,{"$f":"C163","v":942},"",null,null,null,null,"Rehoboam",null,"13th year - I.e. the 13th Sacred Calendar Year he reigned"," ",null,null,"Jeroboam",null,"14th year - I.e. the 14th Sacred Calendar Year he reigned"," "," ",null,null,"Peh",80,6]
[{"$f":"A161+1","v":2981},null,{"$f":"C165+1","v":942},941,null,null,null,null,"Rehoboam",null,"14th year - I.e. the 14th Sacred Calendar Year he reigned"," ",null,null,"Jeroboam",null,"14th year - I.e. the 14th Sacred Calendar Year he reigned"," ",null,null,null,"Tsade",90,5]
[null,null,{"$f":"C165","v":941},"",null,null,null,null,"Rehoboam",null,"14th year - I.e. the 14th Sacred Calendar Year he reigned"," ",null,null,"Jeroboam",null,"15th year - I.e. the 15th Sacred Calendar Year he reigned"," "," ",null,null,"Koph",100,4]
[{"$f":"A163+1","v":2982},null,{"$f":"C167+1","v":941},940,null,null,null,null,"Rehoboam",null,"15th year - I.e. the 15th Sacred Calendar Year he reigned"," ",null,null,"Jeroboam",null,"15th year - I.e. the 15th Sacred Calendar Year he reigned"," ",null,null,null,"Resh",200,3]
[null,null,{"$f":"C167","v":940},"",null,null,null,null,"Rehoboam",null,"15th year - I.e. the 15th Sacred Calendar Year he reigned"," ",null,null,"Jeroboam",null,"16th year - I.e. the 16th Sacred Calendar Year he reigned"," "," ",null,null,"Shin",300,2]
[{"$f":"A165+1","v":2983},null,{"$f":"C169+1","v":940},939,null,null,null,null,"Rehoboam",null,"16th year - I.e. the 16th Sacred Calendar Year he reigned"," ",null,null,"Jeroboam",null,"16th year - I.e. the 16th Sacred Calendar Year he reigned"," ",null,null,null,"Tav",400,1]
[null,null,{"$f":"C169","v":939},"",null,null,null,null,"Rehoboam",null,"16th year - I.e. the 16th Sacred Calendar Year he reigned"," ",null,null,"Jeroboam",null,"17th year - I.e. the 17th Sacred Calendar Year he reigned"," "," "]
[{"$f":"A167+1","v":2984},null,{"$f":"C173+1","v":939},938,null,null,null,null,"Rehoboam",null,"17th year - I.e. the 17th Sacred Calendar Year he reigned"," ",null,null,"Jeroboam",null,"17th year - I.e. the 17th Sacred Calendar Year he reigned"," ","Rehoboam reigned 17 years!  1 Kings 14:21 &  2 Chron. 12:13. \"And Rehoboam the son of Solomon reigned in Judah. Rehoboam was forty and one years old when he began to reign, and he reigned seventeen years in Jerusalem… And Judah did evil in the sight of the Lord, and they provoked him to jealousy with their sins which they had committed, above all that their fathers had done. For they also built them high places, and images, and groves, on every high hill, and under every green tree\" 1 Kings 14:21-23 (KJV).  \"And Rehoboam slept with his fathers, and was buried with his fathers in the city of David. And his mother's name was Naamah an Ammonitess. And Abijam his son reigned in his stead\" 1 Kings 14:30 (KJV).  \"And he [Rehoboam] did evil, because he prepared not his heart to seek the Lord\" 2 Chron. 12:14 (KJV)."]
[null,null,{"$f":"C173","v":938},"",null,null,null,null,"Rehoboam's 17th & Abijah's accession year",null,"17th year - I.e. the 17th Sacred Calendar Year he reigned"," ",null,null,"Jeroboam",null,"18th year - I.e. the 18th Sacred Calendar Year he reigned"," ","1 Kings 15:1-2; 2 Chron. 13:2. \"Now in the eighteenth year of king Jeroboam the son of Nebat reigned Abijam over Judah. Three years reigned he in Jerusalem… And he walked in all the sins of his father, which he had done before him: and his heart was not perfect with the Lord his God, as the heart of David his father\" 1 Kings 15:1-2 (KJV).  \"And Rehoboam loved Maachah the daughter of Absalom above all his wives and his concubines... And Rehoboam made Abijah the son of Maachah the chief, to be ruler among his brethren: for he thought to make him king\" 2 Chron. 10:21-22 (KJV)."]
[null,null,null,"",null,null,null,null,null,null,null," ",null,null,null,null,null," "]
[null,null,null,""]
[{"$f":"A169+1","v":2985},null,{"$f":"C175+1","v":938},937,null,null,null,null,"Abijah (Abijam)",null,"  1st year - I.e. the 1st Sacred Calendar Year he reigned"," ",null,null,"Jeroboam",null,"18th year - I.e. the 18th Sacred Calendar Year he reigned"," "]
[null,null,{"$f":"C175","v":937},"",null,null,null,null,"Abijah (Abijam)","t","  1st year - I.e. the 1st Sacred Calendar Year he reigned"," ",null,null,"Jeroboam",null,"19th year - I.e. the 19th Sacred Calendar Year he reigned"," "]
[{"$f":"A173+1","v":2986},null,{"$f":"C177+1","v":937},936,null,null,null,null,"Abijah (Abijam)",null,"  2nd year - I.e. the 2nd Sacred Calendar Year he reigned"," ",null,null,"Jeroboam",null,"19th year - I.e. the 19th Sacred Calendar Year he reigned"," "]
[null,null,{"$f":"C177","v":936},"",null,null,null,null,"Abijah (Abijam)",null,"  2nd year - I.e. the 2nd Sacred Calendar Year he reigned"," ",null,null,"Jeroboam",null,"20th year - I.e. the 20th Sacred Calendar Year he reigned"," "]
[{"$f":"A175+1","v":2987},null,{"$f":"C181+1","v":936},935,null,null,null,null,"Abijah's (Abijam's) 3rd & Asa's accession year",null,"  3rd year - I.e. the 3rd Sacred Calendar Year he reigned"," ",null,null,"Jeroboam",null,"20th year - I.e. the 20th Sacred Calendar Year he reigned"," ","Abijah reigned 3 years:   \n \n2 Chron. 13:1-2 KJV Now in the eighteenth year of king Jeroboam began Abijah to reign over Judah. He reigned three years in Jerusalem…\" \n \n1Ki 15:1 KJV  Now in the eighteenth year of king Jeroboam the son of Nebat reigned Abijam over Judah. \n1Ki 15:2 KJV  Three years reigned he in Jerusalem. And his mother's name was Maachah, the daughter of Abishalom. "]
[null,null,null,"",null,null,null,null,null,null,null,null,null,null,null,null,null," "]
[null,null,null,"",null,null,null,null,null,null,null,null,null,null,null,null,null," "]
[null,null,{"$f":"C181","v":935},"",null,null,null,null,"Asa",null,"Accession year"," ",null,null,"Jeroboam",null,"21st year - I.e. the 21st Sacred Calendar Year he reigned"," ","1 Kings 15:9-11 \"And in the twentieth year of Jeroboam king of Israel reigned Asa over Judah.  And forty and one years reigned he in Jerusalem… And Asa did that which was right in the eyes of the Lord, as did David his father\" (KJV)."]
[{"$f":"A177+1","v":2988},null,{"$f":"C183+1","v":935},934,null,null,null,null,"Asa",null,"  1st year - I.e. the 1st Sacred Calendar Year he reigned"," ",null,null,"Jeroboam",null,"21st year - I.e. the 21st Sacred Calendar Year he reigned"," "]
[null,null,{"$f":"C183","v":934},"",null,null,null,null,"Asa",null,"  1st year - I.e. the 1st Sacred Calendar Year he reigned"," ",null,null,"Jeroboam",null,"22nd year - I.e. the 22nd Sacred Calendar Year he reigned"," "]
[{"$f":"A181+1","v":2989},null,{"$f":"C187+1","v":934},933,null,{"$f":"F5","v":"12th to 10th centuries BC in Egypt: \"the twelfth-tenth-century period in Egypt has no vacancy to accommodate any stray dynasty; the Hyksos domination of Egypt continued till the mid-eleventh century and from then on, for two centuries, till the mid-eleventh century and from then on, for two centuries, the Eighteenth Dynasty ruled over Egypt in one of her most glorious periods, Ahmose, Amenhotep I, Thumose I, Hatshepsut, Thutmose III, Amenhotep II, Thutmose IV, Amenhotep III, Akhnaton, Smenkhkare, and Tutankhamen successively occupying the throne.\"  (Peoples of the Sea, p. 190:6.) \"...places the terminal years of this [18th] dynasty in about -830.\"  (Peoples of the Sea, p. 191:3.)"},null,null,"Asa",null,"  2nd year - I.e. the 2nd Sacred Calendar Year he reigned"," ",null,null,"Jeroboam's 22nd & Nadab's accession year",null,"22nd year - I.e. the 22nd Sacred Calendar Year he reigned"," ","1 Kings 14:20 \"And the days which Jeroboam reigned were two and twenty years: and he slept with his fathers, and Nadab his son reigned in his stead\" (KJV)."]
[null,null,null,"",null,{"$f":"F4","v":"Velikovsky’s “…nomenclature for the Egyptian dysasties.\n The Middle Kingdom of Egypt (the division into Eleventh and Twelfth Dynasties is unnecessary) came to its end in a natural catastrophe in the mid-fifteenth century before the present era; the land was invaded by the Arabs (Amalekites, known as Amu to the Egyptians, or as Hyksos to Greek authors). The Arab Dynasty ruled for over four hundred years, till about -1020. Already before that date there were vassal princes in Thebes. The Arab domination of Egypt was terminated by the united efforts of Saul of Israel and Kamose and Ahmose of Thebes. For the next (almost) two hundred years (ca. -1200 to ca. -830) the land was ruled by the Theban Dynasty (known as the Eighteenth) of Thutmoses and Amenhoteps. Close to the end of that period, Akhnaton moved the capi9tal to Akhet-Aton (el-Amarna) but Thebes was soon restored as the capital under Smenkhkare and Ay.\n The Theban period was followed by the Libyan domination of Sosenks [= Shoshenk, cf. Ages in Chaos, p. 174-176] and Osorkons for over one hundred years (ca. -830 to ca. -720). Next came the Ethiopian rule that endured for fifty or sixty years; however, at the same time the Assyrians pressed from the north and the land was occupied repeatedly by Sennacherib (who crowned Haremheb), Esarhaddon, and Assurbanipal (who elevated Necho I-Rameses I to be a vassal king). When Necho was killed by invading Ethiopians, Assurbanipal once more occupied Thebes (-663).\n The period of the Tanitic Dynasty follows: Seti (Psammetich of the Greek authors), son of Ramses I (Necho I), obtained independence from Assurbanipal and acted as his ally in his wars against the Chaldeans and Medes, Seti’s capital was in Tanis in the Delta, The Tanitic Dynasty endured from -663 to -525. After Seti reigned Ramses II (Necho II), his son, who for a lengthy period had been Seti’s co-ruler. He carried on a prolonged war with Nebuchadnezzar, the Chaldean. Ramses’ heir Merneptah (Hophra of Jeremiah and Apries of Herodutus) lost the throne to a rebel, General Amasis, the latter reigned in peace for over forty years and died when Cambyses the Persian was already on his march of conquest toward Egypt.\n From -525 to -332, for close to two hundred years, Egypt was dominated by the Persian kings (Cambyses, Darius, Xerxes, Artaxerxes I, Darius II, Artaxerxes II and III); some of them were crowned also as Egyptian pharaohs; they kept native governors in Egypt like Psamshek or Nekht-hor.\n In the fourth century, during the reigns of Artaxerxer II and Artaxerxes III, Egypt achieved a measure of independence comparable to the independence the Greek states maintained during thetime of the Great Kings of Persia.  Nepherites, Acoris, Nectanebo I (Ramses III), Tachos, and Nectanebo II were the indigenous kings of that period and they could be termed Native Kings or, if preferred, Sebennytic Dynasty, for the place of origin of the most famous of them. At the same time a Priestly Dynasty established already by Darius II (about -420) ruled in the military outposts-the oases of the Libyan desert. Thjey continued there till past -300.\n The Persians succeeded in -343 to reconquering Egypt, Nectanebo II escaping to the Sudan, but ten years later Egypt received Alexander as its liberator (-332). The Macedonian Dynasty endured three hundred years, with the Ptolemies on the throne till Cleopatra’s suicide in -30. Thereafter the Roman caesars ruled Egypt.\n This order of dynastic succession, relieved of thenumbered dynasties, is simple to comprehend: Arab, Theban, Libyan, Ethiopian (repeatedly interrupted by Assyrian conquests), Tanitic, Persian (partly Sebennytic), and Macedonian Dynasties in this sequence. As can readily be seen, for most of the fourteen hundred years (ca. -1450 to -30), Egypt was ruled by foreigners: the three periods when it was ruled by native kings were under the Theban (-1020 to -830), the Tanitic (-663 to -525), and the Sebennytic (ca. -391 to -341) Dynasties, altogether something like 380 years out of 1420.” (Peoples of the Sea, p. 194:2-195:end.)\n"},null,null,null,null,null,null,null,null,null,null,null," "]
[null,null,null,""]
[null,null,{"$f":"C187","v":933},"",null,null,null,null,"Asa",null,"  2nd year - I.e. the 2nd Sacred Calendar Year he reigned"," ",null,null,"Nadab",null,"  1st year - I.e. the 1st Sacred Calendar Year he reigned"," ","1 Kings 15:25-26 \"And Nadab the son of Jeroboam began to reign over Israel in the second year ['beshanat shatajim leAsa melech'] of Asa king of Judah, and reigned over Israel two ['shanatajim'] years. And he did evil in the sight of the Lord…\" (KJV)."]
[{"$f":"A183+1","v":2990},null,{"$f":"C191+1","v":933},932,null,null,null,null,"Asa",null,"  3rd year - I.e. the 3rd Sacred Calendar Year he reigned"," ",null,null,"Nadab's 1st & Baasha's accession year","t","  1st year - I.e. the 1st Sacred Calendar Year he reigned"," ","Nadab reigned within more than one calendar year! 1 Kings 15:25 (Hebrew 'shanatim' = plural form of 'year' without other numerical designation. Compare Gen. 11:10 as mistranslated \"two years after the flood\")"]
[null,null,null,"",null,null,null,null,null,null,null,null,null,null,null,null,null," "]
[null,null,null,""]
[null,null,{"$f":"C191","v":932},"",null,null,null,null,"Asa",null,"  3rd year - I.e. the 3rd Sacred Calendar Year he reigned"," ",null,null,"Baasha",null,"  1st year - I.e. the 1st Sacred Calendar Year he reigned"," ","1 Kings 15:28, 33 \"Even in the third year of Asa king of Judah did Baasha slay him, and reigned in his stead\" (KJV)."]
[{"$f":"A187+1","v":2991},null,{"$f":"C193+1","v":932},931,null,null,null,null,"Asa",null,"  4th year - I.e. the 4th Sacred Calendar Year he reigned"," ",null,null,"Baasha",null,"  1st year - I.e. the 1st Sacred Calendar Year he reigned"," "]
[null,null,{"$f":"C193","v":931},"",null,null,null,null,"Asa",null,"  4th year - I.e. the 4th Sacred Calendar Year he reigned"," ",null,null,"Baasha",null,"  2nd year - I.e. the 2nd Sacred Calendar Year he reigned"," "," "]
[{"$f":"A191+1","v":2992},null,{"$f":"C195+1","v":931},930,null,null,null,null,"Asa",null,"  5th year - I.e. the 5th Sacred Calendar Year he reigned"," ",null,null,"Baasha",null,"  2nd year - I.e. the 2nd Sacred Calendar Year he reigned"," "]
[null,null,{"$f":"C195","v":930},"",null,null,null,null,"Asa",null,"  5th year - I.e. the 5th Sacred Calendar Year he reigned"," ",null,null,"Baasha",null,"  3rd year - I.e. the 3rd Sacred Calendar Year he reigned"," "," "]
[{"$f":"A193+1","v":2993},null,{"$f":"C197+1","v":930},929,null,null,null,null,"Asa",null,"  6th year - I.e. the 6th Sacred Calendar Year he reigned",{"$f":"L197-1","v":0},null,null,"Baasha",null,"  3rd year - I.e. the 3rd Sacred Calendar Year he reigned"," "]
[null,null,{"$f":"C197","v":929},"",null,null,null,null,"Asa",null,"  6th year - I.e. the 6th Sacred Calendar Year he reigned"," ",null,null,"Baasha",null,"  4th year - I.e. the 4th Sacred Calendar Year he reigned"," "," "]
[{"$f":"A195+1","v":2994},null,{"$f":"C199+1","v":929},928,null,null,null,null,"Asa",null,"  7th year - I.e. the 7th Sacred Calendar Year he reigned",{"$f":"L199-1","v":1},null,null,"Baasha",null,"  4th year - I.e. the 4th Sacred Calendar Year he reigned"," "]
[null,null,{"$f":"C199","v":928},"",null,null,null,null,"Asa",null,"  7th year - I.e. the 7th Sacred Calendar Year he reigned"," ",null,null,"Baasha",null,"  5th year - I.e. the 5th Sacred Calendar Year he reigned"," "," "]
[{"$f":"A197+1","v":2995},null,{"$f":"C201+1","v":928},927,null,null,null,null,"Asa",null,"  8th year - I.e. the 8th Sacred Calendar Year he reigned",{"$f":"L201-1","v":2},null,null,"Baasha",null,"  5th year - I.e. the 5th Sacred Calendar Year he reigned"," "]
[null,null,{"$f":"C201","v":927},"",null,null,null,null,"Asa",null,"  8th year - I.e. the 8th Sacred Calendar Year he reigned"," ",null,null,"Baasha",null,"  6th year - I.e. the 6th Sacred Calendar Year he reigned"," "," "]
[{"$f":"A199+1","v":2996},null,{"$f":"C203+1","v":927},926,null,null,null,null,"Asa",null,"  9th year - I.e. the 9th Sacred Calendar Year he reigned",{"$f":"L203-1","v":3},null,null,"Baasha",null,"  6th year - I.e. the 6th Sacred Calendar Year he reigned"," "]
[null,null,{"$f":"C203","v":926},"",null,null,null,null,"Asa",null,"  9th year - I.e. the 9th Sacred Calendar Year he reigned"," ",null,null,"Baasha",null,"  7th year - I.e. the 7th Sacred Calendar Year he reigned"," "," "]
[{"$f":"A201+1","v":2997},null,{"$f":"C205+1","v":926},{"$f":"IF(C203<>\"\",IF(C203=C204,\"\",IF(C203=D202,IF(C203=C204+1,C203-1,\"\"),C203-1)),\"\")","v":925},null,null,null,null,"Asa",null,"10th year - I.e. the 10th Sacred Calendar Year he reigned",{"$f":"L205-1","v":4},null,null,"Baasha",null,"  7th year - I.e. the 7th Sacred Calendar Year he reigned"," "]
[null,null,{"$f":"C205","v":925},"",null,null,null,null,"Asa",null,"10th year - I.e. the 10th Sacred Calendar Year he reigned"," ",null,null,"Baasha",null,"  8th year - I.e. the 8th Sacred Calendar Year he reigned"," "," "]
[{"$f":"A203+1","v":2998},null,{"$f":"C207+1","v":925},924,null,null,"10 years of quiet with Asa - Attack and defeat by Zerah=Terah=Amenhotep II at Mareshah: \"After the short reign of Abijah, Asa, his son, followed him. \"In his days the land was quiet ten years.\" He built fortified cities in Judah... \"they set the battle in array in the valley of Zephathah at Mareshah.\"… Zerah the Ethiopian, who led an army of Ethiopians and Libyans (II Chronicles 16:8) from the southern and western borders of Egypt (like the army of the pharaoh Shishak), could be none other than a pharaoh...\" (Ages in Chaos, p. 208:2,4,6.)  \"We have identified Terah of the poem as Zerah of the Scriptures. We have identified Zerah of the Scriptures as Amenhotep II...\"  (Ages in Chaos, p. 217:2)",null,"Asa",null,"11th year - I.e. the 11th Sacred Calendar Year he reigned",{"$f":"L207-1","v":5},null,null,"Baasha",null,"  8th year - I.e. the 8th Sacred Calendar Year he reigned"," "]
[null,null,{"$f":"C207","v":924},"",null,null,null,null,"Asa",null,"11th year - I.e. the 11th Sacred Calendar Year he reigned"," ",null,null,"Baasha",null,"  9th year - I.e. the 9th Sacred Calendar Year he reigned"," "," "]
[{"$f":"A205+1","v":2999},null,{"$f":"C209+1","v":924},923,null,null,null,null,"Asa",null,"12th year - I.e. the 12th Sacred Calendar Year he reigned",{"$f":"L209-1","v":6},null,null,"Baasha",null,"  9th year - I.e. the 9th Sacred Calendar Year he reigned"," "]
[null,null,{"$f":"C209","v":923},"",null,null,null,null,"Asa",null,"12th year - I.e. the 12th Sacred Calendar Year he reigned"," ",null,null,"Baasha",null,"10th year - I.e. the 10th Sacred Calendar Year he reigned"," "," "]
[{"$f":"A207+1","v":3000},null,{"$f":"C211+1","v":923},922,null,null,null,null,"Asa",null,"13th year - I.e. the 13th Sacred Calendar Year he reigned",{"$f":"L211-1","v":7},null,null,"Baasha",null,"10th year - I.e. the 10th Sacred Calendar Year he reigned"," "]
[null,null,{"$f":"C211","v":922},"",null,null,null,null,"Asa",null,"13th year - I.e. the 13th Sacred Calendar Year he reigned"," ",null,null,"Baasha",null,"11th year - I.e. the 11th Sacred Calendar Year he reigned"," "," "]
[{"$f":"A209+1","v":3001},null,{"$f":"C213+1","v":922},921,null,null,null,null,"Asa",null,"14th year - I.e. the 14th Sacred Calendar Year he reigned",{"$f":"L213-1","v":8},null,null,"Baasha",null,"11th year - I.e. the 11th Sacred Calendar Year he reigned"," "]
[null,null,{"$f":"C213","v":921},"",null,null,null,null,"Asa",null,"14th year - I.e. the 14th Sacred Calendar Year he reigned"," ",null,null,"Baasha",null,"12th year - I.e. the 12th Sacred Calendar Year he reigned"," "," "]
[{"$f":"A211+1","v":3002},null,{"$f":"C215+1","v":921},920,null,null,null,null,"Asa",null,"15th year - I.e. the 15th Sacred Calendar Year he reigned",{"$f":"L215-1","v":9},null,null,"Baasha",null,"12th year - I.e. the 12th Sacred Calendar Year he reigned"," "]
[null,null,{"$f":"C215","v":920},"",null,null,null,null,"Asa",null,"15th year - I.e. the 15th Sacred Calendar Year he reigned"," ",null,null,"Baasha",null,"13th year - I.e. the 13th Sacred Calendar Year he reigned"," "," "]
[{"$f":"A213+1","v":3003},null,{"$f":"C217+1","v":920},919,null,null,null,null,"Asa",null,"16th year - I.e. the 16th Sacred Calendar Year he reigned",{"$f":"L217-1","v":10},null,null,"Baasha",null,"13th year - I.e. the 13th Sacred Calendar Year he reigned"," "]
[null,null,{"$f":"C217","v":919},"",null,null,null,null,"Asa",null,"16th year - I.e. the 16th Sacred Calendar Year he reigned"," ",null,null,"Baasha",null,"14th year - I.e. the 14th Sacred Calendar Year he reigned"," "," "]
[{"$f":"A215+1","v":3004},null,{"$f":"C219+1","v":919},918,null,null,null,null,"Asa",null,"17th year - I.e. the 17th Sacred Calendar Year he reigned",{"$f":"L219-1","v":11},null,null,"Baasha",null,"14th year - I.e. the 14th Sacred Calendar Year he reigned"," "]
[null,null,{"$f":"C219","v":918},"",null,null,null,null,"Asa",null,"17th year - I.e. the 17th Sacred Calendar Year he reigned"," ",null,null,"Baasha",null,"15th year - I.e. the 15th Sacred Calendar Year he reigned"," "," "]
[{"$f":"A217+1","v":3005},null,{"$f":"C221+1","v":918},917,null,null,null,null,"Asa",null,"18th year - I.e. the 18th Sacred Calendar Year he reigned",{"$f":"L221-1","v":12},null,null,"Baasha",null,"15th year - I.e. the 15th Sacred Calendar Year he reigned"," "]
[null,null,{"$f":"C221","v":917},"",null,null,null,null,"Asa",null,"18th year - I.e. the 18th Sacred Calendar Year he reigned"," ",null,null,"Baasha",null,"16th year - I.e. the 16th Sacred Calendar Year he reigned"," "," "]
[{"$f":"A219+1","v":3006},null,{"$f":"C223+1","v":917},916,null,null,null,null,"Asa",null,"19th year - I.e. the 19th Sacred Calendar Year he reigned",{"$f":"L223-1","v":13},null,null,"Baasha",null,"16th year - I.e. the 16th Sacred Calendar Year he reigned"," "]
[null,null,{"$f":"C223","v":916},"",null,null,null,null,"Asa",null,"19th year - I.e. the 19th Sacred Calendar Year he reigned"," ",null,null,"Baasha",null,"17th year - I.e. the 17th Sacred Calendar Year he reigned"," "," "]
[{"$f":"A221+1","v":3007},null,{"$f":"C225+1","v":916},915,null,null,null,null,"Asa",null,"20th year - I.e. the 20th Sacred Calendar Year he reigned",{"$f":"L225-1","v":14},null,null,"Baasha",null,"17th year - I.e. the 17th Sacred Calendar Year he reigned"," "]
[null,null,{"$f":"C225","v":915},"",null,null,null,null,"Asa",null,"20th year - I.e. the 20th Sacred Calendar Year he reigned"," ",null,null,"Baasha",null,"18th year - I.e. the 18th Sacred Calendar Year he reigned"," "," "]
[{"$f":"A223+1","v":3008},null,{"$f":"C227+1","v":915},914,null,null,null,null,"Asa",null,"21st year - I.e. the 21st Sacred Calendar Year he reigned",{"$f":"L227-1","v":15},null,null,"Baasha",null,"18th year - I.e. the 18th Sacred Calendar Year he reigned"," "]
[null,null,{"$f":"C227","v":914},"",null,null,null,null,"Asa",null,"21st year - I.e. the 21st Sacred Calendar Year he reigned"," ",null,null,"Baasha",null,"19th year - I.e. the 19th Sacred Calendar Year he reigned"," "," "]
[{"$f":"A225+1","v":3009},null,{"$f":"C229+1","v":914},913,null,null,null,null,"Asa",null,"22nd year - I.e. the 22nd Sacred Calendar Year he reigned",{"$f":"L229-1","v":16},null,null,"Baasha",null,"19th year - I.e. the 19th Sacred Calendar Year he reigned"," "]
[null,null,{"$f":"C229","v":913},"",null,null,null,null,"Asa",null,"22nd year - I.e. the 22nd Sacred Calendar Year he reigned"," ",null,null,"Baasha",null,"20th year - I.e. the 20th Sacred Calendar Year he reigned"," "," "]
[{"$f":"A227+1","v":3010},null,{"$f":"C231+1","v":913},912,null,null,null,null,"Asa",null,"23rd year - I.e. the 23rd Sacred Calendar Year he reigned",{"$f":"L231-1","v":17},null,null,"Baasha",null,"20th year - I.e. the 20th Sacred Calendar Year he reigned"," "]
[null,null,{"$f":"C231","v":912},"",null,null,null,null,"Asa",null,"23rd year - I.e. the 23rd Sacred Calendar Year he reigned"," ",null,null,"Baasha",null,"21st year - I.e. the 21st Sacred Calendar Year he reigned"," "," "]
[{"$f":"A229+1","v":3011},null,{"$f":"C233+1","v":912},911,null,null,null,null,"Asa",null,"24th year - I.e. the 24th Sacred Calendar Year he reigned",{"$f":"L233-1","v":18},null,null,"Baasha",null,"21st year - I.e. the 21st Sacred Calendar Year he reigned"," "]
[null,null,{"$f":"C233","v":911},"",null,null,null,null,"Asa",null,"24th year - I.e. the 24th Sacred Calendar Year he reigned"," ",null,null,"Baasha",null,"22nd year - I.e. the 22nd Sacred Calendar Year he reigned"," "," "]
[{"$f":"A231+1","v":3012},null,{"$f":"C235+1","v":911},910,null,null,null,null,"Asa",null,"25th year - I.e. the 25th Sacred Calendar Year he reigned",{"$f":"L235-1","v":19},null,null,"Baasha",null,"22nd year - I.e. the 22nd Sacred Calendar Year he reigned"," "]
[null,null,{"$f":"C235","v":910},"",null,null,null,null,"Asa",null,"25th year - I.e. the 25th Sacred Calendar Year he reigned"," ",null,null,"Baasha",null,"23rd year - I.e. the 23rd Sacred Calendar Year he reigned"," "]
[{"$f":"A233+1","v":3013},null,{"$f":"C239+1","v":910},909,null,null,null,null,"Asa",null,"26th year - I.e. the 26th Sacred Calendar Year he reigned",20,null,null,"Baasha",null,"23rd year - I.e. the 23rd Sacred Calendar Year he reigned"," "]
[null,null,{"$f":"C239","v":909},"",null,null,null,null,"Asa",null,"26th year - I.e. the 26th Sacred Calendar Year he reigned"," ",null,null,"Baasha's 24th & Elah's accession year",null,"24th year - I.e. the 1st Sacred Calendar Year he reigned"," ","\"And Nadab the son of Jeroboam... reigned over Israel two years. And he did evil in the sight of the Lord, and walked in the way of his father, and in his sin wherewith he made Israel to sin. And Baasha the son of Ahijah... conspired against him; and Baasha smote him... Even in the third year of Asa king of Judah did Baasha slay him [Nadab], and reigned in his stead... In the third year of Asa king of Judah began Baasha the son of Ahijah to reign over all Israel in Tirzah, twenty and four years\" 1 Kings 15:25-28,33 (KJV). Baasha reigned 24 years [the Hebrew does not necessarily imply 24 full years in this text]. \"In the twenty and sixth year of Asa king of Judah began Elah the son of Baasha to reign over Israel in Tirzah, two years\" 1 Kings 16:8 (KJV). "]
[null,null,null,"",null,null,null,null,null,null,null," ",null,null,null,null,null," "]
[null,null,null,"",null,null,null,null,null,null,null,null,null,null,null,"t",null," "]
[{"$f":"A235+1","v":3014},null,{"$f":"C242","v":909},{"$f":"IF(C239<>\"\",IF(C239=C241,\"\",IF(C239=D238,IF(C239=C241+1,C239-1,\"\"),C239-1)),\"\")","v":908},null,null,null,null,"Asa",null,"27th year - I.e. the 27th Sacred Calendar Year he reigned",21,null,null,"Elah's (& Zimris's 7 days)",null,"Accession year"," ","Elah reigned within two Scriptural calendar years. That it is the Scriptural calendar year that is being used as a \"cut-off\" reference re 'shanatim,' and not the Babylonian year is clear from the fact that Omri's reign ended in his 12th year of reign and in Asa's 38th year of reign; (Hebrew 'shanatim' = plural form of 'year' without other numerical designation. Compare Gen. 11:10 as mistranslated \"two years after the flood:\") \n\n1 Kings 16:8 \"In the twenty and sixth year of Asa king of Judah began Elah the son of Baasha to reign over Israel in Tirzah, two years ['shanatim']\" 1 Kings 16:8 (KJV). "]
[]
[null,null,null,{"$f":"IF(C241<>\"\",IF(C241=C242,\"\",IF(C241=#REF!,IF(C241=C242+1,C241-1,\"\"),C241-1)),\"\")","v":""}]
[{"$f":"A239","v":3014},null,{"$f":"C244","v":909},908,null,null,null,null,"Asa",null,"27th year - I.e. the 27th Sacred Calendar Year he reigned"," ",null,null,"(Elah's &) Zimris's 7 days","t","7 days/accession year"," ","1 Kings 16:10, 15,18 \"And Zimri went in and smote him [Elah], and killed him, in the twenty and seventh year of Asa king of Judah, and reigned in his stead… In the twenty and seventh year of Asa king of Judah did Zimri reign seven days in Tirzah… And it came to pass, when Zimri saw that the city was taken, that he went into the palace of the king's house, and burnt the king's house over him[self] with fire, and died\" (KJV)."]
[null,null,null,{"$f":"IF(C243<>\"\",IF(C243=C244,\"\",IF(C243=#REF!,IF(C243=C244+1,C243-1,\"\"),C243-1)),\"\")","v":""},null,null,null,null,null,null,null," ",null,null,null,null,null," "]
[{"$f":"A242","v":3014},null,{"$f":"C246+1","v":909},908,null,null,null,null,"Asa",null,"27th year - I.e. the 27th Sacred Calendar Year he reigned"," ",null,null,"Elah's 1st, Zimris's & Omri/Tibni's",null,"Accession year"," ","1 Kings 16:16,21-23,25 \"And the people that were encamped heard say, Zimri hath conspired, and hath also slain the king: wherefore all Israel made Omri, the captain of the host, king over Israel that day in the camp. And Omri went up… and they besieged Tirzah. And it came to pass, when Zimri saw that the city was taken, that he... burnt the King's house over him with fire, and died... Then were the people of Israel divided into two parts: half of the people followed Tibni the son of Ginath, to make him king; and half followed Omri. But the people that followed Omri prevailed against the people that followed Tibni the son of Ginath: so Tibni died, and Omri reigned. In the thirty and first year of Asa king of Judah began Omri to reign over Israel, twelve years: six years reigned he in Tirzah... But Omri wrought evil in the eyes of the Lord, and did worse than all that were before him\" (KJV)."]
[null,null,{"$f":"C246","v":908},"",null,null,null,null,"Asa",null,"27th year - I.e. the 27th Sacred Calendar Year he reigned"," ",null,null,"Elah's 1st, Zimris's & Omri/Tibni's",null,"  1st year - I.e. the 1st Sacred Calendar Year he reigned"," "]
[{"$f":"A239+1","v":3015},null,{"$f":"C248+1","v":908},907,null,null,null,null,"Asa",null,"28th year - I.e. the 28th Sacred Calendar Year he reigned",{"$f":"L248-1","v":22},null,null,"Elah's 1st, Zimris's & Omri/Tibni's"," ","  1st year - I.e. the 1st Sacred Calendar Year he reigned"," "]
[null,null,{"$f":"C248","v":907},"",null,null,null,null,"Asa",null,"28th year - I.e. the 28th Sacred Calendar Year he reigned"," ",null,null,"Omri & Tibni contesting for power from the onset of their reigns"," ","  2nd year - I.e. the 2nd Sacred Calendar Year he reigned"," "," "]
[{"$f":"A246+1","v":3016},null,{"$f":"C250+1","v":907},906,null,null,null,null,"Asa",null,"29th year - I.e. the 29th Sacred Calendar Year he reigned",{"$f":"L250-1","v":23},null,null,"Omri & Tibni contesting for power from the onset of their reigns"," ","  2nd year - I.e. the 2nd Sacred Calendar Year he reigned"," "]
[null,null,{"$f":"C250","v":906},"",null,null,null,null,"Asa",null,"29th year - I.e. the 29th Sacred Calendar Year he reigned"," ",null,null,"Omri & Tibni contesting for power from the onset of their reigns"," ","  3rd year - I.e. the 3rd Sacred Calendar Year he reigned"," "," "]
[{"$f":"A248+1","v":3017},null,{"$f":"C252+1","v":906},905,null,null,null,null,"Asa",null,"30th year - I.e. the 30th Sacred Calendar Year he reigned",{"$f":"L252-1","v":24},null,null,"Omri & Tibni contesting for power from the onset of their reigns"," ","  3rd year - I.e. the 3rd Sacred Calendar Year he reigned"," "]
[null,null,{"$f":"C252","v":905},"",null,null,null,null,"Asa",null,"30th year - I.e. the 30th Sacred Calendar Year he reigned"," ",null,null,"Omri & Tibni contesting for power from the onset of their reigns"," ","  4th year - I.e. the 4th Sacred Calendar Year he reigned"," "," "]
[{"$f":"A250+1","v":3018},null,{"$f":"C256+1","v":905},904,null,null,"Thutmose IV, successor to Amenhotep II; 20 years after the defeat at Mareshah; destruction of Ugarit-Ras Shamra: \"Some twenty years after the defeat at Mareshah, Thutmose IV, successor to Amenhotep II, re-established Egyptian hegemony over Syria and Palestine. There are no records of the campaign, but he bears the appellation \"conqueror of Syria.\" Thutmose IV met very little risistance, if any. The pressure of the Assyrians from the north made it desirable for the Syrians to submit to Egypt.\"  (Ages in Chaos, p. 219:3.) \"The End of Ugarit: The excavator of ras Shamra found that the city had been destroyed by violence and had not been rebuilt. Buildings were demolished; the library was burned and its walls fell on the tablets and crushed many of them. The last king whose name is mentioned on the documents that survived the fire is Nikmed. There was also found a proclamation which states that the city was captured and Nikmed and all the foreigners were expelled...  (Ages in Chaos, p. 219:4-220:1.)",null,"Asa",null,"31st year - I.e. the 31st Sacred Calendar Year he reigned",25,null,null,"Omri & Tibni contesting for power from the onset of their reigns"," ","  4th year - I.e. the 4th Sacred Calendar Year he reigned"," "]
[null,null,{"$f":"C256","v":904},"",null,null,null,null,"Asa",null,"31st year - I.e. the 31st Sacred Calendar Year he reigned"," ",null,null,"Omri's accession year in Tirzah",null,"  5th year - I.e. the 5th Sacred Calendar Year he reigned"," ","1 Kings 16:22-23 \"But the people that followed Omri prevailed against the people that followed Tibni the son of Ginath: so Tibni died, and Omri reigned. In the thirty and first year of Asa king of Judah began Omri to reign over Israel, twelve years: six years reigned he in Tirzah...\" (KJV)."]
[null,null,null,{"$f":"IF(C254<>\"\",IF(C254=#REF!,\"\",IF(C254=D253,IF(C254=#REF!+1,C254-1,\"\"),C254-1)),\"\")","v":""},null,null,null,null,null,null,null," ",null,null,null,null,null," "]
[null,null,null,{"$f":"IF(C255<>\"\",IF(C255=#REF!,\"\",IF(C255=#REF!,IF(C255=#REF!+1,C255-1,\"\"),C255-1)),\"\")","v":""},null,null,null,null,null,null,null," ",null,null,null,null,null," "]
[{"$f":"A252+1","v":3019},null,{"$f":"C258+1","v":904},903,null,null,null,null,"Asa",null,"32nd year - I.e. the 32nd Sacred Calendar Year he reigned",{"$f":"L258-1","v":26},null,null,"Omri's accession year in Tirzah",null,"  5th year - I.e. the 5th Sacred Calendar Year he reigned"," ","1 Kings 16:22-23,25 \"But the people that followed Omri prevailed against the people that followed Tibni the son of Ginath: so Tibni died, and Omri reigned. In the thirty and first year of Asa king of Judah began Omri to reign over Israel, twelve years: six years reigned he in Tirzah... But Omri wrought evil in the eyes of the Lord, and did worse than all that were before him\" (KJV)."]
[null,null,{"$f":"C258","v":903},"",null,null,null,null,"Asa",null,"32nd year - I.e. the 32nd Sacred Calendar Year he reigned"," ",null,null,"Omri's 1st yr in Tirzah",null,"  6th year - I.e. the 6th Sacred Calendar Year he reigned"," "," "]
[{"$f":"A256+1","v":3020},null,903,902,null,null,null,null,"Asa",null,"33rd year - I.e. the 33rd Sacred Calendar Year he reigned",{"$f":"L260-1","v":27},null,null,"Omri's 1st yr in Tirzah",null,"  6th year - I.e. the 6th Sacred Calendar Year he reigned"," "]
[null,null,{"$f":"C260","v":902},"",null,null,null,null,"Asa",null,"33rd year - I.e. the 33rd Sacred Calendar Year he reigned"," ",null,null,"Omri's 2nd yr in Tirzah",null,"  7th year - I.e. the 7th Sacred Calendar Year he reigned"," "," "]
[{"$f":"A258+1","v":3021},null,902,901,null,null,null,null,"Asa",null,"34th year - I.e. the 34th Sacred Calendar Year he reigned",{"$f":"L262-1","v":28},null,null,"Omri's 2nd yr in Tirzah",null,"  7th year - I.e. the 7th Sacred Calendar Year he reigned"," "]
[null,null,{"$f":"C262","v":901},"",null,null,null,null,"Asa",null,"34th year - I.e. the 34th Sacred Calendar Year he reigned"," ",null,null,"Omri's 3rd yr in Tirzah",null,"  8th year - I.e. the 8th Sacred Calendar Year he reigned"," "," "]
[{"$f":"A260+1","v":3022},null,901,900,null,null,null,null,"Asa",null,"35th year - I.e. the 35th Sacred Calendar Year he reigned",{"$f":"L264-1","v":29},null,null,"Omri's 3rd yr in Tirzah",null,"  8th year - I.e. the 8th Sacred Calendar Year he reigned"," "]
[null,null,{"$f":"C264","v":900},"",null,null,null,null,"Asa",null,"35th year - I.e. the 35th Sacred Calendar Year he reigned"," ",null,null,"Omri's 4th yr in Tirzah",null,"  9th year - I.e. the 9th Sacred Calendar Year he reigned"," "," "]
[{"$f":"A262+1","v":3023},null,900,{"$f":"IF(C264<>\"\",IF(C264=C265,\"\",IF(C264=D263,IF(C264=C265+1,C264-1,\"\"),C264-1)),\"\")","v":899},null,null,null,null,"Asa",null,"36th year - I.e. the 36th Sacred Calendar Year he reigned",{"$f":"L266-1","v":30},null,null,"Omri's 4th yr in Tirzah",null,"  9th year - I.e. the 9th Sacred Calendar Year he reigned"," "]
[null,null,{"$f":"C266","v":899},"",null,null,null,null,"Asa",null,"36th year - I.e. the 36th Sacred Calendar Year he reigned"," ",null,null,"Omri's 5th yr in Tirzah",null,"10th year - I.e. the 10th Sacred Calendar Year he reigned"," "," "]
[{"$f":"A264+1","v":3024},null,{"$f":"C268+1","v":899},898,null,null,null,null,"Asa",null,"37th year - I.e. the 37th Sacred Calendar Year he reigned",{"$f":"L268-1","v":31},null,null,"Omri's 5th yr in Tirzah",null,"10th year - I.e. the 10th Sacred Calendar Year he reigned"," "]
[null,null,{"$f":"C268","v":898},"",null,null,null,null,"Asa",null,"37th year - I.e. the 37th Sacred Calendar Year he reigned"," ",null,null,"Omri's 6th yr in Tirzah",null,"11th year - I.e. the 11th Sacred Calendar Year he reigned"," "]
[{"$f":"A266+1","v":3025},null,{"$f":"C272+1","v":898},897,null,null,null,null,"Asa",null,"38th year - I.e. the 38th Sacred Calendar Year he reigned",32,null,null,"(Omri's 11th &) Ahab's accession year ( - apparently there was a coregency between Omri and his son Ahab.)",null,"11th year - I.e. the 11th Sacred Calendar Year he reigned"," "]
[null,null,{"$f":"C272","v":897},"",null,null,null,null,"Asa",null,"38th year - I.e. the 38th Sacred Calendar Year he reigned"," ",null,null,"(Omri's 12th &) Ahab's 1st year ( - apparently there was a coregency between Omri and his son Ahab.)",null,"12th year - I.e. the 12th Sacred Calendar Year he reigned"," ","Omri reigned 12 years [into his 12th year of reign]. 1 Kings 16:23.  He died and was succeeded by his own son in the 38th year of Asa, and there may be a period of coregency between father and son as indicated by the words \"And his son Ahab reigned in his place\" (more precisely translated \"And reigned Ahab, his son, under him\". Compare Strong's #8482). 1 Kings 16:23, 28. (Compare the similar situation, a coregency of tree years plus, when Ahab transferred his throne to his own son Ahaziah. See note below!)"]
[null,null,null,{"$f":"IF(C270<>\"\",IF(C270=C271,\"\",IF(C270=#REF!,IF(C270=C271+1,C270-1,\"\"),C270-1)),\"\")","v":""},null,null,null,null,null,null,null,null,null,null,null,null,null," "]
[null,null,null,"",null,null,null,null,null,null,null," ",null,null,null,"t",null," "]
[{"$f":"A268+1","v":3026},null,{"$f":"C274+1","v":897},896,null,null,null,null,"Asa",null,"39th year - I.e. the 39th Sacred Calendar Year he reigned",{"$f":"L274-1","v":33},null,null,"Ahab",null,"  1st year - I.e. the 1st Sacred Calendar Year he reigned"," ","1 Kings 16:29 \"And in the thirty and eighth year of Asa king of Judah began Ahab the son of Omri to reign over Israel: and Ahab the son of Omri reigned over Israel in Samaria twenty and two years\" (KJV)."]
[null,null,{"$f":"C274","v":896},"",null,null,null,null,"Asa",null,"39th year - I.e. the 39th Sacred Calendar Year he reigned"," ",null,null,"Ahab",null,"  2nd year - I.e. the 2nd Sacred Calendar Year he reigned"," "," "]
[{"$f":"A272+1","v":3027},null,{"$f":"C276+1","v":896},895,null,null,null,null,"Asa",null,"40th year - I.e. the 40th Sacred Calendar Year he reigned",{"$f":"L276-1","v":34},null,null,"Ahab",null,"  2nd year - I.e. the 2nd Sacred Calendar Year he reigned"," "]
[null,null,{"$f":"C276","v":895},"",null,null,null,null,"Asa",null,"40th year - I.e. the 40th Sacred Calendar Year he reigned"," ",null,null,"Ahab",null,"  3rd year - I.e. the 3rd Sacred Calendar Year he reigned"," "]
[{"$f":"A274+1","v":3028},null,{"$f":"C280+1","v":895},894,null,null,null,null,"Asa",null,"41st year - I.e. the 41st Sacred Calendar Year he reigned",35,null,null,"Ahab",null,"  3rd year - I.e. the 3rd Sacred Calendar Year he reigned"," "]
[null,null,{"$f":"C280","v":894},"",null,null,null,null,"Asa & Jehoshaphat's accession year",null,"41st year - I.e. the 41st Sacred Calendar Year he reigned"," ",null,null,"Ahab",null,"  4th year - I.e. the 4th Sacred Calendar Year he reigned"," ","Asa died in his 41st year of reign, yet he is recorded as having ruled a full 41 years: \"And Asa slept with his fathers, and died in the one and fortieth year of his reign\" 2 Chron. 16:13 (KJV). \"And forty and one years reigned he [Asa] in Jerusalem\" 1 Kings 15:10 (KJV)."]
[null,null,null,"",null,null,null,null,null,null,null," ",null,null,null,null,null," "]
[null,null,null,"",null,null,null,null,null,null,null," ",null,null,null,null,null," "]
[{"$f":"A276+1","v":3029},null,{"$f":"C282+1","v":894},893,null,null,null,null,"Jehoshaphat","t","  1st year - I.e. the 1st Sacred Calendar Year he reigned",35,null,null,"Ahab",null,"  4th year - I.e. the 4th Sacred Calendar Year he reigned"," ","1 Kings 22:41-43 \"And Jehoshaphat the son of Asa began to reign over Judah in the fourth year of Ahab king of Israel. Jehoshaphat was thirty and five years old when he began to reign; and he reigned twenty and five years in Jerusalem… And he walked in all the ways of Asa his father; he turned not aside from it, doing that which was right in the eyes of the Lord: nevertheless the high places were not taken away; for the people offered and burnt incense yet in the high places\" (KJV)."]
[null,null,{"$f":"C282","v":893},"",null,null,null,null,"Jehoshaphat",null,"  1st year - I.e. the 1st Sacred Calendar Year he reigned"," ",null,null,"Ahab",null,"  5th year - I.e. the 5th Sacred Calendar Year he reigned"," "," "]
[{"$f":"A280+1","v":3030},null,{"$f":"C284+1","v":893},892,null,null,null,null,"Jehoshaphat",null,"  2nd year - I.e. the 2nd Sacred Calendar Year he reigned",{"$f":"L284-1","v":15},null,null,"Ahab",null,"  5th year - I.e. the 5th Sacred Calendar Year he reigned"," "]
[null,null,{"$f":"C284","v":892},"",null,null,null,null,"Jehoshaphat",null,"  2nd year - I.e. the 2nd Sacred Calendar Year he reigned"," ",null,null,"Ahab",null,"  6th year - I.e. the 6th Sacred Calendar Year he reigned"," "," "]
[{"$f":"A282+1","v":3031},null,{"$f":"C286+1","v":892},891,null,null,null,null,"Jehoshaphat",null,"  3rd year - I.e. the 3rd Sacred Calendar Year he reigned",{"$f":"L286-1","v":16},null,null,"Ahab",null,"  6th year - I.e. the 6th Sacred Calendar Year he reigned"," "]
[null,null,{"$f":"C286","v":891},"",null,null,null,null,"Jehoshaphat",null,"  3rd year - I.e. the 3rd Sacred Calendar Year he reigned"," ",null,null,"Ahab",null,"  7th year - I.e. the 7th Sacred Calendar Year he reigned"," "," "]
[{"$f":"A284+1","v":3032},null,{"$f":"C288+1","v":891},890,null,null,"Jehoshaphat, Ahab, & the heretical pharaoh [Akhnaton?]: \"But in Hebrew history, it was shown, the discussed period comprises the time from the Exodus from Egypt to the kings Jehoshaphat in Jerusalem and Ahab in Samaria: the heretical pharaoh was their contemporary and they exchanged letters with him which are still in existence.\"  (Peoples of the Sea, p. 191:2.)",null,"Jehoshaphat",null,"  4th year - I.e. the 4th Sacred Calendar Year he reigned",{"$f":"L288-1","v":17},null,null,"Ahab",null,"  7th year - I.e. the 7th Sacred Calendar Year he reigned"," "]
[null,null,{"$f":"C288","v":890},"",null,null,null,null,"Jehoshaphat",null,"  4th year - I.e. the 4th Sacred Calendar Year he reigned"," ",null,null,"Ahab",null,"  8th year - I.e. the 8th Sacred Calendar Year he reigned"," "," "]
[{"$f":"A286+1","v":3033},null,{"$f":"C290+1","v":890},889,null,null,null,null,"Jehoshaphat",null,"  5th year - I.e. the 5th Sacred Calendar Year he reigned",{"$f":"L290-1","v":18},null,null,"Ahab",null,"  8th year - I.e. the 8th Sacred Calendar Year he reigned"," "]
[null,null,{"$f":"C290","v":889},"",null,null,null,null,"Jehoshaphat",null,"  5th year - I.e. the 5th Sacred Calendar Year he reigned"," ",null,null,"Ahab",null,"  9th year - I.e. the 9th Sacred Calendar Year he reigned"," "," "]
[{"$f":"A288+1","v":3034},null,{"$f":"C292+1","v":889},888,null,null,null,null,"Jehoshaphat",null,"  6th year - I.e. the 6th Sacred Calendar Year he reigned",{"$f":"L292-1","v":19},null,null,"Ahab",null,"  9th year - I.e. the 9th Sacred Calendar Year he reigned"," "]
[null,null,{"$f":"C292","v":888},"",null,null,{"$f":"F116","v":"-870 to -840; Amenhotep III=Nimmuria, Amenhotep IV=Naphuria=Akhnaton and his son in law Tutankhamen; The El-Amarna Letters: \"…the letters of el-Amarna, sent and received by Amenhotep III and Akhnaton, were written…in -870 to -840, at the time of King Jehoshaphat in Jerusalem.\"  (Ages in Chaos, p. 229:2.)  \"The city of Akhet-Aton was built by the schismatic king Amenhotep IV... who changed his name to Akhnaton. But shortly after his reign the capital city of Akhet-Aton was abandoned, his religion was stamped as heresy, and his images were mutilated. His son-in-law, the young pharaoh Tutankhamen, reigned briefly in the old capital, Thebes. Then the dynasty became extinct. Akhet-Aton had a short history of only about twenty-five years before it was deserted by its inhabitants.  The time of the letters can be established with some precision. they were addressed to Nimmuria (Ni-ib-mu'-wa-ri-ia, Mi-im-mu-ri-ia, Im-mu-ri-ia, Nam-huria), who was Amenhotep III, and to Naphuria (Na-ap-hu-ru-ri-ia, Nam-hur-ia), who was Amenhotep  IV (Akhnaton)...\" (Ages in Chaos, p.224:3-4. cf. p. 233:5-234:1) \"...identification...Abdi-Hiba with Jehoshaphat, Rib-Addi with Ahab, and Ben-Hadad with Abdi-Ashirta...\"  (Ages in Chaos, p.234:4.) \"Hazael, the king of Damascus, is called Aziry, Azira, or Azaru in the el-Amarna letters. The king of Moab, Mesha, is called... Mesh in the letters.\"  (Ages in Chaos, p.235:3.)"},null,"Jehoshaphat",null,"  6th year - I.e. the 6th Sacred Calendar Year he reigned"," ",null,null,"Ahab",null,"10th year - I.e. the 10th Sacred Calendar Year he reigned"," "," "]
[{"$f":"A290+1","v":3035},null,{"$f":"C294+1","v":888},887,null,null,null,null,"Jehoshaphat",null,"  7th year - I.e. the 7th Sacred Calendar Year he reigned",{"$f":"L294-1","v":20},null,null,"Ahab",null,"10th year - I.e. the 10th Sacred Calendar Year he reigned"," "]
[null,null,{"$f":"C294","v":887},"",null,null,null,null,"Jehoshaphat",null,"  7th year - I.e. the 7th Sacred Calendar Year he reigned"," ",null,null,"Ahab",null,"11th year - I.e. the 11th Sacred Calendar Year he reigned"," "," "]
[{"$f":"A292+1","v":3036},null,{"$f":"C296+1","v":887},886,null,null,null,null,"Jehoshaphat",null,"  8th year - I.e. the 8th Sacred Calendar Year he reigned",{"$f":"L296-1","v":21},null,null,"Ahab",null,"11th year - I.e. the 11th Sacred Calendar Year he reigned"," "]
[null,null,{"$f":"C296","v":886},"",null,null,null,null,"Jehoshaphat",null,"  8th year - I.e. the 8th Sacred Calendar Year he reigned"," ",null,null,"Ahab",null,"12th year - I.e. the 12th Sacred Calendar Year he reigned"," "," "]
[{"$f":"A294+1","v":3037},null,{"$f":"C298+1","v":886},885,null,null,null,null,"Jehoshaphat",null,"  9th year - I.e. the 9th Sacred Calendar Year he reigned",{"$f":"L298-1","v":22},null,null,"Ahab",null,"12th year - I.e. the 12th Sacred Calendar Year he reigned"," "]
[null,null,{"$f":"C298","v":885},"",null,null,null,null,"Jehoshaphat",null,"  9th year - I.e. the 9th Sacred Calendar Year he reigned"," ",null,null,"Ahab",null,"13th year - I.e. the 13th Sacred Calendar Year he reigned"," "," "]
[{"$f":"A296+1","v":3038},null,{"$f":"C300+1","v":885},884,null,null,null,null,"Jehoshaphat",null,"10th year - I.e. the 10th Sacred Calendar Year he reigned",{"$f":"L300-1","v":23},null,null,"Ahab",null,"13th year - I.e. the 13th Sacred Calendar Year he reigned"," "]
[null,null,{"$f":"C300","v":884},"",null,null,null,null,"Jehoshaphat",null,"10th year - I.e. the 10th Sacred Calendar Year he reigned"," ",null,null,"Ahab",null,"14th year - I.e. the 14th Sacred Calendar Year he reigned"," "," "]
[{"$f":"A298+1","v":3039},null,{"$f":"C302+1","v":884},883,null,null,null,null,"Jehoshaphat",null,"11th year - I.e. the 11th Sacred Calendar Year he reigned",{"$f":"L302-1","v":24},null,null,"Ahab",null,"14th year - I.e. the 14th Sacred Calendar Year he reigned"," "]
[null,null,{"$f":"C302","v":883},"",null,null,null,null,"Jehoshaphat",null,"11th year - I.e. the 11th Sacred Calendar Year he reigned"," ",null,null,"Ahab",null,"15th year - I.e. the 15th Sacred Calendar Year he reigned"," "," "]
[{"$f":"A300+1","v":3040},null,{"$f":"C304+1","v":883},882,null,"1st Olympiad started July 1 779 BCE going through June 30, 778 BCE per mine and Conte's calculations, cf. \" XIII. The two beginnings of Herod’s Temple and the beginning of the “forty and six years” in John 2:20:\" under the paragraph starting \"But the 184th Olympiad is concurrent with July 1, 47 BCE through June, 46 BCE...\" in AdditionalDatedNTEventsComprehensive.htm. However, notice this quote from The Chronology of Ezra Seven by Siegfrid Horn, p. 8: \"Thus the dating of the Olympic games was important to all, and eventually the practice arose of dating an event in a certain year of a certain Olympiad. It should be noted that the 1st year of the 1st Olympiad is 776/775 BC, from midsummer to midsummer, [14] since, traditionally, the first Olympic games were held in the summer of 776 BC. The fact that this date is only traditional [15] does not impair the usefulness of the chronological scale any more than the error of a few years in the actual birth date of Christ affects the value of the Christian era for dating purposes.\"",null,null,"Jehoshaphat",null,"12th year - I.e. the 12th Sacred Calendar Year he reigned",{"$f":"L304-1","v":25},null,null,"Ahab",null,"15th year - I.e. the 15th Sacred Calendar Year he reigned"," "]
[null,null,{"$f":"C304","v":882},"",null,null,null,null,"Jehoshaphat",null,"12th year - I.e. the 12th Sacred Calendar Year he reigned"," ",null,null,"Ahab",null,"16th year - I.e. the 16th Sacred Calendar Year he reigned"," "," "]
[{"$f":"A302+1","v":3041},null,{"$f":"C306+1","v":882},881,null,null,null,null,"Jehoshaphat",null,"13th year - I.e. the 13th Sacred Calendar Year he reigned",{"$f":"L306-1","v":26},null,null,"Ahab",null,"16th year - I.e. the 16th Sacred Calendar Year he reigned"," "]
[null,null,{"$f":"C306","v":881},"",null,null,null,null,"Jehoshaphat",null,"13th year - I.e. the 13th Sacred Calendar Year he reigned"," ",null,null,"Ahab",null,"17th year - I.e. the 17th Sacred Calendar Year he reigned"," "," "]
[{"$f":"A304+1","v":3042},null,{"$f":"C308+1","v":881},880,null,null,null,null,"Jehoshaphat",null,"14th year - I.e. the 14th Sacred Calendar Year he reigned",{"$f":"L308-1","v":27},null,null,"Ahab",null,"17th year - I.e. the 17th Sacred Calendar Year he reigned"," "]
[null,null,{"$f":"C308","v":880},"",null,null,null,null,"Jehoshaphat",null,"14th year - I.e. the 14th Sacred Calendar Year he reigned"," ",null,null,"Ahab",null,"18th year - I.e. the 18th Sacred Calendar Year he reigned"," "," "]
[{"$f":"A306+1","v":3043},null,{"$f":"C310+1","v":880},879,null,"-776 & -747: \"But after -776, at fifteen-year intervals, more disruptions of the celestial order took place which necessitated additional calendar reforms. New calendars were introduced whose starting points were variously marked by: the beginning of the Olympic games (-776) [July 1 779 BCE - June 30, 778 BCE per mine and Conte's calculations, cf. \" XIII. The two beginnings of Herod’s Temple and the beginning of the “forty and six years” in John 2:20:\" under the paragraph starting \"But the 184th Olympiad is concurrent with July 1, 47 BCE through June, 46 BCE...\" in AdditionalDatedNTEventsComprehensive.htm], the Foundation of Rome (-747), the Era of Nabonassar (-747), or the time of raash (commotion) in the days of King Uzziah (-747). Also in Egypt, under Libyan rule (the eighth century), natural events caused the inauguration of a new calendar (W in C, pp. 210-211, 239, 335). (Velikovsky, Immanuel, Calendrical Changes and Sothic Chronology, Kronos - A Journal of Interdisciplinary Synthesis, Vol. VI:1 (1980), p.74:4.) \" \n     \"There exists a direct statement found as a gloss on a manuscript of Timaeus that a calendar of a solar year of three hundred and sixty days was introduced by the Hyksos after the fall of the Middle Kingdom; the calendar year of the Middle Kingdom apparently had fewer days\"... footnote: \"The length of the year during the Middle Kingdom is not known from any contemporaneous document\" (W in C, p. 123); the Palermo stone, representing the length of the year during the Old Kingdom of Egypt, has a year of 320 days...\" (Idem. p.74:2.)\n     \n     \"In the reign of Osorkon II of the Libyan Dynasty in Egypt, in the third year, the first month of the second season, on the twelfth day, according to a damaged inscription,\" the flood came on, in this whole land . . .  this land was in its power like the sea; there was no dyke of the people to withstand its fury. All the people were like birds upon it . . .  the tempest . . .  suspended . . .  like the heavens. All the temples of Thebes wer like marshes.[Footnote 5: Breasted, Records of Egypt, IV Sec. 743. Cf. J. Vandier, La Famine dans l'Egypte ancienne (1936), p. 123. \"The water reduced the land to the same state as when it was still covered with the primeval water of creation.\"]\" (Worlds in Collision p.209:2.)\n     \n     \"In -747 a new calendar was introduced in the Middle East, and that year is known as \"the beginning of the era of Nabonassar.\" It is asserted that some astronomical event gave birth to this new calendar, but the nature of teh event is not known. The beginning of the era of Nabonassar, otherwise an obscure Babylonian king, was an astronomical date used as late as the second Christian century by the great mathematician and astronomer of the Alexandrian school, Ptolemy, and also by other scholars. It was employed as a point of departure of ancient astronomical tables.\n     \"This was not a political or religious era. . . .  Farther back there was no certainty in regard to the calculation of time. It is from that moment that the records of eclipses begin which Ptolemy used.\" [Footnote 1: F. Cumont, Astrology and Religion among the Greeks and Romans (1912), pp.8-9. To be correct, the earliest eclipse Ptolemy calculated is dated March 21, -721.] What ws the astronomical event that closed the previous era nd gave birth to a new era?\n     \"According to retrospective calculations, there was no eclipse of the sun in the region of Assyro/Babylonia between the years -762 and -701,[Footnote 2: T. von Oppolzer, Canon der Finsternisse (1887).] if the earth has revolved and rotated uniformly since then, which is taken for granted.\n     \"Uzziah reigned from about -789 to about -740.[Footnote 3: K. Marti, \"Chronology,\" Encyclopaedia Biblica, ed. by Cheyne and Black.] The last few years of his reign, beginning with the day of the \"commotion,\" he spent in seclusion, having been pronounced a leper. It was apparently the upheaval in the days of Uzziah that separated the two ages. Time was counted \"from the commotion in the days of Uzziah.\" [Footnote 4: Cf. Amos 1:1; Zechariah 14:5.]\n     \"If this conclusion is correct, the upheaval took place in -747. The computation, according to which the era started on the twenty-sixth day of February, must be re-examined in the light of the fact that further cosmic disturbances occurred during the decades that followed - 747. It is worth noting, however, that the ancients inhabitants of Mexico celebrated their New Year on the day which corresponds, in the Julian calendar, to the same date: \"The first day of their yeere was the sixe and twentie day of February.\"\n     \"The chronographer and Byzantine monk, Georgius Syncellus, one of the chief sources of ancient chronology, synchronized the fortyeighth year of Uzziah and the first year of the first Olympiad.[Footnoge 6: Georgius Syncellus (ed. G. Dindorf, 1829), II, 203.] But according to modern calculations, the first year of the first Olympiad was -776: the sun was obscured. If the occurrence of -776 was of the same nature as that of -747, then Amos' prophecy was a prognostication based on an earlier experience.\" (Worlds in Collision, p. 210:3-211:3.)\n     \n     \"The catastrophe came on the day on which King Ahaz was buried. There was a \"commotion\": the terrestrial axis shifted or was tilted, and the sunset was hastened by several hours. This cosmic disturbance is described in the Talmud, in the Midrashim, and referred to by the Fathers of the Church It is related also in the records and told in the traditions of many peoples. It appears that a heavenly body passed very close to the earth, moving, as it seems, in the same direction as the earth on its nocturnal side.\" (Worlds in Collision, p. 216:2.)\n     \n     \"The founding of Rome took place close in time to the great perturbations of nature in the days of Amos and Isaiah. According to the calculation of Fabius Pictor, Rome was founded in the latter half of the first year of the eight Olympiak, or the year -747; other Roman authorities differ by a few years only. [Footnote 2: Polybius dated the foundation of Rome in the second year of the seventh Olympiad (-750); Porcius Cato, in the first year of the seventh Olympiad (-751); Verrius Flaccus, in the fourth year of the sixth Olympiad (-752); Terentius Varro, in the third year of the sixth Olympiad (-753); Censorinus followed Varro.] The year -747 is the beginning of an astronomical era in the Middle East; and the \"commotion of Uzziah\" took place, apparently, in the same year.\n     \"According to a persistent Roman tradition, the conception of Romulus by his mother, the foundation of Rome, and the death of Romulus occurred in years of great commotions accompanied by celestial phenomena and disturbances in solar movement. These changes were connected in some way with the planet Mars. Plutarch wrote: \"To the surname of Quirinus bestowed on Romulus some give the meaning of Mars.\" The legend says that Romulus was conceived in the first year of the second Olympiad (-772) when the sun was totally eclipsed. According to Latin historians, on the very day of Rome's foundation, the sun was disrupted in its movement and the world was darkened. In Romulus' time \"a plague fell upon the land, bringing sudden death without previous sickness,\" and \"a rain of blood\" and other calamities. Earthquakes convulsed the earth for a long period. Jewish tradition knows that \"the first settlers of Rome found that the huts collapsed as soon as built.\"\n     \"The death of Romulus occurred when, according to Plutarch, suddenly strange and unaccountable disorders with incredible changes filled the air; the light of the sun failed, and night came down upon them, not with peace and quiet, but with awful peals of thunder and furious blasts,\" and amidst this storm Romulus disappeared.\n     \"Ovid's description of the phenomena on the day of Romulus' death is this: \"Both the poles shook, and Atlas shifted the burden of the sky. . . .  The sun vanished and rising clouds obscured the heaven . . .  the sky was riven by shooting flames. The people fled and the king [Romulus] upon his father's [Mars'] steeds soared to the stars.\" \" (Worlds in Collision, p. 239:1-240:1.)\n     \n     \"The year of the second campaign of Sennacherib against Palestine is established by modern research as -687. The Talmud helps to set the time of the year: it was the night of the feast of spring, Passover. Chinese sources give teh exact date, midnight of the 23rd of March, -687, as the date of a great cosmic activity.\" (Worlds in Collision, p. 240:4.)\n     \n     \"The disturbance in the movement of the sun a few hours before the Assyrian host perished occurred on the first day of Passover...\" (Worlds in Collision, p. 241:3.)\n     \n     \"It is also a conspicuous fact that the name of Nergal became very common as a component of personal names in the seventh and sixth centuries. Two generals, both by the name of Nergalsharezer, were among Nebuchadnezzar's marshals;[Footnote 5: Jeremiah 39:3] a king by the name of Nergilissar ruled in Babylon. Priests, warriors, traders in cattle, criminals bearing the name of Nergalsharezer, are familiar figures in the documents of the seventh century.\n     \"In the eighth century in Babylonia, the planet Mars was called \"the unpredictable planet.\" [Footnote 7: Schaumberger, in Kugler, Sternkunde und Sterndienst in Babel, 3rd supp.k p. 307.]\n     \"Historical inscriptions of the eighth century speak of the oppositions of the star Mars (Nergal). These together with conjunctions were carefully watched. \"The movements of Mars were extremely important in Babylonian astrology - its rise and setting, its disappearance and return . . .  its position in relation to the equator, the change in its illuminating power, its relation to Venus, Jupiter nad Mercury.\" [Footnote 8: Bezold, in Boll's Sternglaube und Sterndeutung, p. 6.] In India, also, \"the various phases of the retrograde motion of the planets and especially of Mars seem to have been objects of great attention.\" \" (Worlds in Collision, p. 242:4-243:1.)\n     \n     \"But we ask for a direct statement that the planet Mars-Nergal was the immediate cause of the cataclysms in the eighth and seventh centuries, when the world, in the language of Isaiah, was \"moved exceedingly\" and \"became removed from its place.\" This very action is ascribed to the planet Mars-Nergal: \"The heaven he makes dark, he moves the Earth off its hinges.\" [Footnote 16: Böllenrucher, Gebete und Hymnen an Nergal, p. 9.] And again: \"Nergal . . . .  on high stills the heavens . . .  causes the earth to shudder.\"[Footnote 17: Langdon, Sumerian and Babylonian Psalms, p. 79.] \" (Worlds in Collision, p. 243:3.)",null,null,"Jehoshaphat",null,"15th year - I.e. the 15th Sacred Calendar Year he reigned",{"$f":"L310-1","v":28},null,null,"Ahab",null,"18th year - I.e. the 18th Sacred Calendar Year he reigned"," "]
[null,null,{"$f":"C310","v":879},"",null,null,null,null,"Jehoshaphat",null,"15th year - I.e. the 15th Sacred Calendar Year he reigned"," ",null,null,"Ahab",null,"19th year - I.e. the 19th Sacred Calendar Year he reigned"," "," "]
[{"$f":"A308+1","v":3044},null,{"$f":"C312+1","v":879},878,null,null,null,null,"Jehoshaphat",null,"16th year - I.e. the 16th Sacred Calendar Year he reigned",{"$f":"L312-1","v":29},null,null,"Ahab",null,"19th year - I.e. the 19th Sacred Calendar Year he reigned"," "]
[null,null,{"$f":"C312","v":878},"",null,null,null,null,"Jehoshaphat",null,"16th year - I.e. the 16th Sacred Calendar Year he reigned"," ",null,null,"Ahab",null,"20th year - I.e. the 20th Sacred Calendar Year he reigned"," ","The 1st of 3 years of no war; Nabot killed (?); Elijah prophesies against Ahab and Jezebel: \"And they continued three years without war between Syria and Israel\" 1 Kings 22:1 (KJV). This seems to be the 1st of these 3 years, and may possibly be the year when Nabot was stoned to death on the jealous order of Jezebel and Ahab in order to take possession of Nabot's vineyard (1 Kings 21). Cf. note at end of Ahab's reign below."]
[{"$f":"A310+1","v":3045},null,{"$f":"C316+1","v":878},877,null,null,null,null,"Jehoshaphat",null,"17th year - I.e. the 17th Sacred Calendar Year he reigned",{"$f":"L316-1","v":30},null,null,"Ahab",null,"20th year - I.e. the 20th Sacred Calendar Year he reigned"," ","\"And after this did Jehoshaphat king of Judah join himself with Ahaziah king of Israel, who did very wickedly: And he joined himself with him to make ships to go to Tarshish: and they made the ships in Eziongeber…\" 2 Chron. 20:35-37 (KJV)."]
[null,null,null,"",null,null,null,null,null,null,null," ",null,null,null,null,null," "]
[null,null,null,"",null,null,null,null,null,null,null,null,null,null,null,null,null," "]
[null,null,{"$f":"C316","v":877},"",null,null,null,null,"Jehoshaphat's 17th & Jehoram's","t","Accession year"," ",null,null,"Ahab's 21st & Ahaziah's","t","Accession year"," ","\"So Ahab slept with his fathers; and Ahaziah his son reigned in his stead\" 1 Kings 22:40 (KJV).  \"Ahaziah the son of Ahab began to reign over Israel in Samaria the seventeenth year of Jehoshaphat king of Judah, and reigned two years ['shanatajim'] over Israel. And he did evil in the sight of the Lord, and walked in the way of his father, and in the way of his mother, and in the way of Jeroboam the son of Nebat, who made Israel to sin: For he served Baal, and worshipped him, and provoked to anger the Lord God of Israel, according to all that his father had done. 1 Kings 22:51-53.  (This is another excellent example of the mistranslations of the Hebrew word 'shatajim' as \"two years\" 1 Kings 22:51 rather than a translation indicating any time period larger than one year, or rather any time period outside of the two calendar years on either side of a Scriptural \"cut-off,\" i.e. on either side of the beginning of Tishrei 22. Compare also Gen. 11:10.) "]
[{"$f":"A312+1","v":3046},null,{"$f":"C320+1","v":877},876,null,null,null,null,"Jehoshaphat's 18th & Jehoram's",null,"  1st year - I.e. the 1st Sacred Calendar Year he reigned",{"$f":"L320-1","v":31},null,null,"Ahab's 21st & Ahaziah's",null,"Accession year"," ","Re Jehoram's 1st year: \"And Jehoram reigned in his stead in the second year of Jehoram the son of Jehoshaphat king of Judah; because he [Ahaziah] had no son\" 2 Kings 1:17 (KJV). Cf. notes at Jehoram's (Joram's) king of Israel 1st, and 5th, years below!"]
[null,null,{"$f":"C320","v":876},"",null,null,null,null,"Jehoshaphat's 18th & Jehoram's",null,"  1st year - I.e. the 1st Sacred Calendar Year he reigned"," ",null,null,"Ahab's 22nd, Ahaziah's 1st, & Joram's",null,"  1st year - I.e. the 1st Sacred Calendar Year he reigned"," ","Ahab reigned 22 years [i.e. into his 22nd year of reign.] \"And in the thirty and eighth year of Asa king of Judah began Ahab the son of Omri to reign over Israel: and Ahab the son of Omri reigned over Israel in Samaria twenty and two years\" 1 Kings 16:29 (KJV).  Thus, he died in the 18th year of Jehoshaphat (the Bible doesn't date Ahab's death in reference to Jehoshaphat's reign), being succeeded by his own son Ahaziah in the 17th year of Jehoshaphat (about 1 year prior to his own, Ahab's, death). Clearly then, there was a period, about 1 years, of coregency between father and son, as indicated by the words \"And his son Ahaziah reigned in his place\" (more precisely translated \"And reigned Ahaziah, his son, under him\". Compare Strong's ##8478-8480,&#8482). 1 Kings 22:40; 2 Kings 1:17.  (This text then, as many other texts below, is confirmation of a practice of coregency, which Ahab himself experienced when he took over from his own father Omri. See above!)  A comprehensive review of the usage of the Hebrew word 'tachat', i.e. Strong's #8478 etc., reveals that it is being used consistently for every king inaugurated in Israel and in Judah except 1. Saul, 2. Ish-Boshet, 3. Omri, 4. Jehu, 5. Attalia, and 6. Jehoash (Joash).  Thus I find little or no help from this word what regards 1. co-regency, or the lack of it, whether inside or outside of any given year or calendar,  2. lineal descent of the crown, or the lack of it, ONLY that it pertains to who became king where, after, or during, the rule of another king. NOTICE> The events of Ahab's death are recorded in 1 Kings 22, starting thus: \"And they continued three years without war between Syria and Israel. And it came to pass in the third year, that Jehoshaphat the king of Judah came down to the king of Israel...\" 1 Kings 22:1-2 (KJV). It appears that this year, i.e. the 3046th, is the first year following the first sabbath year following the 62nd Jubilee.  Thus \"the third year\" does not seem to pertain to anything but the absence of was as recorded in v. 1.  It may appear, however, that these three years followed upon Ahab's sin against Naboth as related in 1 Kings 21. If this is correct then the latter event occurred in Ahab's 20th year, i.e. the 3044th year after Creation.  NOTICE> This seems to be the 1st of the seven years of famine pronounced by Elisha in 2 Kings 8:1, \"Then spake Elisha unto the woman, whose son he had restored to life, saying, Arise, and go thou and thine household, and sojourn wheresoever thou canst sojourn: for the Lord hath called for a famine; and it shall also come upon the land seven years...\" (KJV).  THUS we may conclude that Elisha took over from Elijah, and thus likely also the taking of Eliah \"into heaven by a whirlwind\" 2 Kings 2:1 (KJV), some time during the three years of no war recorded in 1 Kings 22:1, i.e. between 3043 and 3046 completed years."]
[null,null,null,{"$f":"IF(C318<>\"\",IF(C318=#REF!,\"\",IF(C318=D317,IF(C318=#REF!+1,C318-1,\"\"),C318-1)),\"\")","v":""},null,null,null,null,null,null,null," ",null,null,null,null,null," "]
[null,null,null,{"$f":"IF(C319<>\"\",IF(C319=C320,\"\",IF(C319=#REF!,IF(C319=C320+1,C319-1,\"\"),C319-1)),\"\")","v":""},null,null,"\"Ahab or Jehoram: Two Versions of the Scriptures… \" (Ages in Chaos, p.255:6-262:4.) NOTICE: The lavender colored timeperiod is covered by this reference! Including more in the subsequent chapters of Ages of Chaos.",null,null,null,null," ",null,null,null,"t",null," ","These two texts are tricky but important: \"Now Jehoram the son of Ahab began to reign over Israel in Samaria the eighteenth year of Jehoshaphat king of Judah, and reigned twelve years. And he wrought evil in the sight of the Lord; but not like his father, and like his mother: for he put away the image of Baal that his father had made. Nevertheless he cleaved unto the sins of Jeroboam the son of Nebat, which made Israel to sin; he departed not therefrom\" 2 Kings 3:1 (KJV). \"So he [Ahaziah] died according to the word of the Lord which Elijah had spoken. And Jehoram reigned in his stead in the second year of Jehoram the son of Jehoshaphat king of Judah; because he [Ahaziah] had no son\" 2 Kings 1:17 (KJV).  NOTICE: Jehoram, the son of Jehoshaphat king of Judah, married a daughter of Ahab. He thus became a son-in-law, i.e. a 'son', of Ahab. Next he took over the throne after Ahaziah, son of Ahab king of Israel. Next he killed his brothers, the sons of Jehoshaphat. "]
[{"$f":"A316+1","v":3047},null,{"$f":"C322+1","v":876},875,null,null,null,null,"Jehoshaphat's 19th & Jehoram's",null,"  2nd year - I.e. the 2nd Sacred Calendar Year he reigned",{"$f":"L322-1","v":32},null,null,"Ahab's 22nd, Ahaziah's 1st, & Joram's",null,"Accession year"," ","When king Ahab died (2 Kings 3:5-6): Elisha & the 3 kings, Jehoram king of Israel, Jehoshaphat king of Judah, and the king of Edom defeats the king of Moab (2 Kings 3:5-27)."]
[null,null,{"$f":"C322","v":875},"",null,null,null,null,"Jehoshaphat's 19th & Jehoram's",null,"  2nd year - I.e. the 2nd Sacred Calendar Year he reigned"," ",null,null,"Jehoram (Joram)",null,"  1st year - I.e. the 1st Sacred Calendar Year he reigned"," "]
[{"$f":"A320+1","v":3048},null,{"$f":"C324+1","v":875},874,null,null,null,null,"Jehoshaphat's 20th & Jehoram's",null,"  3rd year - I.e. the 3rd Sacred Calendar Year he reigned",{"$f":"L324-1","v":33},null,null,"Jehoram (Joram)",null,"  1st year - I.e. the 1st Sacred Calendar Year he reigned"," "]
[null,null,{"$f":"C324","v":874},"",null,null,null,null,"Jehoshaphat's 20th & Jehoram's",null,"  3rd year - I.e. the 3rd Sacred Calendar Year he reigned"," ",null,null,"Jehoram (Joram)",null,"  2nd year - I.e. the 2nd Sacred Calendar Year he reigned"," "," "]
[{"$f":"A322+1","v":3049},null,{"$f":"C326+1","v":874},873,null,null,null,null,"Jehoshaphat's 21st & Jehoram's",null,"  4th year - I.e. the 4th Sacred Calendar Year he reigned",{"$f":"L326-1","v":34},null,null,"Jehoram (Joram)",null,"  2nd year - I.e. the 2nd Sacred Calendar Year he reigned"," "]
[null,null,{"$f":"C326","v":873},"",null,null,null,null,"Jehoshaphat's 21st & Jehoram's",null,"  4th year - I.e. the 4th Sacred Calendar Year he reigned"," ",null,null,"Jehoram (Joram)",null,"  3rd year - I.e. the 3rd Sacred Calendar Year he reigned"," "," "]
[{"$f":"A324+1","v":3050},null,{"$f":"C328+1","v":873},{"$f":"IF(C326<>\"\",IF(C326=C327,\"\",IF(C326=D325,IF(C326=C327+1,C326-1,\"\"),C326-1)),\"\")","v":872},null,null,null,null,"Jehoshaphat's 22nd & Jehoram's",null,"  5th year - I.e. the 5th Sacred Calendar Year he reigned",{"$f":"L328-1","v":35},null,null,"Jehoram (Joram)",null,"  3rd year - I.e. the 3rd Sacred Calendar Year he reigned"," "]
[null,null,{"$f":"C328","v":872},"",null,null,null,null,"Jehoshaphat's 22nd & Jehoram's",null,"  5th year - I.e. the 5th Sacred Calendar Year he reigned"," ",null,null,"Jehoram (Joram)",null,"  4th year - I.e. the 4th Sacred Calendar Year he reigned"," "]
[{"$f":"A326+1","v":3051},null,{"$f":"C332+1","v":872},{"$f":"IF(C328<>\"\",IF(C328=C331,\"\",IF(C328=D327,IF(C328=C331+1,C328-1,\"\"),C328-1)),\"\")","v":871},null,null,null,null,"Jehoshaphat's 23rdd & Jehoram's",null,"  6th year - I.e. the 6th Sacred Calendar Year he reigned",{"$f":"L332-1","v":36},null,null,"Jehoram (Joram)",null,"  4th year - I.e. the 4th Sacred Calendar Year he reigned"," "]
[]
[]
[null,null,{"$f":"C332","v":871},{"$f":"IF(C331<>\"\",IF(C331=C332,\"\",IF(C331=D328,IF(C331=C332+1,C331-1,\"\"),C331-1)),\"\")","v":""},null,null,null,null,"Jehoshaphat's 23rdd & Jehoram's",null,"  6th/accession year - I.e. the 6th/accession Sacred Calendar Year he reigned"," ",null,null,"Jehoram (Joram)",null,"  5th year - I.e. the 5th Sacred Calendar Year he reigned"," ","2 Kings 8:16-18. Very interesting text directly confirming the practice of coregency at that time.  The text is perhaps a little complicated in the Hebrew, but seems correctly translated in the KJV, \"And in the fifth year of Joram the son of Ahab king of Israel, Jehoshaphat being then king of Judah, Jehoram the son of Jehoshaphat king of Judah began to reign. Thirty and two years old was he when he began to reign; and he reigned eight years in Jerusalem. And he walked in the way of the kings of Israel, as did the house of Ahab: for the daughter of Ahab was his wife: and he did evil in the sight of the Lord\" 2 Kings 8:16-18 (KJV).  In 2 Chron. 21:1 we again find the expression \"And Jehoram his son reigned in his stead\", or as more precisely translated \"And reigned Jehoram, his son, under him\" 2 Chron. 21:1 (KJV).  \"And he had brethren... And their father gave them great gifts... but the kingdom gave he to Jehoram; because he was the firstborn. Now when Jehoram was risen up to the kingdom of his father, he... slew all his brethren... Jehoram was thirty and two years old when he began to reign, and he reigned eight years in Jerusalem. And he walked in the way of the kings of Israel, like as did the house of Ahab: for he had the daughter of Ahab to wife: and he wrought that which was evil in the eyes of the Lord\" 2 Chron. 21:2-6 (KJV). NOTICE> Jehoram king of Judah was in his own 2nd year of reign when Jehoram (Joram) king of Israel began to reign AND yet he, i.e. the same Jehoram king of Judah, is recorded as beginning his reign [over Jerusalem] in the 5th year of Jehoram (Joram) king of Israel.  Something fishy is going on here!!! Notice too, re Jehoram's age 32, that this pertains to his age when he began his reign over Israel. Cf. my notes at the end of Jehoram's reign below!"]
[{"$f":"A328+1","v":3052},null,{"$f":"C334+1","v":871},870,null,null,null,null,"Jehoshaphat's 24th & Jehoram's",null,"  7th/1st year - I.e. the 7th/1st Sacred Calendar Year he reigned",{"$f":"L334-1","v":37},null,null,"Jehoram (Joram)",null,"  5th year - I.e. the 5th Sacred Calendar Year he reigned"," "]
[null,null,{"$f":"C334","v":870},"",null,null,null,null,"Jehoshaphat's 24th & Jehoram's",null,"  7th/1st year - I.e. the 7th/1st Sacred Calendar Year he reigned"," ",null,null,"Jehoram (Joram)",null,"  6th year - I.e. the 6th Sacred Calendar Year he reigned"," "]
[{"$f":"A332+1","v":3053},null,{"$f":"C338+1","v":870},869,null,null,null,null,"Jehoshaphat's 25th & Jehoram's",null,"  8th/2nd year - I.e. the 8th/2nd Sacred Calendar Year he reigned",{"$f":"L338-1","v":38},null,null,"Jehoram (Joram)",null,"  6th year - I.e. the 6th Sacred Calendar Year he reigned"," "]
[null,null,{"$f":"C338","v":869},"",null,null,null,null,"Jehoshaphat's 25th & Jehoram's",null,"  8th/2nd year - I.e. the 8th/2nd Sacred Calendar Year he reigned"," ",null,null,"Jehoram (Joram)",null,"  7th year - I.e. the 7th Sacred Calendar Year he reigned"," ","1 Kings 22:41-43 \"And Jehoshaphat the son of Asa began to reign over Judah in the fourth year of Ahab king of Israel. Jehoshaphat was thirty and five years old when he began to reign; and he reigned twenty and five years in Jerusalem… And he walked in all the ways of Asa his father; he turned not aside from it, doing that which was right in the eyes of the Lord: nevertheless the high places were not taken away; for the people offered and burnt incense yet in the high places\" (KJV). 2 Chron. 20:31-33 is very similar to the text quoted."]
[]
[]
[{"$f":"A334+1","v":3054},null,{"$f":"C340+1","v":869},{"$f":"IF(C338<>\"\",IF(C338=C339,\"\",IF(C338=D335,IF(C338=C339+1,C338-1,\"\"),C338-1)),\"\")","v":868},null,null,null,null,"Jehoram's 3rd & also his",null,"  9th/3rd year - I.e. the 9th/3rd Sacred Calendar Year he reigned",{"$f":"L340-1","v":39},null,null,"Jehoram (Joram)",null,"  7th year - I.e. the 7th Sacred Calendar Year he reigned"," "]
[null,null,{"$f":"C340","v":868},"",null,null,null,null,"Jehoram's 3rd & also his",null,"  9th/3rd year - I.e. the 9th/3rd Sacred Calendar Year he reigned"," ",null,null,"Jehoram (Joram)",null,"  8th year - I.e. the 8th Sacred Calendar Year he reigned"," ","One Sabbath Cycle of famine/'rest for the land' imposed by the Lord, and an event ending at, and following, the end of a sabbath year? (The previous year completed 3052 years after Creation is the only Sabbath year during the reign of Jehoram king of Israel): \"Then Elisha spoke to the woman whose son he had restored to life, saying, \"Arise and go, you and your household, and stay wherever you can; for the Lord has called for a famine, and furthermore, it will come upon the land for seven years.\" So the woman arose and did according to the saying of the man of God, and she went with her household and dwelt in the land of the Philistines seven years. It came to pass, at the end of seven years, that the woman returned from the land of the Philistines; and she went to make an appeal to the king for her house and for her land…\" 2 Kings 8:1-3 (NKJV). Considering the scope and the emphasis of the above story, and the positioning of the story at the very end of a severe famine as recorded in 2 Kings 6:24-7:20, it seems that the exact time when this famine ended is being pin-pointed in time by the end of the one and only sabbath year within the reign of Jehoram (Joram) king of Israel, i.e. the very end of the Sacred Calendar year, i.e. the Sabbath year, which completes 3052 years after Creation.  Furthermore, considering the significance of this in the overall pattern of Sabbath cycles and required rest for the land it is reasonable (?) to consider this seven year period a \"wave offering\" of the \"first fruits\" of \"Sabbath rest for the land\", e.g. as recorded in the following texts: \"Their Redeemer is strong; the Lord of hosts is his name: he shall throughly plead their cause, that he may give rest to the land, and disquiet the inhabitants of Babylon\" Jer. 50:34 (KJV), \"These are they whom the Lord hath sent to walk to and fro through the earth. And they answered the angel of the Lord that stood among the myrtle trees, and said, We have walked to and fro through the earth, and, behold, all the earth sitteth still, and is at rest. Then the angel of the Lord answered and said, O Lord of hosts, how long wilt thou not have mercy on Jerusalem and on the cities of Judah, against which thou hast had indignation these threescore and ten years? And the Lord answered the angel that talked with me with good words and comfortable words. So the angel that communed with me said...\" Zech. 1:10-13 (KJV), and \"To fulfil the word of the Lord by the mouth of Jeremiah, until the land had enjoyed her sabbaths: for as long as she lay desolate she kept sabbath, to fulfil threescore and ten years\" 2 Chron. 36:21 (KJV).  Thus any later numbering of years must take also these seven years of famine and rest for the land into consideration while thus crediting the accumulated obligations.  This may thus have effects at either the beginning or the end of any such given time period, e.g. the 490 years ending with a decree to rebuild and restore Jerusalem, would begin not 490 years before, but 490-7=483 years prior considering this 7 year Sabbath Cycle of rest for the land/famine alone. Cf. notes at the beginning of king Saul's reign on this Sheet #7, and considerations on Sheet #8!  NOTICE ALSO> Elisha was given \"a double portion\" of that which was given by the Lord to Elijah.  May this pertain also to time periods?  There was a period of no rain, i.e. a famine, lasting 3 and 1/2 years recorded and often quoted during the life of Elijah! Consider it!"]
[{"$f":"A338+1","v":3055},null,{"$f":"C342+1","v":868},867,null,null,null,null,"Jehoram's 4th & also his",null,"10th/4th year - I.e. the 10th/4th Sacred Calendar Year he reigned",{"$f":"L342-1","v":40},null,null,"Jehoram (Joram)",null,"  8th year - I.e. the 8th Sacred Calendar Year he reigned"," "]
[null,null,{"$f":"C342","v":867},"",null,null,null,null,"Jehoram's 4th & also his",null,"10th/4th year - I.e. the 10th/4th Sacred Calendar Year he reigned"," ",null,null,"Jehoram (Joram)",null,"  9th year - I.e. the 9th Sacred Calendar Year he reigned"," "," "]
[{"$f":"A340+1","v":3056},null,{"$f":"C344+1","v":867},866,null,null,null,null,"Jehoram's 5th & also his",null,"11th/5th year - I.e. the 11th/5th Sacred Calendar Year he reigned",{"$f":"L344-1","v":41},null,null,"Jehoram (Joram)",null,"  9th year - I.e. the 9th Sacred Calendar Year he reigned"," "]
[null,null,{"$f":"C344","v":866},"",null,null,null,null,"Jehoram's 5th & also his",null,"11th/5th year - I.e. the 11th/5th Sacred Calendar Year he reigned"," ",null,null,"Jehoram (Joram)",null,"10th year - I.e. the 10th Sacred Calendar Year he reigned"," "," "]
[{"$f":"A342+1","v":3057},null,{"$f":"C346+1","v":866},865,null,null,null,null,"Jehoram's 6th & also his",null,"12th/6th year - I.e. the 12th/6th Sacred Calendar Year he reigned",{"$f":"L346-1","v":42},null,null,"Jehoram (Joram)",null,"10th year - I.e. the 10th Sacred Calendar Year he reigned"," "]
[null,null,{"$f":"C346","v":865},"",null,null,null,null,"Jehoram's 6th & also his",null,"12th/6th year - I.e. the 12th/6th Sacred Calendar Year he reigned"," ",null,null,"Jehoram (Joram)",null,"11th year - I.e. the 11th Sacred Calendar Year he reigned"," "]
[{"$f":"A344+1","v":3058},null,{"$f":"C348+1","v":865},864,null,null,null,null,"Ahaziah's accession year & Jehoram's",null,"13th/7th year - I.e. the 13th/7th Sacred Calendar Year he reigned",43,null,null,"Jehoram (Joram)",null,"11th year - I.e. the 11th Sacred Calendar Year he reigned"," "]
[null,null,{"$f":"C348","v":864},"",null,null,null,null,"Ahaziah's accession year & Jehoram's",null,"13th/7th year - I.e. the 13th/7th Sacred Calendar Year he reigned","22 was Ahaziah's age and 43 was Jehoram's age when Ahaziah began his reign in Judah in Jehoram's 11 year of reign over Israel.",null,null,"Jehoram (Joram)",null,"12th year - I.e. the 12th Sacred Calendar Year he reigned"," ","2 Chron. 21:5, 20 & 22:2,8-9; 2 Kings 3:1. Jehoram of Judah reigned 8 years in Judah (the last two years of which he suffered and eventually died from a painful \"bowel disease\" 2 Chron. 21:18-20), and Jehoram of Israel reigned into his twelfth year in Israel. As recorded in 2 Kings 9:21-28 it is clear that Ahaziah, King of Judah, and Jehoram, King of Israel, died in close conjunction one to the other, both being persued the same day, and killed, by the people who were with Jehu. Interestingly, there is an apparent discrepancy between the translation into English as found in 2 Kings 9:29 \"And in the eleventh year of Jehoram the son of Ahab, Ahaziah reigned over Judah\", and the translation as found in 2 Kings 8:25 \"In the twelfth year of Joram the son of Ahab king of Israel did Ahaziah the son of Jehoram king of Judah begin to reign\". However, it seems that 2 Kings 8:25-26 may be translated [equally, or even more, correct], \"In the twelfth year of Joram the son of Ahab, king of Israel, Ahaziah, the son of Jehoram king of Judah, reigned [or even 'completed his reign', i.e. as king of Israel (for a very short time period!)]. Two and twenty years old was Ahaziah when he reigned [or 'completed his reign']; and he reigned [no more than, OR about] one year in Jerusalem\". Please, compare the note in the cell immediately below!  Notice also that the apparent discrepancy re the age 22 (2 Kings 8:26) and the age 42 (2 Chron. 22:2) finds its resolution in that 22 was Ahaziah's age and 42 was Jehoram's age when Ahaziah began his reign in Judah in Jehoram's 11 year of reign over Israel. Cf. 2 Kings 8:17, where Jehoram's age is given as 32 when he began to reign [over Israel, not Judah as it may seem in KJV.]\n \n2Ki 8:26  בן־עשׂרים ושׁתים שׁנה אחזיהו במלכו ושׁנה אחת מלך בירושׁלם ושׁם אמו עתליהו בת־עמרי מלך ישׂראל׃  \n \n2Ki 8:25 KJV  In the twelfth year of Joram the son of Ahab king of Israel did Ahaziah the son of Jehoram king of Judah begin to reign. \n2Ki 8:26 KJV  Two and twenty years old was Ahaziah when he began to reign; and he reigned one year in Jerusalem. And his mother's name was Athaliah, the daughter of Omri king of Israel.  \n \n2Ki 8:25 TLT  In the twelfth year of Joram the son of Ahab king of Israel did Ahaziah the son of Jehoram king of Judah begin to reign [in Israel]. \n2Ki 8:26 TLT  Two and twenty years old was Ahaziah when he began to reign; and in his first year he reigned in Jerusalem. And his mother's name was Athaliah, the daughter of Omri king of Israel. \n\n\n"]
[{"$f":"A346+1","v":3059},null,{"$f":"C355+1","v":864},{"$f":"IF(C348<>\"\",IF(C348=C354,\"\",IF(C348=D347,IF(C348=C354+1,C348-1,\"\"),C348-1)),\"\")","v":863},null,null,null,null,"Ahaziah's 1st year & Jehoram's",null,"14th/8th year - I.e. the 14th/8th Sacred Calendar Year he reigned"," ",null,null,"Ahaziah's access yr & Jehoram's (Joram's)",null,"12th year - I.e. the 12th Sacred Calendar Year he reigned"," ","2 Kings 8:24-26; 9:29; 2 Chron. 21:16-22:2. Again, re Ahaziah, words consistent with co-regency by father and son. The Hebrew in 2 Kings 8:26 specifically uses the number 'one' in conjunction with the word 'year', i.e. in contradistinction to other texts where the dual/plural form for 'years' are used to indicate any time period above one year (Cf. e.g. Gen. 11:10). Thus it makes sense to interpret this text, 2 Kings 8:26, in a way such that a time period less than, or equal to, one year is the result. A question may still remain as to whether such time period could extend over part of two consecutive Calendar years, or if it is intended to indicate that such a time period is fully confined within a given Sacred Calendar year [Nisan through Adar] as used by the 'good' kings, OR within an Alternate Calender [Tishrei through Elul] being used by the 'evil' kings. Perhaps Israel and Judah used different Calendars?  Perhaps such practice was established as part of the traditions changed by Jeroboam when Israel and Judah split, after King Solomon's reign, as recorded in 1 Kings 12:26-30. Or perhaps one of the texts references a solar based Calendar and the other a lunar Calendar? Compare also the note in the cell immediately above.  Curiously, the age of Ahaziah differs between 2 Kings 8:26 and 2 Chron. 22:2. In the first text his age is given as 22 years old, while as 42 in the latter. Each letter in those sentences is otherwise identical to the other. The letters spelling out '20' and '40' are not similar looking. So what's the significance? Ahaziah was the youngest of several sons. Perhaps the number '40' represents his Sacred age in terms of the Covenant between his parents, while the lower number '20' represents his age in terms of a later parental covenant, his conception, or his delivery?  According to Strong's ## 270-274 the name Ahaziah means \"Jah has seized\", or \"Jah is holding possession\".  Perhaps this is a hint of time and age being a crucial instrument for determining in who's dominion one is being claimed? Who is the judge? Who makes the decision? Has the Creator given each of us the freedom of choice, or not? Of course, there are always consequences tied to each respective choice!  Remember the true battle field for the Great Controversy is our minds! \n \n2Ki 8:24  And Joram slept with his fathers, and was buried with his fathers in the city of David: and Ahaziah his son reigned in his stead. \n2Ki 8:25  In the twelfth year of Joram the son of Ahab king of Israel did Ahaziah the son of Jehoram king of Judah begin to reign. \n2Ki 8:26  Two and twenty years old was Ahaziah when he began to reign; and he reigned one year in Jerusalem. And his mother's name was Athaliah, the daughter of Omri king of Israel. \n \n2Ki 9:29  And in the eleventh year of Joram the son of Ahab began Ahaziah to reign over Judah.  \n\n2Ch 21:16  Moreover the LORD stirred up against Jehoram the spirit of the Philistines, and of the Arabians, that were near the Ethiopians: \n2Ch 21:17  And they came up into Judah, and brake into it, and carried away all the substance that was found in the king's house, and his sons also, and his wives; so that there was never a son left him, save Jehoahaz, the youngest of his sons. \n2Ch 21:18  And after all this the LORD smote him in his bowels with an incurable disease. \n2Ch 21:19  And it came to pass, that in process of time, after the end of two years [or two days /gs,] his bowels fell out by reason of his sickness: so he died of sore diseases. And his people made no burning for him, like the burning of his fathers. \n2Ch 21:20  Thirty and two years old was he when he began to reign, and he reigned in Jerusalem eight years, and departed without being desired. Howbeit they buried him in the city of David, but not in the sepulchres of the kings.  \n2Ch 22:1  And the inhabitants of Jerusalem made Ahaziah his youngest son king in his stead: for the band of men that came with the Arabians to the camp had slain all the eldest. So Ahaziah the son of Jehoram king of Judah reigned. \n2Ch 22:2  Forty and two years old was Ahaziah when he began to reign, and he reigned one year in Jerusalem. His mother's name also was Athaliah the daughter of Omri. \n"]
[]
[]
[{"$f":"A348","v":3059},null,{"$f":"C348","v":864},{"$f":"D348","v":863},null,null,null,null,"Jehoram's 8th, Athaliah's access yr & Ahaziah's",null,"1st year",null,null,null,"Ahaziah's",null,"Accession year"," "]
[]
[]
[null,null,{"$f":"C355","v":863},"",null,null,null,null,"Athaliah",null,"Accession year"," ",null,1,"Jehu",null,"Accession year"," ","2 Kings 9:21 through 2 Kings 10 & 2 Kings 11:1-3; 2 Chron. 22:10-12. \"And when Athaliah the mother of Ahaziah saw that her son was dead, she arose and destroyed all the seed royal. But Jehosheba, the daughter of king Joram, sister of Ahaziah, took Joash the son of Ahaziah, and stole him from among the king's sons which were slain; and they hid him, even him and his nurse, in the bedchamber from Athaliah, so that he was not slain. And he was with her hid in the house of the Lord six years. And Athaliah did reign over the land. And the seventh year Jehoiada sent and fetched... and shewed them the king's son. And the captains over the hundreds did according to all things that Jehoiada the priest commanded... And he brought forth the king's son, and put the crown upon him... and they made him king, and anointed him...\" 2 Kings 11:1-4,9,12 \n \n2Ki 10:29  Howbeit from the sins of Jeroboam the son of Nebat, who made Israel to sin, Jehu departed not from after them, to wit, the golden calves that were in Bethel, and that were in Dan. \n2Ki 10:30  And the LORD said unto Jehu, Because thou hast done well in executing that which is right in mine eyes, and hast done unto the house of Ahab according to all that was in mine heart, thy children of the fourth generation shall sit on the throne of Israel. \n2Ki 10:31  But Jehu took no heed to walk in the law of the LORD God of Israel with all his heart: for he departed not from the sins of Jeroboam, which made Israel to sin. \n2Ki 10:32  In those days the LORD began to cut Israel short: and Hazael smote them in all the coasts of Israel; \n2Ki 10:33  From Jordan eastward, all the land of Gilead, the Gadites, and the Reubenites, and the Manassites, from Aroer, which is by the river Arnon, even Gilead and Bashan. \n2Ki 10:34  Now the rest of the acts of Jehu, and all that he did, and all his might, are they not written in the book of the chronicles of the kings of Israel? \n2Ki 10:35  And Jehu slept with his fathers: and they buried him in Samaria. And Jehoahaz his son reigned in his stead. \n2Ki 10:36  And the time that Jehu reigned over Israel in Samaria was twenty and eight years. "]
[{"$f":"A351+1","v":3060},null,{"$f":"C357+1","v":863},862,null,null,null,null,"Athaliah",null,"  1st year - I.e. the 1st Sacred Calendar Year he reigned"," ",null,null,"Jehu",null,"Accession year"," "]
[null,null,{"$f":"C357","v":862},"",null,null,null,null,"Athaliah",null,"  1st year - I.e. the 1st Sacred Calendar Year he reigned"," ",null,null,"Jehu",null,"  1st year - I.e. the 1st Sacred Calendar Year he reigned"," "]
[{"$f":"A355+1","v":3061},null,{"$f":"C359+1","v":862},861,null,null,null,null,"Athaliah",null,"  2nd year - I.e. the 2nd Sacred Calendar Year he reigned",{"$f":"L359-1","v":2},null,null,"Jehu",null,"  1st year - I.e. the 1st Sacred Calendar Year he reigned"," "]
[null,null,{"$f":"C359","v":861},"",null,null,null,null,"Athaliah",null,"  2nd year - I.e. the 2nd Sacred Calendar Year he reigned"," ",null,null,"Jehu",null,"  2nd year - I.e. the 2nd Sacred Calendar Year he reigned"," "," "]
[{"$f":"A357+1","v":3062},null,{"$f":"C361+1","v":861},860,null,null,null,null,"Athaliah",null,"  3rd year - I.e. the 3rd Sacred Calendar Year he reigned",{"$f":"L361-1","v":3},null,null,"Jehu",null,"  2nd year - I.e. the 2nd Sacred Calendar Year he reigned"," "]
[null,null,{"$f":"C361","v":860},"",null,null,null,null,"Athaliah",null,"  3rd year - I.e. the 3rd Sacred Calendar Year he reigned"," ",null,null,"Jehu",null,"  3rd year - I.e. the 3rd Sacred Calendar Year he reigned"," "," "]
[{"$f":"A359+1","v":3063},null,{"$f":"C363+1","v":860},859,null,null,null,null,"Athaliah",null,"  4th year - I.e. the 4th Sacred Calendar Year he reigned",{"$f":"L363-1","v":4},null,null,"Jehu",null,"  3rd year - I.e. the 3rd Sacred Calendar Year he reigned"," "]
[null,null,{"$f":"C363","v":859},"",null,null,null,null,"Athaliah",null,"  4th year - I.e. the 4th Sacred Calendar Year he reigned"," ",null,null,"Jehu",null,"  4th year - I.e. the 4th Sacred Calendar Year he reigned"," "," "]
[{"$f":"A361+1","v":3064},null,{"$f":"C365+1","v":859},858,null,null,null,null,"Athaliah",null,"  5th year - I.e. the 5th Sacred Calendar Year he reigned",{"$f":"L365-1","v":5},null,null,"Jehu",null,"  4th year - I.e. the 4th Sacred Calendar Year he reigned"," "]
[null,null,{"$f":"C365","v":858},"",null,null,null,null,"Athaliah",null,"  5th year - I.e. the 5th Sacred Calendar Year he reigned"," ",null,null,"Jehu",null,"  5th year - I.e. the 5th Sacred Calendar Year he reigned"," "," "]
[{"$f":"A363+1","v":3065},null,{"$f":"C367+1","v":858},857,null,null,null,null,"Athaliah",null,"  6th year - I.e. the 6th Sacred Calendar Year he reigned",{"$f":"L367-1","v":6},null,null,"Jehu",null,"  5th year - I.e. the 5th Sacred Calendar Year he reigned"," "]
[null,null,{"$f":"C367","v":857},"",null,null,null,null,"Athaliah",null,"  6th year - I.e. the 6th Sacred Calendar Year he reigned"," ",null,null,"Jehu",null,"  6th year - I.e. the 6th Sacred Calendar Year he reigned"," "," "]
[{"$f":"A365+1","v":3066},null,{"$f":"C371+1","v":857},{"$f":"IF(C367<>\"\",IF(C367=C368,\"\",IF(C367=D366,IF(C367=C368+1,C367-1,\"\"),C367-1)),\"\")","v":856},null,null,null,null,"Athaliah",null,"  7th year - I.e. the 7th Sacred Calendar Year he reigned",7,null,null,"Jehu",null,"  6th year - I.e. the 6th Sacred Calendar Year he reigned"," ","2 Kings 11:4; 2 Chron. 23:1. \"And in the seventh year [of Athaliah's reign]… and there was she slain… And all the people of the land rejoiced, and the city was in quiet: and they slew Athaliah with the sword beside the king's house\" 2 Kings 11:4,16,20 (KJV)."]
[null,null,{"$f":"C371","v":856},"",null,null,null,null,"Joash's accession & Athaliah's",null,"  7th year - I.e. the 7th Sacred Calendar Year he reigned"," ",null,null,"Jehu",null,"  7th year - I.e. the 7th Sacred Calendar Year he reigned"," "]
[null,null,null,"",null,"\"The Romans also developed a true historical era beginning with the traditional founding of the city, generally placed at 753 BC. [19] This reckoning ab urbe condita, or anno urbis conditae, abbreviated to A.U.C., is sometimes counted from April 21, which came to be celebrated as the birthday of Rorne, [20] though at times from January 1, the beginning of the ordinary Roman calendar. [21] It was used less often for dating purposes than the consulship formula. Although the era ran theoretically from 753 BC, it was not the oldest continuous era in length of use.\" (From The Chronology of Ezra Seven by Siegfrid Horn, p. 9.)",null,null,null,null,null," ",null,null,null,null,null," "]
[null,null,null,{"$f":"IF(C370<>\"\",IF(C370=C371,\"\",IF(C370=#REF!,IF(C370=C371+1,C370-1,\"\"),C370-1)),\"\")","v":""},null,null,null,null,null,null,null," ",null,null,null,null,null," "]
[{"$f":"A367+1","v":3067},null,{"$f":"C373+1","v":856},855,null,null,null,null,"Jehoash (Joash)",null,"  1st year - I.e. the 1st Sacred Calendar Year he reigned"," ",null,null,"Jehu",null,"  7th year - I.e. the 7th Sacred Calendar Year he reigned"," ","2 Kings 11:2,4,12; 12:1; 2 Chron. 23:1. And the seventh year [of Athaliah' reign] Jehoiada sent and fetched... and shewed them the king's son. And the captains over the hundreds did according to all things that Jehoiada the priest commanded... And he brought forth the king's son, and put the crown upon him... and they made him king, and anointed him...\" 2 Kings 11:4,9,12 (KJV).  \"In the seventh year of Jehu Jehoash began to reign; and forty years reigned he in Jerusalem.  And Jehoash did that which was right in the sight of the Lord all his days wherein Jehoiada the priest instructed him. But the high places were not taken away: the people still sacrificed and burnt incense in the high places. 2 Kings 12:1-3 (KJV)."]
[null,null,{"$f":"C373","v":855},"",null,null,null,null,"Jehoash (Joash)",null,"  1st year - I.e. the 1st Sacred Calendar Year he reigned"," ",null,null,"Jehu",null,"  8th year - I.e. the 8th Sacred Calendar Year he reigned"," "," "]
[{"$f":"A371+1","v":3068},null,{"$f":"C375+1","v":855},854,null,null,null,null,"Jehoash (Joash)",null,"  2nd year - I.e. the 2nd Sacred Calendar Year he reigned"," ",null,null,"Jehu",null,"  8th year - I.e. the 8th Sacred Calendar Year he reigned"," "]
[null,null,{"$f":"C375","v":854},"",null,null,null,null,"Jehoash (Joash)",null,"  2nd year - I.e. the 2nd Sacred Calendar Year he reigned"," ",null,null,"Jehu",null,"  9th year - I.e. the 9th Sacred Calendar Year he reigned"," "," "]
[{"$f":"A373+1","v":3069},null,{"$f":"C377+1","v":854},853,null,null,null,null,"Jehoash (Joash)",null,"  3rd year - I.e. the 3rd Sacred Calendar Year he reigned"," ",null,null,"Jehu",null,"  9th year - I.e. the 9th Sacred Calendar Year he reigned"," "]
[null,null,{"$f":"C377","v":853},"",null,null,null,null,"Jehoash (Joash)",null,"  3rd year - I.e. the 3rd Sacred Calendar Year he reigned"," ",null,null,"Jehu",null,"10th year - I.e. the 10th Sacred Calendar Year he reigned"," "," "]
[{"$f":"A375+1","v":3070},null,{"$f":"C379+1","v":853},852,null,null,null,null,"Jehoash (Joash)",null,"  4th year - I.e. the 4th Sacred Calendar Year he reigned"," ",null,null,"Jehu",null,"10th year - I.e. the 10th Sacred Calendar Year he reigned"," "]
[null,null,{"$f":"C379","v":852},"",null,null,null,null,"Jehoash (Joash)",null,"  4th year - I.e. the 4th Sacred Calendar Year he reigned"," ",null,null,"Jehu",null,"11th year - I.e. the 11th Sacred Calendar Year he reigned"," "," "]
[{"$f":"A377+1","v":3071},null,{"$f":"C381+1","v":852},851,null,null,null,null,"Jehoash (Joash)",null,"  5th year - I.e. the 5th Sacred Calendar Year he reigned"," ",null,null,"Jehu",null,"11th year - I.e. the 11th Sacred Calendar Year he reigned"," "]
[null,null,{"$f":"C381","v":851},"",null,null,null,null,"Jehoash (Joash)",null,"  5th year - I.e. the 5th Sacred Calendar Year he reigned"," ",null,null,"Jehu",null,"12th year - I.e. the 12th Sacred Calendar Year he reigned"," "," "]
[{"$f":"A379+1","v":3072},null,{"$f":"C383+1","v":851},850,null,null,null,null,"Jehoash (Joash)",null,"  6th year - I.e. the 6th Sacred Calendar Year he reigned"," ",null,null,"Jehu",null,"12th year - I.e. the 12th Sacred Calendar Year he reigned"," "]
[null,null,{"$f":"C383","v":850},"",null,null,null,null,"Jehoash (Joash)",null,"  6th year - I.e. the 6th Sacred Calendar Year he reigned"," ",null,null,"Jehu",null,"13th year - I.e. the 13th Sacred Calendar Year he reigned"," "," "]
[{"$f":"A381+1","v":3073},null,{"$f":"C385+1","v":850},849,null,{"$f":"F308","v":"-776 & -747: \"But after -776, at fifteen-year intervals, more disruptions of the celestial order took place which necessitated additional calendar reforms. New calendars were introduced whose starting points were variously marked by: the beginning of the Olympic games (-776) [July 1 779 BCE - June 30, 778 BCE per mine and Conte's calculations, cf. \" XIII. The two beginnings of Herod’s Temple and the beginning of the “forty and six years” in John 2:20:\" under the paragraph starting \"But the 184th Olympiad is concurrent with July 1, 47 BCE through June, 46 BCE...\" in AdditionalDatedNTEventsComprehensive.htm], the Foundation of Rome (-747), the Era of Nabonassar (-747), or the time of raash (commotion) in the days of King Uzziah (-747). Also in Egypt, under Libyan rule (the eighth century), natural events caused the inauguration of a new calendar (W in C, pp. 210-211, 239, 335). (Velikovsky, Immanuel, Calendrical Changes and Sothic Chronology, Kronos - A Journal of Interdisciplinary Synthesis, Vol. VI:1 (1980), p.74:4.) \" \n     \"There exists a direct statement found as a gloss on a manuscript of Timaeus that a calendar of a solar year of three hundred and sixty days was introduced by the Hyksos after the fall of the Middle Kingdom; the calendar year of the Middle Kingdom apparently had fewer days\"... footnote: \"The length of the year during the Middle Kingdom is not known from any contemporaneous document\" (W in C, p. 123); the Palermo stone, representing the length of the year during the Old Kingdom of Egypt, has a year of 320 days...\" (Idem. p.74:2.)\n     \n     \"In the reign of Osorkon II of the Libyan Dynasty in Egypt, in the third year, the first month of the second season, on the twelfth day, according to a damaged inscription,\" the flood came on, in this whole land . . .  this land was in its power like the sea; there was no dyke of the people to withstand its fury. All the people were like birds upon it . . .  the tempest . . .  suspended . . .  like the heavens. All the temples of Thebes wer like marshes.[Footnote 5: Breasted, Records of Egypt, IV Sec. 743. Cf. J. Vandier, La Famine dans l'Egypte ancienne (1936), p. 123. \"The water reduced the land to the same state as when it was still covered with the primeval water of creation.\"]\" (Worlds in Collision p.209:2.)\n     \n     \"In -747 a new calendar was introduced in the Middle East, and that year is known as \"the beginning of the era of Nabonassar.\" It is asserted that some astronomical event gave birth to this new calendar, but the nature of teh event is not known. The beginning of the era of Nabonassar, otherwise an obscure Babylonian king, was an astronomical date used as late as the second Christian century by the great mathematician and astronomer of the Alexandrian school, Ptolemy, and also by other scholars. It was employed as a point of departure of ancient astronomical tables.\n     \"This was not a political or religious era. . . .  Farther back there was no certainty in regard to the calculation of time. It is from that moment that the records of eclipses begin which Ptolemy used.\" [Footnote 1: F. Cumont, Astrology and Religion among the Greeks and Romans (1912), pp.8-9. To be correct, the earliest eclipse Ptolemy calculated is dated March 21, -721.] What ws the astronomical event that closed the previous era nd gave birth to a new era?\n     \"According to retrospective calculations, there was no eclipse of the sun in the region of Assyro/Babylonia between the years -762 and -701,[Footnote 2: T. von Oppolzer, Canon der Finsternisse (1887).] if the earth has revolved and rotated uniformly since then, which is taken for granted.\n     \"Uzziah reigned from about -789 to about -740.[Footnote 3: K. Marti, \"Chronology,\" Encyclopaedia Biblica, ed. by Cheyne and Black.] The last few years of his reign, beginning with the day of the \"commotion,\" he spent in seclusion, having been pronounced a leper. It was apparently the upheaval in the days of Uzziah that separated the two ages. Time was counted \"from the commotion in the days of Uzziah.\" [Footnote 4: Cf. Amos 1:1; Zechariah 14:5.]\n     \"If this conclusion is correct, the upheaval took place in -747. The computation, according to which the era started on the twenty-sixth day of February, must be re-examined in the light of the fact that further cosmic disturbances occurred during the decades that followed - 747. It is worth noting, however, that the ancients inhabitants of Mexico celebrated their New Year on the day which corresponds, in the Julian calendar, to the same date: \"The first day of their yeere was the sixe and twentie day of February.\"\n     \"The chronographer and Byzantine monk, Georgius Syncellus, one of the chief sources of ancient chronology, synchronized the fortyeighth year of Uzziah and the first year of the first Olympiad.[Footnoge 6: Georgius Syncellus (ed. G. Dindorf, 1829), II, 203.] But according to modern calculations, the first year of the first Olympiad was -776: the sun was obscured. If the occurrence of -776 was of the same nature as that of -747, then Amos' prophecy was a prognostication based on an earlier experience.\" (Worlds in Collision, p. 210:3-211:3.)\n     \n     \"The catastrophe came on the day on which King Ahaz was buried. There was a \"commotion\": the terrestrial axis shifted or was tilted, and the sunset was hastened by several hours. This cosmic disturbance is described in the Talmud, in the Midrashim, and referred to by the Fathers of the Church It is related also in the records and told in the traditions of many peoples. It appears that a heavenly body passed very close to the earth, moving, as it seems, in the same direction as the earth on its nocturnal side.\" (Worlds in Collision, p. 216:2.)\n     \n     \"The founding of Rome took place close in time to the great perturbations of nature in the days of Amos and Isaiah. According to the calculation of Fabius Pictor, Rome was founded in the latter half of the first year of the eight Olympiak, or the year -747; other Roman authorities differ by a few years only. [Footnote 2: Polybius dated the foundation of Rome in the second year of the seventh Olympiad (-750); Porcius Cato, in the first year of the seventh Olympiad (-751); Verrius Flaccus, in the fourth year of the sixth Olympiad (-752); Terentius Varro, in the third year of the sixth Olympiad (-753); Censorinus followed Varro.] The year -747 is the beginning of an astronomical era in the Middle East; and the \"commotion of Uzziah\" took place, apparently, in the same year.\n     \"According to a persistent Roman tradition, the conception of Romulus by his mother, the foundation of Rome, and the death of Romulus occurred in years of great commotions accompanied by celestial phenomena and disturbances in solar movement. These changes were connected in some way with the planet Mars. Plutarch wrote: \"To the surname of Quirinus bestowed on Romulus some give the meaning of Mars.\" The legend says that Romulus was conceived in the first year of the second Olympiad (-772) when the sun was totally eclipsed. According to Latin historians, on the very day of Rome's foundation, the sun was disrupted in its movement and the world was darkened. In Romulus' time \"a plague fell upon the land, bringing sudden death without previous sickness,\" and \"a rain of blood\" and other calamities. Earthquakes convulsed the earth for a long period. Jewish tradition knows that \"the first settlers of Rome found that the huts collapsed as soon as built.\"\n     \"The death of Romulus occurred when, according to Plutarch, suddenly strange and unaccountable disorders with incredible changes filled the air; the light of the sun failed, and night came down upon them, not with peace and quiet, but with awful peals of thunder and furious blasts,\" and amidst this storm Romulus disappeared.\n     \"Ovid's description of the phenomena on the day of Romulus' death is this: \"Both the poles shook, and Atlas shifted the burden of the sky. . . .  The sun vanished and rising clouds obscured the heaven . . .  the sky was riven by shooting flames. The people fled and the king [Romulus] upon his father's [Mars'] steeds soared to the stars.\" \" (Worlds in Collision, p. 239:1-240:1.)\n     \n     \"The year of the second campaign of Sennacherib against Palestine is established by modern research as -687. The Talmud helps to set the time of the year: it was the night of the feast of spring, Passover. Chinese sources give teh exact date, midnight of the 23rd of March, -687, as the date of a great cosmic activity.\" (Worlds in Collision, p. 240:4.)\n     \n     \"The disturbance in the movement of the sun a few hours before the Assyrian host perished occurred on the first day of Passover...\" (Worlds in Collision, p. 241:3.)\n     \n     \"It is also a conspicuous fact that the name of Nergal became very common as a component of personal names in the seventh and sixth centuries. Two generals, both by the name of Nergalsharezer, were among Nebuchadnezzar's marshals;[Footnote 5: Jeremiah 39:3] a king by the name of Nergilissar ruled in Babylon. Priests, warriors, traders in cattle, criminals bearing the name of Nergalsharezer, are familiar figures in the documents of the seventh century.\n     \"In the eighth century in Babylonia, the planet Mars was called \"the unpredictable planet.\" [Footnote 7: Schaumberger, in Kugler, Sternkunde und Sterndienst in Babel, 3rd supp.k p. 307.]\n     \"Historical inscriptions of the eighth century speak of the oppositions of the star Mars (Nergal). These together with conjunctions were carefully watched. \"The movements of Mars were extremely important in Babylonian astrology - its rise and setting, its disappearance and return . . .  its position in relation to the equator, the change in its illuminating power, its relation to Venus, Jupiter nad Mercury.\" [Footnote 8: Bezold, in Boll's Sternglaube und Sterndeutung, p. 6.] In India, also, \"the various phases of the retrograde motion of the planets and especially of Mars seem to have been objects of great attention.\" \" (Worlds in Collision, p. 242:4-243:1.)\n     \n     \"But we ask for a direct statement that the planet Mars-Nergal was the immediate cause of the cataclysms in the eighth and seventh centuries, when the world, in the language of Isaiah, was \"moved exceedingly\" and \"became removed from its place.\" This very action is ascribed to the planet Mars-Nergal: \"The heaven he makes dark, he moves the Earth off its hinges.\" [Footnote 16: Böllenrucher, Gebete und Hymnen an Nergal, p. 9.] And again: \"Nergal . . . .  on high stills the heavens . . .  causes the earth to shudder.\"[Footnote 17: Langdon, Sumerian and Babylonian Psalms, p. 79.] \" (Worlds in Collision, p. 243:3.)"},null,null,"Jehoash (Joash)",null,"  7th year - I.e. the 7th Sacred Calendar Year he reigned"," ",null,null,"Jehu",null,"13th year - I.e. the 13th Sacred Calendar Year he reigned"," "]
[null,null,{"$f":"C385","v":849},"",null,"747 BCE - The beginning of Ptolemy's Canon and the Nabonassar Era: \"The first king listed in Ptolemy's Canon is the Babylonian monarch Nabonassar, whose first reigning year began according to Egyptian reckoning on Thoth 1, the Egyptian New Year's Day, on the Julian date that has been established by lunar eclipses as February 26, 747 BC. [21] This is the starting point of what is called the Nabonassar era... Regardless of the various modes of reckoning employed in the countries involved, Ptolemy consistently used his own Egyptian calendar with its 365-day year. Since the starting point of his Nabonassar era on Thoth 1 of the year 747 BC. (February 26) is established by 19 lunar eclipses, we can locate any year of any of these kings as reckoned by the Egyptian calendar year, and can compute it in BC dating. This is an easy process, because the Egyptian New Year's Day drops back one day every four years in the Julian calendar, which is used for BC reckoning.\" (From The Chronology of Ezra Seven by Siegfrid Horn, p. 13.)\n\n\n       \"Earlier than the fourth century BC. there was not always a clear sequence in the insertion of\nembolismic months, but when by observation it was recognized that 19 solar years contain approximately\nthe same number of days as 235 lunar months, a more regular sequence of intercalation was started. In the\n4th century, the so-called 19-year cycle, in which the 3d, 6th, 8th, 11th, 14th, 17th, and 19th years were\nembolismic ones, became a regular feature of the luni-solar year in Mesopotamia. This regularity had\nalready been achieved more or less in the 6th century BC, but a number of exceptions show its elasticity\nprior to the 4th century. [28]\n       \"In the early history of Babylon there seems to have been no regular system for determining when\nUlulu (the 6th month) or Addaru (the 12th month) should be repeated. Later on, when the 19-year cycle\nbecame more fixed, the second Addaru was inserted six times and the second Ululu once (in each 17th\nyear) in each cycle. For this calendar the excellent monograph of R. A. Parker and W. H. Dubberstein,\nBabylonian Chronology 626 BC-AD 45, has complete calendar tables containing all embolismic years as\nknown up to the time of publication, and approximately correct dates for the beginning of every Babylonian\nmonth for the time indicated in the title. [29] This work allows us to convert without effort any Babylonian\ndate into its Julian equivalent with a fairly great measure of accuracy.\" (From The Chronology of Ezra Seven by Siegfrid Horn, p. 15.)\n\n\nFootnotes to the above:\n\n\"19. Ptolemy Almagest IV. 6-9, 11, and V. 14, etc. Trans. R. Catesby Taliaferro, in “Great Books of the Western World,” volume 16, pages 123, 129, 134-137, 140-142, and 172, etc.\n\n\"20. The Canon is contained in Appendix A, page 466, of the above-mentioned volume.\n\n\"21. This date can be established because Ptolemy not only dates the eclipses to the hour in his own calendar reckoning but also gives in most cases the number of Egyptian (365-day) years, days, and hours from the starting point of the era. (Ibid., pages 140-142, 172, for example.) \n     As to the possibility of confusing any of these eclipses with others occurring on the same date of different years, it is to be noted that a lunar eclipse comes only at full moon. A full moon can occur on the same date in our calendar only every 19 years but can recur in the Egyptian calendar, which shifts backward through the seasons, only about every 25 years. For the recurrence of a phase of the moon in the Julian and Egyptian calendars, see the graphic presentation in Lynn H. Wood, “The Kabun Papyrus and the Date of the Twelfth Dynasty (With a Chart),” Bulletin of the American Schools of Oriental Research (hereinafter abbreviated to BASOR), no. 99 (October, 1945), pages 5-9. Besides, not all full moons can be eclipsed. This can take place only about twice a year. Therefore the possibility of a lunar eclipse recurring on the same Egyptian date is reduced still more.\n     Further, Ptolemy's 19 eclipses, dated by year, day, and even hour, are all in mutual agreement, and various astronomers who have calculated these eclipses by modern methods have all agreed on their dates, varying only slightly as to the hour. Oppolzer's tables of lunar eclipses show that the average variance between his computations and Ptolemy's statements is about ten minutes. (For the lunar eclipses of Ptolemy, see Theodor von OppoIzer, Syygien-Tafeln fur den Mond, pp. 31-34; for the astronomical data, see his Canon der Finsternisse, page 332 ff.)\n\n\"27. Parker and Dubberstein, op. cit., page 1.\n\n\"28. Ibid., pages 2, 5.\n\n\"29. Ibid., pages 25-46.\"",null,null,"Jehoash (Joash)",null,"  7th year - I.e. the 7th Sacred Calendar Year he reigned"," ",null,null,"Jehu",null,"14th year - I.e. the 14th Sacred Calendar Year he reigned"," "," "]
[{"$f":"A383+1","v":3074},null,{"$f":"C387+1","v":849},848,null,null,null,null,"Jehoash (Joash)",null,"  8th year - I.e. the 8th Sacred Calendar Year he reigned"," ",null,null,"Jehu",null,"14th year - I.e. the 14th Sacred Calendar Year he reigned"," "]
[null,null,{"$f":"C387","v":848},"",null,null,null,null,"Jehoash (Joash)",null,"  8th year - I.e. the 8th Sacred Calendar Year he reigned"," ",null,null,"Jehu",null,"15th year - I.e. the 15th Sacred Calendar Year he reigned"," "," "]
[{"$f":"A385+1","v":3075},null,{"$f":"C389+1","v":848},847,null,null,null,null,"Jehoash (Joash)",null,"  9th year - I.e. the 9th Sacred Calendar Year he reigned"," ",null,null,"Jehu",null,"15th year - I.e. the 15th Sacred Calendar Year he reigned"," "]
[null,null,{"$f":"C389","v":847},"",null,null,null,null,"Jehoash (Joash)",null,"  9th year - I.e. the 9th Sacred Calendar Year he reigned"," ",null,null,"Jehu",null,"16th year - I.e. the 16th Sacred Calendar Year he reigned"," "," "]
[{"$f":"A387+1","v":3076},null,{"$f":"C391+1","v":847},846,null,null,null,null,"Jehoash (Joash)",null,"10th year - I.e. the 10th Sacred Calendar Year he reigned"," ",null,null,"Jehu",null,"16th year - I.e. the 16th Sacred Calendar Year he reigned"," "]
[null,null,{"$f":"C391","v":846},"",null,null,null,null,"Jehoash (Joash)",null,"10th year - I.e. the 10th Sacred Calendar Year he reigned"," ",null,null,"Jehu",null,"17th year - I.e. the 17th Sacred Calendar Year he reigned"," "," "]
[{"$f":"A389+1","v":3077},null,{"$f":"C393+1","v":846},845,null,null,null,null,"Jehoash (Joash)",null,"11th year - I.e. the 11th Sacred Calendar Year he reigned"," ",null,null,"Jehu",null,"17th year - I.e. the 17th Sacred Calendar Year he reigned"," "]
[null,null,{"$f":"C393","v":845},"",null,null,null,null,"Jehoash (Joash)",null,"11th year - I.e. the 11th Sacred Calendar Year he reigned"," ",null,null,"Jehu",null,"18th year - I.e. the 18th Sacred Calendar Year he reigned"," "," "]
[{"$f":"A391+1","v":3078},null,{"$f":"C395+1","v":845},{"$f":"IF(C393<>\"\",IF(C393=C394,\"\",IF(C393=D392,IF(C393=C394+1,C393-1,\"\"),C393-1)),\"\")","v":844},null,null,null,null,"Jehoash (Joash)",null,"12th year - I.e. the 12th Sacred Calendar Year he reigned"," ",null,null,"Jehu",null,"18th year - I.e. the 18th Sacred Calendar Year he reigned"," "]
[null,null,{"$f":"C395","v":844},"",null,null,null,null,"Jehoash (Joash)",null,"12th year - I.e. the 12th Sacred Calendar Year he reigned"," ",null,null,"Jehu",null,"19th year - I.e. the 19th Sacred Calendar Year he reigned"," "," "]
[{"$f":"A393+1","v":3079},null,{"$f":"C397+1","v":844},843,null,null,null,null,"Jehoash (Joash)",null,"13th year - I.e. the 13th Sacred Calendar Year he reigned",{"$f":"L397-1","v":0},null,null,"Jehu",null,"19th year - I.e. the 19th Sacred Calendar Year he reigned"," "]
[null,null,{"$f":"C397","v":843},"",null,null,null,null,"Jehoash (Joash)",null,"13th year - I.e. the 13th Sacred Calendar Year he reigned"," ",null,null,"Jehu",null,"20th year - I.e. the 20th Sacred Calendar Year he reigned"," "," "]
[{"$f":"A395+1","v":3080},null,{"$f":"C399+1","v":843},842,null,null,null,null,"Jehoash (Joash)",null,"14th year - I.e. the 14th Sacred Calendar Year he reigned",{"$f":"L399-1","v":1},null,null,"Jehu",null,"20th year - I.e. the 20th Sacred Calendar Year he reigned"," "]
[null,null,{"$f":"C399","v":842},"",null,null,null,null,"Jehoash (Joash)",null,"14th year - I.e. the 14th Sacred Calendar Year he reigned"," ",null,null,"Jehu",null,"21st year - I.e. the 21st Sacred Calendar Year he reigned"," "," "]
[{"$f":"A397+1","v":3081},null,{"$f":"C401+1","v":842},841,null,null,null,null,"Jehoash (Joash)",null,"15th year - I.e. the 15th Sacred Calendar Year he reigned",{"$f":"L401-1","v":2},null,null,"Jehu",null,"21st year - I.e. the 21st Sacred Calendar Year he reigned"," "]
[null,null,{"$f":"C401","v":841},"",null,null,null,null,"Jehoash (Joash)",null,"15th year - I.e. the 15th Sacred Calendar Year he reigned"," ",null,null,"Jehu",null,"22nd year - I.e. the 22nd Sacred Calendar Year he reigned"," "," "]
[{"$f":"A399+1","v":3082},null,{"$f":"C403+1","v":841},840,null,null,null,null,"Jehoash (Joash)",null,"16th year - I.e. the 16th Sacred Calendar Year he reigned",{"$f":"L403-1","v":3},null,null,"Jehu",null,"22nd year - I.e. the 22nd Sacred Calendar Year he reigned"," "]
[null,null,{"$f":"C403","v":840},"",null,null,null,null,"Jehoash (Joash)",null,"16th year - I.e. the 16th Sacred Calendar Year he reigned"," ",null,null,"Jehu",null,"23rd year - I.e. the 23rd Sacred Calendar Year he reigned"," "," "]
[{"$f":"A401+1","v":3083},null,{"$f":"C405+1","v":840},839,null,null,null,null,"Jehoash (Joash)",null,"17th year - I.e. the 17th Sacred Calendar Year he reigned",{"$f":"L405-1","v":4},null,null,"Jehu",null,"23rd year - I.e. the 23rd Sacred Calendar Year he reigned"," "]
[null,null,{"$f":"C405","v":839},"",null,null,null,null,"Jehoash (Joash)",null,"17th year - I.e. the 17th Sacred Calendar Year he reigned"," ",null,null,"Jehu",null,"24th year - I.e. the 24th Sacred Calendar Year he reigned"," "," "]
[{"$f":"A403+1","v":3084},null,{"$f":"C407+1","v":839},838,null,null,null,null,"Jehoash (Joash)",null,"18th year - I.e. the 18th Sacred Calendar Year he reigned",{"$f":"L407-1","v":5},null,null,"Jehu",null,"24th year - I.e. the 24th Sacred Calendar Year he reigned"," "]
[null,null,{"$f":"C407","v":838},"",null,null,null,null,"Jehoash (Joash)",null,"18th year - I.e. the 18th Sacred Calendar Year he reigned"," ",null,null,"Jehu",null,"25th year - I.e. the 25th Sacred Calendar Year he reigned"," "," "]
[{"$f":"A405+1","v":3085},null,{"$f":"C409+1","v":838},837,null,null,null,null,"Jehoash (Joash)",null,"19th year - I.e. the 19th Sacred Calendar Year he reigned",{"$f":"L409-1","v":6},null,null,"Jehu",null,"25th year - I.e. the 25th Sacred Calendar Year he reigned"," "]
[null,null,{"$f":"C409","v":837},"",null,null,null,null,"Jehoash (Joash)",null,"19th year - I.e. the 19th Sacred Calendar Year he reigned"," ",null,null,"Jehu",null,"26th year - I.e. the 26th Sacred Calendar Year he reigned"," "," "]
[{"$f":"A407+1","v":3086},null,{"$f":"C411+1","v":837},836,null,null,null,null,"Jehoash (Joash)",null,"20th year - I.e. the 20th Sacred Calendar Year he reigned",{"$f":"L411-1","v":7},null,null,"Jehu",null,"26th year - I.e. the 26th Sacred Calendar Year he reigned"," "]
[null,null,{"$f":"C411","v":836},"",null,null,null,null,"Jehoash (Joash)",null,"20th year - I.e. the 20th Sacred Calendar Year he reigned"," ",null,null,"Jehu",null,"27th year - I.e. the 27th Sacred Calendar Year he reigned"," "," "]
[{"$f":"A409+1","v":3087},null,{"$f":"C413+1","v":836},835,null,null,null,null,"Jehoash (Joash)",null,"21st year - I.e. the 21st Sacred Calendar Year he reigned",{"$f":"L413-1","v":8},null,null,"Jehu",null,"27th year - I.e. the 27th Sacred Calendar Year he reigned"," "]
[null,null,{"$f":"C413","v":835},"",null,null,null,null,"Jehoash (Joash)",null,"21st year - I.e. the 21st Sacred Calendar Year he reigned"," ",null,null,"Jehu",null,"28th year - I.e. the 28th Sacred Calendar Year he reigned"," "]
[{"$f":"A411+1","v":3088},null,{"$f":"C415+1","v":835},834,null,null,null,null,"Jehoash (Joash)",null,"22nd year - I.e. the 22nd Sacred Calendar Year he reigned",{"$f":"L415-1","v":9},null,null,"Jehu",null,"28th year - I.e. the 28th Sacred Calendar Year he reigned"," ","2 Kings 10:35-36 \"And Jehu slept with his fathers: and they buried him in Samaria. And Jehoahaz his son reigned in hes stead. And the time that Jehu reigned over Israel in Samaria was twenty and eight years [hajamim = the hot seasons / summers] (KJV)."]
[null,null,{"$f":"C415","v":834},"",null,null,null,null,"Jehoash (Joash)",null,"22nd year - I.e. the 22nd Sacred Calendar Year he reigned"," ",null,null,null,null,null," "]
[{"$f":"A413+1","v":3089},null,{"$f":"C419+1","v":834},833,null,null,null,null,"Jehoash (Joash)",null,"23rd year - I.e. the 23rd Sacred Calendar Year he reigned",{"$f":"L419-1","v":10},null,null,null,null,null," "]
[null,null,null,""]
[null,null,null,""]
[null,null,{"$f":"C419","v":833},"",null,null,null,null,"Jehoash (Joash)",null,"23rd year - I.e. the 23rd Sacred Calendar Year he reigned"," ",null,1,"Jehoahaz","t","Accession year"," ","2 Kings 13:1 \"In the three and twentieth year of Joash the son of Ahaziah king of Judah Jehoahaz the son of Jehu began to reign over Israel in Samaria, and reigned seventeen years. And he did that which was evil in the sight of the Lord, and followed the sins of Jeroboam the son of Nebat, which made Israel to sin; he departed not therefrom\" (KJV)."]
[{"$f":"A415+1","v":3090},null,{"$f":"C421+1","v":833},832,null,null,null,null,"Jehoash (Joash)",null,"24th year - I.e. the 24th Sacred Calendar Year he reigned",{"$f":"L421-1","v":11},null,null,"Jehoahaz",null,"Accession year"," "]
[null,null,{"$f":"C421","v":832},"",null,null,null,null,"Jehoash (Joash)",null,"24th year - I.e. the 24th Sacred Calendar Year he reigned"," ",null,null,"Jehoahaz",null,"  1st year - I.e. the 1st Sacred Calendar Year he reigned"," "," "]
[{"$f":"A419+1","v":3091},null,{"$f":"C423+1","v":832},831,null,null,null,null,"Jehoash (Joash)",null,"25th year - I.e. the 25th Sacred Calendar Year he reigned",{"$f":"L423-1","v":12},null,null,"Jehoahaz",null,"  1st year - I.e. the 1st Sacred Calendar Year he reigned"," "]
[null,null,{"$f":"C423","v":831},"",null,null,null,null,"Jehoash (Joash)",null,"25th year - I.e. the 25th Sacred Calendar Year he reigned"," ",null,null,"Jehoahaz",null,"  2nd year - I.e. the 2nd Sacred Calendar Year he reigned"," "," "]
[{"$f":"A421+1","v":3092},null,{"$f":"C425+1","v":831},830,null,null,null,null,"Jehoash (Joash)",null,"26th year - I.e. the 26th Sacred Calendar Year he reigned",{"$f":"L425-1","v":13},null,null,"Jehoahaz",null,"  2nd year - I.e. the 2nd Sacred Calendar Year he reigned"," "]
[null,null,{"$f":"C425","v":830},"",null,null,null,null,"Jehoash (Joash)",null,"26th year - I.e. the 26th Sacred Calendar Year he reigned"," ",null,null,"Jehoahaz",null,"  3rd year - I.e. the 3rd Sacred Calendar Year he reigned"," "," "]
[{"$f":"A423+1","v":3093},null,{"$f":"C427+1","v":830},829,null,null,null,null,"Jehoash (Joash)",null,"27th year - I.e. the 27th Sacred Calendar Year he reigned",{"$f":"L427-1","v":14},null,null,"Jehoahaz",null,"  3rd year - I.e. the 3rd Sacred Calendar Year he reigned"," "]
[null,null,{"$f":"C427","v":829},"",null,null,null,null,"Jehoash (Joash)",null,"27th year - I.e. the 27th Sacred Calendar Year he reigned"," ",null,null,"Jehoahaz",null,"  4th year - I.e. the 4th Sacred Calendar Year he reigned"," "," "]
[{"$f":"A425+1","v":3094},null,{"$f":"C429+1","v":829},828,null,null,null,null,"Jehoash (Joash)",null,"28th year - I.e. the 28th Sacred Calendar Year he reigned",{"$f":"L429-1","v":15},null,null,"Jehoahaz",null,"  4th year - I.e. the 4th Sacred Calendar Year he reigned"," "]
[null,null,{"$f":"C429","v":828},"",null,null,null,null,"Jehoash (Joash)",null,"28th year - I.e. the 28th Sacred Calendar Year he reigned"," ",null,null,"Jehoahaz",null,"  5th year - I.e. the 5th Sacred Calendar Year he reigned"," "," "]
[{"$f":"A427+1","v":3095},null,{"$f":"C431+1","v":828},827,null,null,null,null,"Jehoash (Joash)",null,"29th year - I.e. the 29th Sacred Calendar Year he reigned",{"$f":"L431-1","v":16},null,null,"Jehoahaz",null,"  5th year - I.e. the 5th Sacred Calendar Year he reigned"," "]
[null,null,{"$f":"C431","v":827},"",null,null,null,null,"Jehoash (Joash)",null,"29th year - I.e. the 29th Sacred Calendar Year he reigned"," ",null,null,"Jehoahaz",null,"  6th year - I.e. the 6th Sacred Calendar Year he reigned"," "," "]
[{"$f":"A429+1","v":3096},null,{"$f":"C433+1","v":827},826,null,null,null,null,"Jehoash (Joash)",null,"30th year - I.e. the 30th Sacred Calendar Year he reigned",{"$f":"L433-1","v":17},null,null,"Jehoahaz",null,"  6th year - I.e. the 6th Sacred Calendar Year he reigned"," "]
[null,null,{"$f":"C433","v":826},"",null,null,null,null,"Jehoash (Joash)",null,"30th year - I.e. the 30th Sacred Calendar Year he reigned"," ",null,null,"Jehoahaz",null,"  7th year - I.e. the 7th Sacred Calendar Year he reigned"," "," "]
[{"$f":"A431+1","v":3097},null,{"$f":"C435+1","v":826},825,null,null,null,null,"Jehoash (Joash)",null,"31st year - I.e. the 31st Sacred Calendar Year he reigned",{"$f":"L435-1","v":18},null,null,"Jehoahaz",null,"  7th year - I.e. the 7th Sacred Calendar Year he reigned"," "]
[null,null,{"$f":"C435","v":825},"",null,null,null,null,"Jehoash (Joash)",null,"31st year - I.e. the 31st Sacred Calendar Year he reigned"," ",null,null,"Jehoahaz",null,"  8th year - I.e. the 8th Sacred Calendar Year he reigned"," "," "]
[{"$f":"A433+1","v":3098},null,{"$f":"C437+1","v":825},824,null,null,null,null,"Jehoash (Joash)",null,"32nd year - I.e. the 32nd Sacred Calendar Year he reigned",{"$f":"L437-1","v":19},null,null,"Jehoahaz",null,"  8th year - I.e. the 8th Sacred Calendar Year he reigned"," "]
[null,null,{"$f":"C437","v":824},"",null,null,null,null,"Jehoash (Joash)",null,"32nd year - I.e. the 32nd Sacred Calendar Year he reigned"," ",null,null,"Jehoahaz",null,"  9th year - I.e. the 9th Sacred Calendar Year he reigned"," "," "]
[{"$f":"A435+1","v":3099},null,{"$f":"C439+1","v":824},823,null,null,null,null,"Jehoash (Joash)",null,"33rd year - I.e. the 33rd Sacred Calendar Year he reigned",{"$f":"L439-1","v":20},null,null,"Jehoahaz",null,"  9th year - I.e. the 9th Sacred Calendar Year he reigned"," "]
[null,null,{"$f":"C439","v":823},"",null,null,null,null,"Jehoash (Joash)",null,"33rd year - I.e. the 33rd Sacred Calendar Year he reigned"," ",null,null,"Jehoahaz",null,"10th year - I.e. the 10th Sacred Calendar Year he reigned"," "," "]
[{"$f":"A437+1","v":3100},null,{"$f":"C441+1","v":823},822,null,{"$f":"F4","v":"Velikovsky’s “…nomenclature for the Egyptian dysasties.\n The Middle Kingdom of Egypt (the division into Eleventh and Twelfth Dynasties is unnecessary) came to its end in a natural catastrophe in the mid-fifteenth century before the present era; the land was invaded by the Arabs (Amalekites, known as Amu to the Egyptians, or as Hyksos to Greek authors). The Arab Dynasty ruled for over four hundred years, till about -1020. Already before that date there were vassal princes in Thebes. The Arab domination of Egypt was terminated by the united efforts of Saul of Israel and Kamose and Ahmose of Thebes. For the next (almost) two hundred years (ca. -1200 to ca. -830) the land was ruled by the Theban Dynasty (known as the Eighteenth) of Thutmoses and Amenhoteps. Close to the end of that period, Akhnaton moved the capi9tal to Akhet-Aton (el-Amarna) but Thebes was soon restored as the capital under Smenkhkare and Ay.\n The Theban period was followed by the Libyan domination of Sosenks [= Shoshenk, cf. Ages in Chaos, p. 174-176] and Osorkons for over one hundred years (ca. -830 to ca. -720). Next came the Ethiopian rule that endured for fifty or sixty years; however, at the same time the Assyrians pressed from the north and the land was occupied repeatedly by Sennacherib (who crowned Haremheb), Esarhaddon, and Assurbanipal (who elevated Necho I-Rameses I to be a vassal king). When Necho was killed by invading Ethiopians, Assurbanipal once more occupied Thebes (-663).\n The period of the Tanitic Dynasty follows: Seti (Psammetich of the Greek authors), son of Ramses I (Necho I), obtained independence from Assurbanipal and acted as his ally in his wars against the Chaldeans and Medes, Seti’s capital was in Tanis in the Delta, The Tanitic Dynasty endured from -663 to -525. After Seti reigned Ramses II (Necho II), his son, who for a lengthy period had been Seti’s co-ruler. He carried on a prolonged war with Nebuchadnezzar, the Chaldean. Ramses’ heir Merneptah (Hophra of Jeremiah and Apries of Herodutus) lost the throne to a rebel, General Amasis, the latter reigned in peace for over forty years and died when Cambyses the Persian was already on his march of conquest toward Egypt.\n From -525 to -332, for close to two hundred years, Egypt was dominated by the Persian kings (Cambyses, Darius, Xerxes, Artaxerxes I, Darius II, Artaxerxes II and III); some of them were crowned also as Egyptian pharaohs; they kept native governors in Egypt like Psamshek or Nekht-hor.\n In the fourth century, during the reigns of Artaxerxer II and Artaxerxes III, Egypt achieved a measure of independence comparable to the independence the Greek states maintained during thetime of the Great Kings of Persia.  Nepherites, Acoris, Nectanebo I (Ramses III), Tachos, and Nectanebo II were the indigenous kings of that period and they could be termed Native Kings or, if preferred, Sebennytic Dynasty, for the place of origin of the most famous of them. At the same time a Priestly Dynasty established already by Darius II (about -420) ruled in the military outposts-the oases of the Libyan desert. Thjey continued there till past -300.\n The Persians succeeded in -343 to reconquering Egypt, Nectanebo II escaping to the Sudan, but ten years later Egypt received Alexander as its liberator (-332). The Macedonian Dynasty endured three hundred years, with the Ptolemies on the throne till Cleopatra’s suicide in -30. Thereafter the Roman caesars ruled Egypt.\n This order of dynastic succession, relieved of thenumbered dynasties, is simple to comprehend: Arab, Theban, Libyan, Ethiopian (repeatedly interrupted by Assyrian conquests), Tanitic, Persian (partly Sebennytic), and Macedonian Dynasties in this sequence. As can readily be seen, for most of the fourteen hundred years (ca. -1450 to -30), Egypt was ruled by foreigners: the three periods when it was ruled by native kings were under the Theban (-1020 to -830), the Tanitic (-663 to -525), and the Sebennytic (ca. -391 to -341) Dynasties, altogether something like 380 years out of 1420.” (Peoples of the Sea, p. 194:2-195:end.)\n"},null,null,"Jehoash (Joash)",null,"34th year - I.e. the 34th Sacred Calendar Year he reigned",{"$f":"L441-1","v":21},null,null,"Jehoahaz",null,"10th year - I.e. the 10th Sacred Calendar Year he reigned"," "]
[null,null,{"$f":"C441","v":822},"",null,null,null,null,"Jehoash (Joash)",null,"34th year - I.e. the 34th Sacred Calendar Year he reigned"," ",null,null,"Jehoahaz",null,"11th year - I.e. the 11th Sacred Calendar Year he reigned"," "," "]
[{"$f":"A439+1","v":3101},null,{"$f":"C443+1","v":822},821,null,null,null,null,"Jehoash (Joash)",null,"35th year - I.e. the 35th Sacred Calendar Year he reigned",{"$f":"L443-1","v":22},null,null,"Jehoahaz",null,"11th year - I.e. the 11th Sacred Calendar Year he reigned"," "]
[null,null,{"$f":"C443","v":821},"",null,null,null,null,"Jehoash (Joash)",null,"35th year - I.e. the 35th Sacred Calendar Year he reigned"," ",null,null,"Jehoahaz",null,"12th year - I.e. the 12th Sacred Calendar Year he reigned"," "," "]
[{"$f":"A441+1","v":3102},null,{"$f":"C445+1","v":821},820,null,null,null,null,"Jehoash (Joash)",null,"36th year - I.e. the 36th Sacred Calendar Year he reigned",{"$f":"L445-1","v":23},null,null,"Jehoahaz",null,"12th year - I.e. the 12th Sacred Calendar Year he reigned"," "]
[null,null,{"$f":"C445","v":820},"",null,null,null,null,"Jehoash (Joash)",null,"36th year - I.e. the 36th Sacred Calendar Year he reigned"," ",null,null,"Jehoahaz",null,"13th year - I.e. the 13th Sacred Calendar Year he reigned"," "," "]
[{"$f":"A443+1","v":3103},null,{"$f":"C449+1","v":820},819,null,null,null,null,"Jehoash (Joash)",null,"37th year - I.e. the 37th Sacred Calendar Year he reigned",24,null,null,"Jehoash's accession year & Jehoahaz's",null,"13th year - I.e. the 13th Sacred Calendar Year he reigned"," ","2 Kings 13:10-11 \"In the thirty and seventh year of Joash king of Judah began Jehoash the son of Jehoahaz to reign over Israel in Samaria, and reigned sixteen years. And he did that which was evil in the sight of the Lord; he departed not from all the sins of Jeroboam the son of Nebat, who made Israel sin: but he walked therein\" (KJV)."]
[null,null,null,"",null,null,null,null,null,null,null," ",null,null,null,null,null," "]
[null,null,null,"",null,null,null,null,null,null,null," ",null,null,null,null,null," "]
[null,null,{"$f":"C449","v":819},"",null,null,null,null,"Jehoash (Joash)",null,"37th year - I.e. the 37th Sacred Calendar Year he reigned"," ",null,null,"Jehoahaz's 14th & Jehoash's",null,"  1st year - I.e. the 1st Sacred Calendar Year he reigned"," "]
[{"$f":"A445+1","v":3104},null,{"$f":"C453+1","v":819},818,null,null,null,null,"Jehoash (Joash)",null,"38th year - I.e. the 38th Sacred Calendar Year he reigned"," ",null,null,"Jehoahaz's 14th & Jehoash's",null,"  1st year - I.e. the 1st Sacred Calendar Year he reigned"," "]
[null,null,{"$f":"C453","v":818},"",null,null,null,null,"Amaziah's access yr & Jehoash (Joash)",null,"38th year - I.e. the 38th Sacred Calendar Year he reigned"," ",null,null,"Jehoahaz's 15th & Jehoash's",null,"  2nd year - I.e. the 2nd Sacred Calendar Year he reigned"," ","The year Jehoiada the priest died 130 years old? Prior to Amaziah's 1st year - Amaziah was a prince during his first two years. Cf. note at end of Jehoash's 40th year of reign!"]
[null,null,null,"",null,null,null,null,null,null,null,null,null,null,null,null,null,null,"Thus, Jehoiada the priest was born:",{"$f":"A449-130","v":2974}]
[null,null,null,""]
[{"$f":"A449+1","v":3105},null,{"$f":"C455+1","v":818},817,null,null,null,null,"Jehoash's 39th & Amaziah's","t","  1st year - I.e. the 1st Sacred Calendar Year he reigned",25,null,null,"Jehoahaz's 15th & Jehoash's",null,"  2nd year - I.e. the 2nd Sacred Calendar Year he reigned"," ","2 Kings 14:1 \"In the second year of Joash son of Jehoahaz king of Israel reigned Amaziah the son of Joash king of Judah. He was twenty and five years old when he began to reign, and reigned twenty and nine years in Jerusalem… And he did that which was right in the sight of the Lord, yet not like David his father: He did according to all things as Joash his father did. Howbeit the high places were not taken away: as yet the people did sacrifice and burnt incense on the high places\" (KJV)."]
[null,null,{"$f":"C455","v":817},"",null,null,null,null,"Jehoash's 39th & Amaziah's",null,"  1st year - I.e. the 1st Sacred Calendar Year he reigned"," ",null,null,"Jehoahaz's 16th & Jehoash's",null,"  3rd year - I.e. the 3rd Sacred Calendar Year he reigned"," "]
[{"$f":"A453+1","v":3106},null,{"$f":"C457+1","v":817},816,null,null,null,null,"Jehoash's 40th & Amaziah's",null,"  2nd year - I.e. the 2nd Sacred Calendar Year he reigned"," ",null,null,"Jehoahaz's 16th & Jehoash's","t","  3rd year - I.e. the 3rd Sacred Calendar Year he reigned"," ","And Jehoash king of Judah took all the hallowed things that Jehoshaphat, and Jehoram, and Ahaziah, his fathers, kings of Judah, had dedicated, and his own hallowed things, and all the gold that was found in the treasures of the house of the Lord, and in the king's house, and sent it to Hazael king of Syria: and he went away from Jerusalem... And his servants arose, and made a conspiracy, and slew Joash in the house of Millo, which goeth down to Silla. For Jozachar the son of Shimeath, and Jehozabad the son of Shomer, his servants, smote him, and he died; and they buried him with his fathers in the city of David: and Amaziah his son reigned in his stead. 2 Kings 12:18,20-21 (KJV). \"Joash [king of Judah] was seven years old when he began to reign, and he reigned forty years in Jerusalem… And Joash did that which was right in the sight of the Lord all the days of Jehoiada the priest\" 2 Chron. 24:1 (KJV). \"But Jehoiada waxed old, and was full of days when he died; an hundred and thirty years old was he when he died. And they buried him in the city of David among the kings, because he had done good in Israel, both toward God, and toward his house. Now after the death of Jehoiada came the princes of Judah, and made obeisance to the king. Then the king hearkened unto them. And they left the house of the Lord God of their fathers, and served groves and idols: and wrath came upon Judah and Jerusalem for this their trespass. Yet he sent prophets to them, to bring them again unto the Lord; and they testified against them: but they would not give ear. And the Spirit of God came upon Zechariah the son of Jehoiada the priest, which stood above the people, and said unto them, Thus saith God, Why transgress ye the commandments of the Lord, that ye cannot prosper? because ye have forsaken the Lord, he hath also forsaken you. And they conspired against him, and stoned him with stones at the commandment of the king in the court of the house of the Lord. Thus Joash the king remembered not the kindness which Jehoiada his father had done to him, but slew his son. And when he died, he said, The Lord look upon it, and require it. And it came to pass at the end of the year, that the host of Syria came up against him: and they came to Judah and Jerusalem, and destroyed all the princes of the people from among the people, and sent all the spoil of them unto the king of Damascus. For the army of the Syrians came with a small company of men, and the Lord delivered a very great host into their hand, because they had forsaken the Lord God of their fathers. So they executed judgment against Joash. And when they were departed from him, (for they left him in great diseases,) his own servants conspired against him for the blood of the sons of Jehoiada the priest, and slew him on his bed, and he died: and they buried him in the city of David, but they buried him not in the sepulchres of the kings. And these are they that conspried against him; Zabad the son of Shimeath an Ammonitess, and Jehozabad the son of Shimrith a Moabitess.\" 2 Chron. 24:15-26 (KJV)."]
[null,null,{"$f":"C457","v":816},{"$f":"IF(C456<>\"\",IF(C456=C457,\"\",IF(C456=D455,IF(C456=C457+1,C456-1,\"\"),C456-1)),\"\")","v":""},null,null,null,null,"Amaziah",null,"  2nd year - I.e. the 2nd Sacred Calendar Year he reigned"," ",null,null,"Jehoahaz's 17th & Jehoash's",null,"  4th year - I.e. the 4th Sacred Calendar Year he reigned"," ","2 Kings 13:1,9 \"Jehoahaz the son of Jehu … reigned seventeen years… And Jehoahaz slept with his fathers; and they buried him in Samaria: and Joash his son reigned in his stead\" (KJV)."]
[{"$f":"A455+1","v":3107},null,{"$f":"C459+1","v":816},815,null,null,null,null,"Amaziah",null,"  3rd year - I.e. the 3rd Sacred Calendar Year he reigned"," ",null,null,"Jehoash (Joash)",null,"  4th year - I.e. the 4th Sacred Calendar Year he reigned"," "]
[null,null,{"$f":"C459","v":815},"",null,null,null,null,"Amaziah",null,"  3rd year - I.e. the 3rd Sacred Calendar Year he reigned"," ",null,null,"Jehoash (Joash)",null,"  5th year - I.e. the 5th Sacred Calendar Year he reigned"," "]
[{"$f":"A457+1","v":3108},null,{"$f":"C461+1","v":815},814,null,null,null,null,"Amaziah",null,"  4th year - I.e. the 4th Sacred Calendar Year he reigned"," ",null,null,"Jehoash (Joash)",null,"  5th year - I.e. the 5th Sacred Calendar Year he reigned"," "]
[null,null,{"$f":"C461","v":814},"",null,null,null,null,"Amaziah",null,"  4th year - I.e. the 4th Sacred Calendar Year he reigned"," ",null,null,"Jehoash (Joash)",null,"  6th year - I.e. the 6th Sacred Calendar Year he reigned"," "," "]
[{"$f":"A459+1","v":3109},null,{"$f":"C463+1","v":814},813,null,null,null,null,"Amaziah",null,"  5th year - I.e. the 5th Sacred Calendar Year he reigned"," ",null,null,"Jehoash (Joash)",null,"  6th year - I.e. the 6th Sacred Calendar Year he reigned"," "]
[null,null,{"$f":"C463","v":813},"",null,null,null,null,"Amaziah",null,"  5th year - I.e. the 5th Sacred Calendar Year he reigned"," ",null,null,"Jehoash (Joash)",null,"  7th year - I.e. the 7th Sacred Calendar Year he reigned"," "," "]
[{"$f":"A461+1","v":3110},null,{"$f":"C465+1","v":813},812,null,null,null,null,"Amaziah",null,"  6th year - I.e. the 6th Sacred Calendar Year he reigned"," ",null,null,"Jehoash (Joash)",null,"  7th year - I.e. the 7th Sacred Calendar Year he reigned"," "]
[null,null,{"$f":"C465","v":812},"",null,null,null,null,"Amaziah",null,"  6th year - I.e. the 6th Sacred Calendar Year he reigned"," ",null,null,"Jehoash (Joash)",null,"  8th year - I.e. the 8th Sacred Calendar Year he reigned"," "," "]
[{"$f":"A463+1","v":3111},null,{"$f":"C467+1","v":812},811,null,null,null,null,"Amaziah",null,"  7th year - I.e. the 7th Sacred Calendar Year he reigned"," ",null,null,"Jehoash (Joash)",null,"  8th year - I.e. the 8th Sacred Calendar Year he reigned"," "]
[null,null,{"$f":"C467","v":811},"",null,null,null,null,"Amaziah",null,"  7th year - I.e. the 7th Sacred Calendar Year he reigned"," ",null,null,"Jehoash (Joash)",null,"  9th year - I.e. the 9th Sacred Calendar Year he reigned"," "," "]
[{"$f":"A465+1","v":3112},null,{"$f":"C469+1","v":811},810,null,null,null,null,"Amaziah",null,"  8th year - I.e. the 8th Sacred Calendar Year he reigned"," ",null,null,"Jehoash (Joash)",null,"  9th year - I.e. the 9th Sacred Calendar Year he reigned"," "]
[null,null,{"$f":"C469","v":810},"",null,null,null,null,"Amaziah",null,"  8th year - I.e. the 8th Sacred Calendar Year he reigned"," ",null,null,"Jehoash (Joash)",null,"10th year - I.e. the 10th Sacred Calendar Year he reigned"," "," "]
[{"$f":"A467+1","v":3113},null,{"$f":"C471+1","v":810},809,null,null,null,null,"Amaziah",null,"  9th year - I.e. the 9th Sacred Calendar Year he reigned"," ",null,null,"Jehoash (Joash)",null,"10th year - I.e. the 10th Sacred Calendar Year he reigned"," "]
[null,null,{"$f":"C471","v":809},"",null,null,null,null,"Amaziah",null,"  9th year - I.e. the 9th Sacred Calendar Year he reigned"," ",null,null,"Jehoash (Joash)",null,"11th year - I.e. the 11th Sacred Calendar Year he reigned"," "," "]
[{"$f":"A469+1","v":3114},null,{"$f":"C473+1","v":809},808,null,null,null,null,"Amaziah",null,"10th year - I.e. the 10th Sacred Calendar Year he reigned"," ",null,null,"Jehoash (Joash)",null,"11th year - I.e. the 11th Sacred Calendar Year he reigned"," "]
[null,null,{"$f":"C473","v":808},"",null,null,null,null,"Amaziah",null,"10th year - I.e. the 10th Sacred Calendar Year he reigned"," ",null,null,"Jehoash (Joash)",null,"12th year - I.e. the 12th Sacred Calendar Year he reigned"," "," "]
[{"$f":"A471+1","v":3115},null,{"$f":"C475+1","v":808},807,null,null,null,null,"Amaziah",null,"11th year - I.e. the 11th Sacred Calendar Year he reigned"," ",null,null,"Jehoash (Joash)",null,"12th year - I.e. the 12th Sacred Calendar Year he reigned"," "]
[null,null,{"$f":"C475","v":807},"",null,null,null,null,"Amaziah",null,"11th year - I.e. the 11th Sacred Calendar Year he reigned"," ",null,null,"Jehoash (Joash)",null,"13th year - I.e. the 13th Sacred Calendar Year he reigned"," "," "]
[{"$f":"A473+1","v":3116},null,{"$f":"C477+1","v":807},806,null,null,null,null,"Amaziah",null,"12th year - I.e. the 12th Sacred Calendar Year he reigned"," ",null,null,"Jehoash (Joash)",null,"13th year - I.e. the 13th Sacred Calendar Year he reigned"," "]
[null,null,{"$f":"C477","v":806},"",null,null,null,null,"Amaziah",null,"12th year - I.e. the 12th Sacred Calendar Year he reigned"," ",null,null,"Jehoash (Joash)",null,"14th year - I.e. the 14th Sacred Calendar Year he reigned"," "," "]
[{"$f":"A475+1","v":3117},null,{"$f":"C479+1","v":806},805,null,null,null,null,"Amaziah",null,"13th year - I.e. the 13th Sacred Calendar Year he reigned"," ",null,null,"Jehoash (Joash)",null,"14th year - I.e. the 14th Sacred Calendar Year he reigned"," "]
[null,null,{"$f":"C479","v":805},"",null,null,null,null,"Amaziah",null,"13th year - I.e. the 13th Sacred Calendar Year he reigned"," ",null,null,"Jehoash (Joash)",null,"15th year - I.e. the 15th Sacred Calendar Year he reigned"," "," "]
[{"$f":"A477+1","v":3118},null,{"$f":"C481+1","v":805},804,null,"-702 or -700; Sennacherib invades Palestine: \"Hebrew history is closely related to Assyrian history, and with the help of common data the chronological tables have been made so accurate that while there may be room to question whether Sennacherib in his third campaign invaded Palestine in -702 or in -700, there can be no question whether this Assyrian king came to the Jerusalem of Hezekiah in -1280...\" (Ages in Chaos, p.99:4.)",null,null,"Amaziah",null,"14th year - I.e. the 14th Sacred Calendar Year he reigned"," ",null,null,"Jehoash (Joash)",null,"15th year - I.e. the 15th Sacred Calendar Year he reigned"," "]
[null,null,{"$f":"C481","v":804},"",null,null,null,null,"Amaziah",null,"14th year - I.e. the 14th Sacred Calendar Year he reigned"," ",null,1,"Jehoash (Joash)",null,"16th year - I.e. the 16th Sacred Calendar Year he reigned"," ","2 Kings 13:10-11,13 \"Jehoash… in Samaria… sixteen years. And he did that which was evil in the sight of the Lord… And Joash slept with his fathers; and Jeroboam sat upon his throne: and Joash was buried in Samaria with the kings of Israel\" (KJV).  \"And Jehoash slept with his fathers, and was buried in Samaria with the kings of Israel; and Jeroboam his son reigned in his stead\" 2 Kings 14:16 (KJV)."]
[{"$f":"A479+1","v":3119},null,{"$f":"C485+1","v":804},803,null,null,null,null,"Amaziah",null,"15th year - I.e. the 15th Sacred Calendar Year he reigned"," ",null,null,"Jeroboam's access yr & Jehoash (Joash)",null,"16th year - I.e. the 16th Sacred Calendar Year he reigned"," ","2 Kings 14:23 \"In the fifteenth year of Amaziah the son of Joash king of Judah Jeroboam the son of Joash king of Israel began to reign in Samaria, and reigned forty and one years. And he did that which was evil in the sight of the Lord: he departed not from all the sins of Jeroboam the son of Nebat, who made Israel to sin\" (KJV)."]
[null,null,null,"",null,null,null,null,null,null,null," ",null,null,null,null,null," "]
[null,null,null,"",null,null,null,null,null,null,null," ",null,null,null,null,null," "]
[null,null,{"$f":"C485","v":803},"",null,null,null,null,"Amaziah",null,"15th year - I.e. the 15th Sacred Calendar Year he reigned"," ",null,null,"Jeroboam","t","  1st year - I.e. the 1st Sacred Calendar Year he reigned"," "]
[{"$f":"A481+1","v":3120},null,{"$f":"C487+1","v":803},802,null,{"$f":"F479","v":"-702 or -700; Sennacherib invades Palestine: \"Hebrew history is closely related to Assyrian history, and with the help of common data the chronological tables have been made so accurate that while there may be room to question whether Sennacherib in his third campaign invaded Palestine in -702 or in -700, there can be no question whether this Assyrian king came to the Jerusalem of Hezekiah in -1280...\" (Ages in Chaos, p.99:4.)"},null,null,"Amaziah",null,"16th year - I.e. the 16th Sacred Calendar Year he reigned",{"$f":"L487-1","v":2},null,null,"Jeroboam",null,"  1st year - I.e. the 1st Sacred Calendar Year he reigned"," ","Re Jonah, the prophet: \"He [Jeroboam, the son of Joash, king of Israel] restored the coast of Israel from the entering of Hamath unto the sea of the plain, according to the word of the LORD God of Israel, which he spake by the hand of his servant Jonah, the prophet, which was of Gath-hepher. For the LORD saw the affliction of Israel, that it was very bitter: for there was not any shut up, nor any left, nor any helper for Israel...\" II Kings 14:25-26 KJV."]
[null,null,{"$f":"C487","v":802},"",null,null,null,null,"Amaziah",null,"16th year - I.e. the 16th Sacred Calendar Year he reigned"," ",null,null,"Jeroboam",null,"  2nd year - I.e. the 2nd Sacred Calendar Year he reigned"," "," "]
[{"$f":"A485+1","v":3121},null,802,801,null,null,null,null,"Amaziah",null,"17th year - I.e. the 17th Sacred Calendar Year he reigned",{"$f":"L489-1","v":3},null,null,"Jeroboam",null,"  2nd year - I.e. the 2nd Sacred Calendar Year he reigned"," "]
[null,null,{"$f":"C489","v":801},"",null,null,null,null,"Amaziah",null,"17th year - I.e. the 17th Sacred Calendar Year he reigned"," ",null,null,"Jeroboam",null,"  3rd year - I.e. the 3rd Sacred Calendar Year he reigned"," "," "]
[{"$f":"A487+1","v":3122},null,801,800,null,null,null,null,"Amaziah",null,"18th year - I.e. the 18th Sacred Calendar Year he reigned",{"$f":"L491-1","v":4},null,null,"Jeroboam",null,"  3rd year - I.e. the 3rd Sacred Calendar Year he reigned"," "]
[null,null,{"$f":"C491","v":800},"",null,null,null,null,"Amaziah's 18th & Azariah's",null,"Accession year"," ",null,null,"Jeroboam",null,"  4th year - I.e. the 4th Sacred Calendar Year he reigned"," "," "]
[{"$f":"A489+1","v":3123},null,800,799,null,null,null,null,"Amaziah's 19th & Azariah's",null,"  1st year - I.e. the 1st Sacred Calendar Year he reigned",{"$f":"L493-1","v":5},null,null,"Jeroboam",null,"  4th year - I.e. the 4th Sacred Calendar Year he reigned"," "]
[null,null,{"$f":"C493","v":799},"",null,null,null,null,"Amaziah's 19th & Azariah's",null,"  1st year - I.e. the 1st Sacred Calendar Year he reigned"," ",null,null,"Jeroboam",null,"  5th year - I.e. the 5th Sacred Calendar Year he reigned"," "," "]
[{"$f":"A491+1","v":3124},null,799,798,null,null,null,null,"Amaziah's 20th & Azariah's",null,"  2nd year - I.e. the 2nd Sacred Calendar Year he reigned",{"$f":"L495-1","v":6},null,null,"Jeroboam",null,"  5th year - I.e. the 5th Sacred Calendar Year he reigned"," "]
[null,null,{"$f":"C495","v":798},"",null,null,null,null,"Amaziah's 20th & Azariah's",null,"  2nd year - I.e. the 2nd Sacred Calendar Year he reigned"," ",null,null,"Jeroboam",null,"  6th year - I.e. the 6th Sacred Calendar Year he reigned"," "," "]
[{"$f":"A493+1","v":3125},null,798,797,null,null,null,null,"Amaziah's 21th & Azariah's",null,"  3rd year - I.e. the 3rd Sacred Calendar Year he reigned",{"$f":"L497-1","v":7},null,null,"Jeroboam",null,"  6th year - I.e. the 6th Sacred Calendar Year he reigned"," "]
[null,null,{"$f":"C497","v":797},"",null,null,null,null,"Amaziah's 21th & Azariah's",null,"  3rd year - I.e. the 3rd Sacred Calendar Year he reigned"," ",null,null,"Jeroboam",null,"  7th year - I.e. the 7th Sacred Calendar Year he reigned"," "," "]
[{"$f":"A495+1","v":3126},null,797,796,null,null,null,null,"Amaziah's 22th & Azariah's",null,"  4th year - I.e. the 4th Sacred Calendar Year he reigned",{"$f":"L499-1","v":8},null,null,"Jeroboam",null,"  7th year - I.e. the 7th Sacred Calendar Year he reigned"," "]
[null,null,{"$f":"C499","v":796},"",null,null,null,null,"Amaziah's 22th & Azariah's",null,"  4th year - I.e. the 4th Sacred Calendar Year he reigned"," ",null,null,"Jeroboam",null,"  8th year - I.e. the 8th Sacred Calendar Year he reigned"," "," "]
[{"$f":"A497+1","v":3127},null,796,795,null,null,null,null,"Amaziah's 23th & Azariah's",null,"  5th year - I.e. the 5th Sacred Calendar Year he reigned",{"$f":"L501-1","v":9},null,null,"Jeroboam",null,"  8th year - I.e. the 8th Sacred Calendar Year he reigned"," "]
[null,null,{"$f":"C501","v":795},"",null,null,null,null,"Amaziah's 23th & Azariah's",null,"  5th year - I.e. the 5th Sacred Calendar Year he reigned"," ",null,null,"Jeroboam",null,"  9th year - I.e. the 9th Sacred Calendar Year he reigned"," "," "]
[{"$f":"A499+1","v":3128},null,795,794,null,null,null,null,"Amaziah's 24th & Azariah's",null,"  6th year - I.e. the 6th Sacred Calendar Year he reigned",{"$f":"L503-1","v":10},null,null,"Jeroboam",null,"  9th year - I.e. the 9th Sacred Calendar Year he reigned"," "]
[null,null,{"$f":"C503","v":794},"",null,null,null,null,"Amaziah's 24th & Azariah's",null,"  6th year - I.e. the 6th Sacred Calendar Year he reigned"," ",null,null,"Jeroboam",null,"10th year - I.e. the 10th Sacred Calendar Year he reigned"," "," "]
[{"$f":"A501+1","v":3129},null,794,793,null,null,null,null,"Amaziah's 25th & Azariah's",null,"  7th year - I.e. the 7th Sacred Calendar Year he reigned",{"$f":"L505-1","v":11},null,null,"Jeroboam",null,"10th year - I.e. the 10th Sacred Calendar Year he reigned"," "]
[null,null,{"$f":"C505","v":793},"",null,null,null,null,"Amaziah's 25th & Azariah's",null,"  7th year - I.e. the 7th Sacred Calendar Year he reigned"," ",null,null,"Jeroboam",null,"11th year - I.e. the 11th Sacred Calendar Year he reigned"," "," "]
[{"$f":"A503+1","v":3130},null,793,792,null,null,null,null,"Amaziah's 26th & Azariah's",null,"  8th year - I.e. the 8th Sacred Calendar Year he reigned",{"$f":"L507-1","v":12},null,null,"Jeroboam",null,"11th year - I.e. the 11th Sacred Calendar Year he reigned"," "]
[null,null,{"$f":"C507","v":792},"",null,null,null,null,"Amaziah's 26th & Azariah's",null,"  8th year - I.e. the 8th Sacred Calendar Year he reigned"," ",null,null,"Jeroboam",null,"12th year - I.e. the 12th Sacred Calendar Year he reigned"," "," "]
[{"$f":"A505+1","v":3131},null,792,791,null,null,null,null,"Amaziah's 27th & Azariah's",null,"  9th year - I.e. the 9th Sacred Calendar Year he reigned",{"$f":"L509-1","v":13},null,null,"Jeroboam",null,"12th year - I.e. the 12th Sacred Calendar Year he reigned"," "]
[null,null,{"$f":"C509","v":791},"",null,null,null,null,"Amaziah's 27th & Azariah's",null,"  9th year - I.e. the 9th Sacred Calendar Year he reigned"," ",null,null,"Jeroboam",null,"13th year - I.e. the 13th Sacred Calendar Year he reigned"," "," "]
[{"$f":"A507+1","v":3132},null,{"$f":"C511+1","v":791},790,null,null,null,null,"Amaziah's 28th & Azariah's",null,"10th year - I.e. the 10th Sacred Calendar Year he reigned",{"$f":"L511-1","v":14},null,null,"Jeroboam",null,"13th year - I.e. the 13th Sacred Calendar Year he reigned"," "]
[null,null,{"$f":"C511","v":790},"",null,null,null,null,"Amaziah's 28th & Azariah's",null,"10th year - I.e. the 10th Sacred Calendar Year he reigned"," ",null,null,"Jeroboam",null,"14th year - I.e. the 14th Sacred Calendar Year he reigned"," "," "]
[{"$f":"A509+1","v":3133},null,{"$f":"C515+1","v":790},789,null,null,null,null,"Amaziah's 29th & Azariah's",null,"11th year - I.e. the 11th Sacred Calendar Year he reigned",{"$f":"L515-1","v":15},null,null,"Jeroboam",null,"14th year - I.e. the 14th Sacred Calendar Year he reigned"," "]
[null,null,{"$f":"C515","v":789},"",null,null,null,null,"Amaziah's 29th & Azariah's",null,"11th year - I.e. the 11th Sacred Calendar Year he reigned"," ",null,null,"Jeroboam",null,"15th year - I.e. the 15th Sacred Calendar Year he reigned"," ","\"Amaziah the son of Joash king of Judah… reigned twenty and nine years in Jerusalem… And he did that which was right in the sight of the Lord, yet not like David his father: he did according to all things as Joash his father did. How beit the high places were not taken away: as yet the people did sacrifice and burnt incense on the high places... And Amaziah the son of Joash king of Judah lived after the death of Jehoash son of Jehoahaz king of Israel fifteen years... Now they made a conspiracy against him in Jerusalem: and he fled to Lachish; but they sent after him to Lachish, and slew him there. And they brought him on horses: and he was buried at Jerusalem with his fathers in the city of David\" 2 Kings 14:2,17,19-20 (KJV).  \"Amaziah... reigned twenty and nine years in Jerusalem... And he did that which was right in the sight of the Lord, but not with a perfect heart... And Amaziah the son of Joash king of Judah lived after the death of Joash son of Jehoahaz king of Israel fifteen years... Now after the time that Amaziah did turn away from following the Lord they made a conspiracy against him in Jerusalem; and he fled to Lachish: but hey sent to Lachish after him, and slew him there. And they brought him upon horses, and buried him with his fathers in the city of Judah\" 2 Chron. 25:1,2,25,27-28 (KJV)."]
[null,null,null,"",null,null,null,null,null,null,null,null,null,null,null,null,null," "]
[null,null,null,"",null,null,null,null,null,null,null," ",null,null,null,null,null," "]
[{"$f":"A511+1","v":3134},null,{"$f":"C517+1","v":789},788,null,null,null,null,"Azariah (Uzziah)","t     2 Chron. 26:1 \"king in the room of his father Amaziah\" (KJV).","12th year - I.e. the 12th Sacred Calendar Year he reigned",16,null,null,"Jeroboam",null,"15th year - I.e. the 15th Sacred Calendar Year he reigned"," ","\"And all the people of Judah took Azariah, which was sixteen years old, and made him king instead of his father Amaziah... \" 2 Kings 14:21 (KJV).  \"Then all the people of Judah took Uzziah, who was sixteen years old, and made him king in the room of his father Amaziah… Sixteen years old was Uzziah when he began to reign, and he reigned fifty and two years in Jerusalem... And he did that which was right in the sight of the Lord, according to all that his father Amaziah did.\" 2 Chron. 26:1,3-4 (KJV)."]
[null,null,{"$f":"C517","v":788},"",null,null,null,null,"Azariah (Uzziah)",null,"12th year - I.e. the 12th Sacred Calendar Year he reigned"," ",null,null,"Jeroboam",null,"16th year - I.e. the 16th Sacred Calendar Year he reigned"," "]
[{"$f":"A515+1","v":3135},null,{"$f":"C519+1","v":788},787,null,null,null,null,"Azariah (Uzziah)",null,"13th year - I.e. the 13th Sacred Calendar Year he reigned",{"$f":"L519-1","v":17},null,null,"Jeroboam",null,"16th year - I.e. the 16th Sacred Calendar Year he reigned"," "]
[null,null,{"$f":"C519","v":787},"",null,null,null,null,"Azariah (Uzziah)",null,"13th year - I.e. the 13th Sacred Calendar Year he reigned"," ",null,null,"Jeroboam",null,"17th year - I.e. the 17th Sacred Calendar Year he reigned"," ","[Hosea's prophecy of Israel's destruction Hosea 1:1-5 \"The word of the Lord that came unto Hosea, the son of Beeri, in the days of Uzziah, Jotham, Ahaz, and Hezekiah, kings of Judah, and in the days of Jeroboam the son of Joash, king of Israel…  And the Lord said... for yet a little while, and I will avenge the blood of Jezreel upon the house of Jehu, and will cause to cease the kingdom of the house of Israel. And it shall come to pass at that day, that I will break the bow of Israel in the valley of Jezreel. (KJV)]"]
[{"$f":"A517+1","v":3136},null,{"$f":"C521+1","v":787},786,null,null,null,null,"Azariah (Uzziah)",null,"14th year - I.e. the 14th Sacred Calendar Year he reigned",{"$f":"L521-1","v":18},null,null,"Jeroboam",null,"17th year - I.e. the 17th Sacred Calendar Year he reigned"," "]
[null,null,{"$f":"C521","v":786},{"$f":"IF(C520<>\"\",IF(C520=C521,\"\",IF(C520=D519,IF(C520=C521+1,C520-1,\"\"),C520-1)),\"\")","v":""},null,null,null,null,"Azariah (Uzziah)",null,"14th year - I.e. the 14th Sacred Calendar Year he reigned"," ",null,null,"Jeroboam",null,"18th year - I.e. the 18th Sacred Calendar Year he reigned"," "]
[{"$f":"A519+1","v":3137},null,{"$f":"C523+1","v":786},785,null,null,null,null,"Azariah (Uzziah)",null,"15th year - I.e. the 15th Sacred Calendar Year he reigned",{"$f":"L523-1","v":19},null,null,"Jeroboam",null,"18th year - I.e. the 18th Sacred Calendar Year he reigned"," "]
[null,null,{"$f":"C523","v":785},"",null,null,null,null,"Azariah (Uzziah)",null,"15th year - I.e. the 15th Sacred Calendar Year he reigned"," ",null,null,"Jeroboam",null,"19th year - I.e. the 19th Sacred Calendar Year he reigned"," "]
[{"$f":"A521+1","v":3138},null,{"$f":"C525+1","v":785},784,null,null,null,null,"Azariah (Uzziah)",null,"16th year - I.e. the 16th Sacred Calendar Year he reigned",{"$f":"L525-1","v":20},null,null,"Jeroboam",null,"19th year - I.e. the 19th Sacred Calendar Year he reigned"," ","[Amos' prophecy - fulfilled in re Damascus/Syria (Amos 1:5) about the time of Ahaz's 9th and Pekah's 18th/19th year and in re Israel in the 3201st year (per my calculations), i.e. when Israel was taken captive to Assyria about 65 years after Amos' prophecy was given. (cf. notes at the [year 3189] starting: \"[A 65 year or less prophecy...\" and \"[References to Tiglathpileser...\"): \"The words of Amos… which he saw concerning Israel in the days of Uzziah king of Judah, and in the days of Jeroboam the son of Joash king of Israel, two years before the earthquake. And he said, The Lord will roar from Zion, and utter his voice from Jerusalem... Thus saith the Lord... I will break also the bar of Damascus, and cut off the inhabitant from the plain of Aven, and him that holdeth the sceptre from the house of Eden: and the people of Syria shall go into captivity unto Kir, saith the Lord...\"  Amos 1:1-2,3,5 (KJV).]"]
[null,null,{"$f":"C525","v":784},"",null,null,null,null,"Azariah (Uzziah)",null,"16th year - I.e. the 16th Sacred Calendar Year he reigned"," ",null,null,"Jeroboam",null,"20th year - I.e. the 20th Sacred Calendar Year he reigned"," "]
[{"$f":"A523+1","v":3139},null,{"$f":"C527+1","v":784},783,null,null,null,null,"Azariah (Uzziah)",null,"17th year - I.e. the 17th Sacred Calendar Year he reigned",{"$f":"L527-1","v":21},null,null,"Jeroboam",null,"20th year - I.e. the 20th Sacred Calendar Year he reigned"," "]
[null,null,{"$f":"C527","v":783},"",null,null,null,null,"Azariah (Uzziah)",null,"17th year - I.e. the 17th Sacred Calendar Year he reigned"," ",null,null,"Jeroboam",null,"21st year - I.e. the 21st Sacred Calendar Year he reigned"," "]
[{"$f":"A525+1","v":3140},null,{"$f":"C529+1","v":783},782,null,null,null,null,"Azariah (Uzziah)",null,"18th year - I.e. the 18th Sacred Calendar Year he reigned",{"$f":"L529-1","v":22},null,null,"Jeroboam",null,"21st year - I.e. the 21st Sacred Calendar Year he reigned"," "]
[null,null,{"$f":"C529","v":782},"",null,null,null,null,"Azariah (Uzziah)",null,"18th year - I.e. the 18th Sacred Calendar Year he reigned"," ",null,null,"Jeroboam",null,"22nd year - I.e. the 22nd Sacred Calendar Year he reigned"," "]
[{"$f":"A527+1","v":3141},null,{"$f":"C531+1","v":782},781,null,null,null,null,"Azariah (Uzziah)",null,"19th year - I.e. the 19th Sacred Calendar Year he reigned",{"$f":"L531-1","v":23},null,null,"Jeroboam",null,"22nd year - I.e. the 22nd Sacred Calendar Year he reigned"," "]
[null,null,{"$f":"C531","v":781},"",null,null,null,null,"Azariah (Uzziah)",null,"19th year - I.e. the 19th Sacred Calendar Year he reigned"," ",null,null,"Jeroboam",null,"23rd year - I.e. the 23rd Sacred Calendar Year he reigned"," "]
[{"$f":"A529+1","v":3142},null,{"$f":"C533+1","v":781},780,null,null,null,null,"Azariah (Uzziah)",null,"20th year - I.e. the 20th Sacred Calendar Year he reigned",{"$f":"L533-1","v":24},null,null,"Jeroboam",null,"23rd year - I.e. the 23rd Sacred Calendar Year he reigned"," "]
[null,null,{"$f":"C533","v":780},"",null,null,null,null,"Azariah (Uzziah)",null,"20th year - I.e. the 20th Sacred Calendar Year he reigned"," ",null,null,"Jeroboam",null,"24th year - I.e. the 24th Sacred Calendar Year he reigned"," "]
[{"$f":"A531+1","v":3143},null,{"$f":"C535+1","v":780},779,null,null,null,null,"Azariah (Uzziah)",null,"21st year - I.e. the 21st Sacred Calendar Year he reigned",{"$f":"L535-1","v":25},null,null,"Jeroboam",null,"24th year - I.e. the 24th Sacred Calendar Year he reigned"," "]
[null,null,{"$f":"C535","v":779},"",null,null,null,null,"Azariah (Uzziah)",null,"21st year - I.e. the 21st Sacred Calendar Year he reigned"," ",null,null,"Jeroboam",null,"25th year - I.e. the 25th Sacred Calendar Year he reigned"," "]
[{"$f":"A533+1","v":3144},null,{"$f":"C537+1","v":779},778,null,null,null,null,"Azariah (Uzziah)",null,"22nd year - I.e. the 22nd Sacred Calendar Year he reigned",{"$f":"L537-1","v":26},null,null,"Jeroboam",null,"25th year - I.e. the 25th Sacred Calendar Year he reigned"," "]
[null,null,{"$f":"C537","v":778},"",null,null,null,null,"Azariah (Uzziah)",null,"22nd year - I.e. the 22nd Sacred Calendar Year he reigned"," ",null,null,"Jeroboam",null,"26th year - I.e. the 26th Sacred Calendar Year he reigned"," "]
[{"$f":"A535+1","v":3145},null,{"$f":"C539+1","v":778},777,null,null,null,null,"Azariah (Uzziah)",null,"23rd year - I.e. the 23rd Sacred Calendar Year he reigned",{"$f":"L539-1","v":27},null,null,"Jeroboam",null,"26th year - I.e. the 26th Sacred Calendar Year he reigned"," "]
[null,null,{"$f":"C539","v":777},"",null,null,null,null,"Azariah (Uzziah)",null,"23rd year - I.e. the 23rd Sacred Calendar Year he reigned"," ",null,null,"Jeroboam",null,"27th year - I.e. the 27th Sacred Calendar Year he reigned"," ","\"In the twenty and seventh year of Jeroboam king of Israel began Azariah son of Amaziah king of Judah to reign... And the Lord smote the king so that he was a leper unto the day of his death, and dwelt in a several house.   And Jotham the king's son was over the house, judging the people of the land... and Jotham his son reigned in his stead\" 2 Kings 15:1,5 (KJV). PROBLEM UNRESOLVED: Either this text expands the time-line by 23 years, more or less, while also creating long periods of unlikely, and unaccounted for, interregnum periods for both Judah (11 or 12 years) and Israel (23 years), OR else the text, consistent with the Hebrew text, merely means 'In the 27th year... Azariah... reigned... And the Lord smote the king...'.  However, if the 27 years pertains to King Azariah (Uzziah) becoming a leper at this time, then his son and successor/judge is not yet born for another 6 years, more or less. It cannot possibly pertain to Jotham taking over the kings responsibilities at age 25 y/o at this time, because Jotham's father Azariah was at this time only about 28 y/o (i.e. given this scenario).  It is of course possible, even likely, that Azariah (Uzziah) continued to rule actively for a number of years after the onset of his leprosy and until he would allow his son Jotham to take over as his illness was getting worse."]
[{"$f":"A537+1","v":3146},null,{"$f":"C541+1","v":777},776,null,null,null,null,"Azariah (Uzziah)",null,"24th year - I.e. the 24th Sacred Calendar Year he reigned",28,null,null,"Jeroboam",null,"27th year - I.e. the 27th Sacred Calendar Year he reigned"," "]
[null,null,{"$f":"C541","v":776},"",null,null,null,null,"Azariah (Uzziah)",null,"24th year - I.e. the 24th Sacred Calendar Year he reigned"," ",null,null,"Jeroboam",null,"28th year - I.e. the 28th Sacred Calendar Year he reigned"," "]
[{"$f":"A539+1","v":3147},null,{"$f":"C543+1","v":776},775,null,null,null,null,"Azariah (Uzziah)",null,"25th year - I.e. the 25th Sacred Calendar Year he reigned"," ",null,null,"Jeroboam",null,"28th year - I.e. the 28th Sacred Calendar Year he reigned"," "]
[null,null,{"$f":"C543","v":775},"",null,null,null,null,"Azariah (Uzziah)",null,"25th year - I.e. the 25th Sacred Calendar Year he reigned"," ",null,null,"Jeroboam",null,"29th year - I.e. the 29th Sacred Calendar Year he reigned"," "]
[{"$f":"A541+1","v":3148},null,{"$f":"C545+1","v":775},774,null,null,null,null,"Azariah (Uzziah)",null,"26th year - I.e. the 26th Sacred Calendar Year he reigned"," ",null,null,"Jeroboam",null,"29th year - I.e. the 29th Sacred Calendar Year he reigned"," "]
[null,null,{"$f":"C545","v":774},"",null,null,null,null,"Azariah (Uzziah)",null,"26th year - I.e. the 26th Sacred Calendar Year he reigned"," ",null,null,"Jeroboam",null,"30th year - I.e. the 30th Sacred Calendar Year he reigned"," "," "]
[{"$f":"A543+1","v":3149},null,{"$f":"C547+1","v":774},773,null,null,null,null,"Azariah (Uzziah)",null,"27th year - I.e. the 27th Sacred Calendar Year he reigned"," ",null,null,"Jeroboam",null,"30th year - I.e. the 30th Sacred Calendar Year he reigned"," "]
[null,null,{"$f":"C547","v":773},"",null,null,null,null,"Azariah (Uzziah)",null,"27th year - I.e. the 27th Sacred Calendar Year he reigned"," ",null,null,"Jeroboam",null,"31st year - I.e. the 31st Sacred Calendar Year he reigned"," "," "]
[{"$f":"A545+1","v":3150},null,{"$f":"C549+1","v":773},772,null,null,null,null,"Azariah (Uzziah)",null,"28th year - I.e. the 28th Sacred Calendar Year he reigned"," ",null,null,"Jeroboam",null,"31st year - I.e. the 31st Sacred Calendar Year he reigned"," "]
[null,null,{"$f":"C549","v":772},"",null,null,null,null,"Azariah (Uzziah)",null,"28th year - I.e. the 28th Sacred Calendar Year he reigned"," ",null,null,"Jeroboam",null,"32nd year - I.e. the 32nd Sacred Calendar Year he reigned"," "," "]
[{"$f":"A547+1","v":3151},null,{"$f":"C551+1","v":772},771,null,null,null,null,"Azariah (Uzziah)",null,"29th year - I.e. the 29th Sacred Calendar Year he reigned"," ",null,null,"Jeroboam",null,"32nd year - I.e. the 32nd Sacred Calendar Year he reigned"," "]
[null,null,{"$f":"C551","v":771},"",null,null,null,null,"Azariah (Uzziah)",null,"29th year - I.e. the 29th Sacred Calendar Year he reigned"," ",null,null,"Jeroboam",null,"33rd year - I.e. the 33rd Sacred Calendar Year he reigned"," "," "]
[{"$f":"A549+1","v":3152},null,{"$f":"C553+1","v":771},770,null,null,null,null,"Azariah (Uzziah)",null,"30th year - I.e. the 30th Sacred Calendar Year he reigned",{"$f":"L553-1","v":0},null,null,"Jeroboam",null,"33rd year - I.e. the 33rd Sacred Calendar Year he reigned"," "]
[null,null,{"$f":"C553","v":770},"",null,null,null,null,"Azariah (Uzziah)",null,"30th year - I.e. the 30th Sacred Calendar Year he reigned"," ",null,null,"Jeroboam",null,"34th year - I.e. the 34th Sacred Calendar Year he reigned"," "," "]
[{"$f":"A551+1","v":3153},null,{"$f":"C555+1","v":770},769,null,null,null,null,"Azariah (Uzziah)",null,"31st year - I.e. the 31st Sacred Calendar Year he reigned",{"$f":"L555-1","v":1},null,null,"Jeroboam",null,"34th year - I.e. the 34th Sacred Calendar Year he reigned"," ","[Tobit, of the tribe of Naphtali, born in this year. Cf note 58 years later at the 14th year of Hezekiah, king of Judah.]"]
[null,null,{"$f":"C555","v":769},"",null,null,null,null,"Azariah (Uzziah)",null,"31st year - I.e. the 31st Sacred Calendar Year he reigned"," ",null,null,"Jeroboam",null,"35th year - I.e. the 35th Sacred Calendar Year he reigned"," "," "]
[{"$f":"A553+1","v":3154},null,{"$f":"C557+1","v":769},768,null,null,null,null,"Azariah (Uzziah)",null,"32nd year - I.e. the 32nd Sacred Calendar Year he reigned",{"$f":"L557-1","v":2},null,null,"Jeroboam",null,"35th year - I.e. the 35th Sacred Calendar Year he reigned"," "]
[null,null,{"$f":"C557","v":768},"",null,null,null,null,"Azariah (Uzziah)",null,"32nd year - I.e. the 32nd Sacred Calendar Year he reigned"," ",null,null,"Jeroboam",null,"36th year - I.e. the 36th Sacred Calendar Year he reigned"," "," "]
[{"$f":"A555+1","v":3155},null,{"$f":"C559+1","v":768},767,null,null,null,null,"Azariah (Uzziah)",null,"33rd year - I.e. the 33rd Sacred Calendar Year he reigned",{"$f":"L559-1","v":3},null,null,"Jeroboam",null,"36th year - I.e. the 36th Sacred Calendar Year he reigned"," "]
[null,null,{"$f":"C559","v":767},"",null,null,null,null,"Azariah (Uzziah)",null,"33rd year - I.e. the 33rd Sacred Calendar Year he reigned"," ",null,null,"Jeroboam",null,"37th year - I.e. the 37th Sacred Calendar Year he reigned"," "," "]
[{"$f":"A557+1","v":3156},null,{"$f":"C561+1","v":767},766,null,null,null,null,"Azariah (Uzziah)",null,"34th year - I.e. the 34th Sacred Calendar Year he reigned",{"$f":"L561-1","v":4},null,null,"Jeroboam",null,"37th year - I.e. the 37th Sacred Calendar Year he reigned"," "]
[null,null,{"$f":"C561","v":766},"",null,null,null,null,"Azariah (Uzziah)",null,"34th year - I.e. the 34th Sacred Calendar Year he reigned"," ",null,null,"Jeroboam",null,"38th year - I.e. the 38th Sacred Calendar Year he reigned"," "," "]
[{"$f":"A559+1","v":3157},null,{"$f":"C563+1","v":766},765,null,{"$f":"F4","v":"Velikovsky’s “…nomenclature for the Egyptian dysasties.\n The Middle Kingdom of Egypt (the division into Eleventh and Twelfth Dynasties is unnecessary) came to its end in a natural catastrophe in the mid-fifteenth century before the present era; the land was invaded by the Arabs (Amalekites, known as Amu to the Egyptians, or as Hyksos to Greek authors). The Arab Dynasty ruled for over four hundred years, till about -1020. Already before that date there were vassal princes in Thebes. The Arab domination of Egypt was terminated by the united efforts of Saul of Israel and Kamose and Ahmose of Thebes. For the next (almost) two hundred years (ca. -1200 to ca. -830) the land was ruled by the Theban Dynasty (known as the Eighteenth) of Thutmoses and Amenhoteps. Close to the end of that period, Akhnaton moved the capi9tal to Akhet-Aton (el-Amarna) but Thebes was soon restored as the capital under Smenkhkare and Ay.\n The Theban period was followed by the Libyan domination of Sosenks [= Shoshenk, cf. Ages in Chaos, p. 174-176] and Osorkons for over one hundred years (ca. -830 to ca. -720). Next came the Ethiopian rule that endured for fifty or sixty years; however, at the same time the Assyrians pressed from the north and the land was occupied repeatedly by Sennacherib (who crowned Haremheb), Esarhaddon, and Assurbanipal (who elevated Necho I-Rameses I to be a vassal king). When Necho was killed by invading Ethiopians, Assurbanipal once more occupied Thebes (-663).\n The period of the Tanitic Dynasty follows: Seti (Psammetich of the Greek authors), son of Ramses I (Necho I), obtained independence from Assurbanipal and acted as his ally in his wars against the Chaldeans and Medes, Seti’s capital was in Tanis in the Delta, The Tanitic Dynasty endured from -663 to -525. After Seti reigned Ramses II (Necho II), his son, who for a lengthy period had been Seti’s co-ruler. He carried on a prolonged war with Nebuchadnezzar, the Chaldean. Ramses’ heir Merneptah (Hophra of Jeremiah and Apries of Herodutus) lost the throne to a rebel, General Amasis, the latter reigned in peace for over forty years and died when Cambyses the Persian was already on his march of conquest toward Egypt.\n From -525 to -332, for close to two hundred years, Egypt was dominated by the Persian kings (Cambyses, Darius, Xerxes, Artaxerxes I, Darius II, Artaxerxes II and III); some of them were crowned also as Egyptian pharaohs; they kept native governors in Egypt like Psamshek or Nekht-hor.\n In the fourth century, during the reigns of Artaxerxer II and Artaxerxes III, Egypt achieved a measure of independence comparable to the independence the Greek states maintained during thetime of the Great Kings of Persia.  Nepherites, Acoris, Nectanebo I (Ramses III), Tachos, and Nectanebo II were the indigenous kings of that period and they could be termed Native Kings or, if preferred, Sebennytic Dynasty, for the place of origin of the most famous of them. At the same time a Priestly Dynasty established already by Darius II (about -420) ruled in the military outposts-the oases of the Libyan desert. Thjey continued there till past -300.\n The Persians succeeded in -343 to reconquering Egypt, Nectanebo II escaping to the Sudan, but ten years later Egypt received Alexander as its liberator (-332). The Macedonian Dynasty endured three hundred years, with the Ptolemies on the throne till Cleopatra’s suicide in -30. Thereafter the Roman caesars ruled Egypt.\n This order of dynastic succession, relieved of thenumbered dynasties, is simple to comprehend: Arab, Theban, Libyan, Ethiopian (repeatedly interrupted by Assyrian conquests), Tanitic, Persian (partly Sebennytic), and Macedonian Dynasties in this sequence. As can readily be seen, for most of the fourteen hundred years (ca. -1450 to -30), Egypt was ruled by foreigners: the three periods when it was ruled by native kings were under the Theban (-1020 to -830), the Tanitic (-663 to -525), and the Sebennytic (ca. -391 to -341) Dynasties, altogether something like 380 years out of 1420.” (Peoples of the Sea, p. 194:2-195:end.)\n"},null,null,"Azariah (Uzziah)",null,"35th year - I.e. the 35th Sacred Calendar Year he reigned",{"$f":"L563-1","v":5},null,null,"Jeroboam",null,"38th year - I.e. the 38th Sacred Calendar Year he reigned"," "]
[null,null,{"$f":"C563","v":765},"",null,null,null,null,"Azariah (Uzziah)",null,"35th year - I.e. the 35th Sacred Calendar Year he reigned"," ",null,null,"Jeroboam",null,"39th year - I.e. the 39th Sacred Calendar Year he reigned"," "," "]
[{"$f":"A561+1","v":3158},null,{"$f":"C565+1","v":765},764,null,null,null,null,"Azariah (Uzziah)",null,"36th year - I.e. the 36th Sacred Calendar Year he reigned",{"$f":"L565-1","v":6},null,null,"Jeroboam",null,"39th year - I.e. the 39th Sacred Calendar Year he reigned"," "]
[null,null,{"$f":"C565","v":764},"",null,null,null,null,"Azariah (Uzziah)",null,"36th year - I.e. the 36th Sacred Calendar Year he reigned"," ",null,null,"Jeroboam",null,"40th year - I.e. the 40th Sacred Calendar Year he reigned"," "," "]
[{"$f":"A563+1","v":3159},null,{"$f":"C567+1","v":764},763,null,null,null,null,"Azariah (Uzziah)",null,"37th year - I.e. the 37th Sacred Calendar Year he reigned",{"$f":"L567-1","v":7},null,null,"Jeroboam",null,"40th year - I.e. the 40th Sacred Calendar Year he reigned"," "]
[null,null,{"$f":"C567","v":763},"",null,null,null,null,"Azariah (Uzziah)",null,"37th year - I.e. the 37th Sacred Calendar Year he reigned"," ",null,null,"Jeroboam",null,"41st year - I.e. the 41st Sacred Calendar Year he reigned"," "]
[{"$f":"A565+1","v":3160},null,{"$f":"C571+1","v":763},762,null,null,null,null,"Azariah (Uzziah)",null,"38th year - I.e. the 38th Sacred Calendar Year he reigned",{"$f":"L571-1","v":8},null,null,"Jeroboam",null,"41st year - I.e. the 41st Sacred Calendar Year he reigned"," ","2 Kings 14:23,29. \"In the fifteenth year of Amaziah the son of Joash king of Judah Jeroboam the son of Joash king of Israel began to reign in Samaria, and reigned forty and one years… And Jeroboam slept with his fathers, even with the kings of Israel; and Zachariah his son reigned in his stead\" (KJV)."]
[null,null,null,"",null,null,null,null,null,null,null," ",null,null,null,null,null," "]
[null,null,null,"",null,null,null,null,null,null,null," ",null,null,null,null,null," "]
[null,null,{"$f":"C571","v":762},"",null,null,null,null,"Azariah (Uzziah)",null,"38th year - I.e. the 38th Sacred Calendar Year he reigned"," ",null,null,"Jeroboam's 42nd & Zachariah's","t","6 months"," ","\"In the thirty and eight year of Azariah king of Judah did Zachariah the son of Jeroboam reign over Israel in Samaria six months\" 2 Kings 15:8 (KJV). \"And Jeroboam slept with his fathers, even with the kings of Israel; and Zachariah his son reigned in his stead\" 2 Kings 14:29 (KJV)."]
[{"$f":"A567+1","v":3161},null,{"$f":"C574","v":762},761,null,null,null,null,"Azariah (Uzziah)",null,"39th year - I.e. the 39th Sacred Calendar Year he reigned",{"$f":"L574-1","v":9},null,null,"Zachariah's 6 mo. & Shallum's","t","1 month"," "]
[null,null,null,"",null,null,null,null,null,null,null," ",null,null," ",null,null," "," "]
[null,null,null,""]
[{"$f":"A571","v":3161},null,{"$f":"C576","v":762},761,null,null,null,null,"Azariah (Uzziah)",null,"39th year - I.e. the 39th Sacred Calendar Year he reigned",{"$f":"L578-1","v":10},null,null,"Zachariah's 6 mo. & Shallum's","t","1 month"," ","\"And Shallum the son of Jabesh conspired against him [Zachariah the son of Jeroboam], and smote him before the people, and slew him, and reigned in his stead… This was the word of the Lord which he spake unto Jehu, saying, Thy sons shall sit on the throne of Israel unto the fourth generation. And so it came to pass. Shallum the son of Jabesh began to reign in the nine and thirtieth year of Uzziah king of Judah; and he reigned a full month [jerech jamim = 1 month and 1+ day ? OR 'a month of hot days' ? / gs] in Samaria. For Menahem the son of Gadi went up from Tirzah, and came to Samaria, and smote Shallum the son of Jabesh in Samaria, and slew him, and reigned in his stead\" 2 Kings 15:10, 12-14 (KJV)."]
[null,null,null,""]
[{"$f":"A574","v":3161},null,{"$f":"C578+1","v":762},761,null,null,null,null,null,null,null," ",null,null,null,null,null," "]
[null,null,{"$f":"C578","v":761},"",null,null,"\"Tigrath Pileser III (-745 to -727) of Asssyria was called Pul in Babylonia, also a domain of his\" (Ramses II and His Time p.100:4).",null,"Azariah (Uzziah)",null,"39th year - I.e. the 39th Sacred Calendar Year he reigned"," ",null,null,"Shallum's 1 mo. & Menahem's","t","Accession year"," ","\"For Menahem the son of Gadi went up from Tirzah, and came to Samaria, and smote Shallum the son of Jabesh in Samaria, and slew him, and reigned in his stead… Then Menahem smote Tiphsah, and all that were therein, and the coasts thereof from \"Tirzah: because they opened not to him, therefore he smote it; and all the women therein that were with child he ripped up. In the nine and thirtieth year of Azariah king of Judah began Menahem the son of Gadi to reign over Israel, and reigned ten years in Samaria. And he did that wich was evil in the sight of the Lord: he departed not all his days from the sins of Jeroboam the son of Nebat, who made Israel to sin. And Pul the king of Assyria came against the land: and Menahem gave Pul a thousand talents of silver, that his hand might be with him to confirm the kingdom in his hand. And Menahem slept with his fathers; and Pekahiah his son reigned in his stead\" 2 Kings 15:14,16-20,22 (KJV).  [Cf. \"And the God of Israel stirred up the spirit of Pul king of Assyria, and the spirit of Tilgath-pilneser king of Assyria, and he carried them away... and brought them unto Halah, and Habor, and Hara, and to the river Gozan, unto this day...\" 1 Cron. 5:26 (KJV).]   "]
[{"$f":"A576+1","v":3162},null,761,760,null,null,null,null,"Azariah (Uzziah)",null,"40th year - I.e. the 40th Sacred Calendar Year he reigned",{"$f":"L580-1","v":11},null,null,"Menahem",null,"Accession year"," "]
[null,null,{"$f":"C580","v":760},"",null,null,null,null,"Azariah (Uzziah)",null,"40th year - I.e. the 40th Sacred Calendar Year he reigned"," ",null,null,"Menahem",null,"  1st year - I.e. the 1st Sacred Calendar Year he reigned"," "," "]
[{"$f":"A578+1","v":3163},null,760,759,null,null,null,null,"Azariah (Uzziah)",null,"41st year - I.e. the 41st Sacred Calendar Year he reigned",{"$f":"L582-1","v":12},null,null,"Menahem",null,"  1st year - I.e. the 1st Sacred Calendar Year he reigned"," "]
[null,null,{"$f":"C582","v":759},"",null,null,null,null,"Azariah (Uzziah)",null,"41st year - I.e. the 41st Sacred Calendar Year he reigned"," ",null,null,"Menahem",null,"  2nd year - I.e. the 2nd Sacred Calendar Year he reigned"," "," "]
[{"$f":"A580+1","v":3164},null,759,758,null,null,null,null,"Azariah (Uzziah)",null,"42nd year - I.e. the 42nd Sacred Calendar Year he reigned",{"$f":"L584-1","v":13},null,null,"Menahem",null,"  2nd year - I.e. the 2nd Sacred Calendar Year he reigned"," "]
[null,null,{"$f":"C584","v":758},"",null,null,null,null,"Azariah (Uzziah)",null,"42nd year - I.e. the 42nd Sacred Calendar Year he reigned"," ",null,null,"Menahem",null,"  3rd year - I.e. the 3rd Sacred Calendar Year he reigned"," "," "]
[{"$f":"A582+1","v":3165},null,758,{"$f":"IF(C584<>\"\",IF(C584=C585,\"\",IF(C584=D583,IF(C584=C585+1,C584-1,\"\"),C584-1)),\"\")","v":757},null,null,null,null,"Azariah (Uzziah)",null,"43rd year - I.e. the 43rd Sacred Calendar Year he reigned",{"$f":"L586-1","v":14},null,null,"Menahem",null,"  3rd year - I.e. the 3rd Sacred Calendar Year he reigned"," "]
[null,null,{"$f":"C586","v":757},"",null,null,null,null,"Azariah (Uzziah)",null,"43rd year - I.e. the 43rd Sacred Calendar Year he reigned"," ",null,null,"Menahem",null,"  4th year - I.e. the 4th Sacred Calendar Year he reigned"," "," "]
[{"$f":"A584+1","v":3166},null,757,756,null,null,null,null,"Azariah (Uzziah)",null,"44th year - I.e. the 44th Sacred Calendar Year he reigned",{"$f":"L588-1","v":15},null,null,"Menahem",null,"  4th year - I.e. the 4th Sacred Calendar Year he reigned"," "]
[null,null,{"$f":"C588","v":756},"",null,null,null,null,"Azariah (Uzziah)",null,"44th year - I.e. the 44th Sacred Calendar Year he reigned"," ",null,null,"Menahem",null,"  5th year - I.e. the 5th Sacred Calendar Year he reigned"," ","[References to Pul the king of Assyria: \"And Pul the king of Assyria came against the land: and Menahem gave Pul a thousand talents of silver, that his hand might be with him to confirm the kingdom in his hand. And Menahem exacted the money of Israel, even of all the mighty men of wealth, of each man fifty shekels of silver, to give to the king of Assyria. So the king of Assyria turned back, and stayed not there in the land\" 2 Kings 15:19-20 (KJV).]"]
[{"$f":"A586+1","v":3167},null,756,755,null,null,null,null,"Azariah (Uzziah)",null,"45th year - I.e. the 45th Sacred Calendar Year he reigned",{"$f":"L590-1","v":16},null,null,"Menahem",null,"  5th year - I.e. the 5th Sacred Calendar Year he reigned"," "]
[null,null,{"$f":"C590","v":755},"",null,null,null,null,"Azariah (Uzziah)",null,"45th year - I.e. the 45th Sacred Calendar Year he reigned"," ",null,null,"Menahem",null,"  6th year - I.e. the 6th Sacred Calendar Year he reigned"," "," "]
[{"$f":"A588+1","v":3168},null,755,754,null,null,null,null,"Azariah (Uzziah)",null,"46th year - I.e. the 46th Sacred Calendar Year he reigned",{"$f":"L592-1","v":17},null,null,"Menahem",null,"  6th year - I.e. the 6th Sacred Calendar Year he reigned"," "]
[null,null,{"$f":"C592","v":754},"",null,null,null,null,"Azariah (Uzziah)",null,"46th year - I.e. the 46th Sacred Calendar Year he reigned"," ",null,null,"Menahem",null,"  7th year - I.e. the 7th Sacred Calendar Year he reigned"," "," "]
[{"$f":"A590+1","v":3169},null,754,753,null,null,null,null,"Azariah (Uzziah)",null,"47th year - I.e. the 47th Sacred Calendar Year he reigned",{"$f":"L594-1","v":18},null,null,"Menahem",null,"  7th year - I.e. the 7th Sacred Calendar Year he reigned"," "]
[null,null,{"$f":"C594","v":753},"",null,null,null,null,"Azariah (Uzziah)",null,"47th year - I.e. the 47th Sacred Calendar Year he reigned"," ",null,null,"Menahem",null,"  8th year - I.e. the 8th Sacred Calendar Year he reigned"," "," "]
[{"$f":"A592+1","v":3170},null,753,752,null,null,null,null,"Azariah (Uzziah)",null,"48th year - I.e. the 48th Sacred Calendar Year he reigned",{"$f":"L596-1","v":19},null,null,"Menahem",null,"  8th year - I.e. the 8th Sacred Calendar Year he reigned"," "]
[null,null,{"$f":"C596","v":752},"",null,null,null,null,"Azariah (Uzziah)",null,"48th year - I.e. the 48th Sacred Calendar Year he reigned"," ",null,null,"Menahem",null,"  9th year - I.e. the 9th Sacred Calendar Year he reigned"," "]
[{"$f":"A594+1","v":3171},null,{"$f":"C598+1","v":752},751,null,null,null,null,"Azariah (Uzziah)",null,"49th year - I.e. the 49th Sacred Calendar Year he reigned",{"$f":"L598-1","v":20},null,null,"Menahem",null,"  9th year - I.e. the 9th Sacred Calendar Year he reigned"," "]
[null,null,{"$f":"C598","v":751},"",null,null,null,null,"Azariah (Uzziah)",null,"49th year - I.e. the 49th Sacred Calendar Year he reigned"," ",null,null,"Menahem",null,"10th year - I.e. the 10th Sacred Calendar Year he reigned"," "," "]
[{"$f":"A596+1","v":3172},null,{"$f":"C602+1","v":751},750,null,null,null,null,"Azariah (Uzziah)",null,"50th year - I.e. the 50th Sacred Calendar Year he reigned",{"$f":"L602-1","v":21},null,1,"Pekahiah's access yr & Menahem's",null,"10th year - I.e. the 10th Sacred Calendar Year he reigned"," ","\"Menahem the son of Gadi… reigned ten years in Samaria. And he did that which was evil in the sight of the Lord… And Menahem slept with his fathers; and Pekahiah his son reigned in his stead\" 2 Kings 15:17,18,22 (KJV). 2 Kings 15:17"]
[null,null,null,"",null,null,null,null,null,null,null," ",null,null,null,null,null," "]
[null,null,null,"",null,null,null,null,null,null,null," ",null,null,null,null,null," "]
[null,null,{"$f":"C602","v":750},"",null,null,null,null,"Azariah (Uzziah)",null,"50th year - I.e. the 50th Sacred Calendar Year he reigned"," ",null,null,"Pekahiah","t","  1st year - I.e. the 1st Sacred Calendar Year he reigned"," ","\"In the fiftieth year of Azariah king of Judah Pekahiah the son of Menahem began to reign over Israel in Samaria, and reigned two years ['shanatajin', i.e. '> 1 yr']. And he did that which was evil in the sight of the Lord: he departed not from the sins of Jeroboam the son of Nebat, who made Israel to sin. But Pekah the son of Remaliah, a captain of his, conspired against him, and smote him in Samaria, in the palace of the king's house... and he killed him, and reigned in his room\" 2 Kings 15:23-25 (KJV)."]
[{"$f":"A598+1","v":3173},null,{"$f":"C604+1","v":750},749,null,null,null,null,"Azariah (Uzziah)",null,"51st year - I.e. the 51st Sacred Calendar Year he reigned",22,null,null,"Pekahiah",null,"  1st year - I.e. the 1st Sacred Calendar Year he reigned"," "]
[null,null,{"$f":"C604","v":749},"",null,null,null,null,"Azariah (Uzziah)",null,"51st year - I.e. the 51st Sacred Calendar Year he reigned"," ",null,null,"Pekahiah",null,"  2nd year - I.e. the 2nd Sacred Calendar Year he reigned"," ","2 Kings 15:23 (Here the Hebrew word 'shanatajim' is translated 'two years'. As we have seen before the word is applicable to any duration greater than one (1) year; in this case apparently it applies to 1+ Babylonian/Israelian regnal year; other places we've seen it apply to a rule covering a short time period before and after a Scriptural year \"cut-off.\" Please compare other notes above, e.g. Gen. 11:10!)"]
[{"$f":"A602+1","v":3174},null,{"$f":"C608+1","v":749},748,null,null,null,null,"Azariah (Uzziah)",null,"52nd year - I.e. the 52nd Sacred Calendar Year he reigned",23,null,1,"Pekah's access yr & Pekahiah's",null,"  2nd year - I.e. the 2nd Sacred Calendar Year he reigned"," "]
[null,null,null,"",null,null,null,null,null,null,null," ",null,null,null,null,null," "]
[null,null,null,"",null,null,null,null,null,null,null," ",null,null,null,null,null," "]
[null,null,{"$f":"C608","v":748},"",null,null,null,null,"Azariah (Uzziah)",null,"52nd year - I.e. the 52nd Sacred Calendar Year he reigned"," ",null,null,"Pekah","t","  1st year - I.e. the 1st Sacred Calendar Year he reigned"," ","\"But Pekah the son of Remaliah, a captain of his [i.e. of Pekahiah], conspired against him, and smote him in Samaria… and he killed him, and reigned in his room… In the two and fiftieth year of Azariah king of Judah Pekah the son of Remaliah began to reign over Israel in Samaria, and reigned twenty years. And he did that which was evil in the sight of the Lord: he departed not from the sins of Jeroboam the son of Nebat, who made Israel to sin. In the days of Pekah king of Israel came Tiglath-pileser king of Assyria, and took Ijon, and... and carried them captive to Assyria... And Hoshea the son of Elah made a conspiracy against Pekah the son of Remaliah, and smote him, and slew him, and reigned in his stead, in the twentieth year of Jotham the son of Uzziah\" 2 Kings 15:25,27-30 (KJV)."]
[{"$f":"A604+1","v":3175},null,{"$f":"C612+1","v":748},747,null,null,null,null,"Azariah (Uzziah)",null,"53nd year - I.e. the 53nd Sacred Calendar Year he reigned",{"$f":"L609-1","v":24},null,null,"Pekah",null,"  1st year - I.e. the 1st Sacred Calendar Year he reigned"," ","\"Azariah son of Amaziah king of Judah… reigned two and fifty years in Jerusalem… And he did that which was right in the sight of the Lord, according to all that his father Amaziah had done; Save that the high places were not removed: the people sacrificed and burnt incense still on the high places. And the Lord smote the king so that he was a leper unto the day of his death, and dwelt in a several house. And Jotham the king's son was over the house, judging the people of the land... So Azariah slept with his fathers; and they buried him with his fathers in the city of David: and Jotham his son reigned in his stead\" 2 Kings 15:1-5,7 (KJV).  \"Uzziah... reigned fifty and two years in Jerusalem... And he did that which was right in the sight of the Lord, according to all that his father Amaziah did. And he sought God in the days of Zechariah, who had understanding in the visions of \"God: and as long as he sought the Lord, God made him to prosper\" 2 Chron. 26:3-5 (KJV)."]
[null,null,{"$f":"C612","v":747},"",null,null,null,null,"Jotham's access yr & Azariah's (Uzziah's)",null,"53nd year - I.e. the 53nd Sacred Calendar Year he reigned",25,1,null,"Pekah",null,"  2nd year - I.e. the 2nd Sacred Calendar Year he reigned"," "," "]
[null,null,null,"",null,null,null,null,null,null,null," ",null,null,null,null,null," "]
[null,null,null,"",null,null,null,null,null,null,null," ",null,null,null,null,null," "]
[{"$f":"A608+1","v":3176},null,{"$f":"C614+1","v":747},746,null,null,null,null,"Jotham","t","  1st year - I.e. the 1st Sacred Calendar Year he reigned",{"$f":"L614-1","v":5},null,null,"Pekah",null,"  2nd year - I.e. the 2nd Sacred Calendar Year he reigned"," ","\"In the second year of Pekah the son of Remaliah king of Israel began Jotham the son of Uzziah king of Judah to reign. Five and twenty years old was he when he began to reign, and he reigned sixteen years in Jerusalem… And he did that which was right in the sight of the Lord: he did according to all that his father Uzziah had done. Howbeit the high places were not removed: the people sacrificed and burned incense still in the high places. He built the higher gate of the house of the Lord\" 2 Kings 15:32 (KJV)."]
[null,null,{"$f":"C614","v":746},"",null,null,null,null,"Jotham",null,"  1st year - I.e. the 1st Sacred Calendar Year he reigned"," ",null,null,"Pekah",null,"  3rd year - I.e. the 3rd Sacred Calendar Year he reigned"," "," "]
[{"$f":"A612+1","v":3177},null,746,745,null,null,null,null,"Jotham",null,"  2nd year - I.e. the 2nd Sacred Calendar Year he reigned",{"$f":"L616-1","v":6},null,null,"Pekah",null,"  3rd year - I.e. the 3rd Sacred Calendar Year he reigned"," "]
[null,null,{"$f":"C616","v":745},"",null,null,null,null,"Jotham",null,"  2nd year - I.e. the 2nd Sacred Calendar Year he reigned"," ",null,null,"Pekah",null,"  4th year - I.e. the 4th Sacred Calendar Year he reigned"," "," "]
[{"$f":"A614+1","v":3178},null,745,744,null,null,null,null,"Jotham",null,"  3rd year - I.e. the 3rd Sacred Calendar Year he reigned",{"$f":"L618-1","v":7},null,null,"Pekah",null,"  4th year - I.e. the 4th Sacred Calendar Year he reigned"," "]
[null,null,{"$f":"C618","v":744},"",null,null,null,null,"Jotham",null,"  3rd year - I.e. the 3rd Sacred Calendar Year he reigned"," ",null,null,"Pekah",null,"  5th year - I.e. the 5th Sacred Calendar Year he reigned"," "," "]
[{"$f":"A616+1","v":3179},null,744,743,null,null,null,null,"Jotham",null,"  4th year - I.e. the 4th Sacred Calendar Year he reigned",{"$f":"L620-1","v":8},null,null,"Pekah",null,"  5th year - I.e. the 5th Sacred Calendar Year he reigned"," "]
[null,null,{"$f":"C620","v":743},"",null,null,null,null,"Jotham",null,"  4th year - I.e. the 4th Sacred Calendar Year he reigned"," ",null,null,"Pekah",null,"  6th year - I.e. the 6th Sacred Calendar Year he reigned"," "," "]
[{"$f":"A618+1","v":3180},null,743,742,null,null,null,null,"Jotham",null,"  5th year - I.e. the 5th Sacred Calendar Year he reigned",{"$f":"L622-1","v":9},null,null,"Pekah",null,"  6th year - I.e. the 6th Sacred Calendar Year he reigned"," "]
[null,null,{"$f":"C622","v":742},"",null,null,null,null,"Jotham",null,"  5th year - I.e. the 5th Sacred Calendar Year he reigned"," ",null,null,"Pekah",null,"  7th year - I.e. the 7th Sacred Calendar Year he reigned"," "," "]
[{"$f":"A620+1","v":3181},null,742,741,null,null,null,null,"Jotham",null,"  6th year - I.e. the 6th Sacred Calendar Year he reigned",{"$f":"L624-1","v":10},null,null,"Pekah",null,"  7th year - I.e. the 7th Sacred Calendar Year he reigned"," "]
[null,null,{"$f":"C624","v":741},"",null,null,null,null,"Jotham",null,"  6th year - I.e. the 6th Sacred Calendar Year he reigned"," ",null,null,"Pekah",null,"  8th year - I.e. the 8th Sacred Calendar Year he reigned"," "," "]
[{"$f":"A622+1","v":3182},null,741,740,null,null,null,null,"Jotham",null,"  7th year - I.e. the 7th Sacred Calendar Year he reigned",{"$f":"L626-1","v":11},null,null,"Pekah",null,"  8th year - I.e. the 8th Sacred Calendar Year he reigned"," "]
[null,null,{"$f":"C626","v":740},"",null,null,null,null,"Jotham",null,"  7th year - I.e. the 7th Sacred Calendar Year he reigned"," ",null,null,"Pekah",null,"  9th year - I.e. the 9th Sacred Calendar Year he reigned"," "," "]
[{"$f":"A624+1","v":3183},null,740,739,null,null,null,null,"Jotham",null,"  8th year - I.e. the 8th Sacred Calendar Year he reigned",{"$f":"L628-1","v":12},null,null,"Pekah",null,"  9th year - I.e. the 9th Sacred Calendar Year he reigned"," "]
[null,null,{"$f":"C628","v":739},"",null,null,null,null,"Jotham",null,"  8th year - I.e. the 8th Sacred Calendar Year he reigned"," ",null,null,"Pekah",null,"10th year - I.e. the 10th Sacred Calendar Year he reigned"," "]
[{"$f":"A626+1","v":3184},null,739,738,null,null,null,null,"Jotham's 9th & Ahaz's",null,"  1st year - I.e. the 1st Sacred Calendar Year he reigned",{"$f":"L630-1","v":13},null,null,"Pekah",null,"10th year - I.e. the 10th Sacred Calendar Year he reigned"," ","(According to 2 Kings 15:30 & 17:1 Jotham's 20th year is the same year as Ahaz's 12th year, thus this is a case of co-regency. Said fact is sustained also by the fact that Hoshea, King of Israel slew Pekah and then took over his throne)"]
[null,null,{"$f":"C630","v":738},"",null,null,null,null,"Jotham's 9th & Ahaz's",null,"  1st year - I.e. the 1st Sacred Calendar Year he reigned"," ",null,null,"Pekah",null,"11th year - I.e. the 11th Sacred Calendar Year he reigned"," "," "]
[{"$f":"A628+1","v":3185},null,738,737,null,null,null,null,"Jotham's 10th & Ahaz's",null,"  2nd year - I.e. the 2nd Sacred Calendar Year he reigned",{"$f":"L632-1","v":14},null,null,"Pekah",null,"11th year - I.e. the 11th Sacred Calendar Year he reigned"," "]
[null,null,{"$f":"C632","v":737},"",null,null,null,null,"Jotham's 10th & Ahaz's",null,"  2nd year - I.e. the 2nd Sacred Calendar Year he reigned"," ",null,null,"Pekah",null,"12th year - I.e. the 12th Sacred Calendar Year he reigned"," "," "]
[{"$f":"A630+1","v":3186},null,737,736,null,null,null,null,"Jotham's 11th & Ahaz's",null,"  3rd year - I.e. the 3rd Sacred Calendar Year he reigned",{"$f":"L634-1","v":15},null,null,"Pekah",null,"12th year - I.e. the 12th Sacred Calendar Year he reigned"," "]
[null,null,{"$f":"C634","v":736},"",null,null,null,null,"Jotham's 11th & Ahaz's",null,"  3rd year - I.e. the 3rd Sacred Calendar Year he reigned"," ",null,null,"Pekah",null,"13th year - I.e. the 13th Sacred Calendar Year he reigned"," "," "]
[{"$f":"A632+1","v":3187},null,736,735,null,null,null,null,"Jotham's 12th & Ahaz's",null,"  4th year - I.e. the 4th Sacred Calendar Year he reigned",{"$f":"L636-1","v":16},null,null,"Pekah",null,"13th year - I.e. the 13th Sacred Calendar Year he reigned"," "]
[null,null,{"$f":"C636","v":735},"",null,null,null,null,"Jotham's 12th & Ahaz's",null,"  4th year - I.e. the 4th Sacred Calendar Year he reigned"," ",null,null,"Pekah",null,"14th year - I.e. the 14th Sacred Calendar Year he reigned"," "," "]
[{"$f":"A634+1","v":3188},null,735,734,null,null,null,null,"Jotham's 13th & Ahaz's",null,"  5th year - I.e. the 5th Sacred Calendar Year he reigned",{"$f":"L638-1","v":17},null,null,"Pekah",null,"14th year - I.e. the 14th Sacred Calendar Year he reigned"," "]
[null,null,{"$f":"C638","v":734},"",null,null,null,null,"Jotham's 13th & Ahaz's",null,"  5th year - I.e. the 5th Sacred Calendar Year he reigned"," ",null,null,"Pekah",null,"15th year - I.e. the 15th Sacred Calendar Year he reigned"," "," "]
[{"$f":"A636+1","v":3189},null,{"$f":"C640+1","v":734},733,null,null,null,null,"Jotham's 14th & Ahaz's",null,"  6th year - I.e. the 6th Sacred Calendar Year he reigned",{"$f":"L640-1","v":18},null,null,"Pekah",null,"15th year - I.e. the 15th Sacred Calendar Year he reigned"," "]
[null,null,{"$f":"C640","v":733},"",null,null,null,null,"Jotham's 14th & Ahaz's",null,"  6th year - I.e. the 6th Sacred Calendar Year he reigned"," ",null,null,"Pekah",null,"16th year - I.e. the 16th Sacred Calendar Year he reigned"," "," "]
[{"$f":"A638+1","v":3190},null,{"$f":"C644+1","v":733},732,null,null,null,null,"Jotham's 15th & Ahaz's",null,"  7th year - I.e. the 7th Sacred Calendar Year he reigned",{"$f":"L644-1","v":19},null,null,"Pekah",null,"16th year - I.e. the 16th Sacred Calendar Year he reigned"," "]
[null,null,{"$f":"C644","v":732},"",null,null,null,null,"Jotham's 15th & Ahaz's",null,"  7th year - I.e. the 7th Sacred Calendar Year he reigned"," ",null,null,"Pekah",null,"17th year - I.e. the 17th Sacred Calendar Year he reigned"," ","\"Jotham the son of Uzziah king of Judah… reigned sixteen years in Jerusalem… And he did that which was right in the sight of the Lord: he did according to all that his father Uzziah had done. Howbeit the high places were not removed: the people sacrificed and burned incense still in the high places. He built the higher gate of the house of the Lord... And Jotham slept with his fathers, and was buried with his fathers in the city of David his father: and Ahaz his son reigned in his stead\" 2 Kings 15:33,38; 2 Chron. 27:1,8"]
[null,null,null,"",null,null,null,null,null,null,null," ",null,null,null,null,null," "]
[null,null,null,""]
[{"$f":"A640+1","v":3191},null,{"$f":"C646+1","v":732},731,null,null,null,null,"Jotham's 16th & Ahaz's","t","  8th year - I.e. the 8th Sacred Calendar Year he reigned",20,null,null,"Pekah",null,"17th year - I.e. the 17th Sacred Calendar Year he reigned"," ","\"In the seventeenth year of Pekah the son of Remaliah Ahaz the son of Jotham king of Judah began to reign. Twenty years old was Ahaz when he began to reign, and reigned sixteen years in Jerusalem, and did not that which was right in the sight of the Lord his God, like David his father. But he walked in the way of the kings of Israel, yea, and made his son to pass through the fire, acccording to the abominations of the heathen, whom the Lord cast out from before the children of Israel. And he sacrificed and burnt incense in the high places, and on the hills, and under every green tree.\" 2 Kings 16:1 (KJV)."]
[null,null,{"$f":"C646","v":731},"",null,null,null,null,"Jotham's 16th & Ahaz's",null,"  8th year - I.e. the 8th Sacred Calendar Year he reigned"," ",null,null,"Pekah",null,"18th year - I.e. the 18th Sacred Calendar Year he reigned"," "]
[{"$f":"A644+1","v":3192},null,{"$f":"C648+1","v":731},730,null,null,null,null,"Ahaz",null,"  9th year - I.e. the 9th Sacred Calendar Year he reigned",{"$f":"L648-1","v":20},null,null,"Pekah",null,"18th year - I.e. the 18th Sacred Calendar Year he reigned"," ","[A 65 year or less prophecy found in Isaiah 7:1,3,8-9 \"And it came to pass in the days of Ahaz the son of Jotham, the son of Uzziah, king of Judah... Then said the Lord unto Isaiah... Within threescore and five years shall Ephraim be broken, that it be not a people. And the head of Ephraim is Samaria, and the head of Samaria is Remaliah's son\"]  NOTICE> Are the 65 years in reference to Amos' prophecy as given around 65 years prior to the time when Israel was taken captive to Assyria in 3201st year, i.e. at the completion of the year 3200-65=3135?!!!"]
[null,null,{"$f":"C648","v":730},"",null,null,null,null,"Ahaz",null,"  9th year - I.e. the 9th Sacred Calendar Year he reigned"," ",null,null,"Pekah",null,"19th year - I.e. the 19th Sacred Calendar Year he reigned"," ","[References to Tiglathpileser king of Assyria: \"In the days of Pekah king of Israel came Tiglath-pileser king of Assyria, and took… and carried them captive to Assyria…\" 2 Kings 15:29 (KJV). \"So Ahaz sent messengers to Tiglath-pileser king of Assyria, saying, I am thy servant and thy son: come up, and save me out of the hand of the king of Syria, and out of the hand of the king of Israel, which rise up against me. And Ahaz took the silver and gold that was found in the house of the Lord, and in the treasures of the king's house, and sent it for a present to the king of Assyria... And king Ahaz went to Damascus to meet Tiglath-pileser king of Assyria...\" 2 Kings 16:7-8,10 (KJV). \"At that time did king Ahaz sent unto the kings of Assyria to help him... And Tilgath-pilneser king of Assyria came unto him, and distressed him, but strengthened him not. For Ahaz took away a portion out of the house of the Lord, and out of the house of the king, and of the princes, and gave it unto the king of Assyria: but he helped him not\" 2 Chron. 28:16,20-21 (KJV). \"Beerah his son, whom Tilgath-pilneser king of Assyria carried away captive [The word 'captive' is italized in the KJV!]: he was prince of the Reubenites\" 1 Chron. 5:6 (KJV).] NOTICE: Timing of the latter part of this event should be about 3 years before the end of Pekah AND while Ahaz was ruling as king. Cf. Isaiah 7:10-16 & 8:1-8 (KJV copied on Sheet 11), \"Now the rest of the acts of Jothan, and all that he did, are they not written in the book of the chronicles of the kings of Judah? In those days the Lord began to send against Judah Rezin the king of Syria, and Pekah the son of Remaliah\" 2 Kings 15:36-37 (KJV), and \"Then Rezin king of Syria and Pekah son of Remaliah king of Israel came up to Jerusalem to war: and they besieged Ahaz, but could not overcome him. At that time Rezin king of Syria recovered Elath to Syria, and drave the Jews from Elath: and the Syrians came to Elath, and dwelt there unto this day. So Ahaz sent messengers to Tiglath-pileser king of Assyria, saying, I am thy servant and thy son: come up, and save me out of the hand of the king of Syria, and out of the hand of the king of Israel, which rise up against me. And Ahaz took the silver and gold that was found in the house of the Lord, and in the treasures of the king's house, and sent it for a present to the king of Assyria. And the king of Assyria hearkened unto him: for the king of Assyria went up against Damascus, and took it, and carried the people of it captive to Kir, and slew Rezin. And king Ahaz went to Damascus to meet Tiglath-pileser king of Assyria, and saw an altar that was  at Damascus: and king Ahaz sent to Uriajah the priest the fashion of the altar, and the pattern of it...\" 2 Kings 16:5-10 (KJV).   \"And the God of Israel stirred up the spirit of Pul king of Assyria, and the spirit of Tilgathpilneser king of Assyria, and he carried them away, even the Reubenites, and the Gadites, and the half tribe of Manasseh, and brought them unto Halah, and Habor, and Hara, and to the river Gozan, unto this day.\" 1 Chron. 5:26 KJV."]
[{"$f":"A646+1","v":3193},null,{"$f":"C650+1","v":730},{"$f":"IF(C648<>\"\",IF(C648=C649,\"\",IF(C648=D647,IF(C648=C649+1,C648-1,\"\"),C648-1)),\"\")","v":729},null,null,null,null,"Ahaz",null,"10th year - I.e. the 10th Sacred Calendar Year he reigned",{"$f":"L650-1","v":21},null,null,"Pekah",null,"19th year - I.e. the 19th Sacred Calendar Year he reigned"," "]
[null,null,{"$f":"C650","v":729},"",null,null,null,null,"Ahaz",null,"10th year - I.e. the 10th Sacred Calendar Year he reigned"," ",null,null,"Pekah",null,"20th year - I.e. the 20th Sacred Calendar Year he reigned"," "]
[{"$f":"A648+1","v":3194},null,{"$f":"C652+1","v":729},728,null,null,null,null,"Ahaz",null,"11th year - I.e. the 11th Sacred Calendar Year he reigned",{"$f":"L652-1","v":22},null,null,"Pekah",null,"20th year - I.e. the 20th Sacred Calendar Year he reigned"," "]
[null,null,{"$f":"C652","v":728},"",null,null,null,null,"Ahaz",null,"11th year - I.e. the 11th Sacred Calendar Year he reigned"," ",null,null,"Pekah",null,"21st year - I.e. the 21st Sacred Calendar Year he reigned"," "]
[{"$f":"A650+1","v":3195},null,{"$f":"C656+1","v":728},727,null,null,null,null,"Ahaz (Jotham's 20th year)",null,"12th year - I.e. the 12th Sacred Calendar Year he reigned",23,null,null,"Hoshea's access yr & Pekah's",null,"21st year - I.e. the 21st Sacred Calendar Year he reigned"," ","\"But Pekah the son of Remaliah... reigned twenty years. And he did that which was evil in the sight of the Lord: he departed not from the sins of Jeroboam the son of Nebat, who made Israel to sin. In the days of Pekah king of Israel came Tiglath-pileser king of Assyria, and took Ijon, and... and carried them captive to Assyria... And Hoshea the son of Elah made a conspiracy against Pekah the son of Remaliah, and smote him, and slew him, and reigned in his stead, in the twentieth year of Jotham the son of Uzziah\" 2 Kings 15:27 (KJV)."]
[null,null,null,"",null,null,null,null,null,null,null," "]
[null,null,null,"",null,null,null,null,null,null,null,null,null,null,null,null,null," "]
[null,null,{"$f":"C656","v":727},"",null,null,null,null,"Ahaz (Jotham's 20th year)",null,"12th year - I.e. the 12th Sacred Calendar Year he reigned"," ",null,null,"Hoshea","t","  1st year - I.e. the 1st Sacred Calendar Year he reigned"," ","\"And Hoshea the son of Elah made a conspiracy against Pekah the son of Remaliah, and smote him, and slew him, and reigned in his stead, in the twentieth year of Jotham the son of Uzziah\" 2 Kings 15:30 (KJV). \"In the twelfth year of Ahaz king of Judah began Hoshea the son of Elah to reign in Samaria over Israel nine years. And he did that which was evil in the sight of the Lord, but not as the kings of Israel that were before him. Against him came up Shalmaneser king of Assyria; and Hoshea became his servant, and gave him presents...\" 2 Kings 17:1-3 (KJV). "]
[{"$f":"A652+1","v":3196},null,{"$f":"C658+1","v":727},726,null,null,null,null,"Ahaz",null,"13th year - I.e. the 13th Sacred Calendar Year he reigned",23,null,null,"Hoshea",null,"  1st year - I.e. the 1st Sacred Calendar Year he reigned"," "]
[null,null,{"$f":"C658","v":726},"",null,null,null,null,"Ahaz",null,"13th year - I.e. the 13th Sacred Calendar Year he reigned"," ",null,null,"Hoshea",null,"  2nd year - I.e. the 2nd Sacred Calendar Year he reigned"," "," "]
[{"$f":"A656+1","v":3197},null,{"$f":"C662+1","v":726},725,null,null,null,null,"Ahaz",null,"14th year - I.e. the 14th Sacred Calendar Year he reigned",24,null,null,"Hoshea",null,"  2nd year - I.e. the 2nd Sacred Calendar Year he reigned"," "]
[null,null,{"$f":"C662","v":725},"",null,null,null,null,"Hezikiah's access yr & Ahaz'",null,"14th year - I.e. the 14th Sacred Calendar Year he reigned"," ",null,null,"Hoshea",null,"  3rd year - I.e. the 3rd Sacred Calendar Year he reigned"," ","2 Kings 18:1"]
[null,null,null,"",null,null,null,null,null,null,null,null,null,null,null,null,null," "]
[null,null,null,"",null,null,null,null,null,null,null," ",null,null,null,null,null," ","2 Kings 18:1 Resolved PROBLEM: Hezekiah's first year is given in 2 Kings 18:1 as the third year of Hoshea's, BUT Hezekiah's 4th and 6th years are given as Hoshea's 7th and 9th years in 2 Kings 17:5-6 & 18:9-11. Considering the reiteration of the latter pairs of years it appears that one should focus upon the question as to why the 1st year is given as the 3rd rather than the 4th year. The answer may be found in considering 2 Chron. 29:3&29:17 \"He [Hezekiah] in the first year of his reign, in the first month, opened the doors of the house of the Lord, and repaired them... Now they began on the first day of the first month to sanctify, and on the eight day of the month came they to the porch of the Lord: so they sanctified the house of the Lord in eight days; and in the sixteenth day of the first month they made an end\".  Going through the ceremonies of becoming king and getting a revolutionary project on foot within the span of 12 hours, i.e. dawn to dusk, would seem possibly less than likely.  More likely, considering Hezekiah's desire to put God first, would be that he would chose to disregard whatever time was given him as a king in a prior year, i.e. the 3rd year of Hoshea, and use that time merely for making his plans for how to give highest priority to God, e.g. by starting on the the sanctification of the House of God on the First Day of the First Month of the First Year of his reign as a Servant and Subject of God.  By so doing Hezekiah would be giving First Title to the Creator of all.  HOWEVER, and as portrayed upon this sheet/table, Israel and Judah did not necessarily use the same annual Calendar.  Possibly this was one of the major sins committed by Jeroboam, King of Israel, and the many evil kings following in his footsteps.  I.e. the use a different reckoning of time - Consider the words \"He [Hezekiah] in the first year... opened the doors of the house of the Lord...\", as symbolizing the sanctity, and the priority, of time in the eyes of the Creator of Time as reflected in e.g. Dan. 7:25 \"And he shall speak great words against the most High, and shall... think to change times and laws\", Ex. 20:8 \"Remember the sabbath day, to keep it holy\", Deut. 5:12 \"Keep the sabbath day to sanctify it...\", versus the institution of a new feast Day, possibly to replace Passover (?), by Jeroboam: \"And Jeroboam said in his heart, Now shall the kingdom return to the house of David; If this people go up to do sacrifice in the house of the Lord at Jerusalem, then shall the heart of this people turn again unto their lord [jealousy is inconsistent with the tenth commandment]... Whereupon the king... made two calves of gold [thus reiterating the sin under Aaron at Mt. Sinai and sinning against the 1st and 2nd commandments], and said unto them [the people], It is too much for you to go up to Jerusalem: behold thy gods, O Israel, which brought thee up out of the land of Egypt [thus directly challenging God's Title to His people and to His Time and His Calendar as protected by the 1st and the 4th commandments as recorded in Deuteronomy 5:6&15]... and Jeroboam ordained a feast in the eighth month, on the fifteenth day of the month, like unto the feast that is in Judah [Which feast? Passover?]\" 1 Kings 12:26-32 (KJV). Is this the basis for the two different Hebrew Calendars, one starting in Nisan, the other in Tishrei, i.e. in the 7th month?)  "]
[{"$f":"A658+1","v":3198},{"$f":"B664-1","v":-723},{"$f":"C664+1","v":725},724,null,null,null,null,"Ahaz's 15th & Hezekiah's","t","  1st year - I.e. the 1st Sacred Calendar Year he reigned",25,null,null,"Hoshea",null,"  3rd year - I.e. the 3rd Sacred Calendar Year he reigned"," ","\"Now they began on the first day of the first month to sanctify, and on the eighth day of the month came they to the porch of the Lord... \" 2 Chron. 29:17 (KJV).  \"And Hezekiah sent to all Israel and Judah, and wrote letters... that they should come to the house of the Lord at Jerusalem, to keep the passover unto the Lord God of Israel... in the second month. For they could not keep it at that time [i.e. in the first month], because the priests had not sanctified themselves sufficiently...\" 2 Chron. 30:1-3 (KJV).   [NOTICE the use of the Sacred Calendar, apparently still being used in Judah, even at this time of the very last king of Israel, when even in Judah the most important of all annual Feasts, the Passover, had been long forgotten!]"]
[null,-722,{"$f":"C664","v":724},"",null,null,null,null,"Ahaz's 15th & Hezekiah's",null,"  1st year - I.e. the 1st Sacred Calendar Year he reigned"," ",null,null,"Hoshea",null,"  4th year - I.e. the 4th Sacred Calendar Year he reigned"," "]
[{"$f":"A662+1","v":3199},-722,724,723,null,null,null,null,"Ahaz's 16th & Hezekiah's",null,"  2nd year - I.e. the 2nd Sacred Calendar Year he reigned",{"$f":"L662+1","v":26},null,null,"Hoshea",null,"  4th year - I.e. the 4th Sacred Calendar Year he reigned"," "]
[null,-721,{"$f":"C666","v":723},"",null,null,null,null,"Ahaz's 16th & Hezekiah's",null,"  2nd year - I.e. the 2nd Sacred Calendar Year he reigned"," ",null,null,"Hoshea",null,"  5th year - I.e. the 5th Sacred Calendar Year he reigned"," ","\"Ahaz the son of Jotham king of Judah... reigned sixteen years in Jerusalem, and did not that which was right in the sight of the Lord his God, like David his father. But he walked in the way of the kings of Israel, yea, and made his son to pass through the fire, according to the abominations of the heathen, whom the Lord cast out from before the children of Israel. And he sacrificed and burnt incense in the high places, and on the hills, and under every green tree.\" 2 Kings 16:1-4 (KJV).  \"Ahaz...reigned sixteen years in Jerusalem: but he did not that which was right in the sight of the Lord, like David his father: For he walked in the ways of the kings of Israel, and made also molten images for Baalim. Moreover he burnt incense in the valley of the son of Hinnom, and burnt his children in the fire, after the abominations of the heathen whom the Lord had cast out before the children of Israel. He sacrificed also and burnt incense in the high places, and on the hills, and under every green tree.. Wherefore the Lord his God delivered him into the hand of the king of Syria; and they smote him, and carried away a great multitude of them captives, and brought them to Damascus. And he was also delivered into the hand of the king of Israel, who smote him with a great slaughter\" 2 Chron. 28:1-5 (KJV)."]
[{"$f":"A664+1","v":3200},-721,723,722,null,null,null,null,"Hezekiah",null,"  3rd year - I.e. the 3rd Sacred Calendar Year he reigned",{"$f":"L664+1","v":27},null,null,"Hoshea",null,"  5th year - I.e. the 5th Sacred Calendar Year he reigned"," "]
[null,-720,{"$f":"C668","v":722},"",null,null,null,null,"Hezekiah",null,"  3rd year - I.e. the 3rd Sacred Calendar Year he reigned"," ",null,null,"Hoshea",null,"  6th year - I.e. the 6th Sacred Calendar Year he reigned"," "]
[{"$f":"A666+1","v":3201},{"$f":"B670-1","v":-720},722,721,null,null,null,null,"Hezekiah",null,"  4th year - I.e. the 4th Sacred Calendar Year he reigned",{"$f":"L666+1","v":28},null,null,"Hoshea",null,"  6th year - I.e. the 6th Sacred Calendar Year he reigned"," "]
[null,{"$f":"B671-1","v":-719},{"$f":"C670","v":721},"",null,null,null,null,"Hezekiah",null,"  4th year - I.e. the 4th Sacred Calendar Year he reigned"," ",null,null,"Hoshea",null,"  7th year - I.e. the 7th Sacred Calendar Year he reigned"," ","\"And it came to pass in the fourth year of king Hezekiah, which was the seventh year of Hoshea son of Elah king of Israel, that Shalmaneser king of Assyria came up against Samaria, and besieged it. And at the end of three years they took it: even in the sixth year of Hezekiah, that is the ninth year of Hoshea king of Israel, Samaria was taken...\" 2 Kings 18:9-11 (KJV).  \"Then the king of Assyria came up throughout all the land, and went up to Samaria, and besieged it three years. In the ninth year of Hoshea the king of Assyria took Samaria, and carried Israel away into Assyria, and placed them in Halah and in Habor by the river of Gozan, and in the cities of the Medes\" 2 Kings 17:5-6 (KJV)."]
[{"$f":"A668+1","v":3202},{"$f":"B672-1","v":-719},{"$f":"C672+1","v":721},720,null,null,null,null,"Hezekiah",null,"  5th year - I.e. the 5th Sacred Calendar Year he reigned",{"$f":"L668+1","v":29},null,null,"Hoshea",null,"  7th year - I.e. the 7th Sacred Calendar Year he reigned"," "]
[null,{"$f":"B673-1","v":-718},{"$f":"C672","v":720},"",null,null,null,null,"Hezekiah",null,"  5th year - I.e. the 5th Sacred Calendar Year he reigned"," ",null,null,"Hoshea",null,"  8th year - I.e. the 8th Sacred Calendar Year he reigned"," "]
[{"$f":"A670+1","v":3203},{"$f":"B677-1","v":-718},{"$f":"C677+1","v":720},719,null,null,null,null,"Hezekiah",null,"  6th year - I.e. the 6th Sacred Calendar Year he reigned",{"$f":"L670+1","v":30},null,null,"Hoshea",null,"  8th year - I.e. the 8th Sacred Calendar Year he reigned"," "]
[null,{"$f":"B678-1","v":-717},{"$f":"C677","v":719},"",null,null,null,null,"Hezekiah",null,"  6th year - I.e. the 6th Sacred Calendar Year he reigned"," ",null,null,"Hoshea",null,"  9th year - I.e. the 9th Sacred Calendar Year he reigned"," ","2 Kings 17:1 \"In the twelfth year of Ahaz king of Judah began Hoshea the son of Elah to reign in Samaria over Israel nine years\" (KJV).  \""]
[null,null,null,"",null,null,null,null,null,null,null," ",null,null,null,null,null," "]
[null,null,null,"",null,null,null,null,null,null,null," ",null,null,null,null,null," "]
[null,null,null,"",null,null,null,null,null,null,null," ",null,null,"Israel brought into Assyria",null,null," ","2 Kings 17:6 \"In the ninth year of Hoshea the king of Assyria took Samaria, and carried Israel away into Assyria, and placed them in Halah and in Habor by the river of Gozan, and in the cities of the Medes\" (KJV)."]
[{"$f":"A672+1","v":3204},{"$f":"B679-1","v":-717},{"$f":"C679+1","v":719},718,null,null,null,null,"Hezekiah",null,"  7th year - I.e. the 7th Sacred Calendar Year he reigned",{"$f":"L672+1","v":31},null,null,"Hoshea",null,"  9th year - I.e. the 9th Sacred Calendar Year he reigned"," "]
[null,-716,{"$f":"C679","v":718},"",null,null,null,null,"Hezekiah",null,"  7th year - I.e. the 7th Sacred Calendar Year he reigned"," ",null,null," ",null,null," "]
[{"$f":"A677+1","v":3205},-716,718,717,null,null,null,null,"Hezekiah",null,"  8th year - I.e. the 8th Sacred Calendar Year he reigned",{"$f":"L677+1","v":32},null,null," ",null,null," "]
[null,-715,{"$f":"C681","v":717},"",null,null,null,null,"Hezekiah",null,"  8th year - I.e. the 8th Sacred Calendar Year he reigned"," ",null,null," ",null,null," "," "]
[{"$f":"A679+1","v":3206},-715,717,716,null,null,null,null,"Hezekiah",null,"  9th year - I.e. the 9th Sacred Calendar Year he reigned",{"$f":"L679+1","v":33},null,null," ",null,null," "]
[null,-714,{"$f":"C683","v":716},"",null,null,null,null,"Hezekiah",null,"  9th year - I.e. the 9th Sacred Calendar Year he reigned"," ",null,null," ",null,null," "," "]
[{"$f":"A681+1","v":3207},-714,716,715,null,null,null,null,"Hezekiah",null,"10th year - I.e. the 10th Sacred Calendar Year he reigned",{"$f":"L681+1","v":34},null,null," ",null,null," "]
[null,-713,{"$f":"C685","v":715},"",null,null,null,null,"Hezekiah",null,"10th year - I.e. the 10th Sacred Calendar Year he reigned"," ",null,null," ",null,null," "," "]
[{"$f":"A683+1","v":3208},-713,715,714,null,null,null,null,"Hezekiah",null,"11th year - I.e. the 11th Sacred Calendar Year he reigned",{"$f":"L683+1","v":35},null,null," ",null,null," "]
[null,-712,{"$f":"C687","v":714},"",null,null,null,null,"Hezekiah",null,"11th year - I.e. the 11th Sacred Calendar Year he reigned"," ",null,null," ",null,null," "," "]
[{"$f":"A685+1","v":3209},-712,714,713,null,null,null,null,"Hezekiah",null,"12th year - I.e. the 12th Sacred Calendar Year he reigned",{"$f":"L685+1","v":36}]
[null,-711,{"$f":"C689","v":713},"",null,null,null,null,"Hezekiah",null,"12th year - I.e. the 12th Sacred Calendar Year he reigned"," ",null,null," ",null,null," "," "]
[{"$f":"A687+1","v":3210},-711,713,712,null,null,null,null,"Hezekiah",null,"13th year - I.e. the 13th Sacred Calendar Year he reigned",{"$f":"L687+1","v":37}]
[null,-710,{"$f":"C691","v":712},"",null,null,null,null,"Hezekiah",null,"13th year - I.e. the 13th Sacred Calendar Year he reigned"," ",null,null," ",null,null," "," "]
[{"$f":"A689+1","v":3211},-710,712,711,null,-702,"\"...the ashes of -586. Together with Jerusalem, Lachish and Azekah were the last strongholds to oppose the Chaldean army... In -702 Sennacherib assaulted the city and had his artist depict this assault... in his palace at Nineveh... Now, one hundred and fifteen years later, the city suffered another siege - by the troops of Nebuchadnezzar\" (Rameses II and His Time p.44:2-5). ",null,"Hezekiah",null,"14th year - I.e. the 14th Sacred Calendar Year he reigned",{"$f":"L689+1","v":38},null,null,null,null,null,null,"Apocrypha considerations: [Sennacherib's <50-55 days of reign in Assyria/Babylonia: \"And if Sennacherib the king put to death any who came fleeing from Judea, I buried them secretly. For in his anger he put many to death. When the bodies were sought by the king, they were not found. Then one of the men of Nineveh went and informed the king about me, that I was burying them; so I hid myself. When I learned that I was being searched for, to be put to death, I left home in fear. Then all my property was confiscated and nothing was left to me except my wife Anna and my son Tobias. But not fifty days passed before two of Sennacherib's sons killed him, and they fled to the mountains of Ararat. Then Esarhaddon, his son, reigned in his place; and he appointed Ahikar, the son of my [Tobit's] brother Anael, over all the accounts of his kingdom and over the entire administration. Ahikar interceded for me, and I returned to Nineveh. Now Ahikar was cupbearer, keeper of the signet, and in charge of administration of the accounts, for Esarhaddon had appointed him second to himself. He was my nephew. When I arrived home and my wife Anna and my son Tobias were restored to me, at the feast of Pentecost...\" Tobit 1:18-2:1 (Catholic edition RSV).  \"And the angel of the Lord went forth, and slew a hundred and eighty five thousand in the camp of the Assyrians; and when men arose early in the morning, behold, these were all dead bodies. Then Sennacherib king of Assyria departed, and went home and dwelt at Nineveh. And as he was worshipping in the house of Nisroch his god, Adrammelech and Sharezer, his sons, slew him with the sword, and escaped into the land of Ararat. And Esarhaddon his son reigned in his stead.\" Isaiah 37:36-37 (Catholic edition RSV). NOTICE: The Tobit references pinpoints several events in time: 1. Sennacherib's brief reign relative to Tobit's flight and restoration (Quote above, specifically Tobit 1:19-20; 2:1). Apparently Sennacherib's reign started in the beginning of Nisan \"But not FIFTY (footnote: 'Other authorities read FIFTY-FIVE') days passed before two of Sennacherib's sons killed him... When I arrived home and my wife Anna and my son Tobias were restored to me, at the feast of Pentecost...\" Tobit 1:21; 2:1 (Catholic edition RSV) Cf. \"I buried all those who fell victim to Sennacherib after his flight from Judaea, when the King of heaven executed judgement on him for all his blasphemies, and in his rage he killed many of the Israelites... However, less than FORTY days afterwards, the king was murdered by two of his sons\" (The New English Bible);  2. The end of Shalmaneser, king of the Assyrians, reign, \"Tobit... of the ... tribe of Naphtali, who in the days of Shalmaneser, king of the Assyrians, was taken into captivity from Thisbe, which is to the south of Kedesh Naphtali in Galilee above Asher... Now when I was in my own country, in the land of Israel, while I was still a young man, the whole tribe of Naphtali my forefather deserted the house of Jerusalem... I was carried away captive to Nineveh... But when Shalmaneser died, Sennacherib his son reigned in his place\" Tobit 1:1,2,4,10,15 (Catholic edition RSV);  3. The beginning of Esarhaddon's reign in Assyria, \"But not FIFTY (footnote: 'Other authorities read FIFTY-FIVE') days passed before two of Sennacherib's sons killed him... Then Esarhaddon, his son, reigned in his place...\" Tobit 1:21 (Catholic edition RSV);  4. The age of Tobit at the beginning and end of Tobit's 8 years of blindness. \"Tobit... was fifty-eight years old [\"sixty-two\" (NEB)] when he lost his sight, and after eight [No time reference given by the NEB] years he regained it\" Tobit 14:1,2 (Catholic edition RSV), \"When the sun had set I went and dug a grave and buried the body. And my neighbours laughed at me and said, 'He is no longer afraid that he will be put to death for doing this; he once ran away, and here he is burying the dead again!\" On the same night I returned from burying him, and because I was defiled I slept by the wall of the courtyard, and my face was uncovered. I did not know that there were sparrows on the wall and their fresh droppings fell into my open eyes and white films formed on my eyes. I went to physicians, but they did not help me. Ahikar, however, took care of me until he went to Elymais\" Tobit 2:9-10 (Catholic edition RSV);  5. Tobias, the son of Tobit, was born at, or before, the time of Sennacherib's reign Tobit 1:20; 2:1;  6. The time Tobit died, i.e. 158-58=100  [112-62=50 (NEB)] years after the year Sennacherib reigned: \"Tobit... was fifty-eight [62 (NEB)] years old when he lost his sight, and after eight [No time ref given by the NEB] years he regained it... As he said this he died in his bed. He was a hundred and fifty-eight [112 (NEB)] years old\" Tobit 14:1,2,11 (Catholic edition RSV);  7. The time of Jonah's [Nahum's (NEB)] prophecy to Nineveh - or at least a time following that prophecy - \"So now, my son, leave Nineveh, because what the prophet Jonah said will surely happen... As he said this he died in his bed. He was a hundred and fifty-eight [112 (NEB)] years old...\" Tobit 14:8,11 (Catholic edition RSV);  8. The time when Nineveh had been destroyed and by whom: (Tobias was at least 158-58=100 [112-62=50 (NEB)] years old when his father died. Thus Tobias died at the very most 127-100=27 [117-50=67 (NEB)] years after his father Tobit) \"Tobias... died in Ecbatana of Media at the age of a hundred and twenty-seven [117 (NEB)] years. But before he died he heard of the destruction of Nineveh [100+27=127 after Sennacherib at most (per Catholic edition RSV); 50+67=117 per NEB], which Nebuchadnezzar and Ahasuerus had captured. Before his death he rejoiced over Nineveh\" Tobit 14:12,14-15 (Catholic edition RSV). Cf. \"He lived long enough to hear of the destruction of Nineveh by Ahasuerus king of Media and to see his prisoners of war brought from there into Media (NEB).]"]
[null,-709,{"$f":"C693","v":711},"",null,null,null,null,"Hezekiah",null,"14th year - I.e. the 14th Sacred Calendar Year he reigned"," ",null,null," ",null,null," ","15 years added to the reign and life of Hezekiah, AND the sun retracing 10 steps on the sundial: \"In those days was Hezekiah sick unto death. And the prophet Isaiah... said... Thus saith the Lord, the God of David thy father… I will add unto thy days fifteen years; and I will deliver thee and this city out of the hand of the king of Assyria; and I will defend this city for mine own sake, and for my servant David's sake... the Lord... he brought the shadow ten degrees backward, by which it had gone down in the dial of Ahaz...\" 2 Kings 20:1,5,6,8-11 (KJV) Cf. Isaiah 38. \"Now it came to pass in the fourteenth year of king Hezekiah, that Sennacherib king of assyria came up against all the defenced cities of Judah, and took them... Then Rabshakeh stood, and cried with a loud voice... for thus saith the king of Assyria [Sennacherib] Make an agreement with me by a present, and come out to me...\" Isaiah 36:1,13,16 (KJV). Notice that is a presentment, i.e. an offer for a contract, which trap Hezekiah later fell into when he showed his guests all his treasures. And further: \"At that time Merodach-baladan, the son of Baladan, king of Babylon, sent letters and a present to Hezekiah: for he had heard that he had been sick, and was recovered.  And Hezekaih was glad of them, and shewed them the house of his precious things...\" Isaiah 49:1-2 (KJV). \"Now in the fourteenth year of king Hezekiah did Sennacherib king of Assyria come up against all the fenced cities of Judah, and took them... And the king of Assyria appointed unto Hezekiah king of Judah three hundred talents of silver and thirty talents of gold. And Hezekiah gave him all the silver that was found in the house of the Lord, and in the treeasures of the king's house. At that time did Hezekiah cut off the gold from the doors of the temple of the Lord, and from the pillars which Hezekiah king of Judah had overlaid, and gave it to the king of Assyria...\"  2 Kings 18:13-16 (KJV).  PROPHECY OF BABYLON: \"At that time... came Isaiah the prophet unto king Hezekiah... And Isaiah said unto Hezekiah, Hear the word of the Lord. Behold, the days come, that all that is in thine house, and that which thy fathers have laid up in store unto this day, shall be carried into Babylon: nothing shall be left, saith the Lord...\" 2 Kings 20:12,14,16-17 (KJV). NOTICE: \"And this shall be a sign unto thee, Ye shall eat this year such as groweth of itself; and the second year that which springeth of the same: and in the third year sow ye, and reap, and plant vineyards, and eat the fruit thereof.\" Isaiah 37:30 (KJV). That's a description/instruction for a SABBATH YEAR isn't it?!  So long as it does not match up with a sabbath year and a year of Jubilee I perceive a potential UNRESOLVED PROBLEM in this timeline of mine!"]
[{"$f":"A691+1","v":3212},-709,711,710,null,null,null,null,"Hezekiah",null,"15th year - I.e. the 15th Sacred Calendar Year he reigned",{"$f":"L691+1","v":39}]
[null,-708,{"$f":"C695","v":710},"",null,null,null,null,"Hezekiah",null,"15th year - I.e. the 15th Sacred Calendar Year he reigned"," ",null,null," ",null,null," "," "]
[{"$f":"A693+1","v":3213},-708,710,709,null,null,null,null,"Hezekiah",null,"16th year - I.e. the 16th Sacred Calendar Year he reigned",{"$f":"L693+1","v":40}]
[null,-707,{"$f":"C697","v":709},"",null,null,null,null,"Hezekiah",null,"16th year - I.e. the 16th Sacred Calendar Year he reigned"," ",null,null," ",null,null," "," "]
[{"$f":"A695+1","v":3214},-707,709,708,null,null,null,null,"Hezekiah",null,"17th year - I.e. the 17th Sacred Calendar Year he reigned",{"$f":"L695+1","v":41}]
[null,-706,{"$f":"C699","v":708},"",null,null,null,null,"Hezekiah",null,"17th year - I.e. the 17th Sacred Calendar Year he reigned"," ",null,null," ",null,null," "," "]
[{"$f":"A697+1","v":3215},-706,708,707,null,null,null,null,"Hezekiah",null,"18th year - I.e. the 18th Sacred Calendar Year he reigned",{"$f":"L697+1","v":42}]
[null,-705,{"$f":"C701","v":707},"",null,null,null,null,"Hezekiah",null,"18th year - I.e. the 18th Sacred Calendar Year he reigned"," ",null,null," ",null,null," "," "]
[{"$f":"A699+1","v":3216},-705,707,706,null,null,null,null,"Hezekiah",null,"19th year - I.e. the 19th Sacred Calendar Year he reigned",{"$f":"L703-1","v":1}]
[null,-704,{"$f":"C703","v":706},"",null,null,null,null,"Hezekiah",null,"19th year - I.e. the 19th Sacred Calendar Year he reigned"," ",null,null," ",null,null," "," "]
[{"$f":"A701+1","v":3217},-704,706,705,null,null,null,null,"Hezekiah",null,"20th year - I.e. the 20th Sacred Calendar Year he reigned",{"$f":"L705-1","v":2}]
[null,-703,{"$f":"C705","v":705},"",null,null,null,null,"Hezekiah",null,"20th year - I.e. the 20th Sacred Calendar Year he reigned"," ",null,null," ",null,null," "," "]
[{"$f":"A703+1","v":3218},-703,705,704,null,null,null,null,"Hezekiah",null,"21st year - I.e. the 21st Sacred Calendar Year he reigned",{"$f":"L707-1","v":3}]
[null,-702,{"$f":"C707","v":704},"",null,null,null,null,"Hezekiah",null,"21st year - I.e. the 21st Sacred Calendar Year he reigned"," ",null,null," ",null,null," "," "]
[{"$f":"A705+1","v":3219},-702,704,703,null,null,null,null,"Hezekiah",null,"22nd year - I.e. the 22nd Sacred Calendar Year he reigned",{"$f":"L709-1","v":4}]
[null,-701,{"$f":"C709","v":703},"",null,null,null,null,"Hezekiah",null,"22nd year - I.e. the 22nd Sacred Calendar Year he reigned"," ",null,null," ",null,null," "," "]
[{"$f":"A707+1","v":3220},-701,703,702,null,null,null,null,"Hezekiah",null,"23rd year - I.e. the 23rd Sacred Calendar Year he reigned",{"$f":"L711-1","v":5}]
[null,-700,{"$f":"C711","v":702},"",null,null,null,null,"Hezekiah",null,"23rd year - I.e. the 23rd Sacred Calendar Year he reigned"," ",null,null," ",null,null," "," "]
[{"$f":"A709+1","v":3221},-700,702,701,null,null,null,null,"Hezekiah",null,"24th year - I.e. the 24th Sacred Calendar Year he reigned",{"$f":"L713-1","v":6}]
[null,-699,{"$f":"C713","v":701},{"$f":"IF(C712<>\"\",IF(C712=C713,\"\",IF(C712=D711,IF(C712=C713+1,C712-1,\"\"),C712-1)),\"\")","v":""},null,null,null,null,"Hezekiah",null,"24th year - I.e. the 24th Sacred Calendar Year he reigned"," ",null,null," ",null,null," "," "]
[{"$f":"A711+1","v":3222},-699,701,700,null,null,null,null,"Hezekiah",null,"25th year - I.e. the 25th Sacred Calendar Year he reigned",{"$f":"L715-1","v":7}]
[null,-698,{"$f":"C715","v":700},"",null,null,null,null,"Hezekiah",null,"25th year - I.e. the 25th Sacred Calendar Year he reigned"," ",null,null," ",null,null," "," "]
[{"$f":"A713+1","v":3223},-698,700,699,null,null,null,null,"Hezekiah",null,"26th year - I.e. the 26th Sacred Calendar Year he reigned",{"$f":"L717-1","v":8}]
[null,-697,{"$f":"C717","v":699},"",null,null,null,null,"Hezekiah",null,"26th year - I.e. the 26th Sacred Calendar Year he reigned"," ",null,null," ",null,null," "," "]
[{"$f":"A715+1","v":3224},-697,699,698,null,null,null,null,"Hezekiah",null,"27th year - I.e. the 27th Sacred Calendar Year he reigned",{"$f":"L719-1","v":9}]
[null,-696,{"$f":"C719","v":698},"",null,null,null,null,"Hezekiah",null,"27th year - I.e. the 27th Sacred Calendar Year he reigned"," ",null,null," ",null,null," "," "]
[{"$f":"A717+1","v":3225},-696,698,697,null,null,null,null,"Hezekiah",null,"28th year - I.e. the 28th Sacred Calendar Year he reigned",{"$f":"L721-1","v":10}]
[null,-695,{"$f":"C721","v":697},"",null,null,null,null,"Hezekiah",null,"28th year - I.e. the 28th Sacred Calendar Year he reigned"," ",null,null," ",null,null," "," "]
[{"$f":"A719+1","v":3226},{"$f":"B725-1","v":-695},{"$f":"C725+1","v":697},696,null,null,null,null,"Hezekiah",null,"29th year - I.e. the 29th Sacred Calendar Year he reigned",{"$f":"L725-1","v":11}]
[null,{"$f":"B726-1","v":-694},{"$f":"C725","v":696},"",null,null,null,null,"Manasseh's access yr & Hezekiah's",null,"29th year - I.e. the 29th Sacred Calendar Year he reigned"," ",null,null," ",null,null," ","\"Twenty and five years old was he [Hezekiah], when he began to reign; and he reigned twenty and nine years in Jerusalem. And he did that which was right in the sight of the Lord, according to all that David his father did... And Hezekiah slept with his fathers: and Manasseh his son reigned in his stead\" 2 Kings 18:2-3; 20:21 (KJV). \"Hezekiah... reigned nine and twenty years in Jerusalem... And he did that which was right in the sight of the Lord, according to all that David his father had done. He in the first year of his reign, in the first month, opened the doors of the house of the Lord, and repaired them... And Hezekiah slept with his fathers, and they buried him in the chiefest of the sepulchres of the sons of David: and all Judah and the inhabitants of Jerusalem did him honour at his death. And Manasseh his son reigned in his stead.\" 2 Chron. 29:1-3; 32:33 (KJV)."]
[null,null,null,"",null,null,null,null,null,null,null," "]
[null,null,null,"",null,null,null,null,null,null,null," ",null,null,null,null,null," "]
[{"$f":"A721+1","v":3227},-694,{"$f":"C727+1","v":696},695,null,null,null,null,"Manasseh",null,"  1st year - I.e. the 1st Sacred Calendar Year he reigned",12,null,12]
[null,-693,{"$f":"C727","v":695},"",null,null,null,null,"Manasseh","t","  1st year - I.e. the 1st Sacred Calendar Year he reigned"," ",null,null," ",null,null," ","\"And Hezekiah slept with his fathers: and Manasseh his son reigned in his stead\" 2 Kings 20:21 (KJV). \"And Manasseh his son reigned in his stead…  Manasseh was twelve years old when he began to reign, and he reigned fifty and five years in Jerusalem: But did that which was evil in the sight of the Lord, like unto the abominations of the heathen, whom the Lord had cast out before the children of Israel.  For he... worshipped all the host of heaven, and served them... And he built altars for all the host of heaven in the two courts of the house of the Lord...\" 2 Chron. 32:33; 33:1-3,5 (KJV).  NOTICE> Manasseh was only 12 years old when he began to reign and Hezekiah was 53 or 54 (according to the present model and calculations).  There is no indication in the text that there was any period of co-regency between the two kings, and while Manasseh was still so young, and Hezekiah still so apparently healthy (no evidence of him having a chronic illness of any kind) there may not have been any reason for making preliminary arrangements in the form of a co-regency at this early time. OR else, if Hezekiah believed in the 15 years that was added to his life, perhaps the arrangement was for his son Manasseh to take over the reign at the end of Hezekiah's additional 15 years?  NOTICE #2> the 14th year + 15years (exactly) = the 29th year NOT the 30th year.  However, if the prophecy is taken as 15 full years plus, then we easily obtain 29 full years for Hezekiah's reign as given to us by the text, and thus also a 30th incomplete year."]
[{"$f":"A725+1","v":3228},-693,{"$f":"C729+1","v":695},694,null,null,null,null,"Manasseh",null,"  2nd year - I.e. the 2nd Sacred Calendar Year he reigned",{"$f":"L725+1","v":13}]
[null,-692,{"$f":"C729","v":694},"",null,null,null,null,"Manasseh",null,"  2nd year - I.e. the 2nd Sacred Calendar Year he reigned"," ",null,null," ",null,null," "]
[{"$f":"A727+1","v":3229},-692,{"$f":"C731+1","v":694},693,null,null,null,null,"Manasseh",null,"  3rd year - I.e. the 3rd Sacred Calendar Year he reigned",{"$f":"L727+1","v":14}]
[null,-691,{"$f":"C731","v":693},"",null,null,null,null,"Manasseh",null,"  3rd year - I.e. the 3rd Sacred Calendar Year he reigned"," ",null,null," ",null,null," "," "]
[{"$f":"A729+1","v":3230},-691,{"$f":"C733+1","v":693},692,null,null,null,null,"Manasseh",null,"  4th year - I.e. the 4th Sacred Calendar Year he reigned",{"$f":"L729+1","v":15}]
[null,-690,{"$f":"C733","v":692},"",null,null,null,null,"Manasseh",null,"  4th year - I.e. the 4th Sacred Calendar Year he reigned"," ",null,null," ",null,null," "," "]
[{"$f":"A731+1","v":3231},-690,{"$f":"C735+1","v":692},691,null,null,null,null,"Manasseh",null,"  5th year - I.e. the 5th Sacred Calendar Year he reigned",{"$f":"L731+1","v":16}]
[null,-689,{"$f":"C735","v":691},"",null,null,null,null,"Manasseh",null,"  5th year - I.e. the 5th Sacred Calendar Year he reigned"," ",null,null," ",null,null," "," "]
[{"$f":"A733+1","v":3232},-689,{"$f":"C737+1","v":691},690,null,null,null,null,"Manasseh",null,"  6th year - I.e. the 6th Sacred Calendar Year he reigned",{"$f":"L733+1","v":17}]
[null,-688,{"$f":"C737","v":690},"",null,null,null,null,"Manasseh",null,"  6th year - I.e. the 6th Sacred Calendar Year he reigned"," ",null,null," ",null,null," "," "]
[{"$f":"A735+1","v":3233},-688,{"$f":"C739+1","v":690},689,null,null,null,null,"Manasseh",null,"  7th year - I.e. the 7th Sacred Calendar Year he reigned",{"$f":"L735+1","v":18}]
[null,-687,{"$f":"C739","v":689},"",null,"-587 or -586; destruction of Jerusalem: \"The period of the kings of Jerusalem ended with the exile to Babylon in the days of Nebuchadnezzar, who destroyed Jerusalem in -587 or -586. Cyrus the Persian, in the second half of the same century, conquered the Chaldean-Babylonian Empire.\" (Ages in Chaos, p.100:2.)",null,null,"Manasseh",null,"  7th year - I.e. the 7th Sacred Calendar Year he reigned"," ",null,null," ",null,null," "," "]
[{"$f":"A737+1","v":3234},{"$f":"B741-1","v":-687},{"$f":"C741+1","v":689},688,null,null,null,null,"Manasseh",null,"  8th year - I.e. the 8th Sacred Calendar Year he reigned",{"$f":"L737+1","v":19}]
[null,-686,{"$f":"C741","v":688},"",null,null,null,null,"Manasseh",null,"  8th year - I.e. the 8th Sacred Calendar Year he reigned"," ",null,null," ",null,null," "," "]
[{"$f":"A739+1","v":3235},-686,{"$f":"C743+1","v":688},687,null,null,null,null,"Manasseh",null,"  9th year - I.e. the 9th Sacred Calendar Year he reigned",{"$f":"L739+1","v":20}]
[null,-685,{"$f":"C743","v":687},"","\"Sennacheribs third year of reign:\"\n     “LBAT 1417 records four lunar eclipses at 18 year and nearly 11 days intervals from 686 to 632 BCE. It seems to be part of the same tablet as the previous two texts in the series, LBAT 1415 and 1416.The first entry records an eclipse from Sennacheribs third year [??? Did Sennacherib reign more than 55 days? Cf. Apocrypha considerations re Tobit etc...] of reign in Babylonia which may be identified with the eclipse that took place on April 22 668 [Error for April 22, 686 BCE – cf. NASA eclipse tables!]  BCE. Unfortunately the year number is only partly legible. However the next entry states an eclipse to the second month in Shamushshumukins accession year. This equates to April/May in 668 BCE. Babylonian astronomers had worked out that this would be an eclipse that would not be observable to Babylon. Modern eclipse catalogues show that such an eclipse took place on May 2, 668 BCE. The length and time of the eclipse are in good agreement with the text… (From http://www.607v587.com/websitepage4.htm)\n",null,null,null,"Manasseh",null,"  9th year - I.e. the 9th Sacred Calendar Year he reigned"," ",null,null," ",null,null," "," "]
[{"$f":"A741+1","v":3236},-685,{"$f":"C745+1","v":687},686,null,null,null,null,"Manasseh",null,"10th year - I.e. the 10th Sacred Calendar Year he reigned",{"$f":"L741+1","v":21}]
[null,-684,{"$f":"C745","v":686},"",null,null,null,null,"Manasseh",null,"10th year - I.e. the 10th Sacred Calendar Year he reigned"," ",null,null," ",null,null," "," "]
[{"$f":"A743+1","v":3237},-684,{"$f":"C747+1","v":686},685,null,null,null,null,"Manasseh",null,"11th year - I.e. the 11th Sacred Calendar Year he reigned",{"$f":"L743+1","v":22}]
[null,-683,{"$f":"C747","v":685},"",null,null,null,null,"Manasseh",null,"11th year - I.e. the 11th Sacred Calendar Year he reigned"," ",null,null," ",null,null," "," "]
[{"$f":"A745+1","v":3238},-683,{"$f":"C749+1","v":685},684,null,null,null,null,"Manasseh",null,"12th year - I.e. the 12th Sacred Calendar Year he reigned",{"$f":"L745+1","v":23}]
[null,-682,{"$f":"C749","v":684},"",null,null,null,null,"Manasseh",null,"12th year - I.e. the 12th Sacred Calendar Year he reigned"," ",null,null," ",null,null," "," "]
[{"$f":"A747+1","v":3239},-682,{"$f":"C751+1","v":684},683,null,null,null,null,"Manasseh",null,"13th year - I.e. the 13th Sacred Calendar Year he reigned",{"$f":"L747+1","v":24}]
[null,-681,{"$f":"C751","v":683},"",null,null,null,null,"Manasseh",null,"13th year - I.e. the 13th Sacred Calendar Year he reigned"," ",null,null," ",null,null," "," "]
[{"$f":"A749+1","v":3240},-681,{"$f":"C753+1","v":683},682,null,null,null,null,"Manasseh",null,"14th year - I.e. the 14th Sacred Calendar Year he reigned",{"$f":"L749+1","v":25}]
[null,-680,{"$f":"C753","v":682},"",null,null,null,null,"Manasseh",null,"14th year - I.e. the 14th Sacred Calendar Year he reigned"," ",null,null," ",null,null," "," "]
[{"$f":"A751+1","v":3241},-680,{"$f":"C755+1","v":682},681,null,null,null,null,"Manasseh",null,"15th year - I.e. the 15th Sacred Calendar Year he reigned",{"$f":"L751+1","v":26}]
[null,-679,{"$f":"C755","v":681},"",null,null,null,null,"Manasseh",null,"15th year - I.e. the 15th Sacred Calendar Year he reigned"," ",null,null," ",null,null," "," "]
[{"$f":"A753+1","v":3242},-679,{"$f":"C757+1","v":681},680,null,null,null,null,"Manasseh",null,"16th year - I.e. the 16th Sacred Calendar Year he reigned",{"$f":"L753+1","v":27}]
[null,-678,{"$f":"C757","v":680},"",null,null,null,null,"Manasseh",null,"16th year - I.e. the 16th Sacred Calendar Year he reigned"," ",null,null," ",null,null," "," "]
[{"$f":"A755+1","v":3243},-678,{"$f":"C759+1","v":680},679,null,null,null,null,"Manasseh",null,"17th year - I.e. the 17th Sacred Calendar Year he reigned",{"$f":"L755+1","v":28}]
[null,-677,{"$f":"C759","v":679},"",null,null,null,null,"Manasseh",null,"17th year - I.e. the 17th Sacred Calendar Year he reigned"," ",null,null," ",null,null," "," "]
[{"$f":"A757+1","v":3244},-677,{"$f":"C761+1","v":679},678,null,null,null,null,"Manasseh",null,"18th year - I.e. the 18th Sacred Calendar Year he reigned",{"$f":"L757+1","v":29}]
[null,-676,{"$f":"C761","v":678},"",null,null,null,null,"Manasseh",null,"18th year - I.e. the 18th Sacred Calendar Year he reigned"," ",null,null," ",null,null,null," "]
[{"$f":"A759+1","v":3245},-676,{"$f":"C763+1","v":678},677,null,null,null,null,"Manasseh",null,"19th year - I.e. the 19th Sacred Calendar Year he reigned",{"$f":"L759+1","v":30}]
[null,-675,{"$f":"C763","v":677},"",null,null,null,null,"Manasseh",null,"19th year - I.e. the 19th Sacred Calendar Year he reigned"," ",null,null," ",null,null,null," "]
[{"$f":"A761+1","v":3246},-675,{"$f":"C765+1","v":677},676,null,null,null,null,"Manasseh",null,"20th year - I.e. the 20th Sacred Calendar Year he reigned",{"$f":"L761+1","v":31}]
[null,-674,{"$f":"C765","v":676},"",null,null,null,null,"Manasseh",null,"20th year - I.e. the 20th Sacred Calendar Year he reigned"," ",null,null," ",null,null,null," "]
[{"$f":"A763+1","v":3247},-674,{"$f":"C767+1","v":676},675,null,null,null,null,"Manasseh",null,"21st year - I.e. the 21st Sacred Calendar Year he reigned",{"$f":"L763+1","v":32}]
[null,-673,{"$f":"C767","v":675},"",null,null,null,null,"Manasseh",null,"21st year - I.e. the 21st Sacred Calendar Year he reigned"," ",null,null," ",null,null,null," "]
[{"$f":"A765+1","v":3248},-673,{"$f":"C769+1","v":675},674,null,null,null,null,"Manasseh",null,"22nd year - I.e. the 22nd Sacred Calendar Year he reigned",{"$f":"L765+1","v":33}]
[null,-672,{"$f":"C769","v":674},"",null,null,null,null,"Manasseh",null,"22nd year - I.e. the 22nd Sacred Calendar Year he reigned"," ",null,null," ",null,null,null," "]
[{"$f":"A767+1","v":3249},-672,{"$f":"C771+1","v":674},673,null,null,null,null,"Manasseh",null,"23rd year - I.e. the 23rd Sacred Calendar Year he reigned",{"$f":"L767+1","v":34}]
[null,-671,{"$f":"C771","v":673},"",null,null,null,null,"Manasseh",null,"23rd year - I.e. the 23rd Sacred Calendar Year he reigned"," ",null,null," ",null,null,null," "]
[{"$f":"A769+1","v":3250},-671,{"$f":"C773+1","v":673},672,null,null,null,null,"Manasseh",null,"24th year - I.e. the 24th Sacred Calendar Year he reigned",{"$f":"L769+1","v":35}]
[null,-670,{"$f":"C773","v":672},"",null,null,null,null,"Manasseh",null,"24th year - I.e. the 24th Sacred Calendar Year he reigned"," ",null,null," ",null,null,null," "]
[{"$f":"A771+1","v":3251},-670,{"$f":"C775+1","v":672},671,null,null,null,null,"Manasseh",null,"25th year - I.e. the 25th Sacred Calendar Year he reigned",{"$f":"L771+1","v":36}]
[null,-669,{"$f":"C775","v":671},"",null,null,null,null,"Manasseh",null,"25th year - I.e. the 25th Sacred Calendar Year he reigned"," ",null,null," ",null,null,null," "]
[{"$f":"A773+1","v":3252},-669,{"$f":"C777+1","v":671},670,null,null,null,null,"Manasseh",null,"26th year - I.e. the 26th Sacred Calendar Year he reigned",{"$f":"L773+1","v":37}]
[null,-668,{"$f":"C777","v":670},{"$f":"IF(C776<>\"\",IF(C776=C777,\"\",IF(C776=D775,IF(C776=C777+1,C776-1,\"\"),C776-1)),\"\")","v":""},null,null,null,null,"Manasseh",null,"26th year - I.e. the 26th Sacred Calendar Year he reigned"," ",null,null," ",null,null,null," "]
[{"$f":"A775+1","v":3253},-668,{"$f":"C779+1","v":670},669,null,null,null,null,"Manasseh",null,"27th year - I.e. the 27th Sacred Calendar Year he reigned",{"$f":"L775+1","v":38}]
[null,-667,{"$f":"C779","v":669},"",null,null,null,null,"Manasseh",null,"27th year - I.e. the 27th Sacred Calendar Year he reigned"," ",null,null," ",null,null,null," "]
[{"$f":"A777+1","v":3254},-667,{"$f":"C781+1","v":669},668,null,null,null,null,"Manasseh",null,"28th year - I.e. the 28th Sacred Calendar Year he reigned",{"$f":"L777+1","v":39}]
[null,-666,{"$f":"C781","v":668},"",null,null,null,null,"Manasseh",null,"28th year - I.e. the 28th Sacred Calendar Year he reigned"," ",null,null," ",null,null,null," "]
[{"$f":"A779+1","v":3255},-666,{"$f":"C783+1","v":668},667,"Shamushshumukins accession year: cf. D746 or note 18 years prior!",null,null,null,"Manasseh",null,"29th year - I.e. the 29th Sacred Calendar Year he reigned",{"$f":"L779+1","v":40}]
[null,-665,{"$f":"C783","v":667},"",null,null,null,null,"Manasseh",null,"29th year - I.e. the 29th Sacred Calendar Year he reigned"," ",null,null," ",null,null,null," "]
[{"$f":"A781+1","v":3256},-665,{"$f":"C785+1","v":667},666,null,null,null,null,"Manasseh",null,"30th year - I.e. the 30th Sacred Calendar Year he reigned",{"$f":"L781+1","v":41}]
[null,-664,{"$f":"C785","v":666},"",null,null,null,null,"Manasseh",null,"30th year - I.e. the 30th Sacred Calendar Year he reigned"," ",null,null," ",null,null,null," "]
[{"$f":"A783+1","v":3257},-664,{"$f":"C787+1","v":666},665,null,null,null,null,"Manasseh",null,"31st year - I.e. the 31st Sacred Calendar Year he reigned",{"$f":"L783+1","v":42}]
[null,-663,{"$f":"C787","v":665},"",null,null,null,null,"Manasseh",null,"31st year - I.e. the 31st Sacred Calendar Year he reigned"," ",null,null," ",null,null,null," "]
[{"$f":"A785+1","v":3258},-663,{"$f":"C789+1","v":665},664,null,null,null,null,"Manasseh",null,"32nd year - I.e. the 32nd Sacred Calendar Year he reigned",{"$f":"L785+1","v":43}]
[null,-662,{"$f":"C789","v":664},"",null,null,null,null,"Manasseh",null,"32nd year - I.e. the 32nd Sacred Calendar Year he reigned"," ",null,null," ",null,null,null," "]
[{"$f":"A787+1","v":3259},-662,{"$f":"C791+1","v":664},663,null,null,null,null,"Manasseh",null,"33rd year - I.e. the 33rd Sacred Calendar Year he reigned",{"$f":"L787+1","v":44}]
[null,-661,{"$f":"C791","v":663},"",null,null,null,null,"Manasseh",null,"33rd year - I.e. the 33rd Sacred Calendar Year he reigned"," ",null,null," ",null,null,null," "]
[{"$f":"A789+1","v":3260},-661,{"$f":"C793+1","v":663},662,null,null,null,null,"Manasseh",null,"34th year - I.e. the 34th Sacred Calendar Year he reigned",{"$f":"L789+1","v":45}]
[null,-660,{"$f":"C793","v":662},"",null,null,null,null,"Manasseh",null,"34th year - I.e. the 34th Sacred Calendar Year he reigned"," ",null,null," ",null,null,null," "]
[{"$f":"A791+1","v":3261},-660,{"$f":"C795+1","v":662},661,null,null,null,null,"Manasseh",null,"35th year - I.e. the 35th Sacred Calendar Year he reigned",{"$f":"L795-1","v":1},null,null,null,null,null,null,"Apocrypha considerations: Tobit dies this year per NEB translation, and consequences... Discussion re the dates as given in the NEB rendering of Tobit and Esther appear unreliable: [Per Tobit 14 (The New English Bible) - and in contradistinction to Tobit (Catholic edition RSV) (Cf. notes at Hezekiah's 14th year and Nebuchadnezzars 10th & 20th years) - this would be the year when Tobit died. According to the NEB Nineveh was not yet destroyed at this time and Nahum's prophecy was yet to be fulfilled as expected by Tobit. The NEB puts Tobias' death at a maximum of 67 (more likely ca 57) years after the death of Tobit (cf. note at Hezekiah's 14th year). But according to the NEB \"Tobias... lived long enough to hear of the destruction of Nineveh by Ahasuerus king of Media and to see his prisoners of war brought from there into Media. So he praised God for all that he had done to the people of Nineveh and Asshur; and before he died he rejoiced over the fate of Nineveh and praised the Lord God who lives for ever and ever.\" Tobit 14:14-15 (NEB). Adding 67 years to 3258 gives us 3325 which is the 2nd year of king Jehoiachin's captivity. So Nineveh would have to have been destroyed before that time for sure (and more likely some 10 years earlier) (i.e. according to my present calculations), and according to the NEB this was done by Ahasuerus king of Media. But, according to the NEB \"In the Second year of the reign of Artaxerxes the Great King, on the first day of Nisan, Mordochaeus son of Jairus, son of Semeius, son of Kisaeus, of the tribe of Benjamin, had a dream. Mordochaeus was a Jew living in the city of Susa, a man of high standing, who was in the royal service; he came of those whom Nebuchadnezzar king of Babylon had taken into exile from Jerusalem with Jechonias king of Judah\" Esther 11:2-4 (NEB). Thus stretching Tobit maximally, and far beyond what's likely, Ahasuerus' 1st year would have been concurrent with the 1st year of king Jehoiachin's captivity, AND Nineveh's destruction must have taken place during either the 1st or the 2nd year of king Jehoiachin's captivity since king Ahasuerus was the one who, i.e. according to the NEB, destroyed Nineveh.  Furthermore, and still according to the NEB, \"In the twelfth year of King Artaxerxes [the name Artaxerxes is used in the Apocrypha while in the NEB OT Esther version the name Ahasuerus is used] he [Haman] arrived at a decision by casting lots, taking the days and the months one by one, to decide on one day for the destruction of the whole race of Mardochaeus. The lot fell on the thirteenth day of the month Adar... On the thirteenth day of the first month the king's secretaries were summoned, and in accordance with Haman's instructions, they wrote in the name of King Artaxerxes to his army commanders and governors in every province from India to Ethiopia. There were a hundred and twenty-seven provinces in all, and each was addressed in its own language. Instructions were dispatched by courier to all the empire of Artaxerxes to exterminate the Jewish race, on a given day of the twelfth month, Adar, and to plunder their possessions. This is a copy of the letter: Artaxerxes the Great King to... We therefore order that those who are designated to you in the indictments drawn up by Haman, our vicegerent and second father, shall all, together with their wives and children, be utterly destroyed by the sword and their enemies, without mercy or pity, on the thirteenth day of Adar, the twelfth month, of the present year\" Esther 3:7,12 (NEB Apocrypha). This event must then, per the NEB Apocrypha, have been scheduled for the 12th year of king Jehoiachin's captivity, which year (according to my present calculations in this table) is concurrent with Nebuchadnezzar's 19th or 20th year of reign, and thus also concurrent with the year of, or the year following, the destruction of Jerusalem and of Solomon's temple. Unlikely or not? Remember, this timing is based upon stretching Tobias' life maximally, and probably some 10 years beyond what's likely! Not so stretching it would make the whole NEB sceneraio impossible as outlined above, e.g. in re to Mordochaeus' being taken captive concurrently with king Jehoiachin, and in re to Ahasuerus' reign. Of course, making Ahasuerus' destruction of Nineveh pertain to Darius' destruction of Babylon and taking over after the reign of Belteshazzar is an even more impossible event. CONCLUSION> The NEB rendering of Tobit and Esther seems highly improbable and highly unreliable given the present calculations.]"]
[null,-659,{"$f":"C795","v":661},"",null,null,null,null,"Manasseh",null,"35th year - I.e. the 35th Sacred Calendar Year he reigned"," ",null,null," ",null,null,null," "]
[{"$f":"A793+1","v":3262},-659,{"$f":"C797+1","v":661},660,null,null,null,null,"Manasseh",null,"36th year - I.e. the 36th Sacred Calendar Year he reigned",{"$f":"L797-1","v":2}]
[null,-658,{"$f":"C797","v":660},"",null,null,null,null,"Manasseh",null,"36th year - I.e. the 36th Sacred Calendar Year he reigned"," ",null,null," ",null,null,null," "]
[{"$f":"A795+1","v":3263},-658,{"$f":"C799+1","v":660},659,null,null,null,null,"Manasseh",null,"37th year - I.e. the 37th Sacred Calendar Year he reigned",{"$f":"L799-1","v":3}]
[null,-657,{"$f":"C799","v":659},"",null,null,null,null,"Manasseh",null,"37th year - I.e. the 37th Sacred Calendar Year he reigned"," ",null,null," ",null,null,null," "]
[{"$f":"A797+1","v":3264},-657,{"$f":"C801+1","v":659},658,null,null,null,null,"Manasseh",null,"38th year - I.e. the 38th Sacred Calendar Year he reigned",{"$f":"L801-1","v":4}]
[null,-656,{"$f":"C801","v":658},"",null,null,null,null,"Manasseh",null,"38th year - I.e. the 38th Sacred Calendar Year he reigned"," ",null,null," ",null,null,null," "]
[{"$f":"A799+1","v":3265},-656,{"$f":"C803+1","v":658},657,null,null,null,null,"Manasseh",null,"39th year - I.e. the 39th Sacred Calendar Year he reigned",{"$f":"L803-1","v":5}]
[null,-655,{"$f":"C803","v":657},"",null,null,null,null,"Manasseh",null,"39th year - I.e. the 39th Sacred Calendar Year he reigned"," ",null,null," ",null,null,null," "]
[{"$f":"A801+1","v":3266},{"$f":"B805-1","v":-655},{"$f":"C805+1","v":657},656,null,null,null,null,"Manasseh",null,"40th year - I.e. the 40th Sacred Calendar Year he reigned",{"$f":"L805-1","v":6}]
[null,-654,{"$f":"C805","v":656},"",null,null,null,null,"Manasseh",null,"40th year - I.e. the 40th Sacred Calendar Year he reigned"," ",null,null," ",null,null,null," ","Sacred Year 3276 is the 430th year starting with 2847 as the 1st Sacral Year when the People of Israel left the Lord for a King of their own, i.e. King Saul."]
[{"$f":"A803+1","v":3267},-654,{"$f":"C807+1","v":656},655,null,null,null,null,"Manasseh",null,"41st year - I.e. the 41st Sacred Calendar Year he reigned",{"$f":"L807-1","v":7}]
[null,-653,{"$f":"C807","v":655},"",null,null,null,null,"Manasseh",null,"41st year - I.e. the 41st Sacred Calendar Year he reigned"," ",null,null," ",null,null,null," "]
[{"$f":"A805+1","v":3268},-653,{"$f":"C809+1","v":655},654,null,null,null,null,"Manasseh",null,"42nd year - I.e. the 42nd Sacred Calendar Year he reigned",{"$f":"L809-1","v":8}]
[null,-652,{"$f":"C809","v":654},"",null,null,null,null,"Manasseh",null,"42nd year - I.e. the 42nd Sacred Calendar Year he reigned"," ",null,null," ",null,null,null," "]
[{"$f":"A807+1","v":3269},-652,{"$f":"C811+1","v":654},653,null,null,null,null,"Manasseh",null,"43rd year - I.e. the 43rd Sacred Calendar Year he reigned",{"$f":"L811-1","v":9}]
[null,-651,{"$f":"C811","v":653},"",null,null,null,null,"Manasseh",null,"43rd year - I.e. the 43rd Sacred Calendar Year he reigned"," ",null,null," ",null,null,null," "]
[{"$f":"A809+1","v":3270},-651,{"$f":"C813+1","v":653},652,null,null,null,null,"Manasseh",null,"44th year - I.e. the 44th Sacred Calendar Year he reigned",{"$f":"L813-1","v":10}]
[null,-650,{"$f":"C813","v":652},"",null,null,null,null,"Manasseh",null,"44th year - I.e. the 44th Sacred Calendar Year he reigned"," ",null,null," ",null,null,null," "]
[{"$f":"A811+1","v":3271},-650,{"$f":"C815+1","v":652},651,null,-663,{"$f":"G906","v":"1st and last year of Pharao Seti and Ramses II: \"Seti-Ptah-Maat (Psammetich of Herodotus) reigned from -663 (the year he returned with the retinue of Assurbanipal to Egypt) to -609 (three years after the fall of Nineveh in -612), altogether for fifty-four years.  Ramses II was co-ruler while he was still an infant. In his own words: \"When my father made his state appearance before the people, I being a child in his lap, he said referring to me: \"Crown him as King that I may see his qualities while I am still living.\" And he ordered the chamberlains to place the Double Crown upon my brow. \"Let him administer this land: let him show himself to the people\" - so spake he through his great love of me...\" (Ramses II and His Time, p.212:4-5)."},null,"Manasseh",null,"45th year - I.e. the 45th Sacred Calendar Year he reigned",{"$f":"L815-1","v":11}]
[null,-649,{"$f":"C815","v":651},"","651 BCE Astronomical diary:\n     “BM 32312, which can be dated to 651BCE due to the observances on it. This is the oldest preserved astronomical diary. The king, his regnal year and month names are broken away. The tablet talks of a battle between Assyria and Babylon, where Babylon is heavily defeated. However we can date this tablet as another tablet BM 86379 (The Akitu Chronicle) talks of the battle in Shamash-shuma-ukin's 16th year which interestingly states that the Babylonian King was defeated…\n     “BM32312 which dates Shamushshumukins 16th year, and the scribes who wrote BM76738 and 76813 which dates the beginning of Kandalanus reign to 647 BCE…” (From http://www.607v587.com/websitepage4.htm)\n",null,null,null,"Manasseh",null,"45th year - I.e. the 45th Sacred Calendar Year he reigned"," ",null,null," ",null,null,null," "]
[{"$f":"A813+1","v":3272},-649,{"$f":"C817+1","v":651},650,null,null,null,null,"Manasseh",null,"46th year - I.e. the 46th Sacred Calendar Year he reigned",{"$f":"L817-1","v":12}]
[null,-648,{"$f":"C817","v":650},"",null,null,null,null,"Manasseh",null,"46th year - I.e. the 46th Sacred Calendar Year he reigned"," ",null,null," ",null,null,null," "]
[{"$f":"A815+1","v":3273},-648,{"$f":"C819+1","v":650},649,null,null,null,null,"Manasseh",null,"47th year - I.e. the 47th Sacred Calendar Year he reigned",{"$f":"L819-1","v":13}]
[null,-647,{"$f":"C819","v":649},"",null,null,null,null,"Manasseh",null,"47th year - I.e. the 47th Sacred Calendar Year he reigned"," ",null,null," ",null,null,null," "]
[{"$f":"A817+1","v":3274},-647,{"$f":"C821+1","v":649},648,null,null,"-546 & -539, Cyrus, Croesus, Nabonidus, Belshazzar, Darius: \"The Persian period of ancient history begins with Cyrus the Great. From rather humble beginnings as a princeling in Anshan, a dependency in the Median kingdom of Astyages, he rose to be the supreme ruler of an empire unequaled in its confines by any earlier known realm of antiquity. His conquest of the Lydian kingdom of Croesus took place in -546 and his conquest of Babylon, ruled jointly by Nabonidus and his son Belshazzar, in -539, an event that, according to the Book of Daniel, occurred on the night of the writing on the wall. But Egypt remained outside Cyrus' domain. (Footnote: The Book of Daniel ascribes the conquest of Babylon to Darius. The possibility is not excluded that Darius, who at that time served under Cyrus, actually stormed and took Babylon.\"  (Peoples of the Sea, p.108:4.)",null,"Manasseh",null,"48th year - I.e. the 48th Sacred Calendar Year he reigned",{"$f":"L821-1","v":14}]
[null,-646,{"$f":"C821","v":648},"",null,null,"'-546 & -515, Cyrus' decree, Darius' decree, Zerubbabel, Ezra, Tatnai: \"A similar policy of creating a theocratic vassalage was pursued by the Persians in Judah. Cyrus issued a decree licensing the rebuilding of the Jerusalem Temple destroyed by Nebuchadnezzar, and permitting the return of the exiles; these were led from Babylon by Zerubbabel, appointed to be governor, and by Jeshua, son of Jozadak, appointed to be high priest.  They built an altar for burnt offereings \"but the foundation of the temple of the Lord was not yet laid\" (Ezra 3:6). They gave money \"unto them of Zidon, and to them of Tyre, to bring cedar trees from Lebanon to the sea of Joppa [Jaffa], according to the grant that they had of Cyrus king of Persia\". (3:7). But the people of the land, mostly descendants of the colonists brought into the country by Sargon, Sennacherib, and Esarhaddon, the Assyrian kings, \"hired counselors against them [the repatriates], to frustrate their purpose, all the days of Cyrus king of Persia, even until the reign of Darius\" (4:5). When Darius came to power, the prophets in Judah, Haggai and Zechariah, urged the renewal of the work of building the Temple.  Soon the satrap Tatnai, with misgiving, reported to Darius the resumption of the work; a search was made in the state archives, and in the palace of Achmetha in the province of the Medes a roll with Cyrus' original decree was found and Darius confirmed it. The prophets saw the Messianic time coming: \"Jerusalem shall be called 'a city of truth.'\" Zechariah proclaimed: \"Yea, many people and strong nations shall come to seek the Lord of hosts in Jerusalem, and to pray before the Lord\" (8:3,22).  In the sixth year of Darius the Temple was completed... (Ezra 6:18).\"  (Peoples of the Sea, p.120:3-121:1.)\"",null,"Manasseh",null,"48th year - I.e. the 48th Sacred Calendar Year he reigned"," ",null,null," ",null,null,null," "]
[{"$f":"A819+1","v":3275},-646,{"$f":"C823+1","v":648},647,null,null,null,null,"Manasseh",null,"49th year - I.e. the 49th Sacred Calendar Year he reigned",{"$f":"L823-1","v":15}]
[null,-645,{"$f":"C823","v":647},"",{"$f":"E814","v":"651 BCE Astronomical diary:\n     “BM 32312, which can be dated to 651BCE due to the observances on it. This is the oldest preserved astronomical diary. The king, his regnal year and month names are broken away. The tablet talks of a battle between Assyria and Babylon, where Babylon is heavily defeated. However we can date this tablet as another tablet BM 86379 (The Akitu Chronicle) talks of the battle in Shamash-shuma-ukin's 16th year which interestingly states that the Babylonian King was defeated…\n     “BM32312 which dates Shamushshumukins 16th year, and the scribes who wrote BM76738 and 76813 which dates the beginning of Kandalanus reign to 647 BCE…” (From http://www.607v587.com/websitepage4.htm)\n"},null,null,null,"Manasseh",null,"49th year - I.e. the 49th Sacred Calendar Year he reigned"," ",null,null," ",null,null,null," "]
[{"$f":"A821+1","v":3276},-645,{"$f":"C825+1","v":647},646,null,null,null,null,"Manasseh",null,"50th year - I.e. the 50th Sacred Calendar Year he reigned",{"$f":"L825-1","v":16}]
[null,-644,{"$f":"C825","v":646},"",null,null,null,null,"Manasseh",null,"50th year - I.e. the 50th Sacred Calendar Year he reigned"," ",null,null," ",null,null,null," "]
[{"$f":"A823+1","v":3277},-644,{"$f":"C827+1","v":646},645,null,null,null,null,"Manasseh",null,"51st year - I.e. the 51st Sacred Calendar Year he reigned",{"$f":"L827-1","v":17}]
[null,-643,{"$f":"C827","v":645},"",null,null,null,null,"Manasseh",null,"51st year - I.e. the 51st Sacred Calendar Year he reigned"," ",null,null," ",null,null,null," "]
[{"$f":"A825+1","v":3278},-643,{"$f":"C829+1","v":645},644,null,null,null,null,"Manasseh",null,"52nd year - I.e. the 52nd Sacred Calendar Year he reigned",{"$f":"L829-1","v":18}]
[null,-642,{"$f":"C829","v":644},"",null,null,null,null,"Manasseh",null,"52nd year - I.e. the 52nd Sacred Calendar Year he reigned"," ",null,null," ",null,null,null," "]
[{"$f":"A827+1","v":3279},-642,{"$f":"C831+1","v":644},643,null,null,null,null,"Manasseh",null,"53rd year - I.e. the 53rd Sacred Calendar Year he reigned",{"$f":"L831-1","v":19}]
[null,-641,{"$f":"C831","v":643},"",null,null,null,null,"Manasseh",null,"53rd year - I.e. the 53rd Sacred Calendar Year he reigned"," ",null,null," ",null,null,null," "]
[{"$f":"A829+1","v":3280},-641,{"$f":"C833+1","v":643},642,null,null,null,null,"Manasseh",null,"54th year - I.e. the 54th Sacred Calendar Year he reigned",{"$f":"L833-1","v":20}]
[null,-640,{"$f":"C833","v":642},"",null,null,null,null,"Manasseh",null,"54th year - I.e. the 54th Sacred Calendar Year he reigned"," ",null,null," ",null,null,null," "]
[{"$f":"A831+1","v":3281},{"$f":"B837-1","v":-640},{"$f":"C837+1","v":642},641,null,null,{"$f":"G819","v":"-546 & -539, Cyrus, Croesus, Nabonidus, Belshazzar, Darius: \"The Persian period of ancient history begins with Cyrus the Great. From rather humble beginnings as a princeling in Anshan, a dependency in the Median kingdom of Astyages, he rose to be the supreme ruler of an empire unequaled in its confines by any earlier known realm of antiquity. His conquest of the Lydian kingdom of Croesus took place in -546 and his conquest of Babylon, ruled jointly by Nabonidus and his son Belshazzar, in -539, an event that, according to the Book of Daniel, occurred on the night of the writing on the wall. But Egypt remained outside Cyrus' domain. (Footnote: The Book of Daniel ascribes the conquest of Babylon to Darius. The possibility is not excluded that Darius, who at that time served under Cyrus, actually stormed and took Babylon.\"  (Peoples of the Sea, p.108:4.)"},null,"Manasseh",null,"55th year - I.e. the 55th Sacred Calendar Year he reigned",{"$f":"L834-1","v":21}]
[null,{"$f":"B838-1","v":-639},{"$f":"C837","v":641},"",null,null,null,null,"Amon's access yr & Manasseh's",null,"55th year - I.e. the 55th Sacred Calendar Year he reigned",22,null,null," ",null,null,null,"\"Manasseh... reigned fifty and five years in Jerusalem. And he did that which was evil in the sight of the Lord, after the abominations of the heathen, whom the Lord cast out before the children of Israel... as did Ahab king of Israel; and worshipped all the host of heaven, and served them. And he built altars for all the host of heaven in the two courts of the house of the Lord... and observed times... And Manasseh slept with his fathers, and was buried in the garden of his own house, in the garden of Uzza: and Amon his son reigned in his stead\" 2 Kings 21:1-3,5,6,18 (KJV). \"Manasseh was twelve years old when he began to reign, and he reigned fifty and five years in Jerusalem: But did that which was evil in the sight of the Lord, like unto the abominations of the heathen, whom the Lord had cast out before the children of Israel.  For he... worshipped all the host of heaven, and served them... And he built altars for all the host of heaven in the two courts of the house of the Lord...\" 2 Chron. 32:33; 33:1-3,5 (KJV). "]
[null,null,null,""]
[null,null,null,""]
[{"$f":"A833+1","v":3282},{"$f":"B839-1","v":-639},{"$f":"C839+1","v":641},640,null,"Fall of Babylon: \"…following the fall of Babylon, stormed by the Persians in -538, small groups returned, one of them led, a hundred or more years later, by Ezra himself.\"  (Peoples of the Sea, p. 149:2.)",null,null,"Amon",null,"  1st year - I.e. the 1st Sacred Calendar Year he reigned"," "]
[null,{"$f":"B840-1","v":-638},{"$f":"C839","v":640},"",null,null,null,null,"Amon",null,"  1st year - I.e. the 1st Sacred Calendar Year he reigned",{"$f":"L840-1","v":7}]
[{"$f":"A837+1","v":3283},{"$f":"B843-1","v":-638},{"$f":"C843+1","v":640},639,null,null,null,null,"Amon","t","  2nd year - I.e. the 2nd Sacred Calendar Year he reigned"," ",null,null,null,null,null,null,"\"And Manasseh slept with his fathers, and was buried in the garden of his own house, in the garden of Uzza: and Amon his son reigned in his stead. Amon was twenty and two years old when he began to reign, and he reigned two years ['shatajim shana'] in Jerusalem. And his mother's name was Meshullemeth, the daughter of Haruz of Jotbah. And he did that which was evil in the sight of the Lord, as his father Manasseh did. And he walked in all the way that his father walked in, and served the idols that his father served, and worshipped them: And he forsook the Lord God of his fathers, and walked not in the way of the Lord. And the servants of Amon conspired against him, and slew the king in his own house. And the people of the land slew all them that had conspired against king Amon; and the people of the land made Josiah his son king in his stead... And he was buried in his sepulchre in the garden of Uzza: and Joshiah his son reigned in his stead\" 2 Kings 21:18-24,26 (KJV). \"So Manasseh slept with his fathers, and they buried him in his own house: and Amon his son reigned in his stead. Amon was two and twenty years old when he began to reign, and reigned two years ['shatajim shana'] in Jerusalem. But he did that which was evil in hte sight of the Lord, as did Manasseh his father: for Amon sacrificed unto all the carved images which Manasseh his father had made, and served them; And humbled not himself before the Lord, as Manasseh his father had humbled himself; but Amon trespassed more and more. And his servants conspired against him, and slew him in his own house. But the people of the land slew all them that had conspired against king Amon; and the people of the land made Josiah his son king in his stead\" 2 Chron. 33:20-25 (KJV)."]
[null,{"$f":"B844-1","v":-637},{"$f":"C843","v":639},{"$f":"IF(C840<>\"\",IF(C840=C841,\"\",IF(C840=D839,IF(C840=C841+1,C840-1,\"\"),C840-1)),\"\")","v":""},null,null,null,null,"Josiah's access yr & Amon's",null,"  2nd year - I.e. the 2nd Sacred Calendar Year he reigned",8,null,null," ",null,null,null,"\"And the people of the land slew all them that had conspired against king Amon; and the people of the land made Josiah his son king in his stead... and Joshiah his son reigned in his stead. Josiah was eight years old when he began to reign, and he reigned thirty and one years in Jerusalem. And his mother's name was Jedidah, the daughter of Adaiah of Boscath. And he did that which was right in the sight of the Lord, and walked in all the way of David his father, and turned not aside to the right hand or to the left\" 2 Kings 21:24,26; 22:1-2 (KJV). \"And his [Amon's] servants conspired against him, and slew him in his own house. But the people of the land slew all them that had conspired against king Amon; and the people of the land made Josiah his son king in his stead. Josiah was eight years old when he began to reign, and he reigned in Jerusalem one and thirty years. And he did that which was right in the sight of the Lord, and walked in the ways of David his father, and declined neither to the right hand, nor to the left. For in the eighth year of his reign, while he was yet young, he began to seek after the God of David his father: and in the twelfth year he began to purge Judah and Jerusalem from the high places, and the groves, and the carved images, and the molten images. And they brake down the altars of Baalim in his presence; and the images, that were on high above them, he cut down; and the groves, and the carved images, and the molten images, he brake in pieces, and dust of them, and strowed it upon the graves of them that had sacrificed unto them. And he burnt the bones of the priests upon their altars, and cleansed Judah and Jerusalem. And so did he in the cities of Manasseh, and Ephraim, and Simeon, even unto Naphtali, with their mattocks round about. And when he had broken down the altars and the groves, and had beaten the graven images into powder, and cut down all the idols throughout all the land of Israel, he returned to Jerusalem\" 2 Chron. 33:24-25; 34:1-7 (KJV)."]
[null,null,null,"",null,null,null,null,null,null,null,null,null,null,null,null,null,null,"2 Kings 21:19; 2 Chron. 33:21. Both these texts do use the specific word for 'two' in addition to the word for 'years'. Thus in contradistinction to some other texts translated \"two years\" in KJV, e.g. Gen. 11:10. This would indicate that his reign covered time before and after two consequitive 'cut-offs,' i.e. two beginnings of Tishri 22."]
[null,null,null,"",null,null,null,null,null,null,null," ",null,2," "]
[{"$f":"A839+1","v":3284},{"$f":"B845-1","v":-637},{"$f":"C845+1","v":639},638,null,null,null,null,"Josiah",null,"  1st year - I.e. the 1st Sacred Calendar Year he reigned"," "]
[null,{"$f":"B846-1","v":-636},{"$f":"C845","v":638},"",null,null,null,null,"Josiah",null,"  1st year - I.e. the 1st Sacred Calendar Year he reigned"," "]
[{"$f":"A843+1","v":3285},-636,{"$f":"C847+1","v":638},637,null,null,null,null,"Josiah","t","  2nd year - I.e. the 2nd Sacred Calendar Year he reigned"," "]
[null,-635,{"$f":"C847","v":637},"",null,null,null,null,"Josiah",null,"  2nd year - I.e. the 2nd Sacred Calendar Year he reigned"," ",null,null," "]
[{"$f":"A845+1","v":3286},-635,{"$f":"C849+1","v":637},636,null,null,null,null,"Josiah",null,"  3rd year - I.e. the 3rd Sacred Calendar Year he reigned"," "]
[null,-634,{"$f":"C849","v":636},"",null,null,null,null,"Josiah",null,"  3rd year - I.e. the 3rd Sacred Calendar Year he reigned"," ",null,null," ",null,null,null," "]
[{"$f":"A847+1","v":3287},-634,{"$f":"C851+1","v":636},635,null,null,null,null,"Josiah",null,"  4th year - I.e. the 4th Sacred Calendar Year he reigned"," "]
[null,-633,{"$f":"C851","v":635},"",null,null,null,null,"Josiah",null,"  4th year - I.e. the 4th Sacred Calendar Year he reigned"," ",null,null," ",null,null,null," "]
[{"$f":"A849+1","v":3288},-633,{"$f":"C853+1","v":635},634,null,null,null,null,"Josiah",null,"  5th year - I.e. the 5th Sacred Calendar Year he reigned"," "]
[null,-632,{"$f":"C853","v":634},"",null,null,null,null,"Josiah",null,"  5th year - I.e. the 5th Sacred Calendar Year he reigned"," ",null,null," ",null,null,null," "]
[{"$f":"A851+1","v":3289},-632,{"$f":"C855+1","v":634},633,null,null,null,null,"Josiah",null,"  6th year - I.e. the 6th Sacred Calendar Year he reigned"," "]
[null,-631,{"$f":"C855","v":633},"",null,null,null,null,"Josiah",null,"  6th year - I.e. the 6th Sacred Calendar Year he reigned"," ",null,null," ",null,null,null," "]
[{"$f":"A853+1","v":3290},-631,{"$f":"C857+1","v":633},632,null,null,null,null,"Josiah",null,"  7th year - I.e. the 7th Sacred Calendar Year he reigned"," "]
[null,-630,{"$f":"C857","v":632},"",null,null,null,null,"Josiah",null,"  7th year - I.e. the 7th Sacred Calendar Year he reigned"," ",null,null," ",null,null,null," "]
[{"$f":"A855+1","v":3291},-630,{"$f":"C859+1","v":632},631,null,null,null,null,"Josiah",null,"  8th year - I.e. the 8th Sacred Calendar Year he reigned"," "]
[null,-629,{"$f":"C859","v":631},"",null,null,null,null,"Josiah",null,"  8th year - I.e. the 8th Sacred Calendar Year he reigned"," ",null,null," ",null,null,null," "]
[{"$f":"A857+1","v":3292},-629,{"$f":"C861+1","v":631},630,null,null,null,null,"Josiah",null,"  9th year - I.e. the 9th Sacred Calendar Year he reigned"," ",null,7]
[null,-628,{"$f":"C861","v":630},"",null,null,null,null,"Josiah",null,"  9th year - I.e. the 9th Sacred Calendar Year he reigned"," ",null,null," ",null,null,null," ",null,"Year of Babylonian Captivity counting backwards from the start of Evil-merodac's reign and what seems to be possibly Cyrus' decree"]
[{"$f":"A859+1","v":3293},-628,{"$f":"C863+1","v":630},629,null,null,null,null,"Josiah",null,"10th year - I.e. the 10th Sacred Calendar Year he reigned",{"$f":"L863-1","v":0},null,1,null,null,null,null,"[This year is the beginning of the 6th 70 year Cycle within the 7th 490 year Cycle after Creation AND the beginning of the 70 years ending with Cyrus' decree.]",null,{"$f":"U863-1","v":1},"st"]
[null,-627,{"$f":"C863","v":629},"",null,null,null,null,"Josiah",null,"10th year - I.e. the 10th Sacred Calendar Year he reigned"," ",null,null," ",null,null,null," ",null,1,"st"]
[{"$f":"A861+1","v":3294},-627,{"$f":"C865+1","v":629},628,null,null,null,null,"Josiah",null,"11th year - I.e. the 11th Sacred Calendar Year he reigned",{"$f":"L865-1","v":1},null,2,null,null,null,null,null,null,2,"nd"]
[null,-626,{"$f":"C865","v":628},"",null,null,null,null,"Josiah",null,"11th year - I.e. the 11th Sacred Calendar Year he reigned"," ",null,null," ",null,null,null," ",null,2,"nd"]
[{"$f":"A863+1","v":3295},-626,{"$f":"C867+1","v":628},627,null,{"$f":"F4","v":"Velikovsky’s “…nomenclature for the Egyptian dysasties.\n The Middle Kingdom of Egypt (the division into Eleventh and Twelfth Dynasties is unnecessary) came to its end in a natural catastrophe in the mid-fifteenth century before the present era; the land was invaded by the Arabs (Amalekites, known as Amu to the Egyptians, or as Hyksos to Greek authors). The Arab Dynasty ruled for over four hundred years, till about -1020. Already before that date there were vassal princes in Thebes. The Arab domination of Egypt was terminated by the united efforts of Saul of Israel and Kamose and Ahmose of Thebes. For the next (almost) two hundred years (ca. -1200 to ca. -830) the land was ruled by the Theban Dynasty (known as the Eighteenth) of Thutmoses and Amenhoteps. Close to the end of that period, Akhnaton moved the capi9tal to Akhet-Aton (el-Amarna) but Thebes was soon restored as the capital under Smenkhkare and Ay.\n The Theban period was followed by the Libyan domination of Sosenks [= Shoshenk, cf. Ages in Chaos, p. 174-176] and Osorkons for over one hundred years (ca. -830 to ca. -720). Next came the Ethiopian rule that endured for fifty or sixty years; however, at the same time the Assyrians pressed from the north and the land was occupied repeatedly by Sennacherib (who crowned Haremheb), Esarhaddon, and Assurbanipal (who elevated Necho I-Rameses I to be a vassal king). When Necho was killed by invading Ethiopians, Assurbanipal once more occupied Thebes (-663).\n The period of the Tanitic Dynasty follows: Seti (Psammetich of the Greek authors), son of Ramses I (Necho I), obtained independence from Assurbanipal and acted as his ally in his wars against the Chaldeans and Medes, Seti’s capital was in Tanis in the Delta, The Tanitic Dynasty endured from -663 to -525. After Seti reigned Ramses II (Necho II), his son, who for a lengthy period had been Seti’s co-ruler. He carried on a prolonged war with Nebuchadnezzar, the Chaldean. Ramses’ heir Merneptah (Hophra of Jeremiah and Apries of Herodutus) lost the throne to a rebel, General Amasis, the latter reigned in peace for over forty years and died when Cambyses the Persian was already on his march of conquest toward Egypt.\n From -525 to -332, for close to two hundred years, Egypt was dominated by the Persian kings (Cambyses, Darius, Xerxes, Artaxerxes I, Darius II, Artaxerxes II and III); some of them were crowned also as Egyptian pharaohs; they kept native governors in Egypt like Psamshek or Nekht-hor.\n In the fourth century, during the reigns of Artaxerxer II and Artaxerxes III, Egypt achieved a measure of independence comparable to the independence the Greek states maintained during thetime of the Great Kings of Persia.  Nepherites, Acoris, Nectanebo I (Ramses III), Tachos, and Nectanebo II were the indigenous kings of that period and they could be termed Native Kings or, if preferred, Sebennytic Dynasty, for the place of origin of the most famous of them. At the same time a Priestly Dynasty established already by Darius II (about -420) ruled in the military outposts-the oases of the Libyan desert. Thjey continued there till past -300.\n The Persians succeeded in -343 to reconquering Egypt, Nectanebo II escaping to the Sudan, but ten years later Egypt received Alexander as its liberator (-332). The Macedonian Dynasty endured three hundred years, with the Ptolemies on the throne till Cleopatra’s suicide in -30. Thereafter the Roman caesars ruled Egypt.\n This order of dynastic succession, relieved of thenumbered dynasties, is simple to comprehend: Arab, Theban, Libyan, Ethiopian (repeatedly interrupted by Assyrian conquests), Tanitic, Persian (partly Sebennytic), and Macedonian Dynasties in this sequence. As can readily be seen, for most of the fourteen hundred years (ca. -1450 to -30), Egypt was ruled by foreigners: the three periods when it was ruled by native kings were under the Theban (-1020 to -830), the Tanitic (-663 to -525), and the Sebennytic (ca. -391 to -341) Dynasties, altogether something like 380 years out of 1420.” (Peoples of the Sea, p. 194:2-195:end.)\n"},"\"-525\": \"all the temples of Egypt that stood when Cambyses entered the country (-525) were ruined by this king. Medinet Habu, the mortuary temple of Ramses III, and the temple of Khonsu erected by him in Karnak are among the best-preserved structures of Egypt...\" (Peoples of the Sea, p. 75:1.)",null,"Josiah",null,"12th year - I.e. the 12th Sacred Calendar Year he reigned",{"$f":"L867-1","v":2},null,3,null,null,null,null,"\"And in the twelfth year he began to purge Judah and Jerusalem from the high places, and the groves, and the carved images, and the molten images. And they brake down the altars of Baalim in his presence; and the images, that were on high above them, he cut down; and the groves, and the carved images, and the molten images, he brake in pieces, and dust of them, and strowed it upon the graves of them that had sacrificed unto them. And he burnt the bones of the priests upon their altars, and cleansed Judah and Jerusalem. And so did he in the cities of Manasseh, and Ephraim, and Simeon, even unto Naphtali, with their mattocks round about. And when he had broken down the altars and the groves, and had beaten the graven images into powder, and cut down all the idols throughout all the land of Israel, he returned to Jerusalem\" 2 Chron. 33:24-25; 34:1-7 (KJV).  NOTICE FULFILLMENT OF PROPHECY: \"And he burnt the bones of the priests upon their altars, and cleansed Judah and Jerusalem. And so did he in... Ephraim [location of Beth-el].\" 2 Chron. 34:5 (KJV). Cf. \"And, behold, there came a man of God out of Judah by the word of the Lord unto Beth-el… And he cried against the altar in the word of the Lord, and said, O altar, altar, thus saith the Lord; Behold, a child shall be born unto the house of David, Josiah by name; and upon thee shall he offer the priests of the high places that burn incense upon thee, and men's bones shall be burnt upon thee. And he gave a sign the same day, saying, This is the sign which the Lord hath spoken; Behold, the altar shall be rent, and the ashes that are upon it shall be poured out.\" 1 Kings 13:1-3 (KJV).  NOTICE> This sacrifice of \"the bones of the priests\" occured in the MIDDLE of the week of years!",null,3,"rd"]
[null,-625,{"$f":"C867","v":627},"",null,null,"-525, Cyrus, Cambyses, Pharaoh Amasis II, Psammetich II = Psammenitus: \"Cyrus fell in a war with tribesmen on the northern frontier of his empire, east of the Caspian sea. His son Cambyses, mounting the throne and defending it against other pretenders, early devised the conquest of Egypt, ruled by Pharaoh Amasis II. But before Cambyses reached Egypt in -525, Amasis died and was followed on the throne by his son, Psammetich II, called Psammenitus by Herodotus. The battle of Pelusium was fought and lost by the Egyptians. Memphis surrendered and the king was taken prisoner. Cyrenaica in the west sent ambassodors to Cambyses with a declaration of submission. Not satisfied and planning the conquest of all Libya, he dispatched an army into the Libyan desert but himself went up the Nile and occupied Egypt to its southern border and engulfed it from all sides.\"  (Peoples of the Sea, p.110:5-111:1.)  \"The name of Cambyses... from the hand of one Udjeharresne... Mesutire.\"  (Peoples of the Sea, p.111:3-4.)  \"Ten days after the fort [of Memphis] had fallen, Cambyses resolved to try the spirit of Psammenitus, the Egyptian king, whose whole reign had been but six months...\"  (Peoples of the Sea, p.116:2+.\"",null,"Josiah",null,"12th year - I.e. the 12th Sacred Calendar Year he reigned"," ",null,null," ",null,null,null," ",null,3,"rd"]
[{"$f":"A865+1","v":3296},-625,{"$f":"C869+1","v":627},626,null,null,null,null,"Josiah",null,"13th year - I.e. the 13th Sacred Calendar Year he reigned",{"$f":"L869-1","v":3},null,4,"Standing on 3, i.e. Gimmel years",null,null,null,"[\"The word that came to Jeremiah concerning all the people of Judah…From the thirteenth year of Josiah the son of Amon king of Judah, even unto this day, that is the three and twentieth year, the word of the Lord hath come unto me…\" Jer. 25:1-3 (KJV).  NOTICE> \"the three and twentieth year\" (v.3) in reference to what?  Is the reference frame of the 23rd year the same as that of Ezekiel in Eze. 1:1? Is either one of these texts referencing the 13th year of Josiah (as just referenced in this 3rd verse - see also note at beginning of Eliakim's reign below!), or is one or both referencing the 18th year of Josiah?  IF the years, as currently calculated in the present tables, holds their place, then Josiah's 18th year corresponds to the 3301st year since Creation!  IF that's true, is it possible the years were being numbered in reference to the then current century, i.e. 1st, 2nd, 23rd, 30th, &c. year, while omitting specific mention to the century, as is the Hebrew practice today (for the millenia at the very least)?]  NOTICE #2 > Because the KJV translation of Jer. 1:3 in these regards is NOT well supported by the Hebrew, the above discussion is resolved in that the 23 years specifically starts with the year of Jeremiah's initiation, which is concurrent, more or less, with Josiah's 13th year and ends with Jehoiakim's (Eliakim's) 4th year (See also discussion at Eliakim's 4th year below!).  Thus the only problem left is the reference frame of Ezekiel 1:1.  However, considering the nature and particulars of the reigns of Josiah, Jehoahaz, and Eliakim it is impossible to arrange the reigns of those kings in such a manner that 5 years of co-regency results and such that one would get the 30th year as the 5th year of Jehoiachin's captivity and the 1st of the 30 years referenced at the same time approaching anywhere near Josiah's 13th year of reign.  Thus, that 13th year at least is NOT the starting point of Ezekiel's 30 year count.  The final solution to that question remains unresolved.",null,4,"th","Accession year re Jeremiah's 23 years"]
[null,-624,{"$f":"C869","v":626},"",null,null,null,null,"Josiah",null,"13th year - I.e. the 13th Sacred Calendar Year he reigned"," ",null,null," ",null,null,null," ",null,4,"th","Accession year re Jeremiah's 23 years"]
[{"$f":"A867+1","v":3297},-624,{"$f":"C871+1","v":626},625,null,null,null,null,"Josiah",null,"14th year - I.e. the 14th Sacred Calendar Year he reigned",{"$f":"L871-1","v":4},null,5,null,null,null,null,null,null,5,"th",1]
[null,-623,{"$f":"C871","v":625},"",null,null,"1st year of Nabopolassar (Ramses II and His Time p.98:3).  Mursilis (Chaldean name) = Nabopolassar (Ramses II and His Time p.96:1).  \"Greek authors called Nabopolassar Belesys (Diodorus, II, 24) and Bussalossor (Abydenus), and that in the Boghazkoi texts he is called Mursilis and Bijasili, in Egyptian Merosar, in Babylonian Bel-shum-ishkun and Nabopolassar\" (Ramses II and His Time 102:2).",null,"Josiah",null,"14th year - I.e. the 14th Sacred Calendar Year he reigned"," ",null,null," ",null,null,null," ",null,5,"th",1]
[{"$f":"A869+1","v":3298},-623,{"$f":"C873+1","v":625},624,null,null,null,null,"Josiah",null,"15th year - I.e. the 15th Sacred Calendar Year he reigned",{"$f":"L873-1","v":5},null,6,null,null,null,null,null,null,6,"th",{"$f":"W869+1","v":2}]
[null,-622,{"$f":"C873","v":624},"",null,null,"2nd year of Nabopolassar:  \"In his second year Mursilis sent a military chief to Sarri-sin-ah, prince of Carchemish, who was his brother, with an order to resist the king of Assyria. 'When the Assyrian comes, you will battle with him.' (Ramses II and His Time p.92:2)",null,"Josiah",null,"15th year - I.e. the 15th Sacred Calendar Year he reigned"," ",null,null," ",null,null,null," ",null,6,"th",{"$f":"W870+1","v":2}]
[{"$f":"A871+1","v":3299},-622,{"$f":"C875+1","v":624},623,null,null,"-521+-, Cambyses' death, Gaumata, Darius takes the throne: \"Before that he [Cambyses] had sent his brother Bardiya (Smerdis) home from Egypt but also dispatched with him a murderer to dispose of him. When in Palestine, himself on his way home, he heard that Smerdis had occupied the throne of the empire and believed that his assissination plan had not been executed; he died near Mount Carmel possibly by his own hand.  However, the newly proclaimed king was not Smerdis, who had been killed by Cambyses' secred order, but a magus, Gaumata, who looked much like Smerdis. Darius, son of Hystaspes, served under Cyrus and accompanied Cambyses on the Egyptian expedition; he went up against Gaumata, killed him, and became king in -521.  Like Cambyses, he was a fifth-generation descendant of Achemenes, through whom he claimed his right to the crown. Next he fought against a usurper who pretended to be an incarnation of Nebuchadnezzar, already dead for several decades... he ordered the digging of a canal connecting the Mediterranean with the Red Sea by linking the Nile to the Suez Gulf. Buildings erected by Darius' order in el-Karget still stand... Long hieroglyphic inscriptions... were chiseled into the walls... Settu-Re means Darius; but he was invoked also by his Persian name, En-darius.\"  (Peoples of the Sea, p.118:1-2,4.) ",null,"Josiah",null,"16th year - I.e. the 16th Sacred Calendar Year he reigned",{"$f":"L875-1","v":6},null,7,null,null,null,null,null,null,7,"th",3]
[null,-621,{"$f":"C875","v":623},"",null,null,null,null,"Josiah",null,"16th year - I.e. the 16th Sacred Calendar Year he reigned"," ",null,null," ",null,null,null," ",null,7,"th",3]
[{"$f":"A873+1","v":3300},-621,{"$f":"C877+1","v":623},622,null,null,null,null,"Josiah",null,"17th year - I.e. the 17th Sacred Calendar Year he reigned",{"$f":"L877-1","v":7},null,1,null,null,null,null,null,null,8,"th",4]
[null,-620,{"$f":"C877","v":622},"",null,null,null,null,"Josiah",null,"17th year - I.e. the 17th Sacred Calendar Year he reigned"," ",null,null," ",null,null,null," ",null,8,"th",4]
[{"$f":"A875+1","v":3301},-620,{"$f":"C879+1","v":622},621,null,null,null,null,"Josiah",null,"18th year - I.e. the 18th Sacred Calendar Year he reigned",{"$f":"L879-1","v":8},null,2,null,null,null,null,"\"Now in the eighteenth year of his [Josiah's] reign, when he had purged the land, and the house, he sent Shaphan… to repair the house of the Lord his God. And when they came to Hilkiah the high priest, they delivered the money that was brought into the house of God, which the Levites that kept the doors had gathered of the hand of Manasseh and Ephraim, and of all the remnant of Israel, and of all Judah and Benjamin; and they returned to Jerusalem. And they put it in the hand of the workmen that had the oversight of the house of the Lord, and they gave it to the workmen that wrought in the house of the Lord, to repair and amend the house... And the men did the work faithfully... And when they brought out the money that was brought into the house of the Lord, Hilkiah the priest found a book of the law of the Lord given by Moses... And Shaphan carried the book to the king, and brought the king word back again, saying, All that was committed to thy servants, they do it... And Shaphan read it before the king. And it came to pass, when the king had heard the words of the law, that he rent his clothes... And Josiah took away all the abominations out of all the countries that pertained to the children of Israel, and made all that were present in Israel to serve, even to serve the Lord their God. And all his days they departed not from following the Lord, the God of their fathers. Moreover Josiah kept a passover unto the Lord in Jerusalem: and they killed the passover on the fourteenth day of the first month... And there was no passover like to that kept in Israel from the days of Samuel the prophet; neither did all the kings of Israel keep such a passover as Josiah kept, and the priests, and the Levites, and all Judah and Israel that were present, and the inhabitants of Jerusalem. In the eighteenth year of the reign of Josiah was this passover kept\" 2 Chron. 34:8-10,12,14,16,18-19,33; 35:1,18 (KJV).  NOTICE> As of the time of this note the calculated completed year is 3299, i.e. the 3300th year. In the 3300th year would occur the 3300th occation of the original event commemorated, e.g. an astronomical event relative to the creation. I find it a highly interesting co-incidence(?) that king \"Josiah gave to the people, of the flock, lambs and kids, all for the passover offerings, for all that were present, to the number of thirty thousand, and three thousand [a total of 33,000 or 10 * 3,300 years] bullocks: these were of the king's substance. And his princes gave willingly unto the people, to the priests, and to the Levites: Hilkiah and Zechariah and Jehiel, rulers of the house of God, gave unto the priests for the passover offerings two thousand and six hundred [26 * 100] small cattle, and three hundred [300] oxen...\" 2 Chron. 35:7-8 (KJV).   <<<<<<<<<<<<<<<>>>>>>>>>>>>>NOTICE:  An old argument exists that because of the amount of work apparently carried out and all the preparation for the apparently not planned for passover triggered by the finding of the book, the 18th year of Josiah must have begun in Tishri rather than in Nisan!!!!!!!!!!!!!",null,9,"th",5]
[null,-619,{"$f":"C879","v":621},"",null,null,null,null,"Josiah",null,"18th year - I.e. the 18th Sacred Calendar Year he reigned"," ",null,null," ",null,null,null," ",null,9,"Year as relating to the 30th as referenced in Ezekiel 1:1.",5]
[{"$f":"A877+1","v":3302},-619,{"$f":"C881+1","v":621},620,null,"-518: Persepolis: \"Persepolis . . .  Begun by Darius in -518, it was completed by Xerxex . . .  \"  (Peoples of the Sea, p. 138:7.)",null,null,"Josiah",null,"19th year - I.e. the 19th Sacred Calendar Year he reigned",{"$f":"L881-1","v":9},null,3,"Standing on 3*3=9, i.e. Teth years",null,null,null,null,null,10,"  1st year - I.e. the 1st Sacred Calendar Year he reigned",6]
[null,-618,{"$f":"C881","v":620},"",null,null,null,null,"Josiah",null,"19th year - I.e. the 19th Sacred Calendar Year he reigned"," ",null,null," ",null,null,"  1st year - relative to the 30th year as referenced by Ezekiel in Eze. 1:1.","\"Now it came to pass in the thirtieth year, in the fourth month, in the fifth day of the month, as I was among the captives by the river of Chebar, that the heavens were opened, and I saw visions of God. In the fifth day of the month, which was the fifth year of king Jehoiachin's captivity, The word of the Lord came expressly unto Ezekiel the priest, the son of Buzi, in the land of the Chaldeans by the river Chebar; and the hand of the Lord was there upon him...\" Ezekiel 1:1-3 (KJV). NOTICE> 1. This is apparently the year when Josiah thoroughly cleansed Judah from the prior evil ways of earlier kings in Judah and Israel, probably/possibly including at this time also from an Wicked Calendar, e.g. as represented by the one of the golden calves given by king Jeroboam king of Israel unto Dan. If that's the case did king Josiah make this change of Calendar retroactively from the beginning of his reign, or did he not? (Cf. adjacent note, and also the note at Josiah's 13th year of reign!)",null,10,"  1st year - I.e. the 1st Sacred Calendar Year he reigned",6]
[{"$f":"A879+1","v":3303},-618,{"$f":"C883+1","v":620},619,null,null,null,null,"Josiah",null,"20th year - I.e. the 20th Sacred Calendar Year he reigned",{"$f":"L883-1","v":10},null,4,null,null,null,null,null,null,11,"  2nd year - I.e. the 2nd Sacred Calendar Year he reigned",7]
[null,-617,{"$f":"C883","v":619},"",null,null,"7th year of Nabopolassar: \"In the seventh year of the annals mention is made of some agreement to which the king of Egypt was a party… it is evident that an alliance was concluded by the king of Assyria and the king of Egypt against Mursilis. Also, at the approach of the king of Egypt, some Syrian potentates swung to the side of Mursilis' enemies.   'As soon as tidings were brought about the arrival of the Egyptian troops, I moved against them.'  Mursilis wrote to the garrison in Carchemish that if the Egyptian army entered Nuhasse (in Syria) he should be informed immediately. '...and I shall come and battle against them.'  But the clash with the Egyptian army was postponed. 'Meanwhile the Egyptian troops did not come.' (Ramses II and His Time p.94:3-95:3).",null,"Josiah",null,"20th year - I.e. the 20th Sacred Calendar Year he reigned"," ",null,null," ",null,null,null," ",null,11,"  2nd year - I.e. the 2nd Sacred Calendar Year he reigned",7]
[{"$f":"A881+1","v":3304},-617,{"$f":"C885+1","v":619},618,null,null,null,null,"Josiah",null,"21st year - I.e. the 21st Sacred Calendar Year he reigned",{"$f":"L885-1","v":11},null,5,null,null,null,null,null,null,12,"  3rd year - I.e. the 3rd Sacred Calendar Year he reigned",8]
[null,-616,{"$f":"C885","v":618},"",null,null,null,null,"Josiah",null,"21st year - I.e. the 21st Sacred Calendar Year he reigned"," ",null,null," ",null,null,null," ",null,12,"  3rd year - I.e. the 3rd Sacred Calendar Year he reigned",8]
[{"$f":"A883+1","v":3305},-616,{"$f":"C887+1","v":618},617,null,null,{"$f":"G820","v":"'-546 & -515, Cyrus' decree, Darius' decree, Zerubbabel, Ezra, Tatnai: \"A similar policy of creating a theocratic vassalage was pursued by the Persians in Judah. Cyrus issued a decree licensing the rebuilding of the Jerusalem Temple destroyed by Nebuchadnezzar, and permitting the return of the exiles; these were led from Babylon by Zerubbabel, appointed to be governor, and by Jeshua, son of Jozadak, appointed to be high priest.  They built an altar for burnt offereings \"but the foundation of the temple of the Lord was not yet laid\" (Ezra 3:6). They gave money \"unto them of Zidon, and to them of Tyre, to bring cedar trees from Lebanon to the sea of Joppa [Jaffa], according to the grant that they had of Cyrus king of Persia\". (3:7). But the people of the land, mostly descendants of the colonists brought into the country by Sargon, Sennacherib, and Esarhaddon, the Assyrian kings, \"hired counselors against them [the repatriates], to frustrate their purpose, all the days of Cyrus king of Persia, even until the reign of Darius\" (4:5). When Darius came to power, the prophets in Judah, Haggai and Zechariah, urged the renewal of the work of building the Temple.  Soon the satrap Tatnai, with misgiving, reported to Darius the resumption of the work; a search was made in the state archives, and in the palace of Achmetha in the province of the Medes a roll with Cyrus' original decree was found and Darius confirmed it. The prophets saw the Messianic time coming: \"Jerusalem shall be called 'a city of truth.'\" Zechariah proclaimed: \"Yea, many people and strong nations shall come to seek the Lord of hosts in Jerusalem, and to pray before the Lord\" (8:3,22).  In the sixth year of Darius the Temple was completed... (Ezra 6:18).\"  (Peoples of the Sea, p.120:3-121:1.)\""},null,"Josiah",null,"22nd year - I.e. the 22nd Sacred Calendar Year he reigned",{"$f":"L887-1","v":12},null,6,null,null,null,null,null,null,13,"  4th year - I.e. the 4th Sacred Calendar Year he reigned",9]
[null,-615,{"$f":"C887","v":617},"",null,null,"9th year of Nabopolassar: \"Two years later, in the ninth year of Mursilis, the war with the king of Assyria became active. 'The king of Assur conquered the land of Carchemish.' Mursilis turned to this region and freed it, and put his nephew, the son of Sarri-sin-ah, on the throne of Carchemish. In the same year he marched to the region of Harran. 'I moved toward Harrana; my army reached Harrana and I joined the army there.'  ...\"Mursilis in his ninth year met his adversary, Assur-uballit, on the Euphrates line.\" \" Ramses II and His Time p.95:4-6)",null,"Josiah",null,"22nd year - I.e. the 22nd Sacred Calendar Year he reigned"," ",null,null," ",null,null,null," ",null,13,"  4th year - I.e. the 4th Sacred Calendar Year he reigned",9]
[{"$f":"A885+1","v":3306},-615,{"$f":"C889+1","v":617},616,null,null,null,null,"Josiah",null,"23rd year - I.e. the 23rd Sacred Calendar Year he reigned",{"$f":"L889-1","v":13},null,7,null,null,null,null,null,null,14,"  5th year - I.e. the 5th Sacred Calendar Year he reigned",10]
[null,-614,{"$f":"C889","v":616},"",null,null,"10th year of Nabopolassar (Ramses II and His Time p.98:3).  Mursilis (Chaldean name) = Nabopolassar (Ramses II and His Time p.96:1)  \"In the tenth year, in the month of Iyar [2nd Moon], Nabopolassar called the Akkadian army and went along the shore of the Euphrates... In the month of Tishri [7th moon] the Egyptian and Assyrian armies went to pursue the king of Akkad… (The Babylonian Chronicle (British Museum 21901), Ramses II and His Time p.96:3-4))",null,"Josiah",null,"23rd year - I.e. the 23rd Sacred Calendar Year he reigned"," ",null,null," ",null,null,null," ",null,14,"  5th year - I.e. the 5th Sacred Calendar Year he reigned",10]
[{"$f":"A887+1","v":3307},-614,{"$f":"C891+1","v":616},615,null,null,null,null,"Josiah",null,"24th year - I.e. the 24th Sacred Calendar Year he reigned",{"$f":"L891-1","v":14},null,1,null,null,null,null,null,null,15,"  6th year - I.e. the 6th Sacred Calendar Year he reigned",11]
[null,-613,{"$f":"C891","v":615},"",null,null,"11th year of Nabopolass (cf. 10th yr above): \" \"The king of Assyria mobilized his army and turned the king of Akkad back from Assyria.\" But he was unable to exploit the victory over Nabopolassar, for the Medes invaded Assyria and captured the city of Assur [Nineveh?] Ramses II and His Time p.96:5)",null,"Josiah",null,"24th year - I.e. the 24th Sacred Calendar Year he reigned"," ",null,null," ",null,null,null," ",null,15,"  6th year - I.e. the 6th Sacred Calendar Year he reigned",11]
[{"$f":"A889+1","v":3308},-613,{"$f":"C893+1","v":615},614,null,null,null,null,"Josiah",null,"25th year - I.e. the 25th Sacred Calendar Year he reigned",{"$f":"L893-1","v":15},null,2,null,null,null,null,null,null,16,"  7th year - I.e. the 7th Sacred Calendar Year he reigned",12]
[null,-612,{"$f":"C893","v":614},"",null,null,"The fall of Nineveh - the great and famous assault on Nineveh and the great slaughter - 12th year of Nabopolassar: \" \"The year after that saw the Scythian king with his army coming to participate in the \"battle of Assyria.\" \"The king of Umman-Manda marched toward the king of Akkad [Nabopolassar].\" But he was persuaded to take the side of the enemies of Assyria.  Then came the great and famous assault on Nineveh and the great slaughter. The Assyrian Empire was nearing its final hour. Sin-shar-ishkun, the heir of Assurbanipal, perished; the legend of self-immolation of Sardanapal in his palace at Nineveh seems to reflect the end of Sin-shar-ishkun.  After the fall of Nineveh, Assuruballit, a younger brother of Assurbanipal, whose residence was in Harran, proclaimed himself king of Assyria. According to the Chronicles, 'Assur-uballit in Harran took his seat on the throne as king of Assyria. . . .' \" (Ramses II and His Time p.97:2-4). \" \"The king of Umman-Manda, the fearless, ruined the temples of the gods of Assyria, all of them.\"  \"there came down upon him a great army of Scythians, led by their king Madyas son of Protothyas. These had invaded Asia after they had driven the Cimmerians out of Europe: pursuing them in their flight, the Scythians came to the Median country.\" (Ramses II and His Time p.98:6-7).  \"Cyaxares, king of Media, who together with Nabopolassar conquered Nineveh...\" (Ramses II and His Time p.142:1).",null,"Josiah",null,"25th year - I.e. the 25th Sacred Calendar Year he reigned"," ",null,null," ",null,null,null," ",null,16,"  7th year - I.e. the 7th Sacred Calendar Year he reigned",12]
[{"$f":"A891+1","v":3309},-612,{"$f":"C895+1","v":614},613,null,null,null,null,"Josiah",null,"26th year - I.e. the 26th Sacred Calendar Year he reigned",{"$f":"L895-1","v":16},null,3,null,null,null,null,null,null,17,"  8th year - I.e. the 8th Sacred Calendar Year he reigned",13]
[null,-611,{"$f":"C895","v":613},"",null,null,"13-14th years of Nabopolassar: \"For the next two years Nabopolassar continued to carry war to the Assyrian land.  'The Umman-Manda came to the support of the king of Akkad and they united their armies and toward Harran, against Assuruballit, who sat on the throne of Assyria, they marched.'  The assistance Egypt gave to Assyria as long as Nineveh was its ally was not discontinued with the fall of the city but was given to Assuruballit in Harran. ' The great army of Egypt . . . crossed the river and marched against Harrran . . . .  The king of Akkad marched to the aid of his army.\" (Ramses II and His Time p.97:5-6)",null,"Josiah",null,"26th year - I.e. the 26th Sacred Calendar Year he reigned"," ",null,null," ",null,null,null," ",null,17,"  8th year - I.e. the 8th Sacred Calendar Year he reigned",13]
[{"$f":"A893+1","v":3310},-611,{"$f":"C897+1","v":613},612,null,null,null,null,"Josiah",null,"27th year - I.e. the 27th Sacred Calendar Year he reigned",{"$f":"L897-1","v":17},null,4,null,null,null,null,null,null,18,"  9th year - I.e. the 9th Sacred Calendar Year he reigned",14]
[null,-610,{"$f":"C897","v":612},"",null,null,null,null,"Josiah",null,"27th year - I.e. the 27th Sacred Calendar Year he reigned"," ",null,null," ",null,null,null," ",null,18,"  9th year - I.e. the 9th Sacred Calendar Year he reigned",14]
[{"$f":"A895+1","v":3311},-610,{"$f":"C899+1","v":612},611,null,null,null,null,"Josiah",null,"28th year - I.e. the 28th Sacred Calendar Year he reigned",{"$f":"L899-1","v":18},null,5,null,null,null,null,"Apocrypha considerations: [Tobit dies [per Catholic edition RSV]. Accordingly Jonah's prophecy to Nineveh given at or before this time. Tobit's prophecy of the destruction and rebuilding of Solomon's Temple \"Our brethren will be scattered over the earth from the good land, and Jerusalem will be desolate. the house of God in it will be burned down and will be in ruins for a time. But God will again have mercy on them, and bring them back into their land; and they will rebuild the house of God, though it will not be like the former one until the times of the age are completed. After this they will return from the places of their captivity, and will rebuild Jerusalem in splendour. And the house of God will be rebuilt there with a glorious building for all generations for ever, just as the prophets said of it. Then all the Gentiles will turn to fear the Lord god in truth, and will bury their idols...\" Tobit 14:4-6 (Catholic edition RSV). Cf. note 100 years prior at the 14th year of Hezekiah king of Judah.]",null,19,"10th year - I.e. the 10th Sacred Calendar Year he reigned",15]
[null,-609,{"$f":"C899","v":611},"",null,null,null,null,"Josiah",null,"28th year - I.e. the 28th Sacred Calendar Year he reigned"," ",null,null," ",null,null,null," ",null,19,"10th year - I.e. the 10th Sacred Calendar Year he reigned",15]
[{"$f":"A897+1","v":3312},-609,{"$f":"C901+1","v":611},610,null,null,null,null,"Josiah",null,"29th year - I.e. the 29th Sacred Calendar Year he reigned",{"$f":"L901-1","v":19},null,6,null,null,null,null,null,null,20,"11th year - I.e. the 11th Sacred Calendar Year he reigned",16]
[null,-608,{"$f":"C901","v":610},"",null,-612,"\"Fall of Nineveh in -612…\" (Ramses II and His Time, p. 212:4).",null,"Josiah",null,"29th year - I.e. the 29th Sacred Calendar Year he reigned"," ",null,null," ",null,null,null," ",null,20,"11th year - I.e. the 11th Sacred Calendar Year he reigned",16]
[{"$f":"A899+1","v":3313},-608,{"$f":"C903+1","v":610},609,null,null,null,null,"Josiah",null,"30th year - I.e. the 30th Sacred Calendar Year he reigned",{"$f":"L903-1","v":20},null,7,null,null,null,null,null,null,21,"12th year - I.e. the 12th Sacred Calendar Year he reigned",17]
[null,-607,{"$f":"C903","v":609},"",null,null,"\"In the 17th year-the king of Akkad mobilized his army and…\" (Ramses II and His Time p.97:6)",null,"Josiah",null,"30th year - I.e. the 30th Sacred Calendar Year he reigned"," ",null,null," ",null,null,null," ",null,21,"12th year - I.e. the 12th Sacred Calendar Year he reigned",17]
[{"$f":"A901+1","v":3314},{"$f":"B911-1","v":-607},{"$f":"C911+1","v":609},{"$f":"IF(C903<>\"\",IF(C903=C904,\"\",IF(C903=D902,IF(C903=C904+1,C903-1,\"\"),C903-1)),\"\")","v":608},null,null,null,null,"Josiah",null,"31st year - I.e. the 31st Sacred Calendar Year he reigned",{"$f":"L905-1","v":21},null,1,null,null,null,null,null,null,22,"13th year - I.e. the 13th Sacred Calendar Year he reigned",18]
[null,{"$f":"B912-1","v":-606},{"$f":"C907","v":608},{"$f":"IF(C904<>\"\",IF(C904=C905,\"\",IF(C904=D903,IF(C904=C905+1,C904-1,\"\"),C904-1)),\"\")","v":""},null,null,null,null,"Jehoahaz's 3 mo, Eliakim's access yr & Josiah's",null,"31st year - I.e. the 31st Sacred Calendar Year he reigned"," ",null,null," ",null,null,null,"\"Josiah... reigned thirty and one years in Jerusalem... After all this, when Josiah had prepared the temple, Necho king of Egypt came up to fight against Charchemish by Euphrates: and Josiah went out against him. But he sent ambassadors to him, saying, What have I to do with thee, thou king of Judah? I come not against thee this day, but against the house wherewith I have war: for God commanded me to make haste: forbear thee from meddling with God, who is with me, that he destroy thee not. Nevertheless Josiah would not turn his face from him, but disguised himself, that he might fight with him, and hearkened not unto the words of Necho from the mouth of God, and came to fight in the valley of Megiddo. And the archers shot at king Josiah; and the king said to his servants, Have me away; for I am sore wounded. His servants therefore took him out of that chariot, and put him in the second chariot that he had; and they brought him to Jerusalem, and he died, and was buried in one of the sepulchres of his fathers. And all Judah and Jerusalem mourned for Josiah. And Jeremiah lamented for Josiah: and all the singing men and the singing women spake of Josiah in their lamentations to this day, and made them an ordinance in Israel: and, behold, they are written in the lamentations... Then the people of the land took Jehoahaz the son of Josiah, and made him king in his father's stead in Jerusalem\" 2 Chron. 34:1; 35:20-25; 36:1 (KJV). \"Josiah was eight years old when he began to reign, and he reigned thirty and one years in Jerusalem. And his mother's name was Jedidah, the daughter of Adaiah of Boscath. And he did that which was right in the sight of the Lord, and walked in all the way of David his father, and turned not aside to the right hand or to the left\" 2 Kings 22:1-2 (KJV).  \"In his [Josiah's] days Pharaoh-nechoh king of Egypt went up against the king of Assyria to the river Euphrates: and king Josiah went against him; and he slew him at Megiddo, when he had seen him. And his servants carried him in a chariot dead from Megiddo, and brought him to Jerusalem, and buried him in his own sepulchre. And the people of the land took Jehoahaz the son of Josiah, and anointed him, and made him king in his father's stead\" 2 Kings 23:29-30 (KJV).",null,22,"13th year - I.e. the 13th Sacred Calendar Year he reigned",18]
[null,null,null,{"$f":"IF(C905<>\"\",IF(C905=C906,\"\",IF(C905=D904,IF(C905=C906+1,C905-1,\"\"),C905-1)),\"\")","v":""},null,null,null,null,null,null," ",{"$f":"L909-1","v":22},null,2,"Standing on Tav, the 22nd and last letter of the Hebrew alphabet",null,null,null,null,null,{"$f":"U910-1","v":23},"14th year - I.e. the 14th Sacred Calendar Year he reigned"," "]
[null,null,null,{"$f":"IF(C906<>\"\",IF(C906=C907,\"\",IF(C906=D905,IF(C906=C907+1,C906-1,\"\"),C906-1)),\"\")","v":""},null,-609,"1st and last year of Pharao Seti and Ramses II: \"Seti-Ptah-Maat (Psammetich of Herodotus) reigned from -663 (the year he returned with the retinue of Assurbanipal to Egypt) to -609 (three years after the fall of Nineveh in -612), altogether for fifty-four years.  Ramses II was co-ruler while he was still an infant. In his own words: \"When my father made his state appearance before the people, I being a child in his lap, he said referring to me: \"Crown him as King that I may see his qualities while I am still living.\" And he ordered the chamberlains to place the Double Crown upon my brow. \"Let him administer this land: let him show himself to the people\" - so spake he through his great love of me...\" (Ramses II and His Time, p.212:4-5).",null," ",null," "," ",null,null,null,null,null,null,null,null,{"$f":"U911-1","v":23},"14th year - I.e. the 14th Sacred Calendar Year he reigned"," "]
[null,null,{"$f":"Sheet1!R120","v":608},null,null,-608,"The 2nd & 9th Years of Ramses II: \"On his march through Palestine the Egyptian king met opposition and had to fight his way through (II Chronicles 35:22ff.; II Kings 23:29; Aswan stele). His archers shot the opposing king (II Chronicles 35:23; Egyptian mural in the Metropolitan Museum of Art from the temple of Ramses II).  The pharaoh reached the north of Syria and established a camp and an outpost at Riblah in the land of Hamath (II Kings 23:33; inscription of the SECOND YEAR of Ramses II at Nahr el-Kelb).\" (Ramses II and His Time, p.54:1).  \"The first campaign of Ramses II into northern Syria took place in the SECOND YEAR of his reign. This is the date of his earlier stele at Nahr el-Kelb; the obelisk at Tanis seems to refer to the same events.  In the beginning of the first campaign of the king of Egypt directed toward the Euphrates, Josiah, king of Jerusalem, was killed at Megiddo.  Three months later (II Chronicles 36:2-4) Jehoiakim was made king of Jerusalem. The beginning of the reign of Jehoiakim corresponds to the SECOND YEAR of the reign of Ramses II.\" (Ramses II and His Time, p.56:2-3).  -608: (Rameses II and His Time, p.1:2, 7:3-8:4.)   \"The impending invasion of the pharaoh was a signal to Jehoiakim. In his eighth year he rebelled against the Chaldeans. For a few years Judea was again in the domain of the pharaoh Ramses II. His campaign brought him as far as Beth-Shan, where a stele of his NINTH YEAR was found...\" (Rameses II and His Time, p.38:3).",null,"Josiah's 31st yr, Eliakim's access yr & Jehoahaz's",null,"3 months"," ",null,null,"Pharaoh Neko",null,null," ","2 Kings 23:31; 2 Chron. 36:1-2. \"The people of the land took Jehoahaz the son of Josiah and anointed him, and made him king in place of his father\" (IB) 2 Kings 23:30; 2 Chron. 36:1. Pharaoh-Neko took Jehoahaz as a hostage to Riblah in Egypt, and replaced Jehoahaz with Jehoahaz' brother Eliakim, whom Pharaoh renamed Jehoiakim. 2 Kings 23:31-35",null,null,null," "]
[null,null,null,{"$f":"IF(C908<>\"\",IF(C908=C910,\"\",IF(C908=D907,IF(C908=C910+1,C908-1,\"\"),C908-1)),\"\")","v":""},null,null,"Neko = Necho II. \"...the history of the Nineteenth Dynasty... identify the father of Necho II, Psammetichus, whith Seti the Great (Ptah Maat), and the grandfather of Necho II, Necho I, with Ramses I.  Ramses I was appointed to rule Egypt by Assurbanipal after the sack of Thebes in -663 (Ramses II and His Time, p.4:4).  \"...the XVIIIth and XIXth Dynasties... Thothmes [Thutmose III] (1501-1447)... Ramses II (1292-1225)... conventional chronology.\" (Ramses II and His Time, p.46:2).  \"From this same deposit comes a finely engraved carnelian scarab bearing the name User-Maat-Ra, Setep-en-Ra, Ramesses II.\" (Ramses II and His Time, p.48:1).  \"The treaty was signed by Usermare Setepnere, son of Menmare, , grandson of Menpehtire (the royal nameof Ramses II, son of Seti, grandson of Seplel. The treaty in the Akkadian language was signed by Hattusilis, son of Mursilis, grandson of Subbiluliumas.   The man whose name was read Khetasar in the Egyptian and Hattusilis in the Boghazkoi text must have been the king whom we know as Nebuchadnezzar, son of Nabopolassar. More than fifty times in the Scriptures his name is spelled Nebuchadrezzar; more than thirty times he is called Nebuchadnezzar.\" (Ramses II and His Time, p.50:4-5).",null," ",null,null," ",null,null,null,null,null," ",null,null,null,"15th year - I.e. the 15th Sacred Calendar Year he reigned"," "]
[null,null,null,"",null,{"$f":"F907","v":-608},"-608 (Ramses II and His Time, p.1:2, 8:4-6). Riblah=Tell Nebi-Mend in the \"land of Hamath\", \"the military headquarters first of Pharaoh Necho and thereafter of Nebuchadnezzar. There the pharaoh put Jehoahaz, king of Jerusalem, in bands (II Kings 23:33); there Nebuchadnezzar blinded King Zedekiah (II Kings 25:7, Jeremiah 39:7)\" (Ramses II and His Time, p.16:6.)",null," ",null,null,23,null,null,"Pharaoh Neko",null,null,null,null,null,null,"15th year - I.e. the 15th Sacred Calendar Year he reigned"," "]
[null,null,{"$f":"C907","v":608},"",null,null,"\"Ramses' first campaign toward Carchemish took place in his second year, obviously counted from the beginning of his reign as a sole ruler; on his second campaign he proceeded in his fifth year; Gaza and Ashkelon he took in his ninth year; he concluded the peace treaty with Nebuchadnezzar in his (Ramses') twenty-first year; he married a daughter of Nebuchadnezzar in his thirty-fourth year, always counted from the death of his father, Seti.\" (Ramses II and His Time, p. 213:3).",null,"Josiah's 31st yr, Jehoahaz' 3mo & Eliakim's",null,"Access yr",null,null,null,null,null,null," ","2 Kings 23:36; 2 Chron. 36:4-5. Pharaoh-Neko took Jehoahaz as a hostage to Riblah in Egypt, and replaced Jehoahaz with Jehoahaz' brother Eliakim, whom Pharaoh renamed Jehoiakim. 2 Kings 23:31-35.  NOTICE: For two or three reasons the 1st year of Eliakim and the 31st year of Josiah cannot be one and the same Sacred Calendar Year: #1. Jeremiah 25:3 counts 23 Calendar years inclusive, starting at the 13th year of Josiah and ending with the 4th year of Eliakim (as translated by IB and as supported by the Hebrew - in contradistinction to the KJV translation), which latter 4th year is also stated as being the 1st year of Nebuchadnezzar, #2. if Josiah ruled a full 31 years, as the text seems to indicate, it is likely that Josiah had a 32nd year in which he was the King, and #3. although not specifically stated, it could be that Neko did to Jehoahaz and Eliakim, and at the same time of the year, that which later Nebuchadnezzar did to Jehoiachin and Matteniah. Perhaps Nebuchadnezzar did so according to the prior practice of Neko, or perhaps both of those foreign kings did so based upon some common tradition? Upon further consideration it appears that the season for wars was the dry season of the year, i.e. the summer and the middle part of the Sacred Year, in this case probably the early part of summer considering the intents of Pharaoh-Neko, and NOT towards the end of the Sacred Year.  Either way the number #1. reference from Jeremiah 25:3 seems sufficient reason for drawing the conclusion as far as the years must be as far as Josiah and Eliakim are concerned - i.e. provided that is indeed what Jeremiah is giving reference to with his 23 years (See also notes at king Josiah's 13th and 18th years of reign!). ",null,{"$f":"U912-1","v":24},"15th year - I.e. the 15th Sacred Calendar Year he reigned",{"$f":"W903+1","v":19}]
[{"$f":"A903+1","v":3315},{"$f":"B913-1","v":-606},{"$f":"C910","v":608},607,null,null,"Ramses II and His Time, p.9:1-3.",null,"Eliakim (Egypt. Jehoiakim)","t","  1st year - I.e. the 1st Sacred Calendar Year he reigned",25,null,null,"Pharaoh Neko",null,null,null,null,null,24,"15th year - I.e. the 15th Sacred Calendar Year he reigned",{"$f":"W904+1","v":19}]
[null,-605,{"$f":"C913","v":607},"",null,null,null,null,"Eliakim (Egypt. Jehoiakim)",null,"  1st year - I.e. the 1st Sacred Calendar Year he reigned"," ",null,null,null,null,null,null,null,null,25,null,20]
[{"$f":"A911+1","v":3316},-605,{"$f":"C911-1","v":607},606,"\"Nebuchadnezzar, his eldest son, the crown prince:\"\n          “The nineteenth year: In the month Sivan [3rd moon] the king of Akkad [Babylon] mustered his army and Nebuchadnezzar, his eldest son, the crown prince, mustered his army. They marched ..” (BM 22047, lines 5-7, Grayson’s trans.). \n “In the twentieth year ... in the month of Tisri [7th month; 3rd year of Jehoiakim] the king of Addad [Babylon] mustered his army, marched along the bank of the Euphrates and pitched his camp at Quramati which is on the bank of the Euphrates. He sent his troops [with Nebuchadnezzar leading?, see below] across the Euphrates and they seized the towns of Sunadiri, Elammu and Dahammu which are in the country across the river [Hatti-land, where Judah was also located]. Spoil from them they took. In the month of Sebat, the king of Akkad [Babylon] returned to his own country. The Egyptian army which had crossed the Euphrates at Carchemish came against the Babylonian army which was stationed in Quramati, but the Babylonian army withdrew quickly and retreated. In the twenty-first year the king of Addad (stayed) in his own land. Nebuchadrezzar his eldest son, the crown prince, mustered the Babylonian army and ...” (BM 22047, lines 16-28, Wiseman, trans.).\n     “[In the twenty-first year - see BM 22047] the king [Nabopolassar] of Akkad [Babylon] stayed in his own land, Nebuchadrezzar his eldest son, the crown-prince, mustered [the Babylonian army] and took command of his troops; he marched to Carchemish [Gal-ga-mes] which is on the bank of the Euphrates, and crossed the river [to go] against the Egyptian army which lay in Carchemish [Gal-ga-mes]... fought with each other and the Egyptian army withdrew before him. He accomplished their defeat and to non-existence [beat?] them. As for the rest of the Egyptian army which had escaped from the defeat [so quickly that] no weapon had reached them, in the district of Hamath the Babylonian troops overtook and defeated them so that not a single man [escaped] to his own country. At that time Nebuchadnezzar conquered the whole area of the Hatti-country.” (From http://becomingone.org/cp/cp5.htm.)    \n     \n",null,null,null,"Eliakim (Egypt. Jehoiakim)",null,"  2nd year - I.e. the 2nd Sacred Calendar Year he reigned",{"$f":"L915-1","v":9},null,null,"Pharaoh Neko",null,null," ",null,null,25,"16th year - I.e. the 16th Sacred Calendar Year he reigned",20]
[null,-604,{"$f":"C915","v":606},"","22nd year, 5th moon, 8th day & 6th moon, 1st day (beginning of Nebuchadnezzar's accession year:)\n       “For twenty-one years Nabopolassar had been king of Babylon. On the 8th of the month of Ab [5th month] he died [lit. “the fates”]: in the month of Elul [6th month] Nebuchadrezzar returned [ana] to Babylon and on the first day of the month of Elul [6th month] he sat on the royal throne in Babylon. In the ‘accession year’ Nebuchadrezzar went back again [ana - “marched”] to Hatti-land and until the month of Sebat [11th month] marched unopposed through the Hatti-land; in the month of Sebat he took the heavy tribute of the hatti-territory to Babylon” (BM 21946… D.J. Wiseman, Chronicles of Chaldaean Kings, pp. 67-69; and see Grayson, Assyrian and Babylonian Chronicles, pp. 99-102). \n  ",null,null,null,"Eliakim (Egypt. Jehoiakim)",null,"  2nd year - I.e. the 2nd Sacred Calendar Year he reigned"," ",null,null,"Pharaoh Neko",null,null,null," ",null,26,"16th year - I.e. the 16th Sacred Calendar Year he reigned",21]
[{"$f":"A913+1","v":3317},-604,{"$f":"C913-1","v":606},605,null,null,null,null,"Eliakim (Egypt. Jehoiakim)",null,"  3rd year - I.e. the 3rd Sacred Calendar Year he reigned",{"$f":"L917-1","v":10},null,null,"Pharaoh Neko",null,null,"Year of Babylonian 70 year servitude?",null,null,26,"17th year - I.e. the 17th Sacred Calendar Year he reigned",21]
[null,-603,{"$f":"C917","v":605},"","Lunar eclipse records:\n     “LBAT 1420 contains annual eclipses. All are from the reign of Nebuchadnezzar, from his first to his twenty ninth years. The first record, that records two eclipses that were not observable, is damaged and the year number is illegible. However the last part of Nebuchadnezzar name is preserved. The name of the king is not repeated which means that the king is the same during the whole period. Some of the records are damaged but the ones that are legible are in good agreement with the king lists. This record carries detail of twenty four eclipses of which 12 have the regnal year preserved…\n     “LBAT 1419 records an uninterrupted series of Lunar eclipses at 18 year intervals from 609/08 to 447/46 BCE. The first entries that are recorded are damaged. However the two following entries are clearly dated to the 14th and 32nd year of the reign of Nebuchadnezzar. His 14th and 32nd years are dated to 591/90 and 573/72 BCE respectively. The two eclipses recorded, one saros apart, both took place in the sixth month in August or September…\n","-603 (604 BC,) Nisan 1: Beginning of Nebuchadnezzar's 1 year of reign, i.e. following his accession year. Cf. Anchor point: Nebuchadnezzar's 37th year and VAT 4956.","22nd year of Nabopolassar, king of Akkad (Babylonia) and Chaldea (Babylonia) (Ramses II and His Time p.98:3, 97:2, 96:1,2). Mursilis (Chaldean name) = Nabopolassar, and Hattusilis (Chaldean name) = Nebuchadnezzar (Ramses II and His Time p.96:1). Nebuchadnezzar \"son of Nabopolassar, king of Assyria\"  (Ramses II and His Time, p.56:4-57:3). Mursilis (Chaldean name) = Nabopolassar (Ramses II and His Time p.96:1).  \"Greek authors called Nabopolassar Belesys (Diodorus, II, 24) and Bussalossor (Abydenus), and that in the Boghazkoi texts he is called Mursilis and Bijasili, in Egyptian Merosar, in Babylonian Bel-shum-ishkun and Nabopolassar\" (Ramses II and His Time 102:2). Hattusilis=Nebuchadnezzar=Nebuchadrezzar=Nabukudurri-usur=Nabuchodonosor=Khetasar was the younger brother of Muwatalli=Muwatallis=Muatalli=Nergil=Nergal=Nir-gal=Nergilissar, who ruled as the Great king for 6 years and was the father of Labash=Labash-Marduk=Urhi-Tesupa, who \"ruled\" for 9 months (??? cf. p.104:2; 122:1-2) before being deposed by Nebuchadnezzar who eventually erased both his brother and nephew from history while putting himself in their place. (Ramses II and His Time, Chapter 5 & p.92:5; 100:3; 102:1; 103:5; 115:5; 121:3-4; 122:4).  \"In a double identification the Kheta of the Egyptian annals were said to be the Hittites of the Scriptures...\" (Ramses II and His Time p. 86:2 & 88:3).  \"Jupiter (Marduk), Mars (Nergil), Venus (Ishtar), and Saturn (Bel), and the Moon (Sin) and the Sun (Shamash)...\" (Ramses II and His Time p.101:4).  \"[GS note, cf. Ramses II Chapter V - As probably falsified retroactively by Nebuchadnezzar:] ...For twenty-one years Nabopolassar had been king of Babylon.  On the 8th of the month of Ab he died [lit. \"the fates\"]: in the month of Elul Nebuchadrezzar returned to Babylon and on the first day of the month of Elul he sat on the royal throne in Babylon.\" (Ramses II and His Time p.105:3).  NOTICE: 'Ab' means 'father' and 'Elul' is derived from 'divinity, God, El' cf. Strong's #1-4 & #408-435. 8th of Ab... 8='something new'... 1st of Elul... First among the El-gods...  What is Nebuchadnezzar designing here if not a new creation pretending to represent truth/reality while probably nothing better than a half-truth, and thusly coded ab initio!  ....And yet, what REALITY are we looking at? The reality as to when someone received the recognition of men, e.g. by receiving the title to the crown officially, OR the time when someone was starting out upon a life time pursuit.  Thinking about Nebuchadnezzar...  He did start his conquests early on during the time when his brother Nergilissar was officially carrying the crown of recognition of men, didn't he?  So which date is more pertinent - and for which purposes?  I am particularly in quest of when the 70 year prophecy of Jeremiah started? When did the conquests of that one king of Babylon, i.e. Nebuchadnezzar, begin?",null,"Eliakim (Egypt. Jehoiakim)",null,"  3rd year - I.e. the 3rd Sacred Calendar Year he reigned"," ",null,null,"\"Nebuchadnezzar\" - actually Nergilissar, and later his son Labash-Marduk, was the Great king while Nebuchadnezzar carried a lower but ever greater title since the death of Nabopolassar, his father. Cf. Ramses II and His Time Chapter V. Depending on how these first seven years are counted/labeled, this year, of his attack against Jerusalem, could technically be either the 1st or 8th year after the death of Nabopolassar. However, considering the details re how Nebuchadnezzar was called back home at the time of his father's death, and also the events of the kings of Judah, the \"first year of Nebuchadnezzar\" , Jer. 25:1, appears to be based upon the reckoning of years as introduced retroactively by Nebuchadnezzar some time after the deaths of Neriglissar and Labash-Marduk, Nebuchadnezzar's brother and nephew, i.e. some seven years plus after Nabopolassar's death. Cf. Ramses II and His Time Chapter V, pp. 138:1, & 254.",null,"  1st year - I.e. the 1st Sacred Calendar Year he reigned","  1st year - I.e. the 1st Sacred Calendar Year he reigned","Daniel, Hananiah, Mishael, and Azariah taken captive to Babylon (Bab. Belteshazzar, Shadrach, Meshach, and Abed-nego): \"In the third year of the reign of Jehoiakim, king of Judah, Nebuchadnezzar the king of Babylon came to Jerusalem and besieged it. And the Lord gave Jehoiakim, king of Judah, into his hand, with part of the vessels of the house of God, which he carried into the land of Shinar...\"  Dan. 1:1.   [Perhaps Nebuchadnezzar's successes on the battlefields against Egypt and others had something to do with his arising to King in Babylonia?] \"And the king spake unto Ashpenaz the master of his eunuchs, that he should bring certain of the children of Israel, and of the king's seed, and of the princes... Now among these were of the children of Judah, Daniel, Hananiah, Mishael, and Azariah: Unto whom the prince of the eunuchs gave names: for he gave unto Daniel the name of Belteshazzar; and to Hananiah, of Shadrach; and to Mishael, of Meshach; and to Azariah, of Abed-nego\" Dan. 1:3,6-7 (KJV). NOTICE: Compare 3rd yr above with 4th yr below: \"Against Egypt, against the army of Pharaoh-necho king of Egypt, which was by the river Euphrates in Carchemish, which Nebuchadrezzar king of Babylon smote in the fourth year of Jehoiakim the son of Josiah king of Judah...\" Jeremiah 46:2 (KJV).  QUESTION: Did Daniel 1:1, 3rd year, occur prior to Jeremiah 46:2, 4th yr, OR are these concurrent events using different calendars?\n\nNotice: Jeremiah, Chapter 29 includes a transcript of a letter sent from Jeremiah to the first captives taken to Babylon. This letter is the third reference to \"seventy years\" by Jeremiah (cf. Jeremiah 25:11, 12; 29:10; Isaiah 23:15,17, & Daniel 9:2.) Considering the dates provided in Jer. 25:1; 29:1-2 the beginning of the 70 years seem to be well defined. \n\nThus the numbering of the 70 years seem to run concurrent with those of Nebuchadnezzar's years of reign, possibly with a question as to whether sacred or civil years are being reckoned, i.e. considering also that this is a period of time when Jerusalem is being held under siege (cf. Josephus' dating during the years of the Jewish war with Rome)?\n\n",null,{"$f":"U918-1","v":27},"17th year - I.e. the 17th Sacred Calendar Year he reigned",22]
[{"$f":"A915+1","v":3318},-603,{"$f":"C915-1","v":605},604,null,"-605","5th year of Ramses II...: Ramses II and His Time, p.2:1. \"Between the fifth and eighth years of Ramses II all Palestine revolted against Egypt. The battle of Kadesh [=Carchemish. See Chapter I p. 1-36] took place in the FIFTH YEAR of Ramses, and the 'revolt of Palestine' followed the unfortunate outcome of this contest. This THREE YEARS revolt is described also in the Second Book of Kings. The battle by the river Euphrates took place in the FOURTH YEAR of Jehoiakom (Jeremiah 46:2); as a consequence of it Syria and Palestine were exposed to Babylonian conquest. The tribute which had been paid to the pharaoh (II Kings 23:35) was discontinued.\" (Ramses II and His Time p.37:1).  \"In the FOURTH YEAR of King Jehoiakim the pharaoh undertook his second military campaign and reached Carchemish (Jeremiah 46:2). The FOURTH YEAR of Jehoiakim started in the FIFTH YEAR  of Ramses II; accordingly, this second campaign must have taken place in Ramses' FIFTH YEAR. This conforms with the Egyptian sources: Ramses II started his second campaign leaving Egypt on the NINTH DAY OF THE TENTH MONTH OF THE FIFTH YEAR (\"Poem of Pentaur\").  The FOURTH YEAR of Jehoiakim was also the FIRST YEAR of Nebuchadnezzar, king of Babylon (Jeremiah 25:1). It follows that Nebuchadnezzar counted the years of his reign from the year that he fought the second battle at the Euphrates.  At the time he was commander-in-chief of the Babylonian army Nebuchadnezzar was king of Assyria, a part of the Babylonian Empire. At first he was called king of Assyria (II Kings 23:29), later king of Babylon or king of the Chaldeans. [- Footnote:] There is a discrepancy between Jeremiah 25:1 and Daniel 1:1-in the latter Nebuchadnezzar is called king of Babylon in the third year of Jehoiakim. For Nebuchadnezzar's later claims to have been the legitimate king of Babylon immediately following the death of Nabopolassar, see the section \"Changing History\" in Chapter V.  See also, on the methods of calculating the reigning years in Babylonia and Judea, E.R. Thiele, \"The Chronology of the Kings of Judah and Israel,\" Journal of Near Eastern Studies, III (1944), 137-86; The Mysterious Numbers of the Hebrew Kings (Grand Rapids, Mich., 1965). Nebuchadnezzar's FIRST YEAR fell in the latter part of the FIFTH YEAR of Ramses and the earlier part of the SIXTH. According to the Egyptian sources, Palestine was in revolt against Egypt from the end of the FIFTH to the EIGHTH or NINTH YEAR of Ramses' reign.  Those years following the defeat of the Egyptians at Kadesh-carchemish correspond to the period from the FIFTH to the EIGHTH YEAR of Jehoiakim; these years are mentioned in II Kings 24:1: 'In his days Nebuchadnezzar, king of Babylon, came up, and Jehoiakim became his servant three years: then he turned and rebelled agaist him.  At the end of this time Jehoiakim revolted against the Babylonians, as the same verse in Kings states; thus he revolted in his EIGHTH YEAR.The time when Ashkelon was stormed is recorded as the NINTH YEAR of Ramses II. [Footnote: According to Petrie and Maspero.]  Since the NINTH YEAR of Ramses II was the EIGHTH YEAR of Jehoiakim, the siege of Ashkelon by Ramses II was coincident with Jehoiakim's revolt against Nebuchadnezzar. The Karnak bas-relief of the storming of Ashkelon and Chapter 47 of Jeremiah give prominence to this event. The presence of Egyptian soldiers in Beth-Shan in the NINTH YEAR of Ramses is testified to by a stele of his erected there in his NINTH YEAR.\" (Rameses II and His Time, p.56:4-57:3).   \"The battle of Carchemish (the battle of Kadesh) fought between Ramses II and Nebuchadnezzar took place in -605.\" (Ramses II and His Time p.161:2).",null,"Eliakim (Egypt. Jehoiakim)",null,"  4th year - I.e. the 4th Sacred Calendar Year he reigned",{"$f":"L919-1","v":11},null,null,{"$f":"O916","v":"\"Nebuchadnezzar\" - actually Nergilissar, and later his son Labash-Marduk, was the Great king while Nebuchadnezzar carried a lower but ever greater title since the death of Nabopolassar, his father. Cf. Ramses II and His Time Chapter V. Depending on how these first seven years are counted/labeled, this year, of his attack against Jerusalem, could technically be either the 1st or 8th year after the death of Nabopolassar. However, considering the details re how Nebuchadnezzar was called back home at the time of his father's death, and also the events of the kings of Judah, the \"first year of Nebuchadnezzar\" , Jer. 25:1, appears to be based upon the reckoning of years as introduced retroactively by Nebuchadnezzar some time after the deaths of Neriglissar and Labash-Marduk, Nebuchadnezzar's brother and nephew, i.e. some seven years plus after Nabopolassar's death. Cf. Ramses II and His Time Chapter V, pp. 138:1, & 254."},null,"  1st year - I.e. the 1st Sacred Calendar Year he reigned","  1st year - I.e. the 1st Sacred Calendar Year he reigned","\"The word that was to Jeremiah concerning all the people of Judah in the fourth year of Jehoiakim the son of Josiah king of Judah. It was the first year of Nebuchadnezzar king of Babylon... [From the thirteenth year of Josiah the son of Amon, king of Judah, even to this day, this twenty-three years, the word of Jehovah has come to me...\" (IB - Translation well supported by Hebrew!) vs. \"From the thirteenth year of Josiah the son of Amon king of Judah, even unto this day, that is the three and twentieth year, the word of the Lord hath come unto me...\" (KJV - Translation NOT well supported by Hebrew; i.e. \"this twenty-three years\"  vs. \"the three and twentieth year\" )]...  And these nations shall serve the king of Babylon seventy years... And it shall be, when seventy years are fulfilled, I will punish the king of Babylon...\" Jer. 25:1,3,11-12 (IB).  \"Zedekiah was one and twenty years old when he began to reign, and he reigned eleven years in Jerusalem. And his mother's name was Hamutal the daughter of Jeremiah of Libnah. And he did that which was evil in the eyes of the Lord, according to all that Jehoiakim had done. For through the anger of the Lord it came to pass in Jerusalem and Judah, till he had cast them out from his presence, that Zedekiah rebelled against the king of Babylon. And it came to pass in the ninth year of his reign, in the tenth month, in the tenth day of the month, that Nebuchadrezzar king of Babylon came, he and all his army, against Jerusalem, and pitched against it, and built forts against it round about. So the city was besieged unto the eleventh year of king Zedekiah. And in the fourth month, in the ninth day of the month, the famine was sore in the city, so that there was no bread for the people of the land... and the king of Babylon bound him in chains, and carried him to Babylon, and put him in prison till the day of his death. Now in the fifth month, in the tenth day of the month, which was the nineteenth year of Nebuchadrezzar king of Babylon, came Nebuzar-adan, captain of the guard, which served the king of Babylon, into Jerusalem. And burned the house of the Lord, and the king's house; and all the houses of Jerusalem, and all the houses of the great men, burned he with fire: And all the army of the Chaldeans, that were with the captain of the guard, brake down all the walls of Jerusalem round about\" Jer. 52:1-6,11-14.  \"This is the people whom Nebuchadrezzar carried away captive: in the seventh year three thousand Jews and three and twenty: In the eighteenth year of Nebuchadrezzar he carried away captive from Jerusalem eight hundred thirty and two persons: In the three and twentieth year of Nebuchadrezzar Nebuzar-adan the captain of the guard carried away captive of the Jews seven hundred forty and five persons: all the persons were four thousand six hundred. And it came to pass in the seven and thirtieth year of the captivity of Jehoiachin king of Judah, in the twelfth month, in the five and twentyieth day of the month, that Evil-merodach king of Babylon in the first year of his reign lifted up the head of Jehoiachin king of Judah, and brought him forth out of prison...\" Jer. 52:28-31 (KJV).   Because this was already happening under Pharaoh Neko, it seems clear that once Nebuchadnezzar took over the rule over Egypt and Pharaoh Neko, he would at the same time have all \"these nations... serve the king of Babylon\".  Thus the beginning of the king Nebuchadnezzar's rule is at the same time the start of the 70 years of bondage/servitude under Babylon.",null,27,"18th year - I.e. the 18th Sacred Calendar Year he reigned",22]
[null,-602,{"$f":"C919","v":604},"",null,null,{"$f":"G910","v":"\"Ramses' first campaign toward Carchemish took place in his second year, obviously counted from the beginning of his reign as a sole ruler; on his second campaign he proceeded in his fifth year; Gaza and Ashkelon he took in his ninth year; he concluded the peace treaty with Nebuchadnezzar in his (Ramses') twenty-first year; he married a daughter of Nebuchadnezzar in his thirty-fourth year, always counted from the death of his father, Seti.\" (Ramses II and His Time, p. 213:3)."},null,"Eliakim (Egypt. Jehoiakim)",null,"  4th year - I.e. the 4th Sacred Calendar Year he reigned"," ",null,null,{"$f":"O917","v":"\"Nebuchadnezzar\" - actually Nergilissar, and later his son Labash-Marduk, was the Great king while Nebuchadnezzar carried a lower but ever greater title since the death of Nabopolassar, his father. Cf. Ramses II and His Time Chapter V. Depending on how these first seven years are counted/labeled, this year, of his attack against Jerusalem, could technically be either the 1st or 8th year after the death of Nabopolassar. However, considering the details re how Nebuchadnezzar was called back home at the time of his father's death, and also the events of the kings of Judah, the \"first year of Nebuchadnezzar\" , Jer. 25:1, appears to be based upon the reckoning of years as introduced retroactively by Nebuchadnezzar some time after the deaths of Neriglissar and Labash-Marduk, Nebuchadnezzar's brother and nephew, i.e. some seven years plus after Nabopolassar's death. Cf. Ramses II and His Time Chapter V, pp. 138:1, & 254."},null,"  2nd year - I.e. the 2nd Sacred Calendar Year he reigned","  2nd year - I.e. the 2nd Sacred Calendar Year he reigned","Dan. 2:1 \"And in the second year of the reign of Nebuchadnezzar, Nebuchadnezzar was dreaming dreams, and his spirit was troubled, and his sleep was finished on him…\" (IB)",null,28,"18th year - I.e. the 18th Sacred Calendar Year he reigned",23]
[{"$f":"A917+1","v":3319},-602,{"$f":"C917-1","v":604},603,null,null,"(?) 5th year of Ramses II. - Cf. Ramses II and His Time, p.37, footnote #2, and p. 38:3.  BUT: What is the basis for the statement \"Jehoiakim revolted against Nebuchadnezzar in his (Jehoiakim's) eighth year...\"?  I find no such reference in the OT looking in Strong's Concordance under 'eight' or 'eighth'.  In the absence of a solid basis for said statement I would lean towards the 5th year of Ramses II occuring in Jehoiakim's 4th year (perhaps extending into the 5th?), and thus the 1st year of Ramses II would be at least partly concurrent with Josiah's 31st year of reign.  Interestingly, Pharaoh Necho, Ramses II, went to war against the Babylonians - and killed king Josiah - close to the beginning of his, Ramses II's reign, i.e. just as Nebuchadnezzar's 1st year is concurrent with his attack against Jerusalem in Jehoiakim's 3rd and/or 4th year of reign. When, in Jehoiakin's 7th or 8th year, Pharaoh Necho took back Jerusalem he did have a preexisting claim on tribute which had not been paid.  Likewise, when, in Jehoiakim's 3rd and/or 4th years, Nebuchadnezzar besieged Jerusalem, he also, had a preexisting claim on Jerusalem, or at least so states Velikovsky in Ramses II and His Time, p. 39:1: \"...Josiah, true to his treaty with the Babylonians, defended with his life the Migiddo Pass against the overwhelming odds of the Egyptian army under Ramses II\", and on p. 40:3: \"Jeremiah stood behind Josiah and his pledge to defend Babylonia against attack by Egypt, and though Josiah lost the battle at Megiddo, the prophet remained all his life true to his Babylonian orientation\".  BIG QUESTION: What \"treaty with the Babylonians\", and when was this entered into?  The answer seems to be that there was in existence a long term contract, starting perhaps with Ahaz, king of Judah, as related in 2 Kings 16:7-10 and 2 Chronicles 28:16-21, though the followup on this contract was variable and apparently very light under the subsequent kings of Judah, Hezekiah, Manasseh, Amon, and Josiah...",null,"Eliakim (Egypt. Jehoiakim)",null,"  5th year - I.e. the 5th Sacred Calendar Year he reigned",{"$f":"L921-1","v":12},null,null,{"$f":"O918","v":"\"Nebuchadnezzar\" - actually Nergilissar, and later his son Labash-Marduk, was the Great king while Nebuchadnezzar carried a lower but ever greater title since the death of Nabopolassar, his father. Cf. Ramses II and His Time Chapter V. Depending on how these first seven years are counted/labeled, this year, of his attack against Jerusalem, could technically be either the 1st or 8th year after the death of Nabopolassar. However, considering the details re how Nebuchadnezzar was called back home at the time of his father's death, and also the events of the kings of Judah, the \"first year of Nebuchadnezzar\" , Jer. 25:1, appears to be based upon the reckoning of years as introduced retroactively by Nebuchadnezzar some time after the deaths of Neriglissar and Labash-Marduk, Nebuchadnezzar's brother and nephew, i.e. some seven years plus after Nabopolassar's death. Cf. Ramses II and His Time Chapter V, pp. 138:1, & 254."},null,"  2nd year - I.e. the 2nd Sacred Calendar Year he reigned","  2nd year - I.e. the 2nd Sacred Calendar Year he reigned","7th Moon new year? :  \"And it came to pass in the fourth year of Jehoiakim the son of Josiah king of Judah, that this word came unto Jeremiah from the Lord, saying, Take thee a roll of a book, and write therein all the words that I have spoken unto thee against Israel, and against Judah, and against all the nations, from the day I spake unto thee, from the days of Josiah, even unto this day...\" (Jer. 36:1-2).  <<<<<<<<>>>>><<  \"...And it came to pass in the fifth year of Jehoiakim the son of Josiah king of Judah, in the ninth month, that they porclaimed a fast before the Lord to  all the people in Jerusalem, and to all the people that came from the cities of Judah unto Jerusalem. Then read Baruch in the book the words of Jeremiah in the house of the Lord... Now the king sat in the winter-house in the ninth month: and there was a fire on the hearth burning before him...  Then the word of the Lord came to Jeremiah, after that the king had burned the roll, and the words which Baruch wrote at the mouth of Jeremiah, saying, Take thee again another roll, and write in it all the former words that were in the first roll, which Jehoiakim the king of Judah hath burned. And thou shalt say to Jehoiakim king of Judah, Thus saith the Lord; Thou hast burned this roll, saying, Why hast thou written therein, saying, The king of Babylon shall certainly come and destroy this land, and shall cause to cease from thence man and beast?\" (Jer. 36:9-10,22, 27-29).  NOTE: It appears from this text that Jerusalem was not as yet invaded by the Babylonians in the beginning of, i.e. the 9th month, of the 5th year of Jehoiakim.",null,28,"19th year - I.e. the 19th Sacred Calendar Year he reigned"," "]
[null,-601,{"$f":"C921","v":603},"",null,null,null,null,"Eliakim (Egypt. Jehoiakim)",null,"  5th year - I.e. the 5th Sacred Calendar Year he reigned"," ",null,null,"\"Nebuchadnezzar\" - actually Nergilissar, and later his son Labash-Marduk, was the Great king while Nebuchadnezzar carried a lower but ever greater title since the death of Nabopolassar, his father. Cf. Ramses II and His Time Chapter V. Depending on how these first seven years are counted/labeled, this year, of his attack against Jerusalem, could technically be either the 1st or 8th year after the death of Nabopolassar. However, considering the details re how Nebuchadnezzar was called back home at the time of his father's death, and also the events of the kings of Judah, the \"first year of Nebuchadnezzar\" , Jer. 25:1, appears to be based upon the reckoning of years as introduced retroactively by Nebuchadnezzar some time after the deaths of Neriglissar and Labash-Marduk, Nebuchadnezzar's brother and nephew, i.e. some seven years plus after Nabopolassar's death. Cf. Ramses II and His Time Chapter V, pp. 138:1, & 254.",null,"  3rd year - I.e. the 3rd Sacred Calendar Year he reigned","  3rd year - I.e. the 3rd Sacred Calendar Year he reigned"," ",null,29,"19th year - I.e. the 19th Sacred Calendar Year he reigned"," "]
[{"$f":"A919+1","v":3320},-601,{"$f":"C919-1","v":603},602,null,null,null,null,"Eliakim (Egypt. Jehoiakim)",null,"  6th year - I.e. the 6th Sacred Calendar Year he reigned",{"$f":"L923-1","v":13},null,null,"\"Nebuchadnezzar\" - actually Nergilissar, and later his son Labash-Marduk, was the Great king while Nebuchadnezzar carried a lower but ever greater title since the death of Nabopolassar, his father. Cf. Ramses II and His Time Chapter V. Depending on how these first seven years are counted/labeled, this year, of his attack against Jerusalem, could technically be either the 1st or 8th year after the death of Nabopolassar. However, considering the details re how Nebuchadnezzar was called back home at the time of his father's death, and also the events of the kings of Judah, the \"first year of Nebuchadnezzar\" , Jer. 25:1, appears to be based upon the reckoning of years as introduced retroactively by Nebuchadnezzar some time after the deaths of Neriglissar and Labash-Marduk, Nebuchadnezzar's brother and nephew, i.e. some seven years plus after Nabopolassar's death. Cf. Ramses II and His Time Chapter V, pp. 138:1, & 254.",null,"  3rd year - I.e. the 3rd Sacred Calendar Year he reigned","  3rd year - I.e. the 3rd Sacred Calendar Year he reigned"," ",null,29,"20th year - I.e. the 20th Sacred Calendar Year he reigned"," "]
[null,-600,{"$f":"C923","v":602},"",null,null,null,null,"Eliakim (Egypt. Jehoiakim)",null,"  6th year - I.e. the 6th Sacred Calendar Year he reigned"," ",null,null,"\"Nebuchadnezzar\" - actually Nergilissar, and later his son Labash-Marduk, was the Great king while Nebuchadnezzar carried a lower but ever greater title since the death of Nabopolassar, his father. Cf. Ramses II and His Time Chapter V. Depending on how these first seven years are counted/labeled, this year, of his attack against Jerusalem, could technically be either the 1st or 8th year after the death of Nabopolassar. However, considering the details re how Nebuchadnezzar was called back home at the time of his father's death, and also the events of the kings of Judah, the \"first year of Nebuchadnezzar\" , Jer. 25:1, appears to be based upon the reckoning of years as introduced retroactively by Nebuchadnezzar some time after the deaths of Neriglissar and Labash-Marduk, Nebuchadnezzar's brother and nephew, i.e. some seven years plus after Nabopolassar's death. Cf. Ramses II and His Time Chapter V, pp. 138:1, & 254.",null,"  4th year - I.e. the 4th Sacred Calendar Year he reigned","  4th year - I.e. the 4th Sacred Calendar Year he reigned","\"In his [Jehoiakim's] days Nebuchadnezzar the king of Babylon [arose], and Jehoiakim was a servant to him [Nebuchadnezzar] three years; and he [Jehoiakim] turned and rebelled against him [Nebuchadnezzar].\" 2 Kings 24:1",null,30,"20th year - I.e. the 20th Sacred Calendar Year he reigned"," "]
[{"$f":"A921+1","v":3321},-600,{"$f":"C921-1","v":602},601,null,null,null,null,"Eliakim (Egypt. Jehoiakim)",null,"  7th year - I.e. the 7th Sacred Calendar Year he reigned",{"$f":"L925-1","v":14},null,null,"\"Nebuchadnezzar\" - actually Nergilissar, and later his son Labash-Marduk, was the Great king while Nebuchadnezzar carried a lower but ever greater title since the death of Nabopolassar, his father. Cf. Ramses II and His Time Chapter V. Depending on how these first seven years are counted/labeled, this year, of his attack against Jerusalem, could technically be either the 1st or 8th year after the death of Nabopolassar. However, considering the details re how Nebuchadnezzar was called back home at the time of his father's death, and also the events of the kings of Judah, the \"first year of Nebuchadnezzar\" , Jer. 25:1, appears to be based upon the reckoning of years as introduced retroactively by Nebuchadnezzar some time after the deaths of Neriglissar and Labash-Marduk, Nebuchadnezzar's brother and nephew, i.e. some seven years plus after Nabopolassar's death. Cf. Ramses II and His Time Chapter V, pp. 138:1, & 254.",null,"  4th year - I.e. the 4th Sacred Calendar Year he reigned","  4th year - I.e. the 4th Sacred Calendar Year he reigned"," ",null,30,"21st year - I.e. the 21st Sacred Calendar Year he reigned"," "]
[null,-599,{"$f":"C925","v":601},"",null,null,null,null,"Eliakim (Egypt. Jehoiakim)",null,"  7th year - I.e. the 7th Sacred Calendar Year he reigned"," ",null,null,"\"Nebuchadnezzar\" - actually Nergilissar, and later his son Labash-Marduk, was the Great king while Nebuchadnezzar carried a lower but ever greater title since the death of Nabopolassar, his father. Cf. Ramses II and His Time Chapter V. Depending on how these first seven years are counted/labeled, this year, of his attack against Jerusalem, could technically be either the 1st or 8th year after the death of Nabopolassar. However, considering the details re how Nebuchadnezzar was called back home at the time of his father's death, and also the events of the kings of Judah, the \"first year of Nebuchadnezzar\" , Jer. 25:1, appears to be based upon the reckoning of years as introduced retroactively by Nebuchadnezzar some time after the deaths of Neriglissar and Labash-Marduk, Nebuchadnezzar's brother and nephew, i.e. some seven years plus after Nabopolassar's death. Cf. Ramses II and His Time Chapter V, pp. 138:1, & 254.",null,"  5th year - I.e. the 5th Sacred Calendar Year he reigned","  5th year - I.e. the 5th Sacred Calendar Year he reigned"," ",null,31,"21st year - I.e. the 21st Sacred Calendar Year he reigned"," "]
[{"$f":"A923+1","v":3322},-599,{"$f":"C923-1","v":601},600,null,null,"(?) 8th year of Ramses II. - Cf. Ramses II and His Time, p.37, footnote #2, and p. 38:3. BUT: What is the basis for the statement \"Jehoiakim revolted against Nebuchadnezzar in his (Jehoiakim's) eighth year...\"?  I find no such reference in the OT looking in Strong's Concordance under 'eight' or 'eighth'.",null,"Eliakim (Egypt. Jehoiakim)",null,"  8th year - I.e. the 8th Sacred Calendar Year he reigned",{"$f":"L927-1","v":15},null,null,"\"Nebuchadnezzar\" - actually Nergilissar, and later his son Labash-Marduk, was the Great king while Nebuchadnezzar carried a lower but ever greater title since the death of Nabopolassar, his father. Cf. Ramses II and His Time Chapter V. Depending on how these first seven years are counted/labeled, this year, of his attack against Jerusalem, could technically be either the 1st or 8th year after the death of Nabopolassar. However, considering the details re how Nebuchadnezzar was called back home at the time of his father's death, and also the events of the kings of Judah, the \"first year of Nebuchadnezzar\" , Jer. 25:1, appears to be based upon the reckoning of years as introduced retroactively by Nebuchadnezzar some time after the deaths of Neriglissar and Labash-Marduk, Nebuchadnezzar's brother and nephew, i.e. some seven years plus after Nabopolassar's death. Cf. Ramses II and His Time Chapter V, pp. 138:1, & 254.",null,"  5th year - I.e. the 5th Sacred Calendar Year he reigned","  5th year - I.e. the 5th Sacred Calendar Year he reigned"," ",null,31,"22nd year - I.e. the 22nd Sacred Calendar Year he reigned"," "]
[null,-598,{"$f":"C927","v":600},"",null,null,{"$f":"G907","v":"The 2nd & 9th Years of Ramses II: \"On his march through Palestine the Egyptian king met opposition and had to fight his way through (II Chronicles 35:22ff.; II Kings 23:29; Aswan stele). His archers shot the opposing king (II Chronicles 35:23; Egyptian mural in the Metropolitan Museum of Art from the temple of Ramses II).  The pharaoh reached the north of Syria and established a camp and an outpost at Riblah in the land of Hamath (II Kings 23:33; inscription of the SECOND YEAR of Ramses II at Nahr el-Kelb).\" (Ramses II and His Time, p.54:1).  \"The first campaign of Ramses II into northern Syria took place in the SECOND YEAR of his reign. This is the date of his earlier stele at Nahr el-Kelb; the obelisk at Tanis seems to refer to the same events.  In the beginning of the first campaign of the king of Egypt directed toward the Euphrates, Josiah, king of Jerusalem, was killed at Megiddo.  Three months later (II Chronicles 36:2-4) Jehoiakim was made king of Jerusalem. The beginning of the reign of Jehoiakim corresponds to the SECOND YEAR of the reign of Ramses II.\" (Ramses II and His Time, p.56:2-3).  -608: (Rameses II and His Time, p.1:2, 7:3-8:4.)   \"The impending invasion of the pharaoh was a signal to Jehoiakim. In his eighth year he rebelled against the Chaldeans. For a few years Judea was again in the domain of the pharaoh Ramses II. His campaign brought him as far as Beth-Shan, where a stele of his NINTH YEAR was found...\" (Rameses II and His Time, p.38:3)."},{"$f":"G910","v":"\"Ramses' first campaign toward Carchemish took place in his second year, obviously counted from the beginning of his reign as a sole ruler; on his second campaign he proceeded in his fifth year; Gaza and Ashkelon he took in his ninth year; he concluded the peace treaty with Nebuchadnezzar in his (Ramses') twenty-first year; he married a daughter of Nebuchadnezzar in his thirty-fourth year, always counted from the death of his father, Seti.\" (Ramses II and His Time, p. 213:3)."},"Eliakim (Egypt. Jehoiakim)",null,"  8th year - I.e. the 8th Sacred Calendar Year he reigned"," ",null,null,"\"Nebuchadnezzar\" - actually Nergilissar, and later his son Labash-Marduk, was the Great king while Nebuchadnezzar carried a lower but ever greater title since the death of Nabopolassar, his father. Cf. Ramses II and His Time Chapter V. Depending on how these first seven years are counted/labeled, this year, of his attack against Jerusalem, could technically be either the 1st or 8th year after the death of Nabopolassar. However, considering the details re how Nebuchadnezzar was called back home at the time of his father's death, and also the events of the kings of Judah, the \"first year of Nebuchadnezzar\" , Jer. 25:1, appears to be based upon the reckoning of years as introduced retroactively by Nebuchadnezzar some time after the deaths of Neriglissar and Labash-Marduk, Nebuchadnezzar's brother and nephew, i.e. some seven years plus after Nabopolassar's death. Cf. Ramses II and His Time Chapter V, pp. 138:1, & 254.",null,"  6th year - I.e. the 6th Sacred Calendar Year he reigned","  6th year - I.e. the 6th Sacred Calendar Year he reigned"," ",null,{"$f":"U928-1","v":32},"22nd year - I.e. the 22nd Sacred Calendar Year he reigned"," "]
[{"$f":"A925+1","v":3323},-598,{"$f":"C925-1","v":600},599,null,null,null,null,"Eliakim (Egypt. Jehoiakim)",null,"  9th year - I.e. the 9th Sacred Calendar Year he reigned",{"$f":"L929-1","v":16},null,null,"\"Nebuchadnezzar\" - actually Nergilissar, and later his son Labash-Marduk, was the Great king while Nebuchadnezzar carried a lower but ever greater title since the death of Nabopolassar, his father. Cf. Ramses II and His Time Chapter V. Depending on how these first seven years are counted/labeled, this year, of his attack against Jerusalem, could technically be either the 1st or 8th year after the death of Nabopolassar. However, considering the details re how Nebuchadnezzar was called back home at the time of his father's death, and also the events of the kings of Judah, the \"first year of Nebuchadnezzar\" , Jer. 25:1, appears to be based upon the reckoning of years as introduced retroactively by Nebuchadnezzar some time after the deaths of Neriglissar and Labash-Marduk, Nebuchadnezzar's brother and nephew, i.e. some seven years plus after Nabopolassar's death. Cf. Ramses II and His Time Chapter V, pp. 138:1, & 254.",null,"  6th year - I.e. the 6th Sacred Calendar Year he reigned","  6th year - I.e. the 6th Sacred Calendar Year he reigned"," ",null,{"$f":"U929-1","v":32},"23rd year - I.e. the 23rd Sacred Calendar Year he reigned"," "]
[null,{"$f":"B930-1","v":-597},{"$f":"C929","v":599},"",null,null,null,null,"Eliakim (Egypt. Jehoiakim)",null,"  9th year - I.e. the 9th Sacred Calendar Year he reigned"," ",null,null,"\"Nebuchadnezzar\" - actually the ruler at this time was not Nebuchadnezzar but Labash=Labash-Marduk, a young son of Nergilassar by a concubine of Nergilassar.  Labash-Marduks formal rule as Great king lasted only some 9 months before he was deposed by Nebuchadnezzar who carried a lower but ever greater title all along. (Ramses II and His Time Chapter V & 100:3; 136:3). Hattusilis=Nebuchadnezzar=Nebuchadrezzar=Nabukudurri-usur=Nabuchodonosor=Khetasar was the younger brother of Muwatalli=Muwatallis=Muatalli=Nergil=Nergal=Nir-gal=Nergilissar, who ruled as the Great king for 6 years and was the father of Labash=Labash-Marduk=Urhi-Tesupa=Urhi-Tesub, who \"ruled\" for 9 months (??? cf. p.104:2; 122:1-2) before being deposed by Nebuchadnezzar who eventually erased both his brother and nephew from history while putting himself in their place. (Ramses II and His Time, Chapter 5 & p.92:5; 100:3; 102:1; 103:5; 115:5; 121:3-4; 122:4; 136:3).  NOTICE: \"The period of his loyalty to his brother and to his brother's son is given as seven years, the larger part of which was under his brother's rule...\" (Ramses II and His Time, p.122:2; 132:1-2).  Depending on how these first seven years are counted/labeled, this year could be either the 7th or 14th year of Nebuchadnezzar. Cf. Ramses II and His Time p. 138:1.",null,"  7th year - I.e. the 7th Sacred Calendar Year he reigned","  7th year - I.e. the 7th Sacred Calendar Year he reigned","The captives of Nebuchadnezzar's 7th year: \"This is the people whom Nebuchadrezzar carried away captive: in the seventh year three thousand Jews and three and twenty: In the eighteenth year of Nebuchadrezzar he carried away captive from Jerusalem eight hundred thirty and two persons: In the three and twentieth year of Nebuchadrezzar Nebuzar-adan the captain of the guard carried away captive of the Jews seven hundred forty and five persons: all the persons were four thousand six hundred. And it came to pass in the seven and thirtieth year of the captivity of Jehoiachin king of Judah, in the twelfth month, in the five and twentieth day of the month, that Evil-merodach king of Babylon in the first year of his reign lifted up the head of Jehoiachin king of Judah, and brought him forth out of prison...\" Jer. 52:28-31 (KJV).",null,{"$f":"U930-1","v":33},"23rd year - I.e. the 23rd Sacred Calendar Year he reigned"," "]
[{"$f":"A927+1","v":3324},{"$f":"B931-1","v":-597},{"$f":"C927-1","v":599},598,"7th year, 9th & 12th moons:\n\n     “In the seventh year, the month of Kislev [9th moon,] the king of Akkad [Babylon] mustered his troops, marched to the Hatti-land, and encamped against the city of Judah and on the second day of the month of Addaru [12th] he seized the city and captured the king. He appointed there a king of his own choice, received its heavy tribute and sent them to Babylon” (BM 21946 Reverse side line 11-13; D.J. Wiseman, Chronicles of Chaldaean Kings, p. 73; Grayson, p. 102).\n      “Nebuchadnezzar’s attacked Jerusalem in the last part of his 7th year (Jer 52:28; BM 21946 reverse side lines 12 & 13.)” (From http://becomingone.org/cp/cp5.htm.)\n\nJer 52:28: \"This is the people whom Nebuchadrezzar carried away captive: in the seventh year three thousand Jews and three and twenty:\" (KJV)\n",null,null,null,"Eliakim (Egypt. Jehoiakim)",null,"10th year - I.e. the 10th Sacred Calendar Year he reigned",{"$f":"L931-1","v":17},null,null,{"$f":"O928","v":"\"Nebuchadnezzar\" - actually the ruler at this time was not Nebuchadnezzar but Labash=Labash-Marduk, a young son of Nergilassar by a concubine of Nergilassar.  Labash-Marduks formal rule as Great king lasted only some 9 months before he was deposed by Nebuchadnezzar who carried a lower but ever greater title all along. (Ramses II and His Time Chapter V & 100:3; 136:3). Hattusilis=Nebuchadnezzar=Nebuchadrezzar=Nabukudurri-usur=Nabuchodonosor=Khetasar was the younger brother of Muwatalli=Muwatallis=Muatalli=Nergil=Nergal=Nir-gal=Nergilissar, who ruled as the Great king for 6 years and was the father of Labash=Labash-Marduk=Urhi-Tesupa=Urhi-Tesub, who \"ruled\" for 9 months (??? cf. p.104:2; 122:1-2) before being deposed by Nebuchadnezzar who eventually erased both his brother and nephew from history while putting himself in their place. (Ramses II and His Time, Chapter 5 & p.92:5; 100:3; 102:1; 103:5; 115:5; 121:3-4; 122:4; 136:3).  NOTICE: \"The period of his loyalty to his brother and to his brother's son is given as seven years, the larger part of which was under his brother's rule...\" (Ramses II and His Time, p.122:2; 132:1-2).  Depending on how these first seven years are counted/labeled, this year could be either the 7th or 14th year of Nebuchadnezzar. Cf. Ramses II and His Time p. 138:1."},null,"  7th year - I.e. the 7th Sacred Calendar Year he reigned","  7th year - I.e. the 7th Sacred Calendar Year he reigned"," ",null,{"$f":"U931-1","v":33},"24th year - I.e. the 24th Sacred Calendar Year he reigned"," "]
[null,{"$f":"B937-1","v":-596},{"$f":"C931","v":598},"",null,null,null,null,"Eliakim (Egypt. Jehoiakim)",null,"10th year - I.e. the 10th Sacred Calendar Year he reigned"," ",null,null,"Nebuchadnezzar",null,"  8th year - I.e. the 8th Sacred Calendar Year he reigned","  8th year - I.e. the 8th Sacred Calendar Year he reigned"," ",null,{"$f":"U938-1","v":34},"24th year - I.e. the 24th Sacred Calendar Year he reigned"," "]
[{"$f":"A929+1","v":3325},{"$f":"B938-1","v":-596},{"$f":"C929-1","v":598},597,null,null,"11th year of Jehoiakim...: Ramses II and His Time, p.2:2.  \"Three years after that, early in the eighth year of Nebuchadnezzar (II Kings 24:12), which was the TWELFTH YEAR of Ramses and the ELEVENTH YEAR of Jehoiakim, Jerusalem was again subdued by Nebuchadnezzar, and THREE MONTHS later Jehoiachin, the son of Jehoiakim, was deported to Babylon. During the THREE MONTHS of Jehoiachin's reign (II Kings 24:8) and from the FIRST YEAR of Zedekiah until his EIGHTH, Jerusalem was a tributary of Babylon. (Ramses II and His Time p.57:4).   ",null,"Eliakim's 11th & Jehoiachin's",null,"3 months & 10 days",18,null,null,"Nebuchadnezzar",null,"  8th year - I.e. the 8th Sacred Calendar Year he reigned","  8th year - I.e. the 8th Sacred Calendar Year he reigned","2 Kings 23:36; 2 Chron. 36:4-5. \"Jehoiakim… reigned eleven years in Jerusalem…  Nebuchadnezzar the king of Babylon came up against him, and bound him in bronze fetters to take him away to Babylon. And Nebuchadnezzar brought some of the vessels of the house of Jehovah to Babylon, and put them in his temple in Babylon\" 2 Chron. 36:5-7.\n\n“3. Now, a little time afterwards, the king of Babylon made an expedition against Jehoiakim, whom he received [into the city], and this out of fear of the foregoing predictions of this prophet, as supposing he should suffer nothing that was terrible, because he neither shut the gates, nor fought against him; yet when he was come into the city, he did not observe the covenants he had made, but he slew such as were in the flower of their age, and such as were of the greatest dignity, together with their king Jehoiakim, whom he commanded to be thrown before the walls, without any burial; and made his son Jehoiachin king of the country, and of the city: he also took the principal persons in dignity for captives, three thousand in number, and led them away to Babylon; among which was the prophet Ezekiel, who was then but young. And this was the end of king Jehoiakim, when he had lived thirty-six years, and of them reigned eleven. But Jehoiachin succeeded him in the kingdom, whose mother's name was Nehushta; she was a citizen of Jerusalem. He reigned three months and ten days.” (Josephus, Antiquities of the Jews, X:6:3.)",null,{"$f":"U939-1","v":34},"25th year - I.e. the 25th Sacred Calendar Year he reigned"," "]
[null,null,null,"",null,null,null,null,null,null,null,null,null,null,null,null,null,null," ",null,null,"25th year - I.e. the 25th Sacred Calendar Year he reigned"," "]
[null,null,null,"",null,null,null,null,null,null,null," ",null,null,null,null,null," ",null,null,null,null," "]
[{"$f":"A931","v":3325},{"$f":"B938-1","v":-596},{"$f":"C931","v":598},597,null,null,{"$f":"G931","v":"11th year of Jehoiakim...: Ramses II and His Time, p.2:2.  \"Three years after that, early in the eighth year of Nebuchadnezzar (II Kings 24:12), which was the TWELFTH YEAR of Ramses and the ELEVENTH YEAR of Jehoiakim, Jerusalem was again subdued by Nebuchadnezzar, and THREE MONTHS later Jehoiachin, the son of Jehoiakim, was deported to Babylon. During the THREE MONTHS of Jehoiachin's reign (II Kings 24:8) and from the FIRST YEAR of Zedekiah until his EIGHTH, Jerusalem was a tributary of Babylon. (Ramses II and His Time p.57:4).   "},null,"Zedekiah's & Jehoiachin (Coniah/Jeconiah)","t","Accession yr / 3 months & 10 days (Jehoiachin)",18,null,null,"Nebuchadnezzar",null,"  8th year - I.e. the 8th Sacred Calendar Year he reigned","  8th year - I.e. the 8th Sacred Calendar Year he reigned","Notice that Zedekiah used Babylonian calendar reckoning, for per 2 Kings 25:2-9 (KJV) the 4th (v.3 - apparently implied from v.8 by KJV) and 5th (v.8) month of his 11th year (v.2) was concurrent with Nebuchadnezzar's 19th (v.8) year (cf. comment at year below!) \"And king Zedekiah the son of Josiah reigned instead of Coniah the son of Jehoiakim, whom Nebuchadrezzar king of Babylon made king in the land of Judah\" Jeremiah 37:1 (KJV).  2 Kings 24:8; 2 Chron. 36:9-10. NOTICE that the accession year of both Jehoiachin and Matteniah began in the winter and prior to Abib 1: \"When the year was expired [\"at the turn of the year\" (IB)], King Nebuchadnezzar sent, and brought him [Jehoiachin] to Babylon… and made Zedekiah his brother [kinsman (IB)] king over Judah and Jerusalem\"! 2 Chron. 36:9-10 (KJV). Thus, according to KJV it seems that Matteniah's accession year could not be part of Jehoiachin's last year of reign!  However NOTICE THAT the Hebrew word translated \"expired\", and \"at the turn of\", is Strong's #8666 \"tav-shin-vav-beth-he; or tav-shin-beth-he; from 7725; a recurrence (of time or place) a reply (as returned)\"; #7725 \"shin-vav-beth; a primitive root; to turn back (hence, away) trans. or intrans., lit. or fig. (not necessarily with the idea of return to the starting point); generally to retreat; often adv. again\".  The same Hebrew word is used also e.g. in \"And the prophet came to the king of Israel, and said unto him, Go, strengthen thyself, and mark, and see what thou doest: for at the return of the year the king of Syria will come up against thee... And it came to pass at the return of the year, that Ben-hadad numbered the Syrians, and went up to Aphek, to fight against Israel\" 1 Kings 20:22,26 (KJV). Strong's #7725 is translated \"return\" in most passages. However #7725 \"shin-vav-beth\" has the same root as the word Strong's 7646-52 \"shin-beth-ayin\" defined as \"to sate, i.e. fill to satisfaction\", copiousness\", \"satisfaction (of food or joy)\", \"satiated\", \"to be complete... to seven oneself, i.e. swear...\", \"a primitive cardinal number; seven (as the sacred full one) also seven times... a week\", \"seven\", all of may be related to the seventh month, the month of atonement, ingathering and last harvest of the year. THUS it might seem reasonable to translate the actual Hebrew words in 2 Chron. 36:9 \"vav-lamed-tav-shin-vav-beth-tav he-shin-nun-tav\" \"And towards the seventh month of this year\" and thus conclude that the reign of Jehoiachin started near the end of the 2nd month of this year and ended near the end of the sixth month more or less. Thus also the accession year of Jehoiachin's captivity would be concurrent with only year of reign. However, a word study of all the occurrences makes it quite clear that this word, H8666, when used re a point in time, pertains to the beginning of the war season, i.e. the beginning of the warm season, spring & summer, and thus also to the 11th month of the year (Shabat [shin-beth-teth] [Jan/Feb.]) It follows that Jehoiachin reign was in the winter and also that the accession year of both Jehoiachin and Matteniah began in the spring before the time of Aviv.  Also NOTICE, \"And Jehoiachin the king of Judah went out to the king of Babylon, he and his mother[!]... [8 y/o or 18 y/o!?!!!]   And the king of Babylon took him in the eighth year of his [Nebuchadnezzar's] reign. 2 Kings 24:12. \n\n\"He reigned three months and ten days.\" (Josephus, Antiquities of the Jews, X:6:3.)",null,null,null," "]
[null,null,null,"",null,null,null,null,null,null,null,null,null,null,"Nebuchadnezzar",null,"  8th year - I.e. the 8th Sacred Calendar Year he reigned","  1st year of Jehoiachin's captivity"]
[null,null,null,""]
[null,{"$f":"B939-1","v":-595},{"$f":"C938","v":597},"",null,null,"Rameses II and His Time, p.2:3",null,"Matteniah (Zedekiah)","t","  1st year - I.e. the 1st Sacred Calendar Year he reigned",21,null,null,"Nebuchadnezzar",null,"  9th year - I.e. the 9th Sacred Calendar Year he reigned","  1st year of Jehoiachin's captivity","\"And the king of Babylon made Mattaniah, the brother of his father, to reign in his place, and turned his name into Zedekiah. Zedekiah was a son of twenty-one years when he began to reign, and he reigned in Jerusalem eleven years [literally: \"and eleven years (not necessarily full) he reigned in Jerusalem\" (IB) vs. \"he reigned eleven years in Jerusalem\" (KJV)]; and the name of his mother was Hamutal, the daughter of Jeremiah of Libnah. And he did evil in the eyes of Jehovah according to all that Jehoiakim did; for through the anger of Jehovah it happened in Jerusalem and Judah, until He had cast them out from His face, that Zedekiah rebelled against the king of Babylon\" 2 Kings 24:17-20 (IB); \"And at the turn [cf. note above at Jehoiachin!] of the year, king Nebudhadnezzar sent and brought him [Jehoiachin] to Babylon , with the valuable vessels of the house of Jehovah, and made his kinsman Zedekiah king over Judah and Jerusalem. Zedekiah was a son of twenty-one years when he began to reign, and he reigned eleven years in Jerusalem [literally: \"and eleven years (not necessarily full) he reigned in Jerusalem\" (IB)]. And he did evil in the eyes of Jehovah his God; he was not humbled before Jeremiah the prophet, from the mouth of Jehovah. And also he rebelled against king Nebuchadnezzar, who had made him swear by God:and he stiffened his neck and hardened his heart from turning to Jehovah the God of Israel...\" 2 Chron. 36:10-13 (IB).",null,null,null," "]
[{"$f":"A934+1","v":3326},-595,{"$f":"C934-1","v":597},596,null,null,null,null,"Matteniah (Zedekiah)",null,"  1st year - I.e. the 1st Sacred Calendar Year he reigned"," ",null,null,"Nebuchadnezzar",null,"  9th year - I.e. the 9th Sacred Calendar Year he reigned","  1st year - of Jehoiachin's captivity RE: Ezekiels prophecies.",null,null,{"$f":"U940-1","v":35},"26th year - I.e. the 26th Sacred Calendar Year he reigned"," "]
[null,-594,{"$f":"C940","v":596},"",null,null,null,null,"Matteniah (Zedekiah)",null,"  2nd year - I.e. the 2nd Sacred Calendar Year he reigned"," ",null,null,"Nebuchadnezzar",null,"10th year - I.e. the 10th Sacred Calendar Year he reigned","  9th year - I.e. the 9th Sacred Calendar Year he reigned"," ",null,35,"26th year - I.e. the 26th Sacred Calendar Year he reigned"," "]
[{"$f":"A938+1","v":3327},-594,{"$f":"C938-1","v":596},595,null,null,null,null,"Matteniah (Zedekiah)",null,"  2nd year - I.e. the 2nd Sacred Calendar Year he reigned"," ",null,null,"Nebuchadnezzar",null,"10th year - I.e. the 10th Sacred Calendar Year he reigned","10th year - I.e. the 10th Sacred Calendar Year he reigned","Apocrypha considerations: [Ahasuerus 2nd year of reign, plus or minus 2-3(?) per Catholic edition RSV: If Tobit 14:15 (Catholic edition RSV) is correct, \"the destruction of Nineveh, which Nebuchadnezzar and Ahasuerus had captured…\", then Ahasuerus must have reigned before the destruction of Nineveh, AND if Esther 11:2 is also correct (Catholic edition RSV = Apochrypha), \"In the second year of the reign of Ahasuerus the Great, on the first day of Nisan, Mordecai the son of Jair... had a dream. He was a Jew, dwelling in the city of Susa, a great man, serving in the court of the king. He was one of the captives whom Nebuchadnezzar king of Babylon had brought from Jerusalem with Jeconiah king of Judea...\", i.e. if Mordecai was taken captive at the same time as Jehoiachin AND if Mordecai's dream occurred in Ahasuerus' 2nd year, THEN Ahasuerus 2st year of reign must have been after Nebuchadnezzar's 8th year when king Jehoiachin was taken captive, but before Nebuchadnezzar's 12th year when Nineveh is named as a home base of Nebuchadnezzar, and more likely the 10th or 11th (considering also the NEB note at 50 years after Hezekiah's 14th year of reign).].  NOTICE: The Purim event occured on the 13th(?) year [or the 12th year, considering how lots are usually cast, i.e. not drawn out over a 12 month period, but done in one sitting as per the NEB translation] of King Ahasuerus on the 13th Day of Adar, the 12th Month: \"In the first month, which is the month of Nisan, in the twelfth year of King Ahasuerus, they cast Pur, that is the lot, before Haman day after day; and they cast it month after month till the twelfth month, which is the month of Adar. Then Haman said to King Ahasuerus... Then the king's secretaries were summoned on the thirteenth day of the first month, and an edict, according to all that Haman commanded, was written... to destroy, to slay, and to annihilate all Jews, young and old, women and children, in one day, the thirteenth day of the twelfth month, which is the month of Adar, and to plunder their goods... Esther 3:7-8,12,13 (Catholic edition RSV). \"In the twelfth year of King Ahasuerus, in the first month, Nisan, they cast lots, Pur as it is called, in the presence of Haman, taking day by day and month by month, and the lot fell on the thirteenth day of the twelfth month, the month Adar. Then Haman said to King Ahasuerus...\" Esther 3:7-8 (NEB).",null,36,"27th year - I.e. the 27th Sacred Calendar Year he reigned"," "]
[null,-593,{"$f":"C942","v":595},"",null,null,null,null,"Matteniah (Zedekiah)",null,"  3rd year - I.e. the 3rd Sacred Calendar Year he reigned"," ",null,null,"Nebuchadnezzar",null,"11th year - I.e. the 11th Sacred Calendar Year he reigned","10th year - I.e. the 10th Sacred Calendar Year he reigned","Apocrypha considerations: [Per the NEB version Tobias, son of Tobit, dies no later than this year, more likely about 10 years earlier (since otherwise per the Catholic edition RSV he would have been only 8 y/o when he went for a long journey to get for himself a wife, and to collect some money saved for his father). Nineveh destroyed and captured by Nebuchadnezzar and Ahasuerus in, or before, the year of Tobias' death. As seen from the note at Nebuchadnezzar's 12th & 17th years below Nineveh was at those times already under Nebuchadnezzar. \"But before he [Tobias] died he heard of the destruction of Nineveh, which Nebuchadnezzar and Ahasuerus had captured. Before his death he rejoiced over Nineveh [to where Tobit, his father, had been taken captive]\" Tobit 14:15 (Catholic edition RSV). Cf. also note 117 years prior, i.e. at the 14th year of Hezekiah, king of Judah.  It follows that the book of Nahum, and Nahum's prophecy against Nineveh, must have been written prior to this time as well.]",null,36,"27th year - I.e. the 27th Sacred Calendar Year he reigned"," "]
[{"$f":"A940+1","v":3328},-593,{"$f":"C940-1","v":595},594,null,null,null,null,"Matteniah (Zedekiah)",null,"  3rd year - I.e. the 3rd Sacred Calendar Year he reigned"," ",null,null,"Nebuchadnezzar",null,"11th year - I.e. the 11th Sacred Calendar Year he reigned","11th year - I.e. the 11th Sacred Calendar Year he reigned"," ",null,37,"28th year - I.e. the 28th Sacred Calendar Year he reigned"," "]
[null,-592,{"$f":"C944","v":594},"",null,null,null,null,"Matteniah (Zedekiah)",null,"  4th year - I.e. the 4th Sacred Calendar Year he reigned"," ",null,null,"Nebuchadnezzar",null,"12th year - I.e. the 12th Sacred Calendar Year he reigned","11th year - I.e. the 11th Sacred Calendar Year he reigned"," ",null,37,"28th year - I.e. the 28th Sacred Calendar Year he reigned"," "]
[{"$f":"A942+1","v":3329},-592,{"$f":"C942-1","v":594},593,null,null,null,null,"Matteniah (Zedekiah)",null,"  4th year - I.e. the 4th Sacred Calendar Year he reigned"," ",null,null,"Nebuchadnezzar",null,"12th year - I.e. the 12th Sacred Calendar Year he reigned","12th year - I.e. the 12th Sacred Calendar Year he reigned","Ref. to the 4th year of Zedekiah & to the 12th year of Nebuchadnezzar \"who ruled... in Nineveh\" (not necessarily concurrent): \"And it came to pass the same year, in the beginning of the reign of Zedekiah king of Judah, in the fourth year, and in the fifth month, that Hananiah the son of Azur the prophet, which was of Gibeon, spake unto me in the house of the Lord... Thus speaketh the Lord of hosts, the God of Israel, saying, I have broken the yoke of the king of Babylon. Within two full years will I bring again into this place all the vessels of the Lord's house, that Nebuchadnezzar king of Babylon took away from this place, and carried them to Babylon: And I will bring again to this place Jeconiah the son of Jehoiakim king of Judah, with all the captives of Judah, that went into Babylon, saith the Lord: for I will break the yoke of the king of Babylon. Then the prophet Jeremiah said...\" Jer. 28:1,17 (KJV). The False prophecies of Hananiah and Hananiah's death within two months of his lying prophecy.  NOTICE: Arphaxad still ruling the Medes in Ecbatana & Nebuchadnezzar already ruling in Nineveh, i.e. AFTER the capture and destruction of Nineveh: \"In the twelfth year of the reign of Nebuchadnezzar, who ruled over the Assyrians in the great city of Nineveh, in the days of Arphaxad, who ruled over the Medes in Ecbatana... it was in those days that King Nebuchadnezzar made war against King Arphaxad in the great plain which is on the borders of Ragae...\" Judith 1:1,5 (Catholic edition RSV). Cf note at the 14th year of Hezekiah, king of Judah.",null,38,"29th year - I.e. the 29th Sacred Calendar Year he reigned"," "]
[null,-591,{"$f":"C946","v":593},"",null,null,null,null,"Matteniah (Zedekiah)",null,"  5th year - I.e. the 5th Sacred Calendar Year he reigned"," ",null,null,"Nebuchadnezzar",null,"13th year - I.e. the 13th Sacred Calendar Year he reigned","12th year - I.e. the 12th Sacred Calendar Year he reigned","Apocrypha considerations: \"In the twelfth year of the reign of Nebuchadnezzar, who ruled over the Assyrians in the great city of Nineveh, in the days of Arphaxad, who ruled over the Medes in Ecbatana... In the seventeenth year he led his forces against King Arphaxad, and defeated him in battle, and overthrew the whole army of Arphaxad, and all his cavalry and all his chariots. Thus he took possession of his cities, and came to Ecbatana, captured its towers, plundered its markets, and turned its beauty into shame. He captured Arphaxad in the mountains of Ragae and struck him down with hunting spears; and he utterly destroyed him, to this day. Then he returned with them to Nineveh, he and all his combined forces, a vast body of troops; and there he and his forces rested and feasted for one hundred and twenty days\" Judith 1:1,13-16 (Catholic edition RSV).",null,38,"29th year - I.e. the 29th Sacred Calendar Year he reigned"," "]
[{"$f":"A944+1","v":3330},-591,{"$f":"C944-1","v":593},592,null,null,null,null,"Matteniah (Zedekiah)",null,"  5th year - I.e. the 5th Sacred Calendar Year he reigned"," ",null,null,"Nebuchadnezzar",null,"13th year - I.e. the 13th Sacred Calendar Year he reigned","  5th year - of Jehoiachin's captivity RE: Ezekiels prophecies.","\"Now it came to pass in the thirtieth year, in the fourth month, in the fifth day of the month, as I was among the captives by the river of Chebar, that the heavens were opened, and I saw visions of God. In the fifth day of the month, which was the fifth year of king Jehoiachin's captivity, The word of the Lord came expressly unto Ezekiel the priest, the son of Buzi, in the land of the Chaldeans by the river Chebar; and the hand of the Lord was there upon him...\" Ezekiel 1:1-3 (KJV). NOTICE> For discussion as to what the 30th year is referencing, please see notes at king Josiah's 18th and 13th year of reign!  NOTICE #2> This date seemingly includes also the PROPHECY of Eze. 4:5-6, which as such cannot be a prophecy in what regards the 390 day/years - that part is a history lesson, as is clear also from Eze. 7:2,3,6,&7, though it may well be repeatedly applicable also to the 2nd Temple (cf. Sheet #8 at year 3360!) - but is a PROPHECY as far as the 40 years and as far as the siege against Jerusalem which happened 4 years, 6 months, and 5 days later, and which was completed 6 years, and 4 days later.",null,39,"30th year - I.e. the 30th Sacred Calendar Year he reigned"," "]
[null,-590,{"$f":"C948","v":592},"","Lunar eclipse records:\n     “LBAT 1419 records an uninterrupted series of Lunar eclipses at 18 year intervals from 609/08 to 447/46 BCE. The first entries that are recorded are damaged. However the two following entries are clearly dated to the 14th and 32nd year of the reign of Nebuchadnezzar. His 14th and 32nd years are dated to 591/90 and 573/72 BCE respectively. The two eclipses recorded, one saros apart, both took place in the sixth month in August or September…\n     “LBAT 1420 contains annual eclipses. All are from the reign of Nebuchadnezzar, from his first to his twenty ninth years. The first record, that records two eclipses that were not observable, is damaged and the year number is illegible. However the last part of Nebuchadnezzar name is preserved. The name of the king is not repeated which means that the king is the same during the whole period. Some of the records are damaged but the ones that are legible are in good agreement with the king lists. This record carries detail of twenty four eclipses of which 12 have the regnal year preserved…\n",null,null,null,"Matteniah (Zedekiah)",null,"  6th year - I.e. the 6th Sacred Calendar Year he reigned"," ",null,null,"Nebuchadnezzar",null,"14th year - I.e. the 14th Sacred Calendar Year he reigned","13th year - I.e. the 13th Sacred Calendar Year he reigned"," ",null,39,"30th year - I.e. the 30th Sacred Calendar Year he reigned"," "]
[{"$f":"A946+1","v":3331},-590,{"$f":"C946-1","v":592},591,null,null,null,null,"Matteniah (Zedekiah)",null,"  6th year - I.e. the 6th Sacred Calendar Year he reigned"," ",null,null,"Nebuchadnezzar",null,"14th year - I.e. the 14th Sacred Calendar Year he reigned","  6th year - of Jehoiachin's captivity RE: Ezekiels prophecies.","\"Now it came to pass in the thirtieth year, in the fourth month, in the fifth day of the month, as I was among the captives by the river of Chebar, that the heavens were opened, and I saw visions of God. In the fifth day of the month, which was the fifth year of king Jehoiachin's captivity, The word of the Lord came expressly unto Ezekiel the priest, the son of Buzi, in the land of the Chaldeans by the river Chebar; and the hand of the Lord was there upon him...\" Ezekiel 1:1-3 (KJV). \"And it came to pass in the sixth year, in the sixth month, in the fifth day of the month, as I sat in mine house, and the elders of Judah sat before me, that the hand of the Lord God fell there upon me...\" Eze. 8:1 (KJV).",null,40,"31st year - I.e. the 31st Sacred Calendar Year he reigned"," "]
[null,-589,{"$f":"C950","v":591},"",null,null,null,null,"Matteniah (Zedekiah)",null,"  7th year - I.e. the 7th Sacred Calendar Year he reigned"," ",null,null,"Nebuchadnezzar",null,"15th year - I.e. the 15th Sacred Calendar Year he reigned","14th year - I.e. the 14th Sacred Calendar Year he reigned"," ",null,40,"31st year - I.e. the 31st Sacred Calendar Year he reigned"," "]
[{"$f":"A948+1","v":3332},-589,{"$f":"C948-1","v":591},590,null,null,null,null,"Matteniah (Zedekiah)",null,"  7th year - I.e. the 7th Sacred Calendar Year he reigned"," ",null,null,"Nebuchadnezzar",null,"15th year - I.e. the 15th Sacred Calendar Year he reigned","  7th year - of Jehoiachin's captivity RE: Ezekiels prophecies.","\"Now it came to pass in the thirtieth year, in the fourth month, in the fifth day of the month, as I was among the captives by the river of Chebar, that the heavens were opened, and I saw visions of God. In the fifth day of the month, which was the fifth year of king Jehoiachin's captivity, The word of the Lord came expressly unto Ezekiel the priest, the son of Buzi, in the land of the Chaldeans by the river Chebar; and the hand of the Lord was there upon him...\" Ezekiel 1:1-3 (KJV). \"And it came to pass in the seventh year, in the fifth month, the tenth day of the month, that a certain of the elders of Israel came to enquire of the Lord, and sat before me. Then came the word of the Lord unto me, saying, Son of man, speak unto the elders of Israel...\" Eze. 20:1-2 (KJV).",null,41,null," "]
[null,-588,{"$f":"C952","v":590},"",null,null,"\"In his EIGHTH YEAR Zedekiah revolted, and Nebuchadnezzar laid siege to Jerusalem. At that time the pharaoh's army, which since the deposal of Jehoiakim (the TWELFTH YEAR of Ramses) had not left Egypt (II Kings 24:7), strengthened itself and crossed the border of Palestine (Jeremiah 37:5).  The army of the Chaldeans withdrew from Jerusalem to meet the Egyptian army, but Jeremiah predicted that the pharaoh's army 'shall return to Egypt into their own land' (37:7) and that the Chaldeans would come again and fight against Jerusalem.  The interval was long enough for the inhabitants of the city, who had freed their slaves, to believe that the danger was over and try to void the release (Jeremiah 34:11).  In the TENTH MONTH OF THE NINTH YEAR of Zedekiah, after the Egyptians had returned to their country without offering battle, Nebuchadnezzar went back to Jerusalem and renewed the siege (II Kings 25:1).\" (Ramses II and His Time p.57:5).",null,"Matteniah (Zedekiah)",null,"  8th year - I.e. the 8th Sacred Calendar Year he reigned"," ",null,null,"Nebuchadnezzar",null,"16th year - I.e. the 16th Sacred Calendar Year he reigned","15th year - I.e. the 15th Sacred Calendar Year he reigned"," ",null,41,null," "]
[{"$f":"A950+1","v":3333},-588,{"$f":"C950-1","v":590},589,null,null,null,null,"Matteniah (Zedekiah)",null,"  8th year - I.e. the 8th Sacred Calendar Year he reigned"," ",null,null,"Nebuchadnezzar",null,"16th year - I.e. the 16th Sacred Calendar Year he reigned","16th year - I.e. the 16th Sacred Calendar Year he reigned"," ",null,42,null," "]
[null,-587,{"$f":"C954","v":589},"",null,null,"\"As a result of the agreement between the two empires Egypt yielded Syria and Palestine to Nebuchadnezzar, leaving Jerusalem without support. This treaty between the king of Egypt and the king of the Chaldeans was concluded sometime before the TENTH DAY OF THE TENTH MONTHOF THE NINTH YEAR of Zedekiah, on which day the Chaldeans renewed the siege of Jerusalem (II Kings 25:1; Jeremiah 39:1; Ezekiel 24:1).  The NINTH YEAR of Zedekiah was the SEVENTEENTH YEAR of Nebuchadnezzar (since the TENTH YEAR of Zedekiah was the EIGHTEENTH YEAR of Nebuchadnezzar-Jeremiah 32:1); thus it must have been the TWENTY-FIRST YEAR of Ramses II. Actually the treaty between Ramses II and the king of Hatti was signed on the TWENTY-FIRST DAY OF THE FOURTH MONTH OF THE TWENTY-FIRST YEAR of Ramses II.\" (Ramses II and His Time p.58:2-3).  NOTICE ALMOST EXACT DATING BETWEEN CALENDARS OF JUDAH AND RAMSES II:  21d/4m/21y of Ramses at or shortly before 10d/10m/9y of Zedekiah!!!   :",null,"Matteniah (Zedekiah)",null,"  9th year - I.e. the 9th Sacred Calendar Year he reigned"," ",null,null,"Nebuchadnezzar",null,"17th year - I.e. the 17th Sacred Calendar Year he reigned","16th year - I.e. the 16th Sacred Calendar Year he reigned","Apocrypha considerations: \"In the twelfth year of the reign of Nebuchadnezzar, who ruled over the Assyrians in the great city of Nineveh, in the days of Arphaxad, who ruled over the Medes in Ecbatana... In the seventeenth year he led his forces against King Arphaxad, and defeated him in battle, and overthrew the whole army of Arphaxad, and all his cavalry and all his chariots. Thus he took possession of his cities, and came to Ecbatana, captured its towers, plundered its markets, and turned its beauty into shame. He captured Arphaxad in the mountains of Ragae and struck him down with hunting spears; and he utterly destroyed him, to this day. Then he returned with them to Nineveh, he and all his combined forces, a vast body of troops; and there he and his forces rested and feasted for one hundred and twenty days\" Judith 1:1,13-16 (Catholic edition RSV).",null,42]
[{"$f":"A952+1","v":3334},-587,{"$f":"C952-1","v":589},588,null,"Ahasuerus=Xerxes=Khshayarsha [15th year = 471 BC (S. Horn)]: \"Xerxes (in Persian Khshayarsha) was the biblical Ahasuerus who \"reigned from India even unto Ethiopia, over an hundred and seven and twenty provinces\" (Esther 1:1).  According to Herodotus, \"not one was for beauty and stature more worthy to possess this power.\" The story of the harem romance concerning Queen Vashti, Queen Esther who replaced her, Mordecai, her uncle, and Haman, the Agagite (of the seed of Agag, the Amalekite), is narrated in the Book of Esther.  The names of the Jewish participants in this intrigue and counterintrigue, being derived from those of Babylonian deities (Marduk, Ishtar), point toward the process of assimilation that was eroding the national identity of those who chose to remain in the Diaspora. Xerxes continued the building of Persepolis begun by his father... At Susa Xerxes built another palace and harem...\"  (Peoples of the Sea, p.121:4-122:3.)",null,null,"Matteniah (Zedekiah)",null,"  9th year - I.e. the 9th Sacred Calendar Year he reigned"," ",null,null,"Nebuchadnezzar",null,"17th year - I.e. the 17th Sacred Calendar Year he reigned","  9th year - of Jehoiachin's captivity RE: Ezekiels prophecies. \"Now it came to pass in the thirtieth year, in the fourth month, in the fifth day of the month, as I was among the captives by the river of Chebar, that the heavens were opened, and I saw visions of God. In the fifth day of the month, which was the fifth year of king Jehoiachin's captivity, The word of the Lord came expressly unto Ezekiel the priest, the son of Buzi, in the land of the Chaldeans by the river Chebar; and the hand of the Lord was there upon him...\" Ezekiel 1:1-3 (KJV). \"Again in the ninth year, in the tenth month, in the tenth day of the month, the word of the Lord came unto me, saying, Son of man, writh thee the name of the day, even of this same day: the king of Babylon set himself against Jerusalem this same day. And utter a parable unto the rebellious house, and say unto them, Set on a pot, set it on, and also pour water into it: Gather the pieces thereof into it, even every good piece, the thigh, and the shoulder; fill it with the choice bones. ...\" Eze. 24:1-4 (KJV).","On the 10th day of the 10th month - Jerusalem besieged by Nebuchadnezzar, king of Babylon:   \n \n\"And it came to pass in the ninth year of his [Mattaniah/Zedekiah's] reign, in the tenth month, in the tenth day of the month, that Nebuchadnezzar king of Babylon came, he, and all his host, against Jerusalem, and pitched against it; and they built forts against it round about. And the city was besieged unto the eleventh year of king Zedekiah...\" 2 Kings 25:1-2 (KJV). \n \nJer 52:4  And it came to pass in the ninth year of his reign, in the tenth month, in the tenth day of the month, that Nebuchadrezzar king of Babylon came, he and all his army, against Jerusalem, and pitched against it, and built forts against it round about. \nJer 52:5  So the city was besieged unto the eleventh year of king Zedekiah. \nJer 52:6  And in the fourth month, in the ninth day of the month, the famine was sore in the city, so that there was no bread for the people of the land. \nJer 52:7  Then the city was broken up... \n \nEze 24:1  Again in the ninth year, in the tenth month, in the tenth day of the month, the word of the LORD came unto me, saying, \nEze 24:2  Son of man, write thee the name of the day, even of this same day: the king of Babylon set himself against Jerusalem this same day. ",null,43]
[null,-586,{"$f":"C956","v":588},"",null,null,{"$f":"G910","v":"\"Ramses' first campaign toward Carchemish took place in his second year, obviously counted from the beginning of his reign as a sole ruler; on his second campaign he proceeded in his fifth year; Gaza and Ashkelon he took in his ninth year; he concluded the peace treaty with Nebuchadnezzar in his (Ramses') twenty-first year; he married a daughter of Nebuchadnezzar in his thirty-fourth year, always counted from the death of his father, Seti.\" (Ramses II and His Time, p. 213:3)."},null,"Matteniah (Zedekiah)",null,"10th year - I.e. the 10th Sacred Calendar Year he reigned"," ",null,null,"Nebuchadnezzar",null,"18th year - I.e. the 18th Sacred Calendar Year he reigned","17th year - I.e. the 17th Sacred Calendar Year he reigned","The captives of Nebuchadnezzar's 18th year, AND the events of Judith's book which occurred during the first 6 months of Nebuchadnezzar's 18th year: \"This is the people whom Nebuchadrezzar carried away captive: in the seventh year three thousand Jews and three and twenty: In the eighteenth year of Nebuchadrezzar he carried away captive from Jerusalem eight hundred thirty and two persons: In the three and twentieth year of Nebuchadrezzar Nebuzar-adan the captain of the guard carried away captive of the Jews seven hundred forty and five persons: all the persons were four thousand six hundred. And it came to pass in the seven and thirtieth year of the captivity of Jehoiachin king of Judah, in the twelfth month, in the five and twentyieth day of the month, that Evil-merodach king of Babylon in the first year of his reign lifted up the head of Jehoiachin king of Judah, and brought him forth out of prison...\" Jer. 52:28-31 (KJV).  NOTICE: This is the year when, in the 4th, 5th, or 6th month plus/minus, Judith beheaded \"Holofernes, the chief general of his [Nebuchadnezzar's, king of the Assyrians] army, second only to himself [Nebuchadnezzar]\" Judit 2:1,4; (Catholic edition RSV).  \"In the eighteenth year, on the twenty-second day of the first month, there was talk in the palace of Nebuchadnezzar king of the Assyrians about carrying out his revenge on the whole region...\" Judit 2:1 (Catholic edition RSV). \"The next day Holofernes ordered his whole army, and all the allies who had joined him, to break camp and move against Bethulia, and to seize the passes up into the hill country and make war on the Israelites. so all their warriors moved their camp that day; their force of men of war was one hundred and seventy thousand infantry and twelve thousand cavalry, together with the baggage and the foot soldiers handling it, a very great multitude. They encamped in the valley near Bethulia, beside the spring... On the second day Holofernes led out all his cavalry in full view of the Israelites in Bethulia, and examined the approaches to the city, and visited the springs that supplied their water, and seized them and set guards of soldiers over them... The whole Assyrian army, their infantry, chariots, and cavalry, surrounded them for thirty-four days, until all the vessels of water belonging to every inhabitant of Bethulia were empty; their cisterns were going dry, and they did not have enough water to drink their fill for a single day, because it was measured out to them to drink... And Uzziah said to them, 'Have courage, my brothers! Let us hold out for five more days... At that time Judith heard about these things... Her husband Manasseh, who belonged to her tribe and family, had died during the barley harvest [i.e. during the 1st (or 2nd) month]... Judith had lived at home as a widow for three years and four months [i.e. this occurred in the 4th, 5th, or 6th month (0(or 1, or 2)+4=4(or 5, or 6))]... On the fourth day Holofernes held a banquet for his slaves only, and did not invite any of his officers... And Holofernes was greatly pleased with her, and drank a great quantity of wine, much more than he had ever drunk in any one day since he was born... So Judith was left alone in the tent, with Holofernes stretched out on his bed, for he was overcome with wine. Then Judith, standing beside his bed... She went up to the post at the end of the bed, above Holofernes' head, and took down his sword that hung there. She came close to his bed and took hold of the hair of his head, and said, 'Give me strength this day, O Lord God of Israel!' And she struck his neck twice with all her might, and severed his head from his body... When they arrived at Jerusalem they worshipped God. As soon as the people were purified, they offered their ... So the people continued feasting in Jerusalem before the sanctuary for three months, and Judith remained with them... and she was one hundred and five years old. She set her maid free. She died in Bethulia, and they buried her in the cave of her husband Manasseh... And no one ever again spread terror among the people of Israel in the days of Judith, or for a long time after her death\" Judith 7:1-3,6-7,20-21,30; 8:1,2,4; 12:10,20; 13:2,4,6-8; 16:18,20,23,25 (Catholic edition RSV).",null,43]
[{"$f":"A954+1","v":3335},-586,{"$f":"C954-1","v":588},587,null,null,null,null,"Matteniah (Zedekiah)",null,"10th year - I.e. the 10th Sacred Calendar Year he reigned"," ",null,null,"Nebuchadnezzar",null,"18th year - I.e. the 18th Sacred Calendar Year he reigned"," 10th year - of Jehoiachin's captivity RE: Ezekiels prophecies. \"Now it came to pass in the thirtieth year, in the fourth month, in the fifth day of the month, as I was among the captives by the river of Chebar, that the heavens were opened, and I saw visions of God. In the fifth day of the month, which was the fifth year of king Jehoiachin's captivity, The word of the Lord came expressly unto Ezekiel the priest, the son of Buzi, in the land of the Chaldeans by the river Chebar; and the hand of the Lord was there upon him...\" Ezekiel 1:1-3 (KJV). \"In the tenth year, in the tenth month, in the twelfth day of the month, the word of the Lord came unto me, saying, Son of man, set thy face against Pharaoh king of Egypt, and prophesy against him, and against all Egypt...\" Eze. 29:1-2 (KJV).","Jeremiah in prison for a long time during the latter part of the period when Jerusalem was besieged (Jer. 37:11-39:2 KJV): \"And it came to pass, that when the army of the Chaldeans was broken up from Jerusalem for fear of Pharaoh's army (Jer. 37:11) …the princes were wroth with Jeremiah, and smote him, and put him in prison (Jer. 37:15) ...In the tenth year of Zedekiah king of Judah, which was the eighteenth year of Nebuchadrezzar. For then the king of Babylon's army besieged Jerusalem: and Jeremiah the prophet was shut up int the court of the prison, which was in the king of Judah's house (Jer. 32:1,2) ...So Jeremiah abode in the court of the prison until the day that Jerusalem was taken: and he was there when Jerusalem was taken (Jer. 38:28) ...in the eleventh year of Zedekiah, in the fourth month, the ninth day of the month, the city was broken up (Jer. 39:2).\"",null,44]
[null,-585,{"$f":"C958","v":587},"",null,null,"\"The temple of Lachish was built in the days of Solomon and Thutmose III.  It was rebuilt in the days of Amenhotep III and Jehoshaphat.  The third structure was erected on the site- the archaeologists discovered three consecutive constructions of the temple - after the siege of the city by Sennacherib.    The city and the temple were destroyed by Nebuchadnezzar in the days of Rameses II, in the twenty-first year of Ramses II's reign.\" (Rameses II and His Time, p. 49:3-4).",null,"Matteniah (Zedekiah)",null,"11th year - I.e. the 11th Sacred Calendar Year he reigned"," ",null,null,"Nebuchadnezzar",null,"19th year - I.e. the 19th Sacred Calendar Year he reigned","18th year - I.e. the 18th Sacred Calendar Year he reigned","On the 9th day of the 4th month - Jerusalem was broken up and Mattaniah was brought to Babylon. \"And the city was besieged unto the eleventh year of king Zedekiah. And on the ninth day of the fourth month the famine prevailed in the city, and there was no bread for the people of the land. And the city was broken up, and all the men of war fled by night by the way of the gate between two walls, which is by the king's garden... So they took the king, and brought him up to the king of Babylon to Riblah; and they gave judgment upon him. And they slew the sons of Zedekiah before his eyes, and put out the eyes of Zedekiah, and bound him with fetters of brass, and carried him to Babylon\"  2 Kings 25:2-4,6-7 (KJV).  \"And in the fifth month, on the seventh day of the month, which is the nineteenth year of king Nebuchadnezzar king of Babylon, came Nebuzar-adan, captain of the guard, a servant of the king of Babylon, unto Jerusalem: And he burnt the house of the Lord, and the king's house, and all the houses of Jerusalem, and every great man's house burnt he with fire\" 2 Kings 25:8-9 (KJV) (cf. Interlinear Bible).  \"And He [God] caused the king of the Chaldeans to go up against them [Judah];... And they burned the house of God, and broke down the wall of Jerusalem; and they burned all its palaces with fire, and destroyed all its beautiful vessels...\" 2 Chron. 36:17-20.",null,44]
[{"$f":"A956+1","v":3336},-585,{"$f":"C956-1","v":587},586,null,-586,"\"In the year -586 Jerusalem was destroyed.\" (Rameses II and His Time p.43:7.)  \"...the ashes of -586. Together with Jerusalem, Lachish and Azekah were the last strongholds to oppose the Chaldean army... In -702 Sennacherib assaulted the city and had his artist depict this assault... in his palace at Nineveh... Now, one hundred and fifteen years later, the city suffered another siege - by the troops of Nebuchadnezzar\" (Rameses II and His Time p.44:2-5). \"Nebuchadnezzar... destroyed Jerusalem in 586 B.C. / footnote: Lachish, Vol. I, p. 12\" (Rameses II and His Time p.45:6).  Rameses II and His Time, p.3:1: Riblah=Tell Nebi-Mend in the \"land of Hamath\", \"the military headquarters first of Pharaoh Necho and thereafter of Nebuchadnezzar. There the pharaoh put Jehoahaz, king of Jerusalem, in bands (II Kings 23:33); there Nebuchadnezzar blinded King Zedekiah (II Kings 25:7, Jeremiah 39:7)\" (Rameses II and His Time, p.16:6.)   \"Jerusalem was a heap of ruins, the Temple destroyed... An obstinate nation ws deported along the road trodden by the tribes of Israel after the fall of Samaria about one hundred and thirty years earlier.\" (Rameses II and His Time, p.43:5.)",null,"Matteniah (Zedekiah)",null,null," ",null,null,"Nebuchadnezzar",null,"19th year - I.e. the 19th Sacred Calendar Year he reigned"," 11th year - of Jehoiachin's captivity RE: Ezekiels prophecies. \"Now it came to pass in the thirtieth year, in the fourth month, in the fifth day of the month, as I was among the captives by the river of Chebar, that the heavens were opened, and I saw visions of God. In the fifth day of the month, which was the fifth year of king Jehoiachin's captivity, The word of the Lord came expressly unto Ezekiel the priest, the son of Buzi, in the land of the Chaldeans by the river Chebar; and the hand of the Lord was there upon him...\" Ezekiel 1:1-3 (KJV). \"And it came to pass in the eleventh year, in the first day of the month, that the word of the Lord came unto me, saying... Behold, I am against thee, O Tyrus...\" Eze. 26:1,3 (KJV).  \"And it came to pass in the eleventh year, in the third month, in the first day of the month, that the word of the Lord came unto me, saying, Son of man speak unto Pharaoh king of Egypt, and to his multitude...\" Eze. 31:1-2 (KJV).","Summary and ending of the reign of Matteniah (Zedekiah): \"Zedekiah was one and twenty years old when he began to reign, and he reigned eleven years in Jerusalem. And his mother's name was Hamutal the daughter of Jeremiah of Libnah. And he did that which was evil in the eyes of the Lord, according to all that Jehoiakim had done. For through the anger of the Lord it came to pass in Jerusalem and Judah, till he had cast them out from his presence, that Zedekiah rebelled against the king of Babylon. And it came to pass in the ninth year of his reign, in the tenth month, in the tenth day of the month, that Nebuchadrezzar king of Babylon came, he and all his army, against Jerusalem, and pitched against it, and built forts against it round about. So the city was besieged unto the eleventh year of king Zedekiah. And in the fourth month, in the ninth day of the month, the famine was sore in the city, so that there was no bread for the people of the land... and the king of Babylon bound him in chains, and carried him to Babylon, and put him in prison till the day of his death. Now in the fifth month, in the tenth day of the month, which was the nineteenth year of Nebuchadrezzar king of Babylon, came Nebuzar-adan, captain of the guard, which served the king of Babylon, into Jerusalem, And burned the house of the Lord, and the king's house; and all the houses of Jerusalem, and all the houses of the great men, burned he with fire: And all the army of the Chaldeans, that were with the captain of the guard, brake down all the walls of Jerusalem round about Jer. 52:1-6,11-14.",{"$f":"T959","v":1},45]
[null,-584,{"$f":"C960","v":586},"",null,null,null,null,"Matteniah (Zedekiah)",null,null," ",null,null,"Nebuchadnezzar",null,"20th year - I.e. the 20th Sacred Calendar Year he reigned","19th year - I.e. the 19th Sacred Calendar Year he reigned","Jeremiah in prison for a long time during the latter part of the period when Jerusalem was besieged (Jer. 37:11-39:2 KJV): \"And it came to pass, that when the army of the Chaldeans was broken up from Jerusalem for fear of Pharaoh's army (Jer. 37:11) …the princes were wroth with Jeremiah, and smote him, and put him in prison (Jer. 37:15) ...In the tenth year of Zedekiah king of Judah, which was the eighteenth year of Nebuchadrezzar. For then the king of Babylon's army besieged Jerusalem: and Jeremiah the prophet was shut up int the court of the prison, which was in the king of Judah's house (Jer. 32:1,2) ...So Jeremiah abode in the court of the prison until the day that Jerusalem was taken: and he was there when Jerusalem was taken (Jer. 38:28) ...in the eleventh year of Zedekiah, in the fourth month, the ninth day of the month, the city was broken up (Jer. 39:2).\"",{"$f":"T960-1","v":1},45]
[{"$f":"A958+1","v":3337},-584,{"$f":"C958-1","v":586},585,null,null,null,null,null,null,null," ",null,null,"Nebuchadnezzar",null,"20th year - I.e. the 20th Sacred Calendar Year he reigned"," 12th year - of Jehoiachin's captivity RE: Ezekiels prophecies. \"Now it came to pass in the thirtieth year, in the fourth month, in the fifth day of the month, as I was among the captives by the river of Chebar, that the heavens were opened, and I saw visions of God. In the fifth day of the month, which was the fifth year of king Jehoiachin's captivity, The word of the Lord came expressly unto Ezekiel the priest, the son of Buzi, in the land of the Chaldeans by the river Chebar; and the hand of the Lord was there upon him...\" Ezekiel 1:1-3 (KJV). \"And it came to pass in the eleventh year, in the first day of the month, that the word of the Lord came unto me, saying... Behold, I am against thee, O Tyrus...\" Eze. 26:1,3 (KJV).  \"And it came to pass in the twelfth year, in the twelfth month, in the first day of the month, that the word of the Lord came unto me, saying, Son of man, take up a lamentation for Pharao king of Egypt, and say unto him, Thou art like a young lion of the nations, and thou art as a whale in the seas... For thus saith the Lord God; The sword of the king of Babylon shall come upon thee...\" Eze. 32:1-2, 11 (KJV)."," ",{"$f":"T961","v":2},46]
[null,-583,{"$f":"C962","v":585},"",null,null,null,null,null,null,null," ",null,null,"Nebuchadnezzar",null,"21st year - I.e. the 21st Sacred Calendar Year he reigned","20th year - I.e. the 20th Sacred Calendar Year he reigned","Apocrypha considerations: [Tobias, son of Tobit, dies no later than this year according to the Catholic edition RSV. Nineveh destroyed and captured by Nebuchadnezzar and Ahasuerus in, or before, the year of Tobias' death which occurred perhaps as early as 10 years before (lest he was only 8 years old when he was sent on his mission to get money and a wife for himself), but no later than, 127 years after Hezekiah's 14th year of reign, i.e. during Sennacherib's brief reign as the king of Assyria. As seen from the note at Nebuchadnezzar's 12th & 17th years above Nineveh was at those times already under Nebuchadnezzar. \"But before he [Tobias] died he heard of the destruction of Nineveh, which Nebuchadnezzar and Ahasuerus (footnote: 'Gk Artaxerxes') had captured. Before his death he rejoiced over Nineveh [to where Tobit, his father, had been taken captive]\" Tobit 14:15 (Catholic edition RSV). Cf. also note 127 years prior, i.e. at the 14th year of Hezekiah, king of Judah.  It follows that the book of Nahum, and Nahum's prophecy against Nineveh, must have been written prior to the time of Tobias' death as well.  NOTICE> Considering that Nineveh was under Nebuchadnezzar during Nebuchadnezzar's 12th year Tobias' death would not likely have occured later than Nebuchadnezzar's 13th year, which, if it occured in that year, would make Tobias about 7 years old during Sennacherib's reign and about 15 years old when he journeyed to find himself his wife - this seems plausible to me, and thus the Catholic edition RSV seems to be closer to the truth than the NEB as far as the timed references in the Apocryphal book of Tobit].",{"$f":"T962-1","v":2},46]
[{"$f":"A960+1","v":3338},-583,{"$f":"C960-1","v":585},584,null,null,null,null,null,null,null," ",null,null,"Nebuchadnezzar",null,"21st year - I.e. the 21st Sacred Calendar Year he reigned","21st year - I.e. the 21st Sacred Calendar Year he reigned"," ",{"$f":"T963","v":3},47]
[null,-582,{"$f":"C964","v":584},"",null,null,null,null,null,null,null," ",null,null,"Nebuchadnezzar",null,"22nd year - I.e. the 22nd Sacred Calendar Year he reigned","21st year - I.e. the 21st Sacred Calendar Year he reigned"," ",{"$f":"T964-1","v":3},47]
[{"$f":"A962+1","v":3339},-582,{"$f":"C962-1","v":584},583,null,null,null,null,null,null,null," ",null,null,"Nebuchadnezzar",null,"22nd year - I.e. the 22nd Sacred Calendar Year he reigned","22nd year - I.e. the 22nd Sacred Calendar Year he reigned"," ",{"$f":"T965","v":4},48]
[null,-581,{"$f":"C966","v":583},"",null,null,null,null,null,null,null," ",null,null,"Nebuchadnezzar",null,"23rd year - I.e. the 23rd Sacred Calendar Year he reigned","22nd year - I.e. the 22nd Sacred Calendar Year he reigned","The captives of Nebuchadnezzar's 23rd year: \"In the twenty-third year of Nebuchadnezzar, nabuzar-adan, the chief of the executioners, exiled seven hundred forty-five souls of the Jews…\" Jer. 52:30 (IB). \"This is the people whom Nebuchadrezzar carried away captive: in the seventh year three thousand Jews and three and twenty: In the eighteenth year of Nebuchadrezzar he carried away captive from Jerusalem eight hundred thirty and two persons: In the three and twentieth year of Nebuchadrezzar Nebuzar-adan the captain of the guard carried away captive of the Jews seven hundred forty and five persons: all the persons were four thousand six hundred. And it came to pass in the seven and thirtieth year of the captivity of Jehoiachin king of Judah, in the twelfth month, in the five and twentyieth day of the month, that Evil-merodach king of Babylon in the first year of his reign lifted up the head of Jehoiachin king of Judah, and brought him forth out of prison...\" Jer. 52:28-31 (KJV).",{"$f":"T966-1","v":4},48]
[{"$f":"A964+1","v":3340},-581,{"$f":"C964-1","v":583},582,null,null,null,null,null,null,null," ",null,null,"Nebuchadnezzar",null,"23rd year - I.e. the 23rd Sacred Calendar Year he reigned","23rd year - I.e. the 23rd Sacred Calendar Year he reigned","NOTICE> Belshazzar the son of Nebuchadnezzar (at this early date!), the unspecified '5th year' (Compare note re: Ezekiel's 5th and concurrent 30th year, i.e. at Nebuchadnezzar's 12th year above!), and more: \"These are the words of the book which Baruch the son of Neraiah, son of Mahseiah, son of Zedekiah, son of Hasadiah, son of Hilkiah, wrote in Babylon, in the fifth year, on the seventh day of the month, at the time when the Chaldeans took Jerusalem and burned it with fire [\"written in Babylon, on the seventh day of the month, in the fifth year after the Chaldeans had captured and burnt Jerusalem\" (The New English Bible)]. And Baruch read the words of this book in the hearing of Jeconiah the son of Jehoiakim, king of Judah, and in the hearing of all the people who came to hear the book, and in the hearing of the mighty men and the princes, and in the hearing of the elders, and in the hearing of all the people, small and great, all who dwelt in Babylon by the river Sud. Then they wept, and fasted, and prayed before the Lord; and they collected money, each giving what he could; and they sent it to Jerusalem to Jehoiakim the high priest, the son of Hilkiah, son of Shallum, and to the priests, and to all the people who were present with him in Jerusalem. At the same time, on the tenth day of Sivan, Baruch took the vessels of the house of the Lord, which had been carried away from the temple, to return them to the land of Judah - the silver vessels which Zedekiah the son of Josiah, king of Judah, had made, after Nebuchadnezzar king of Babylon had carried away from Jerusalem Jeconiah and the princes and the prisoners and the mighty men and the people of the land, and brought them to Babylon. And they said: \"Herewith we send you money; so buy with the money burnt offerings and sin offerings and incense, and prepare a cereal offering, and offer them upon the altar of the Lord our god; and pray for the life of Nebuchadnezzar king of Babylon, and for the life of Belshazzar his son, that their days of earth may be like the days of heaven...\" Baruch 1:1-11 (Catholic edition RSV).  This last reference has several ????-marks!",{"$f":"T967","v":5},49]
[null,-580,{"$f":"C968","v":582},"",null,null,null,null,null,null,null," ",null,null,"Nebuchadnezzar",null,"24th year - I.e. the 24th Sacred Calendar Year he reigned","23rd year - I.e. the 23rd Sacred Calendar Year he reigned"," ",{"$f":"T968-1","v":5},49]
[{"$f":"A966+1","v":3341},-580,{"$f":"C966-1","v":582},{"$f":"IF(C968<>\"\",IF(C968=C969,\"\",IF(C968=D967,IF(C968=C969+1,C968-1,\"\"),C968-1)),\"\")","v":581},null,null,null,null,null,null,null," ",null,null,"Nebuchadnezzar",null,"24th year - I.e. the 24th Sacred Calendar Year he reigned","24th year - I.e. the 24th Sacred Calendar Year he reigned"," ",{"$f":"T969","v":6},50]
[null,-579,{"$f":"C970","v":581},"",null,null,null,null,null,null,null," ",null,null,"Nebuchadnezzar",null,"25th year - I.e. the 25th Sacred Calendar Year he reigned","24th year - I.e. the 24th Sacred Calendar Year he reigned"," ",{"$f":"T970-1","v":6},50]
[{"$f":"A968+1","v":3342},-579,{"$f":"C968-1","v":581},580,null,null,null,null,null,null,null," ",null,null,"Nebuchadnezzar",null,"25th year - I.e. the 25th Sacred Calendar Year he reigned","25th year - I.e. the 25th Sacred Calendar Year he reigned"," ",{"$f":"T971","v":7},51]
[null,-578,{"$f":"C972","v":580},"",null,null,null,null,null,null,null," ",null,null,"Nebuchadnezzar",null,"26th year - I.e. the 26th Sacred Calendar Year he reigned","25th year - I.e. the 25th Sacred Calendar Year he reigned"," ",{"$f":"T972-1","v":7},51]
[{"$f":"A970+1","v":3343},-578,{"$f":"C970-1","v":580},579,null,null,null,null,null,null,null," ",null,null,"Nebuchadnezzar",null,"26th year - I.e. the 26th Sacred Calendar Year he reigned","26th year - I.e. the 26th Sacred Calendar Year he reigned"," ",{"$f":"T973","v":8},52]
[null,-577,{"$f":"C974","v":579},"",null,null,null,null,null,null,null," ",null,null,"Nebuchadnezzar",null,"27th year - I.e. the 27th Sacred Calendar Year he reigned","26th year - I.e. the 26th Sacred Calendar Year he reigned"," ",{"$f":"T974-1","v":8},52]
[{"$f":"A972+1","v":3344},-577,{"$f":"C972-1","v":579},578,null,null,null,null,null,null,null," ",null,null,"Nebuchadnezzar",null,"27th year - I.e. the 27th Sacred Calendar Year he reigned","27th year - I.e. the 27th Sacred Calendar Year he reigned"," ",{"$f":"T975","v":9},53]
[null,-576,{"$f":"C976","v":578},"",null,null,null,null,null,null,null," ",null,null,"Nebuchadnezzar",null,"28th year - I.e. the 28th Sacred Calendar Year he reigned","27th year - I.e. the 27th Sacred Calendar Year he reigned"," ",{"$f":"T976-1","v":9},53]
[{"$f":"A974+1","v":3345},-576,{"$f":"C974-1","v":578},577,null,null,null,null,null,null,null," ",null,null,"Nebuchadnezzar",null,"28th year - I.e. the 28th Sacred Calendar Year he reigned","21st year - I.e. the 21st Sacred Calendar Year he reigned","of Jehoiachin's captivity",{"$f":"T977","v":10},54]
[null,-575,{"$f":"C978","v":577},"",null,null,null,null,null,null,null," ",null,null,"Nebuchadnezzar",null,"29th year - I.e. the 29th Sacred Calendar Year he reigned","21st year - I.e. the 21st Sacred Calendar Year he reigned"," ",{"$f":"T978-1","v":10},54]
[{"$f":"A976+1","v":3346},-575,{"$f":"C976-1","v":577},576,null,null,null,null,null,null,null," ",null,null,"Nebuchadnezzar",null,"29th year - I.e. the 29th Sacred Calendar Year he reigned","22nd year - I.e. the 22nd Sacred Calendar Year he reigned","of Jehoiachin's captivity",{"$f":"T979","v":11},55]
[null,-574,{"$f":"C980","v":576},"",null,null,null,null,null,null,null," ",null,null,"Nebuchadnezzar",null,"30th year - I.e. the 30th Sacred Calendar Year he reigned","22nd year - I.e. the 22nd Sacred Calendar Year he reigned"," ",{"$f":"T980-1","v":11},55]
[{"$f":"A978+1","v":3347},-574,{"$f":"C978-1","v":576},575,null,null,null,null,"Maximum # of years to deduct based on #s",null,null,null,null,null,"Nebuchadnezzar",null,"30th year - I.e. the 30th Sacred Calendar Year he reigned","23rd year - I.e. the 23rd Sacred Calendar Year he reigned","of Jehoiachin's captivity",{"$f":"T981","v":12},56]
[null,-573,{"$f":"C982","v":575},"",null,null,{"$f":"G910","v":"\"Ramses' first campaign toward Carchemish took place in his second year, obviously counted from the beginning of his reign as a sole ruler; on his second campaign he proceeded in his fifth year; Gaza and Ashkelon he took in his ninth year; he concluded the peace treaty with Nebuchadnezzar in his (Ramses') twenty-first year; he married a daughter of Nebuchadnezzar in his thirty-fourth year, always counted from the death of his father, Seti.\" (Ramses II and His Time, p. 213:3)."},null,"Maximum # of years to deduct based on #s",null,null," ",{"$f":"SUM(M1:M979)","v":7},null,"Nebuchadnezzar",null,"31st year - I.e. the 31st Sacred Calendar Year he reigned","23rd year - I.e. the 23rd Sacred Calendar Year he reigned"," ",{"$f":"T982-1","v":12},56]
[{"$f":"A980+1","v":3348},-573,{"$f":"C980-1","v":575},574,null,null,"34th & 37th years of Ramses II and Nebuchadnezzar respectively: \"In the 37th year of Nebuchadnezzar, king of Babylon - the king of Egypt came up to do battle [?] and -es. The king of Egypt - and - of the city Putu - Jaman…\" (Ramses II and His Time, p.181:1).   \"In the thirty-fourth year of Ramses II, Hattusilis came to Egypt to visit the pharaoh and to give him a daughter to wife... The so-called \"Marriage stele\" in Egypt records that the king of Kheta gathered his army and his nobles, and \"then spake the chief of the land of Hatti to his army and his nobles\" and explained to them the advantages of giving a daughter to Ramses for a wife.  \"His majesty [Ramses] received the word - in the palace, with joy of heart . . . when he heard such strange and unexpected matters. . . . \" (Ramses II and His Time, p.182:3).   \"Besides the Marriage stele of the thirty-fourth year of Ramses II, there exists a stele found in Coptos containing a reference to royal princes of Hatti who accompanied \"his [the king's] other daughter\" and to a coming \"to Egypt for the second time.\" Either the Marrieage or the Coptos stele is a counterpart of the tablet of Nebuchadnezzar.\"  (Ramses II and His Time, p.183:3).",null,"Maximum # of compress years",null,null,null,null,null,"Nebuchadnezzar",null,"31st year - I.e. the 31st Sacred Calendar Year he reigned","24th year - I.e. the 24th Sacred Calendar Year he reigned","of Jehoiachin's captivity",{"$f":"T983","v":13},57]
[null,-572,{"$f":"C984","v":574},"","Lunar eclipse records:\n     “LBAT 1419 records an uninterrupted series of Lunar eclipses at 18 year intervals from 609/08 to 447/46 BCE. The first entries that are recorded are damaged. However the two following entries are clearly dated to the 14th and 32nd year of the reign of Nebuchadnezzar. His 14th and 32nd years are dated to 591/90 and 573/72 BCE respectively. The two eclipses recorded, one saros apart, both took place in the sixth month in August or September…\n     “LBAT 1420 contains annual eclipses. All are from the reign of Nebuchadnezzar, from his first to his twenty ninth years. The first record, that records two eclipses that were not observable, is damaged and the year number is illegible. However the last part of Nebuchadnezzar name is preserved. The name of the king is not repeated which means that the king is the same during the whole period. Some of the records are damaged but the ones that are legible are in good agreement with the king lists. This record carries detail of twenty four eclipses of which 12 have the regnal year preserved…\n",null,null,null,"Maximum # of compress years",null,null," ",null,{"$f":"SUM(N2:N981)","v":113},"Nebuchadnezzar",null,"32nd year - I.e. the 32nd Sacred Calendar Year he reigned","24th year - I.e. the 24th Sacred Calendar Year he reigned"," ",{"$f":"T984-1","v":13},57]
[{"$f":"A982+1","v":3349},-572,{"$f":"C982-1","v":574},573,null,null,null,null,null,null,null," ",null,null,"Nebuchadnezzar",null,"32nd year - I.e. the 32nd Sacred Calendar Year he reigned","25th year - of Jehoiachin's captivity CONCURRENT with \"in the fourteenth year after that the city was smitten\": RE: Ezekiels prophecies. \"Now it came to pass in the thirtieth year, in the fourth month, in the fifth day of the month, as I was among the captives by the river of Chebar, that the heavens were opened, and I saw visions of God. In the fifth day of the month, which was the fifth year of king Jehoiachin's captivity, The word of the Lord came expressly unto Ezekiel the priest, the son of Buzi, in the land of the Chaldeans by the river Chebar; and the hand of the Lord was there upon him...\" Ezekiel 1:1-3 (KJV). \"And it came to pass in the eleventh year, in the first day of the month, that the word of the Lord came unto me, saying... Behold, I am against thee, O Tyrus...\" Eze. 26:1,3 (KJV).  \"In the five and twentieth year of our captivity, in the beginning of the year, in the tenth day of the month, in the fourteenth year after that the city was smitten, in the selfsame day the hand of the Lord was upon me, and brought me thither. In the visions of God brought he me into the land of Israel, and set me upon a very high mountain, by which was as the frame of a city on the south. And he brought me thither, and behold, there was a man, whose appearance was like the appearance of brass, with a line of flax in his hand, and a measuring reed; and he stood in the gate. And the man said unto me, Son of man, behold with thine eyes, and hear with thine ears, and set thine heart upon all that I shall shew thee; for to the intent that I might shew them unto thee art thou brought hither: declare all that thou seest to the house of Israel. And behold a wall on the outside of the house round about, and in the man's hand a measuring reed of six cubits long by the cubit and an hand breath: so he measured the breadth of the building, one reed; and the height, one reed. Then came he unto the gate which looketh toward the east, and went up the stairs thereof, and measured the threshold of the gate, which was one reed broad; and the other threshold of the gate, which was one reed broad...\" Eze. 40:1-6 (KJV).","\"of OUR captivity\"",14,58]
[null,-571,{"$f":"C986","v":573},"",null,null,null,null,null,null,null," ","Consider espec. Red ##!",null,"Nebuchadnezzar",null,"33rd year - I.e. the 33rd Sacred Calendar Year he reigned","25th year - I.e. the 25th Sacred Calendar Year he reigned"," ",null,58]
[{"$f":"A984+1","v":3350},-571,{"$f":"C984-1","v":573},572,null,null,null,null,null,null,null," ",null,null,"Nebuchadnezzar",null,"33rd year - I.e. the 33rd Sacred Calendar Year he reigned","26th year - I.e. the 26th Sacred Calendar Year he reigned","of Jehoiachin's captivity",null,59]
[null,-570,{"$f":"C988","v":572},"",null,null,null,null,null,null,null," ",null,null,"Nebuchadnezzar",null,"34th year - I.e. the 34th Sacred Calendar Year he reigned","26th year - I.e. the 26th Sacred Calendar Year he reigned"," ",null,59]
[{"$f":"A986+1","v":3351},-570,{"$f":"C986-1","v":572},571,null,null,null,null,null,null,null," ",null,null,"Nebuchadnezzar",null,"34th year - I.e. the 34th Sacred Calendar Year he reigned","27th year - I.e. the 27th Sacred Calendar Year he reigned","of Jehoiachin's captivity",null,60]
[null,-569,{"$f":"C990","v":571},"",null,null,null,null,null,null,null," ",null,null,"Nebuchadnezzar",null,"35th year - I.e. the 35th Sacred Calendar Year he reigned","27th year - I.e. the 27th Sacred Calendar Year he reigned"," ",null,60]
[{"$f":"A988+1","v":3352},-569,{"$f":"C988-1","v":571},570,null,null,null,null,null,null,null," ",null,null,"Nebuchadnezzar",null,"35th year - I.e. the 35th Sacred Calendar Year he reigned","28th year - I.e. the 28th Sacred Calendar Year he reigned","of Jehoiachin's captivity",null,61]
[null,{"$f":"B993-1","v":-568},{"$f":"C992","v":570},"",null,null,null,null,null,null,null," ",null,null,"Nebuchadnezzar",null,"36th year - I.e. the 36th Sacred Calendar Year he reigned","28th year - I.e. the 28th Sacred Calendar Year he reigned"," ",null,61]
[{"$f":"A990+1","v":3353},{"$f":"B994-1","v":-568},{"$f":"C990-1","v":570},569,null,null,null,null,null,null,null,null,null,null,"Nebuchadnezzar",null,"36th year - I.e. the 36th Sacred Calendar Year he reigned","29th year - I.e. the 29th Sacred Calendar Year he reigned","of Jehoiachin's captivity",null,62]
[null,-567,{"$f":"C994","v":569},"",null,"Anchor point: April 22, -567 at sunset. Cf. my files: \"VAT 4956 - a transcription of its Translation and Comments.doc\" and \"Analysis using Starry Night Backyard.doc.\" \n\n - - - - - - - - - - - - \n\n568 BC: Notes & quotes from The Chronology of Ezra Seven by Sigfried Horn\n\np. 27:\n“One of these anchor points, from which we can locate other relative dates, is furnished by an astronomical tablet bearing a series of observations dated in the 37th year of Nebuchadnezzar. These fix the year as having begun on April 22/23, 568 BC, and ended on April 11/12, 567 BC. [11]”\n\n11. Neugebauer and Weidner, op. cit., pages 66, 67, 72.\n",null,null,null,null,null," ",null,null,"Nebuchadnezzar",null,"37th year - I.e. the 37th Sacred Calendar Year he reigned","29th year - I.e. the 29th Sacred Calendar Year he reigned"," ",null,62]
[{"$f":"A992+1","v":3354},-567,{"$f":"C992-1","v":569},568,null,"Nehemiah: \"Nehemiah's governorship lasted twelve years, from the twentieth to the thirty-second year of Artaxerxes I, and all this time he was harassed by the ill-wishers from among the Samaritans and the Arabs. (Peoples of the Sea, p. 123:5.)",null,null,null,null,null,null,null,null,"Nebuchadnezzar",null,"37th year - I.e. the 37th Sacred Calendar Year he reigned","30th year - I.e. the 30th Sacred Calendar Year he reigned","of Jehoiachin's captivity",null,63]
[null,{"$f":"B993+1","v":-566},{"$f":"C996","v":568},"",null,null,null,null,null,null,null," ",null,null,"Nebuchadnezzar",null,"38th year - I.e. the 38th Sacred Calendar Year he reigned","30th year - I.e. the 30th Sacred Calendar Year he reigned"," ",null,63]
[{"$f":"A994+1","v":3355},{"$f":"B994+1","v":-566},{"$f":"C994-1","v":568},567,null,-568,"Pharaoh Amasis reign: \"Jeremiah, when in exile in Egypt and before he was removed to Babylon, refers to Pharaoh Hophra, whom we identified as Merneptah-Hophrama'e. Merneptah's reign, judged by the dates on his inscriptions, endured for ten or eleven years. IF the figure of forty-three years for Amasis' reign is true, then he must have begun his rule in -568, or nineteen years after the destruction of Jerusalem: In -525 Egypt was conquered by Cambyses, thePersian, only a few months after Amasis' death. Of these nineteen years the longer part belongs to Ramses; Merneptah, however, might have been a co-ruler in the last years of Ramses. That Amasis, after he seized the throne, allowed Merneptah to wear a crown and be a co-ruler with himself, we learn from Herodotus (II, 169).\" (Ramses II and His Time, p.213:4).",null,null,null,null,null,null,null,"Nebuchadnezzar",null,"38th year - I.e. the 38th Sacred Calendar Year he reigned","31st year - I.e. the 31st Sacred Calendar Year he reigned","of Jehoiachin's captivity",null,{"$f":"U998-1","v":64}]
[null,{"$f":"B995+1","v":-565},{"$f":"C998","v":567},"",null,null,null,null,null,null,null," ",null,null,"Nebuchadnezzar",null,"39th year - I.e. the 39th Sacred Calendar Year he reigned","31st year - I.e. the 31st Sacred Calendar Year he reigned"," ",null,{"$f":"U999-1","v":64}]
[{"$f":"A996+1","v":3356},-565,{"$f":"C996-1","v":567},566,null,"\"-463 to -454 & Artaxerxes I & \"siege... Persians diverted the water from the canal...\" \": \"The rebellion of Inaros against the Persian domination of Egypt, which began in -463 and continued till -454, was supported by the Athenians and their fleet (see p. 122). The Athenians suceeded in occupying the citadel of Memphis, then proceeded to Prosopitus and there were starved by a prolonged siege, during which the Persians diverted the water from the canal. The war was terminated by a peace treaty in -448 between the Persians under Artaxerxes I and Athens...\"  (Peoples of the Sea, p.97:3.)",null,null,null,null,null,null,null,null,"Nebuchadnezzar",null,"39th year - I.e. the 39th Sacred Calendar Year he reigned","32nd year - I.e. the 32nd Sacred Calendar Year he reigned","of Jehoiachin's captivity",null,{"$f":"U1000-1","v":65},"th"]
[null,-564,{"$f":"C1000","v":566},"",null,null,null,null,null,null,null," ",null,null,"Nebuchadnezzar",null,"40th year - I.e. the 40th Sacred Calendar Year he reigned","32nd year - I.e. the 32nd Sacred Calendar Year he reigned"," ",null,{"$f":"U1001-1","v":65},"th"]
[{"$f":"A998+1","v":3357},-564,{"$f":"C998-1","v":566},565,null,null,null,null,null,null,null,null,null,null,"Nebuchadnezzar",null,"40th year - I.e. the 40th Sacred Calendar Year he reigned","33rd year - I.e. the 33rd Sacred Calendar Year he reigned","of Jehoiachin's captivity",null,{"$f":"U1002-1","v":66},"th"]
[null,-563,{"$f":"C1002","v":565},"",null,null,null,null,null,null,null," ",null,null,"Nebuchadnezzar",null,"41st year - I.e. the 41st Sacred Calendar Year he reigned","33rd year - I.e. the 33rd Sacred Calendar Year he reigned"," ",null,66,"th"]
[{"$f":"A1000+1","v":3358},-563,{"$f":"C1000-1","v":565},564,null,null,null,null,null,null,null,null,null,null,"Nebuchadnezzar",null,"41st year - I.e. the 41st Sacred Calendar Year he reigned","34th year - I.e. the 34th Sacred Calendar Year he reigned","of Jehoiachin's captivity",null,67,"th"]
[null,-562,{"$f":"C1004","v":564},"","Eclipse records:\n     “LBAT 1421 records two eclipses observable in Babylon in the sixth and twelfth month of year 42, evidently of the reign of Nebuchadnezzar…” (From http://www.607v587.com/websitepage4.htm)\n \n",null,null,null,null,null,null," ",null,null,"Nebuchadnezzar",null,"42nd year - I.e. the 42nd Sacred Calendar Year he reigned","34th year - I.e. the 34th Sacred Calendar Year he reigned"," ",null,67,"th"]
[{"$f":"A1002+1","v":3359},-562,{"$f":"C1002-1","v":564},563,null,null,null,null,null,null,null,null,null,null,"Nebuchadnezzar",null,"42nd year - I.e. the 42nd Sacred Calendar Year he reigned","35th year - I.e. the 35th Sacred Calendar Year he reigned","of Jehoiachin's captivity",null,68,"th"]
[null,-561,{"$f":"C1006","v":563},"",null,null,null,null,null,null,null," ",null,null,"Nebuchadnezzar",null,"43rd year - I.e. the 43rd Sacred Calendar Year he reigned","35th year - I.e. the 35th Sacred Calendar Year he reigned"," ",null,68,"th"]
[{"$f":"A1004+1","v":3360},-561,{"$f":"C1004-1","v":563},562,null,null,null,null,null,null,null,null,null,null,"Nebuchadnezzar",null,"43rd year - I.e. the 43rd Sacred Calendar Year he reigned","36th year - I.e. the 36th Sacred Calendar Year he reigned","of Jehoiachin's captivity",null,69,"th"]
[null,-560,{"$f":"C1008","v":562},"",null,null,null,null,null,null,null," ",null,null,"Nebuchadnezzar",null,"44th year - I.e. the 44th Sacred Calendar Year he reigned","36th year - I.e. the 36th Sacred Calendar Year he reigned"," ",null,69,"th"]
[{"$f":"A1006+1","v":3361},-560,{"$f":"C1006-1","v":562},561,null,"-458, Amenhotep's removal by \"barabarians\"=Persians under Artaxerxes I: \"Ezra (7:26)… -458… Herihor\"  (Peoples of the Sea, p. 127:4,5.)",null,null," ",null,null,null,null,null,"Nebuchadnezzar",null,"44th year - I.e. the 44th Sacred Calendar Year he reigned","37th year of Jehoiachin's captivity","A description of the end of Nebuchadnezzars 1st regnal period(!?!): \"And it happened, in the thirty-seventh year of the captivity of Jehoiachin the king of Judah, in the twelfth month, in the twenty seventh [2 Kings; \"twenty-fifth\" Jer.] of the month, Evil-merodach the king of Babylon, in the year he began to reign, lifted up the head of Jehoiachin the king of Judah out of the prison...\" 2 Kings 25:27-30. \"I saw in the visions of my head upon my bed, and behold, a watcher and an holy one came down from heaven; he cried aloud, and said thus, Hew down the tree, and cut off his branches, shake off his leaves, and scatter his fruit: let the beasts get away from under it, and the fowls from his branches: Nevertheless leave the stump of his roots in the earth, even with a band of iron and brass, in the tender grass of the field; and let it be wet with the dew of heaven, and let his portion be with the beasts in the grass of the earth: let his heart be changed from man's, and let a beast's heart be given unto him; and let seven times pass over him...\" Dan. 4:13-16 (KJV). \"This is the interpratation, O king, and this is the decree of the most High, which is come upon my lord the king: That they shall drive thee from men, and thy dwelling shall be with the beasts of the field, and they shall make thee to eat grass as oxen, and they shall wet thee with the dew of heaven, and seven times shall pass over thee, till thou know that the most High ruleth in the kingdom of men, and giveth it to whomsoever he will. And whereas they commanded to leave the stump of the tree roots; thy kingdom shall be sure unto thee, after that thou shalt have known that the heavens do rule\" Dan. 4:24-26 (KJV).  \"All this came upon the king Nebuchadnezzar. At the end [Hebr. \"towards the extremity...\" cf. (IB) and 'lamed-' (\"towards\") + Strong's #7118 \"corresp. to 7117\"; #7117 \"from 7096; a termination (lit. or fig.); also (by impl.) a portion; adv. (with prep. pref.) after\"; #7096 \"a prim. root; to cut off; (fig.) to destroy; (partially) to scrape off\" #7097 \"an extremity (used in a great variety of applications and idioms; comp. 7093)\"; #7093 \"contr. from 7112: and extremity; adv. (with prep. pref.) after\"; #7112 \"a prim. root; to chop off (lit or fig.)\"] of twelve months [Hebr. 'lunations' Strong's #3393] he walked in the palace of the kingdom of Babylon. The king spake, and said, Is not this great Babylon, that I have built for the house of the kingdom by the might of my power, and for the honour of my majesty? While the word was in the king's mouth, there fell a voice from heaven, saying, O king Nebuchadnezzar, to thee it is spoken; The kingdom is departed from thee. And they shall drive thee from men, and thy dwelling shall be with the beasts of the field: they shall make thee to eat grass as oxen, and seven times shall pass over thee, until thou know that the most High ruleth in the kingdom of men, and giveth it to whomsoever he will. The same hour was the thing fulfilled upon Nebuchadnezzar: and he was driven from men, and did eat grass as oxen, and his body was wet with the dew of heaven, till his hairs were grown like eagles' feathers, and his nails like birds' claws. And at the end of the days I Nebuchadnezzar lifted up mine eyes unto heaven, and mine understanding returned unto me, and I blessed the most High, and I praised and honoured him that liveth for ever, whose dominion is an everlasting dominion, and his kingdom is from generation to generation... At the same time my reason returned unto me; and for the glory of my kingdom, mine honour and brightness returned unto me; and my counsellors and my lords sought unto me; and I was established in my kingdom, and excellent majesty was added unto me. Now I Nebuchadnezzar praise and extol and honour the King of heaven, all whose works are truth, and his ways judgment: and those that walk in pride he is able to abase.\" Dan. 4:28-34,36-37 (KJV).",null,70,"th"]
[null,-559,{"$f":"C1010","v":561},"",null,{"$f":"F1136","v":"Ezra to Jerusalem in -398?: \"Ezra came to Jerusalem not in the seventh year of Artaxerxes I (-458) but in the seventh year of Artaxerxes II (-398), sixty years later. The absence of any reference to Ezra in the Elephantine papyri, the last of which was written in -399, tends to support the view that he arrived in Jerusalem the following year, -398.\"  (Peoples of the Sea, p. 151:1.)"},"Rameses II and His Time, p.2:2",null,null,null,null,null,null,null,"Nebuchadnezzar",null,"45th year - I.e. the 45th Sacred Calendar Year he reigned","37th year of Jehoiachin's captivity","2 Kings 25:27-30; 2Chron. 36:22; Jer. 52:31; Dan. 5:11,13; & Ezra 5:12-14. \"And it happened, in the thirty-seventh year of the captivity of Jehoiachin the king of Judah, in the twelfth month, in the twenty seventh [2 Kings; \"twenty-fifth\" Jer.] of the month [Notice that, based upon 2 Chron. 36:9-10, the 1st year of the reign of king Jehoichain CANNOT coincide with the 1st year of his captivity!], Evil-merodach the king of Babylon, in the year he began to reign, lifted up the head of Jehoiachin the king of Judah out of the prison...\" 2 Kings 25:27-30.  In Dan. 5:11,13 we find Nebuchadnezzar being referred to as the father of Belshazzar. Then in Ezra 5:12-14 we find \"because our fathers had provoked to wrath the God of Heaven, He gave them into the hand of Nebuchadnezzar the king of Babylon, the Chaldean, and he tore down this house, and he exiled its people to Babylon. But in the first year of Cyrus the king of Babylon, king Cyrus gave an order to build this house of God. And also the vessels of gold and silver from the house of God, which Nebuchadnezzar took out of the temple in Jerusalem...\" (IB).  Thus,  1. Cyrus is named by Ezra immediadely after Nebuchadnezzar, AND  2. Cyrus is referred to as the KING OF BABYLON, and  3. (NOTICE Cyrus and Belshazzar being referenced in a way which may indicate they are one and the same!) \"and in the reign of Cyrus the Persian. In the first year of Belshazzar king of Babylon...\" Dan. 6:29-7:1 (KJV), or (!) more likely per the Hebrew text \"And in the reign of Cyrus the Persian, in the first year of Belshazzar king of Babylon...\" Dan. 6:29-7:1 (IB), and  4. Cyrus is having the same attitude to the Temple, as Belshazzar had to the King of Judah per 2 Kings 25:27-30 as related above.  \"And in the first year of Cyrus king of Persia, so that the word of Jehovah by the mouth of Jeremiah might be fulfilled, Jehovah stirred up the spirit of Cyrus king of Persia, and he made a proclamation in all his kingdom, and also in writing, saying, So says Cyrus king of Persia, Jehovah God of heaven has given me all the kingdoms of the earth. And He has commanded me to build Him a house at Jerusalem, which is in Judah...\" Ezra 1:1-2 (IB). \"And when the seventh month had come, and the sons of Israel were in the cities, the people assembled as one man to Jerusalem. Then Jeshua... built the altar of the God of Israel... as it is written in the law of Moses the man of God. And they set the altar on its bases... And he offered burnt offerings on it to Jehovah... They also performed the Feast of Booths... From the first day of the seventh month they began to offer burnt offerings to Jehovah. But the foundation of the temple of Jehovah was not laid.\" Ezra 3:1-6 (IB).  \"Now in the second year of their coming to the house of God at Jerusalem, in the second month [NOTICE> same month as Solomon started building the temple per 1 Kings 6:1 & 2 Chron. 3:2!], Zerubbabel...began. to oversee the work of the house of Jehovah... And when the builders laid the foundation of the temple of Jehovah... to praise Jehovah, according to the ordinance of David king of Israel...\" Ezra 3:8-10 (IB).  Compare also the similar wording in 2Chron. 36:22. NOTICE & CONCLUSION: If Cyrus the Persian is the same as Belshazzar, the son of Nebuchadnezzar king of Babylon, and if Darius is the son of Ahasuerus [Dan. 9:1], and if Ahasuerus [Esther 11:2 Catholic edition footnote] is the same as Artaxerxes king of Persia [Ezra 4:7], THEN Ahasuerus=Artaxerxes=Cyrus=Belshazzar and the decree issued in the 1st year of king Cyrus is issued by the same king as the decrees issued in the 7th and 20th years of Artaxerxes, which is then also the same king Ahasueros as issued in his 12th year of reign the decrees initiated by Haman and Mordecai.",null,70,"th"]
[{"$f":"A1008+1","v":3362},-559,{"$f":"C1008-1","v":561},560,null,null,null,null,null,null,null,null,null,null,"Nebuchadnezzar",null,45,38,"Evil-Merodach: Strong's #192 \"aleph-vav-yod-lamed mem-resh-daleth-kaph; of Chald. derivation and probably meaning soldier of Merodak; Evil-Merodak, a Babylonian king\"; Strong's #193 \"aleph-vav-lamed; from an unused root meaning to twist, i.e. (by impl. be strong; the body (as being rolled together); also powerful\"; Strong's #4781 \"mem-resh-daleth-kaph; of foreign derivation; Merodak, a Babylonian idol - Compare 4757\"; Strong's #4782 \"mem-resh-daleth-kaph-yod; of foreign derivation; Mordecai, an Israelite\"; Strong's #4757 \"mem-resh-daleth-kaph-kaph beth-lamed-aleph-daleth-nun; of foreign derivation; Merodak-Baladan, a Babylonian king - Compare 4781\"; Strong's ##4775-9 \"mem-resh-daleth\" meaning \"to rebel\", \"rebellion\", \"rebellious\"; Strong's #1081 \"beth-lamed-aleph-daleth-nun; from 1078 and 113 (contracted); Bel (is his) lord; Baladan, the name of a Babylonian prince\"; Strong's #1078 \"beth-lamed; by contraction for 1168; Bel, the Baal of the Babylonians\"; Strong's #113 \"aleph-daleth-vav-nun; from an unused root (meaning to rule); sovereign, i.e. controller (human or divine)\" Strong's #114 \"aleph-daleth-vav-nun; probably intensive for 113; powerful; Addon, apparently an Israelite\".  NOTICE> Could these references to Evil-Merodach be a reference to an event following the crowning event of the Book of Esther which occurred on the 14th of Adar, i.e. of the 12th month of the year - whereas Evil-Merodach came to power on the 25th and/or 27th of the 12th month, i.e. 11 or 13 days later?  Would it make sense, if so, that Jehoiachin was \"brought... forth out of prison... and set... above the throne of the [other] kings... in Babylon?  Was Evil-Merodach a 'saviour', a 'messiah', a 'Christ', a 'Cyrus', of Israel? What does the name Cyrus mean? Strong's #3566 \"kaph-vav-resh-shin or ((Ezra 1:1 [last time], 2) kaph-resh-shin; from the Pers; Koresh (or Cyrus), the Persian king\"; Strong's #3567 \"kaph-vav-resh-shin (Chald.); corresponding to 3566\"; Strong's #3587 \"kaph-yod; from 3554; a brand or scar\"; Strong's #3588 \"kaph-yod: a primitive particle [the full form of the prepositional prefix] indicating causal relations of all kinds, antecedent or consequent; (by implication) very widely used as a rel. conj. or adv. [as below]; often largely modified by other particles annexed\"; Strong's #3554 kaph-vav-he; a primitive root; properly to prick or penetrate; hence to blister (as smarting or eating into)\"; Strong's #7567 \"resh-shin-shin; a primitive root; to demolish\"; Strong's #7217 \"resh-aleph-shin; corresponding to 7218; the head; figuratively the sum\"; cf. also Strong's #7218-7220 each with identical spelling as 7217 and meaning also \"to shake\", \"a poisonous plant, probably the poppy (from its conspicuous head) generally poison (even of serpents)\". Remember also how the titles 'king of Babylon' and 'king of Persia' are apparently interchangable for this one king, i.e. what appears to be one king: \"Artaxerxes king of Persia\" (Ezra 4:7 KJV), \"Artaxerxes king of Babylon\" (Neh. 13:6 KJV). Cf. notes below entitled: \"NOTICE re Ezra/Nehemiah and the use of multiple names/titles\", and the one starting \"2 Kings 25:27-30; 2Chron. 36:22; Jer. 52:31; Dan. 5:11,13; & Ezra 5:12-14. \"And it happened, in the thirty-seventh year...\" !"]
[null,null,null,""]
[null,null,null,"",null,null,"-548:  \"…the gap between the end of the Phygian kingdom in about -687 and -548, the year Cyrus conquered Asia Minor, taking the Chaldean kingdom, the Phrygian Gordion, and Sardis of Lydia, where he made Croesus his captive.\" (Ramses II and His Time p.155:3).","",null,null,null," "]
[null,null,null,"",null,null,"Persian times -539 - -332 (Rameses II and His Time, p.35:1). \"Belshazzar, according to an inscription of Nabonidus, was his heir and co-ruler.  Nabonidus, remembered as the king-archaelolgist who dug for old foundation inscriptions, in an inscription of his own wrote of the events that led to his reign in these words:  'Unto the midst of thepalace they brought me and all of them cast themselves at my feet. I am the powerful representative of Nebuchadnezzar and Nergilissar, my royal predecessors.  Amil-Marduk, the son of Nebuchadnezzar, and Labash-Mardu, the son of Nergilissar, they distorted the ordinances.\" (Ramses II and his Time p.105:1-2). \"...the Chaldean Empire came to an end with the capture of Babylon by Cyrus in -539 (or -538), and Chaldean ceased to be a state language...\" (Ramses II and His Time p.173:3).",null,null,null,null," "]
[{"$f":"A1010","v":3362},{"$f":"B1010","v":-559},{"$f":"C1010","v":561},560,null,null,"-535: \"Edict of Cyrus / First exiles return\" (Ramses II and His Time p.254).",null,null,null,null,null," ",null,"Nebuchadnezzar",null,{"$f":"Q1010","v":45},38]
[null,{"$f":"B1014","v":-559},null,"",null,null,null,null,null,null,null,null," "]
[null,null,null,"",null,null,null,null,null,null,null,null," "]
[null,null,null,"",null,null,null,null,null,null,null,null," "]
[{"$f":"A1014+1","v":3363},{"$f":"B1014+1","v":-558},{"$f":"C1014-1","v":560},559,null,null,null,null,null,null,null,null," ",null,"Nebuchadnezzar",null,{"$f":"Q1014+1","v":46},{"$f":"R1014+1","v":39}]
[null,{"$f":"B1018","v":-558},null,"",null,null,null,null,null,null,null,null," ",null,null,null,null,{"$f":"R1018","v":39}]
[null,null,null,"",null,null,null,null,null,null,null,null," "]
[null,-557,null,"",null,null,null,null,null,null,null,null," "]
[{"$f":"A1018+1","v":3364},{"$f":"B1021","v":-557},{"$f":"C1018-1","v":559},558,null,null,null,null,null,null,null,null," ",null,"Nebuchadnezzar",null,{"$f":"Q1018+1","v":47},{"$f":"R1018+1","v":40}]
[null,-556,null,"",null,null,null,null,null,null,null,null,null,null,"Nebuchadnezzar",null,null,{"$f":"R1019+1","v":40}]
[{"$f":"A1022+1","v":3365},-556,{"$f":"C1022-1","v":558},557,null,{"$f":"F998","v":"\"-463 to -454 & Artaxerxes I & \"siege... Persians diverted the water from the canal...\" \": \"The rebellion of Inaros against the Persian domination of Egypt, which began in -463 and continued till -454, was supported by the Athenians and their fleet (see p. 122). The Athenians suceeded in occupying the citadel of Memphis, then proceeded to Prosopitus and there were starved by a prolonged siege, during which the Persians diverted the water from the canal. The war was terminated by a peace treaty in -448 between the Persians under Artaxerxes I and Athens...\"  (Peoples of the Sea, p.97:3.)"},null,null,null,null,null,null,null,null,"Nebuchadnezzar",null,{"$f":"Q1022+1","v":48},{"$f":"R1022+1","v":41}]
[null,-555,null,"",null,null,null,null,null,null,null,null,null,null,"Nebuchadnezzar",null,null,41]
[{"$f":"A1024+1","v":3366},-555,{"$f":"C1024-1","v":557},556,"Nabonidus 1st year of reign:\n\nThe next entry records an eclipse that is quite detailed:\n\n\"Month VII, the 13th, in 17 degrees on the east side all (of the moon) was covered,28 degrees maximal phase In 20 degrees it cleared from the east to north? Its eclipse was red. Behind the rump of Aries, it was eclipsed. During onset, the north wind blew, during clearing, the west wind. At 55 degrees before sunrise.”\n\nUnfortunately the king and royal year are missing. But this eclipse took place on Oct 6/7 555 BCE in the first year of Nabonidus. Although the year and name is missing, it is of the uppermost importance to notice that the text places the eclipse one saros cycle after the eclipse in the 32nd year of Nebuchadnezzar.\n\n(Ref. \"My letter to the Governing Body.htm\" from http://www.607v587.com/websitepage4.htm, and\nhttp://216.239.59.104/search?q=cache:n4y2SWWkcywJ:www.607v587.com/websitepage4.htm+%22vat+4956%22+%22found+at%22&hl=sv&lr=lang_ar|lang_en|lang_sv)",{"$f":"F994","v":"Nehemiah: \"Nehemiah's governorship lasted twelve years, from the twentieth to the thirty-second year of Artaxerxes I, and all this time he was harassed by the ill-wishers from among the Samaritans and the Arabs. (Peoples of the Sea, p. 123:5.)"},null,null,null,null,null," ",null,null,"Nebuchadnezzar",null,{"$f":"Q1024+1","v":49},42," ",null,null,null,null,null,null,null,null,null,null,null,null,null,null,{"$f":"AH1008+1","v":1},null,null,null,null,null,null,"Nebuchadnezzar",null,"45th year - I.e. the 45th Sacred Calendar Year he reigned","37th year of Jehoiachin's captivity - I.e. the 38th Sacred Calendar Year since the start of his reign",null,null,70]
[null,-554,null,"",null,null,null,null,null,null,null," ",null,null,"Nebuchadnezzar",null,null,42,null,null,null,null,null,null,null,null,null,null,null,null,null,null,null,null,null,null,null,null,null,null,"Nebuchadnezzar",null,"45th year - I.e. the 45th Sacred Calendar Year he reigned","37th year of Jehoiachin's captivity - I.e. the 38th Sacred Calendar Year since the start of his reign","A description of the end of Nebuchadnezzars 1st regnal period(!?!): \"And it happened, in the thirty-seventh year of the captivity of Jehoiachin the king of Judah, in the twelfth month, in the twenty seventh [2 Kings; \"twenty-fifth\" Jer.] of the month, Evil-merodach the king of Babylon, in the year he began to reign, lifted up the head of Jehoiachin the king of Judah out of the prison...\" 2 Kings 25:27-30. \"I saw in the visions of my head upon my bed, and behold, a watcher and an holy one came down from heaven; he cried aloud, and said thus, Hew down the tree, and cut off his branches, shake off his leaves, and scatter his fruit: let the beasts get away from under it, and the fowls from his branches: Nevertheless leave the stump of his roots in the earth, even with a band of iron and brass, in the tender grass of the field; and let it be wet with the dew of heaven, and let his portion be with the beasts in the grass of the earth: let his heart be changed from man's, and let a beast's heart be given unto him; and let seven times pass over him...\" Dan. 4:13-16 (KJV). \"This is the interpratation, O king, and this is the decree of the most High, which is come upon my lord the king: That they shall drive thee from men, and thy dwelling shall be with the beasts of the field, and they shall make thee to eat grass as oxen, and they shall wet thee with the dew of heaven, and seven times shall pass over thee, till thou know that the most High ruleth in the kingdom of men, and giveth it to whomsoever he will. And whereas they commanded to leave the stump of the tree roots; thy kingdom shall be sure unto thee, after that thou shalt have known that the heavens do rule\" Dan. 4:24-26 (KJV).  \"All this came upon the king Nebuchadnezzar. At the end [Hebr. \"towards the extremity...\" cf. (IB) and 'lamed-' (\"towards\") + Strong's #7118 \"corresp. to 7117\"; #7117 \"from 7096; a termination (lit. or fig.); also (by impl.) a portion; adv. (with prep. pref.) after\"; #7096 \"a prim. root; to cut off; (fig.) to destroy; (partially) to scrape off\" #7097 \"an extremity (used in a great variety of applications and idioms; comp. 7093)\"; #7093 \"contr. from 7112: and extremity; adv. (with prep. pref.) after\"; #7112 \"a prim. root; to chop off (lit or fig.)\"] of twelve months [Hebr. 'lunations' Strong's #3393] he walked in the palace of the kingdom of Babylon. The king spake, and said, Is not this great Babylon, that I have built for the house of the kingdom by the might of my power, and for the honour of my majesty? While the word was in the king's mouth, there fell a voice from heaven, saying, O king Nebuchadnezzar, to thee it is spoken; The kingdom is departed from thee. And they shall drive thee from men, and thy dwelling shall be with the beasts of the field: they shall make thee to eat grass as oxen, and seven times shall pass over thee, until thou know that the most High ruleth in the kingdom of men, and giveth it to whomsoever he will. The same hour was the thing fulfilled upon Nebuchadnezzar: and he was driven from men, and did eat grass as oxen, and his body was wet with the dew of heaven, till his hairs were grown like eagles' feathers, and his nails like birds' claws. And at the end of the days I Nebuchadnezzar lifted up mine eyes unto heaven, and mine understanding returned unto me, and I blessed the most High, and I praised and honoured him that liveth for ever, whose dominion is an everlasting dominion, and his kingdom is from generation to generation... At the same time my reason returned unto me; and for the glory of my kingdom, mine honour and brightness returned unto me; and my counsellors and my lords sought unto me; and I was established in my kingdom, and excellent majesty was added unto me. Now I Nebuchadnezzar praise and extol and honour the King of heaven, all whose works are truth, and his ways judgment: and those that walk in pride he is able to abase.\" Dan. 4:28-34,36-37 (KJV).",null,70]
[{"$f":"A1026+1","v":3367},-554,{"$f":"C1026-1","v":556},555,null,null,null,null,null,null,null," ",null,null,"Nebuchadnezzar",null,{"$f":"Q1026+1","v":50},43]
[null,-553,null,"",null,null,null,null,null,null,null," ",null,null,"Nebuchadnezzar",null,null,43,null,null,null,null,null,null,null,null,null,null,null,null,null,null,null,{"$f":"AH1026","v":1},null,null,null,null,null,null,null,null,null,null,"Evil-Merodach: Strong's #192 \"aleph-vav-yod-lamed mem-resh-daleth-kaph; of Chald. derivation and probably meaning soldier of Merodak; Evil-Merodak, a Babylonian king\"; Strong's #193 \"aleph-vav-lamed; from an unused root meaning to twist, i.e. (by impl. be strong; the body (as being rolled together); also powerful\"; Strong's #4781 \"mem-resh-daleth-kaph; of foreign derivation; Merodak, a Babylonian idol - Compare 4757\"; Strong's #4782 \"mem-resh-daleth-kaph-yod; of foreign derivation; Mordecai, an Israelite\"; Strong's #4757 \"mem-resh-daleth-kaph-kaph beth-lamed-aleph-daleth-nun; of foreign derivation; Merodak-Baladan, a Babylonian king - Compare 4781\"; Strong's ##4775-9 \"mem-resh-daleth\" meaning \"to rebel\", \"rebellion\", \"rebellious\"; Strong's #1081 \"beth-lamed-aleph-daleth-nun; from 1078 and 113 (contracted); Bel (is his) lord; Baladan, the name of a Babylonian prince\"; Strong's #1078 \"beth-lamed; by contraction for 1168; Bel, the Baal of the Babylonians\"; Strong's #113 \"aleph-daleth-vav-nun; from an unused root (meaning to rule); sovereign, i.e. controller (human or divine)\" Strong's #114 \"aleph-daleth-vav-nun; probably intensive for 113; powerful; Addon, apparently an Israelite\".  NOTICE> Could these references to Evil-Merodach be a reference to an event following the crowning event of the Book of Esther which occurred on the 14th of Adar, i.e. of the 12th month of the year - whereas Evil-Merodach came to power on the 25th and/or 27th of the 12th month, i.e. 11 or 13 days later?  Would it make sense, if so, that Jehoiachin was \"brought... forth out of prison... and set... above the throne of the [other] kings... in Babylon?  Was Evil-Merodach a 'saviour', a 'messiah', a 'Christ', a 'Cyrus', of Israel? What does the name Cyrus mean? Strong's #3566 \"kaph-vav-resh-shin or ((Ezra 1:1 [last time], 2) kaph-resh-shin; from the Pers; Koresh (or Cyrus), the Persian king\"; Strong's #3567 \"kaph-vav-resh-shin (Chald.); corresponding to 3566\"; Strong's #3587 \"kaph-yod; from 3554; a brand or scar\"; Strong's #3588 \"kaph-yod: a primitive particle [the full form of the prepositional prefix] indicating causal relations of all kinds, antecedent or consequent; (by implication) very widely used as a rel. conj. or adv. [as below]; often largely modified by other particles annexed\"; Strong's #3554 kaph-vav-he; a primitive root; properly to prick or penetrate; hence to blister (as smarting or eating into)\"; Strong's #7567 \"resh-shin-shin; a primitive root; to demolish\"; Strong's #7217 \"resh-aleph-shin; corresponding to 7218; the head; figuratively the sum\"; cf. also Strong's #7218-7220 each with identical spelling as 7217 and meaning also \"to shake\", \"a poisonous plant, probably the poppy (from its conspicuous head) generally poison (even of serpents)\". Remember also how the titles 'king of Babylon' and 'king of Persia' are apparently interchangable for this one king, i.e. what appears to be one king: \"Artaxerxes king of Persia\" (Ezra 4:7 KJV), \"Artaxerxes king of Babylon\" (Neh. 13:6 KJV). Cf. notes below entitled: \"NOTICE re Ezra/Nehemiah and the use of multiple names/titles\", and the one starting \"2 Kings 25:27-30; 2Chron. 36:22; Jer. 52:31; Dan. 5:11,13; & Ezra 5:12-14. \"And it happened, in the thirty-seventh year...\" !"]
[{"$f":"A1028+1","v":3368},-553,{"$f":"C1028-1","v":555},554,null,null,null,null,null,null,null," ",null,null,"Nebuchadnezzar",null,{"$f":"Q1028+1","v":51},44,null,null,null,null,null,null,null,null,null,null,null,null,null,null,null,null,"Evil-merodach (=Cyrus?=Belshazzar, son of Nebuchadnezzar), King of Babel",null,"  1st year - I.e. the 1st Sacred Calendar Year he reigned"," ",null,null,"Babylonian captivity",null,"45th year - I.e. the 45th Sacred Calendar Year he reigned","37th year of Jehoiachin's captivity - I.e. the 38th Sacred Calendar Year since the start of his reign","2 Kings 25:27-30; 2Chron. 36:22; Jer. 52:31; Dan. 5:11,13; & Ezra 5:12-14. \"And it happened, in the thirty-seventh year of the captivity of Jehoiachin the king of Judah, in the twelfth month, in the twenty seventh [2 Kings; \"twenty-fifth\" Jer.] of the month [Notice that, based upon 2 Chron. 36:9-10, the 1st year of the reign of king Jehoichain CANNOT coincide with the 1st year of his captivity!], Evil-merodach the king of Babylon, in the year he began to reign, lifted up the head of Jehoiachin the king of Judah out of the prison...\" 2 Kings 25:27-30.  In Dan. 5:11,13 we find Nebuchadnezzar being referred to as the father of Belshazzar. Then in Ezra 5:12-14 we find \"because our fathers had provoked to wrath the God of Heaven, He gave them into the hand of Nebuchadnezzar the king of Babylon, the Chaldean, and he tore down this house, and he exiled its people to Babylon. But in the first year of Cyrus the king of Babylon, king Cyrus gave an order to build this house of God. And also the vessels of gold and silver from the house of God, which Nebuchadnezzar took out of the temple in Jerusalem...\" (IB).  Thus,  1. Cyrus is named by Ezra immediadely after Nebuchadnezzar, AND  2. Cyrus is referred to as the KING OF BABYLON, and  3. (NOTICE Cyrus and Belshazzar being referenced in a way which may indicate they are one and the same!) \"and in the reign of Cyrus the Persian. In the first year of Belshazzar king of Babylon...\" Dan. 6:29-7:1 (KJV), or (!) more likely per the Hebrew text \"And in the reign of Cyrus the Persian, in the first year of Belshazzar king of Babylon...\" Dan. 6:29-7:1 (IB), and  4. Cyrus is having the same attitude to the Temple, as Belshazzar had to the King of Judah per 2 Kings 25:27-30 as related above.  \"And in the first year of Cyrus king of Persia, so that the word of Jehovah by the mouth of Jeremiah might be fulfilled, Jehovah stirred up the spirit of Cyrus king of Persia, and he made a proclamation in all his kingdom, and also in writing, saying, So says Cyrus king of Persia, Jehovah God of heaven has given me all the kingdoms of the earth. And He has commanded me to build Him a house at Jerusalem, which is in Judah...\" Ezra 1:1-2 (IB). \"And when the seventh month had come, and the sons of Israel were in the cities, the people assembled as one man to Jerusalem. Then Jeshua... built the altar of the God of Israel... as it is written in the law of Moses the man of God. And they set the altar on its bases... And he offered burnt offerings on it to Jehovah... They also performed the Feast of Booths... From the first day of the seventh month they began to offer burnt offerings to Jehovah. But the foundation of the temple of Jehovah was not laid.\" Ezra 3:1-6 (IB).  \"Now in the second year of their coming to the house of God at Jerusalem, in the second month [NOTICE> same month as Solomon started building the temple per 1 Kings 6:1 & 2 Chron. 3:2!], Zerubbabel...began. to oversee the work of the house of Jehovah... And when the builders laid the foundation of the temple of Jehovah... to praise Jehovah, according to the ordinance of David king of Israel...\" Ezra 3:8-10 (IB).  Compare also the similar wording in 2Chron. 36:22. NOTICE & CONCLUSION: If Cyrus the Persian is the same as Belshazzar, the son of Nebuchadnezzar king of Babylon, and if Darius is the son of Ahasuerus [Dan. 9:1], and if Ahasuerus [Esther 11:2 Catholic edition footnote] is the same as Artaxerxes king of Persia [Ezra 4:7], THEN Ahasuerus=Artaxerxes=Cyrus=Belshazzar and the decree issued in the 1st year of king Cyrus is issued by the same king as the decrees issued in the 7th and 20th years of Artaxerxes, which is then also the same king Ahasueros as issued in his 12th year of reign the decrees initiated by Haman and Mordecai.",null,70]
[null,-552,null,"",null,null,null,null,null,null,null," ",null,null,"Nebuchadnezzar",null,null,44,null,null,null,null,null,null,null,null,null,null,null,null,null,null,null,{"$f":"AH1029+1","v":2},"Evil-merodach (=Cyrus?=Belshazzar, son of Nebuchadnezzar), King of Babel",null,"  2nd year - I.e. the 2nd Sacred Calendar Year he reigned"," ",null,null,"Babylonian captivity",null,"46th year - I.e. the 46th Sacred Calendar Year he reigned"," ","NOTICE re Ezra/Nehemiah and the use of multiple names/titles: The use of multiple names for what seems from the context to refer unto one and the same king: \"And hired counsellors against them, to frustrate their purpose, all the days of Cyrus king of Persia, even until the reign of Darius king of Persia [NOTICE NO intermediate kings between Cyrus and Darius named!]. And in the reign of Ahasuerus [another title for Cyrus?!], in the beginning of his reign [Whose reign had just begun? 1st year = 3-5 days only, i.e. starting the 27 day of the 12 month. 2nd year of Cyrus & 1st year in Jerusalem: Israel gathered in Jerusalem, kept the feasts, set the altar upon its bases (Ezra 3:1-6); 2nd year in Jerusalem, 2nd month: \"began Zerubbabel...to set forward the work of the house of the Lord... laid the foundation of the temple\" (Ezra 3:8,10); i.e. within 14 month of the beginning of Cyrus' rule], wrote they unto him [i.e. Ahasuerus (= Cyrus?!!) - Ahasuerus is a title like Pharaoh or Ceasar] an accusation against the inhabitants of Judah and Jerusalem. And in the days of Artaxerxes [yet another title used for Cyrus/Ahasuerus?!!] wrote Bishlam, Mithredath, Tabeel, and the rest of their companions, unto Artaxerxes king of Persia [of Persia OR of Babylonia, OR are the names interchangeable? Compare Ezra 4:7 with Neh. 13:6 remembering also which of Persia and Babylonia came first!]... Be it known now unto the king, that the Jews which came up from thee [Who gave the decree?! Artaxerxes, Ahasuerus, or Cyrus? From whom did they come? From Cyrus OR from Ahasuerus OR from Artaxerxes OR are they all one and the same?!!! From where? Babylon! Cf. Ezra 1:11 & 2:1!] to us are come unto Jerusalem... [Says Artazerxes (=Cyrus?!!)] Give ye now commandment to cause these men to cease, and that this city be not builded, until another [Did the king realize he was giving a temporary holding/stop order thus countering/changing his prior decree, to give him time for f;rther considering the matter?!!] commandment shall be given from me... Then ceased the work of the house of god which is at Jerusalem. So it ceased unto the second year of the reign of Darius king of Persia. Then the prophets, Haggai the prophet, and Zechariah the son of Iddo, prophesied unto the Jews that were in Judah and Jerusalem in the name of the God of Israel, even unto them. Then rose up Zerubbabel the son of Shealtiel, and Jeshua the son of Jozadak, and began to build the house of God which is at Jerusalem: and with them were the prophets of God helping them... [Zerubbabel recapping:] But in the first year of Cyrus the king of Babylon the same king Cyrus made a decree to build this house of God. And the vessels also of gold and silver of the house of God, which Nebuchadnezzar took out of the temple that was in Jerusalem, and brought them into the temple of Babylon, those did Cyrus the king take out of the temple of Babylon, and they were delivered unto one, whose name was Sheshbazzar, whom he had made governor; And said unto him, Take these vessels, go, carry them into the temple that is in Jerusalem, and let the house of God be builded in his place. Then came the same Sheshbazzar, and laid the foundation of the house of God which is in Jerusalem: and since that time even until now hath it been in building, and yet it is not finished. Then Darius the king made a decree, and search was made in the house of the rolls, where the treasures were laid up in Babylon... In the first year of Cyrus the king the same Cyrus the king made a decree concerning the house of God at Jerusalem, Let the house be builded...\" Ezra 4:5"]
[{"$f":"A1030+1","v":3369},-552,554,{"$f":"IF(C1032<>\"\",IF(C1032=C1033,\"\",IF(C1032=D1031,IF(C1032=C1033+1,C1032-1,\"\"),C1032-1)),\"\")","v":553},null,null,null,null,null,null,null," ",null,null,"Nebuchadnezzar",null,{"$f":"Q1030+1","v":52},45,null,null,null,null,null,null,null,null,null,null,null,null,null,null,null,null,"Evil-merodach (=Cyrus?=Belshazzar, son of Nebuchadnezzar), King of Babel",null,"  2nd year - I.e. the 2nd Sacred Calendar Year he reigned"," ",null,null,"Babylonian captivity",null,"46th year - I.e. the 46th Sacred Calendar Year he reigned"," ","\"And when the seventh month was come, and the children of Israel were in the cities, the people gathered themselves together as one man to Jerusalem. Then stood up Jeshua the son of Jozadak, and his brethren the priests, and Zerubbabel the son of Shealtiel, and his brethren, and builded the altar of the God of Israel, to offer burnt offerings thereon, as it is written in the law of Moses the man of God... They kept also the feast of tabernacles, as it is written, and offered the daily burnt offerings by number, according to the custom, as the duty of every day required; And afterward offered the continual burnt offering, both of the new moons, and of all the set feasts of the Lord that were consecrated, and of every one that willingly offered a freewill offering unto the Lord. From the first day of the seventh month began they to offer burnt offerings unto the Lord. But the foundation of the temple of the Lord was not yet laid\" Ezra 3:1-2,4-6 (KJV)."]
[null,-551,null,"",null,null,null,null,null,null,null," ",null,null,"Nebuchadnezzar",null,null,null," ",null,null,null,null,null,null,null,null,null,null,null,null,null,null,{"$f":"AH1031+1","v":3},"Evil-merodach (=Cyrus?=Belshazzar, son of Nebuchadnezzar), King of Babel",null,"  3rd year - I.e. the 3rd Sacred Calendar Year he reigned"," ",null,null,"Babylonian captivity",null,"47th year - I.e. the 47th Sacred Calendar Year he reigned"," ","\"Now in the second year of their coming to the house of God at Jerusalem, in the second month, Zerubbabel...began. to oversee the work of the house of Jehovah... And when the builders laid the foundation of the temple of Jehovah... to praise Jehovah, according to the ordinance of David king of Israel...\" Ezra 3:8-10 (IB). [NOTICE> same month as Solomon started building the temple per 1 Kings 6:1 & 2 Chron. 3:2!]. (Cf. note above pertaining to Cyrus' first year!) "]
[{"$f":"A1032+1","v":3370},-551,553,552,null,null,null,null,null,null,null," ",null,0,"Nabonidus",null,{"$f":"Q1032+1","v":53},null,null,null,null,null,null,null,null,null,null,null,null,null,null,null,null,null,"Evil-merodach (=Cyrus?=Belshazzar, son of Nebuchadnezzar), King of Babel",null,"  3rd year - I.e. the 3rd Sacred Calendar Year he reigned"," ",null,null,"Babylonian captivity",null,"47th year - I.e. the 47th Sacred Calendar Year he reigned"," ","Dan. 8:1; 10:1. \"In the third year of the reign of king Belshazzar, a vision appeared to me, Daniel, after that which appeared to me at the first\" Dan. 8:1 (IB). \"In the third year of Cyrus king of Persia a thing was revealed unto Daniel, whose name was called Belteshazzar\" Dan. 10:1.  Are king Belshazzar and king Cyrus one and the same? Compare note under 1st year above!  NOTICE> \"Now the queen... spake and said... Forasmuch as an excellent spirit, and knowledge, and understanding, interpreting of dreams, and shewing of hard sentences, and dissolving of doubts, were found in the same Daniel, whom the king named Belteshazzar: now let Daniel be called... Then was Daniel brought in before the king. And the king spake and said unto Daniel, Art thou that Daniel...\" Dan. 5:10,12-13 (KJV).  There are multiple references to Daniel being called Belteshazzar while under the reign of Nebuchadnezzar, BUT only two others, one being the one quoted above, the other being \"In the third year of Cyrus king of Persia a thing was revealed unto Daniel, whose name was called Belteshazzar\" Dan. 10:1 (KJV). None under Darius.  Thus it would seem that this is a further indication that Cyrus=Belshazzar, while not =Darius. Notice also \"And Daniel continued even unto the first year of king Cyrus\" Dan. 1:21 (KJV) It is quite clear from Dan. 5:10-16 that Belshazzar did not know Daniel until his very last."]
[null,-550,null,"",null,null,null,null,null,null,null," ",null,0,"Nabonidus",null,null,null," ",null,null,null,null,null,null,null,null,null,null,null,null,null,null,{"$f":"AH1033+1","v":4},"Evil-merodach (=Cyrus?=Belshazzar, son of Nebuchadnezzar), King of Babel",null,"  4th year - I.e. the 4th Sacred Calendar Year he reigned"," ",null,null,"Babylonian captivity",null,"48th year - I.e. the 48th Sacred Calendar Year he reigned"," "]
[{"$f":"A1034+1","v":3371},-550,552,551,null,null,null,null,null,null,null," ",null,{"$f":"N1034+1","v":1},"Nabonidus",null,{"$f":"Q1034+1","v":54},null,null,null,null,null,null,null,null,null,null,null,null,null,null,null,null,null,"Evil-merodach (=Cyrus?=Belshazzar, son of Nebuchadnezzar), King of Babel",null,"  4th year - I.e. the 4th Sacred Calendar Year he reigned"," ",null,null,"Babylonian captivity",null,"48th year - I.e. the 48th Sacred Calendar Year he reigned"," "," "]
[null,-549,null,"",null,null,null,null,null,null,null," ",null,{"$f":"N1035+1","v":1},"Nabonidus",null,null,null," ",null,null,null,null,null,null,null,null,null,null,null,null,null,null,{"$f":"AH1035+1","v":5},"Evil-merodach (=Cyrus?=Belshazzar, son of Nebuchadnezzar), King of Babel",null,"  5th year - I.e. the 5th Sacred Calendar Year he reigned"," ",null,null,"Babylonian captivity",null,"49th year - I.e. the 49th Sacred Calendar Year he reigned"," "]
[{"$f":"A1036+1","v":3372},-549,551,550,null,null,null,null,null,null,null," ",null,2,"Nabonidus",null,{"$f":"Q1036+1","v":55},null,null,null,null,null,null,null,null,null,null,null,null,null,null,null,null,null,"Evil-merodach (=Cyrus?=Belshazzar, son of Nebuchadnezzar), King of Babel",null,"  5th year - I.e. the 5th Sacred Calendar Year he reigned"," ",null,null,"Babylonian captivity",null,"49th year - I.e. the 49th Sacred Calendar Year he reigned"," "," "]
[null,-548,null,"",null,null,null,null,null,null,null," ",null,2,"Nabonidus",null,null,null," ",null,null,null,null,null,null,null,null,null,null,null,null,null,null,{"$f":"AH1037+1","v":6},"Evil-merodach (=Cyrus?=Belshazzar, son of Nebuchadnezzar), King of Babel",null,"  6th year - I.e. the 6th Sacred Calendar Year he reigned"," ",null,null,"Babylonian captivity",null,"50th year - I.e. the 50th Sacred Calendar Year he reigned"," "]
[{"$f":"A1038+1","v":3373},-548,550,549,null,null,null,null,null,null,null," ",null,3,"Nabonidus/Belshazzar",null,{"$f":"Q1038+1","v":56},0,null,null,null,null,null,null,null,null,null,null,null,null,null,null,null,null,"Evil-merodach (=Cyrus?=Belshazzar, son of Nebuchadnezzar), King of Babel",null,"  6th year - I.e. the 6th Sacred Calendar Year he reigned"," ",null,null,"Babylonian captivity",null,"50th year - I.e. the 50th Sacred Calendar Year he reigned"," "," "]
[null,-547,null,"",null,null,null,null,null,null,null," ",null,3,"Nabonidus/Belshazzar",null,null,0," ",null,null,null,null,null,null,null,null,null,null,null,null,null,null,{"$f":"AH1039+1","v":7},"Evil-merodach (=Cyrus?=Belshazzar, son of Nebuchadnezzar), King of Babel",null,"  7th year - I.e. the 7th Sacred Calendar Year he reigned"," ",null,null,"Babylonian captivity",null,"51st year - I.e. the 51st Sacred Calendar Year he reigned"," ","\"And he [Ezra] came to Jerusalem in the fifth month, which was in the seventh year of the king [Artaxerxes king of Persia]. For upon the first day of the first month began he to go up from Babylon, and on the first day of the fifth month came he to Jerusalem, according to the good hand of his God upon him\" Ezra 7:8-9 (KJV). NOTICE> This is the 7th, NOT the 1st year of Artaxerxes, when they arrived in Jerusalem to implement the Decree [of Cyrus] of seven (7) years prior!  [However the First Day in the Fifth Moon of 1844 A.D. corresponds to the Day described 1 Av, 5604, or July 17, 1844... NOT October 23, 1844!  ---  1 Av 5603 is July 28, 1843  --- October 22, 1843 = 28 Tishrei (7th Moon), 5604  ---  October 22, 1844 = 9 Chesvan (8th Moon), 5605.  Ref.: http://www.candlelightingtimes.org/calendar/cal.htm . NOTICE> Considering the fact that October 22, 1844 is supposed be the Day of Atonement, i.e. the 10th Day of the Seventh Month, it seems we have a discrepancy here.  Some reference is in error!]"]
[{"$f":"A1040+1","v":3374},-547,549,548,null,"\"-445 & Nekht-nebef = Psamshek (meaning \"the negus-vendor\", p.96:2) = King Psammetich = a governor in the service of Arsames, the satrap under the Persian Great King… of Kings\" p.94:5\": Nekht-nebef generally discussed in (Peoples of the Sea, p.93:5-98:4.) \"In the year -445, \"King Psammetich\" sent grain by boats to the people of Athens... \"King Psammetich\" is nobody but Psamshek, governor under Arsames... Psamshek sending grain to Athens in -445...\"  (Peoples of the Sea, p.97:2,3.)",null,null,null,null,null," ",null,4,"Nabonidus/Belshazzar",null,{"$f":"Q1040+1","v":57},{"$f":"R1040+1","v":1},null,null,null,null,null,null,null,null,null,null,null,null,null,null,null,null,"Evil-merodach (=Cyrus?=Belshazzar, son of Nebuchadnezzar), King of Babel",null,"  7th year - I.e. the 7th Sacred Calendar Year he reigned"," ",null,null,"Babylonian captivity",null,"51st year - I.e. the 51st Sacred Calendar Year he reigned"," "," "]
[null,-546,null,"",null,"Nehemiah to Jerusalem in -445: \"Much has been written on the subject of the sequence and the preferred but not uncontested view has it that Nehemiah came to Jerusalem in the twentieth year of Artaxerxes I (-445) and stayed there for a number of years, returning to Persia and coming once more for a short stay in the thirty-second year of the same king (Nehemiah 13:6).  (Peoples of the Sea, p. 151:1.)",null,null,null,null,null," ",null,4,"Nabonidus/Belshazzar",null,null,{"$f":"R1041+1","v":1}," ",null,null,null,null,null,null,null,null,null,null,null,null,null,null,{"$f":"AH1041+1","v":8},"Evil-merodach (=Cyrus?=Belshazzar, son of Nebuchadnezzar), King of Babel",null,"  8th year - I.e. the 8th Sacred Calendar Year he reigned"," ",null,null,"Babylonian captivity",null,"52nd year - I.e. the 52nd Sacred Calendar Year he reigned"," "]
[{"$f":"A1042+1","v":3375},-546,548,547,null,null,null,null,null,null,null," ",null,5,"Nabonidus/Belshazzar",null,{"$f":"Q1042+1","v":58},2,null,null,null,null,null,null,null,null,null,null,null,null,null,null,null,null,"Evil-merodach (=Cyrus?=Belshazzar, son of Nebuchadnezzar), King of Babel",null,"  8th year - I.e. the 8th Sacred Calendar Year he reigned"," ",null,null,"Babylonian captivity",null,"52nd year - I.e. the 52nd Sacred Calendar Year he reigned"," ","At the end of this 8th Year of Evil-merodach: 7 full years completed from the coronation of Evil-merodach.  Thus end of Nebuchadnezzar's \"seven times shall pass\"?  Thus Dan. 4:36 \"At the same time my reason returned unto me; and for the glory of my kingdom, mine honour and brightness returned unto me; and my counsellors and my lords sought unto me; and I was established in my kingdom, and excellent majesty was added unto me\" (KJV). Does Nebuchadnezzar reign under a new name at this point? Perhaps as Artaxerxes? Studying the Hebrew word Artaxerxes as rendered in Ezra 7:1 I find it interesting that the spelling 'aleph-resh-tav-chesh-shin-samech-tav-aleph' can be divided into at least three significant words: 1. 'aleph-resh',  2. 'tav-chesh-shin', and  3. 'sin-tav-aleph'.  Thus Strong's #783 \"Artachshashta; of for. or.; Artachshasta (or Artaxerxes), a title (rather than name) of several Pers. kings\"; #690 \"'aleph-resh-aleph'; prob. for 738; lion; Ara, an Israelite\"; #738 \"'aleph-resh-yod'; from 717 (in the sense of violence); a lion\"; #717 \"'aleph-resh-he'; a prim. root; to pluck\"; #8476 \"'tav-chesh-shin'; prob. of for. der.; a (clean) animal with fur, probably a species of antelope\"; and for 'samech-tav-aleph' ##5638-44: #5638 \"samech-tav-vav; from an unused root meaning to hide; winter (as the dark season)\"; #5639 \"samech-tav-vav-resh; from 5641; hidden; Sethur, an Israelite\"; #5640 \"samech-tav-mem; a prim. root; to stop up; by impl. to repair; fig. to keep secret\"; #5641 \"samech-tav-resh; a prim. root; to hide (by covering), lit. or fig.\"; #5642 \"samech-tav-resh; corresp. to 5641; to conceal; fig. to demolish\"; #5643 \"samech-tav-resh; from 5641; a cover (in a good or a bad, a lit. or a fig. sense)\"; #5644 \"samech-tav-resh-yod; from 5643; protective; Sithri, an Israelite\".  To me there is much significance in these meanings, e.g. in terms of Daniels dreams, i.e. Dan. 7:4 \"The first was like a lion, and had eagle's wings: I beheld till the wings thereof were plucked...\" Cf. especially the words 'lion' and 'plucked', but also #8476 \"...antelope...\", i.e. a clean deer-like animal which seem almost to fly as with wings through the air. The latter is reminiscent also of the ram and of the he-goat found in Dan. 8:3-4 & 5-7, e.g. \"a he goat... [which] touched not the ground\", and the Babylonian/Governmental/Luciferian characteristic of hiding and codifying everything for the enslavement of the people.  Also Nebuchadnezzar's 7 years in hiding, and his apparently hidden comeback as recorded in Dan. 4:34-37."]
[null,-545,null,"",null,null,null,null,null,null,null," ",null,5,"Nabonidus/Belshazzar",null,null,2," ",null,null,null,null,null,null,null,null,null,null,null,null,null,null,{"$f":"AH1043+1","v":9},"Evil-merodach (=Cyrus?=Belshazzar, son of Nebuchadnezzar), King of Babel",null,"  9th year - I.e. the 9th Sacred Calendar Year he reigned"," ",null,null,"Babylonian captivity",null,"53rd year - I.e. the 53rd Sacred Calendar Year he reigned"," "]
[{"$f":"A1044+1","v":3376},-545,547,546,null,null,"Cambyses in Egypt: \"But only fourteen years after the fall of Babylon, and but a few months after Amasis' death, the land of Egypt with its many capitals and temples fell before Cambyses, son of Cyrus… Of the long reign of Amasis only very few objects attributable to him were found, and no monumental remains whatsoever - though from Herodutus we know of great buildings erected by him. But the reason for this is known from Cambyses himself. Cambyses claimed that his mother had been a daughter of Merneptah (Apries) whom Cyrus had married. Thus he considered himself a legitimate pharaoh by thirth and inheritance, and saw in Amasis a lawless occupant of the throne of Egypt, or a criminal usurper. He ordered destroyed all that carried the name of Amasis, and if not all was destroyed, all cartouches of Amasis on monuments were erased...\" (Ramses II and His Time, p. 204:4-5).",null,null,null,null," ",null,6,"Nabonidus/Belshazzar",null,{"$f":"Q1044+1","v":59},3,"Dan. 8:1; 10:1. \"In the third year of the reign of king Belshazzar, a vision appeared to me, Daniel, after that which appeared to me at the first\" Dan. 8:1 (IB). \"In the third year of Cyrus king of Persia a thing was revealed unto Daniel, whose name was called Belteshazzar\" Dan. 10:1.  Are king Belshazzar and king Cyrus one and the same? Compare note under 1st year above!  NOTICE> \"Now the queen... spake and said... Forasmuch as an excellent spirit, and knowledge, and understanding, interpreting of dreams, and shewing of hard sentences, and dissolving of doubts, were found in the same Daniel, whom the king named Belteshazzar: now let Daniel be called... Then was Daniel brought in before the king. And the king spake and said unto Daniel, Art thou that Daniel...\" Dan. 5:10,12-13 (KJV).  There are multiple references to Daniel being called Belteshazzar while under the reign of Nebuchadnezzar, BUT only two others, one being the one quoted above, the other being \"In the third year of Cyrus king of Persia a thing was revealed unto Daniel, whose name was called Belteshazzar\" Dan. 10:1 (KJV). None under Darius.  Thus it would seem that this is a further indication that Cyrus=Belshazzar, while not necessarily =Darius. Notice also \"And Daniel continued even unto the first year of king Cyrus\" Dan. 1:21 (KJV) It is quite clear from Dan. 5:10-16 that Belshazzar did not know Daniel prior to being \"slain\" or [temporarily?] \"cut off\".",null,null,null,null,null,null,null,null,null,null,null,null,null,null,null,"Evil-merodach (=Cyrus?=Belshazzar, son of Nebuchadnezzar), King of Babel",null,"  9th year - I.e. the 9th Sacred Calendar Year he reigned"," ",null,null,"Babylonian captivity",null,"53rd year - I.e. the 53rd Sacred Calendar Year he reigned"," "," "]
[null,-544,null,"",null,null,null,null,null,null,null," ",null,6,"Nabonidus/Belshazzar",null,null,3,null,null,null,null,null,null,null,null,null,null,null,null,null,null,null,{"$f":"AH1045+1","v":10},"Evil-merodach (=Cyrus?=Belshazzar, son of Nebuchadnezzar), King of Babel",null,"10th year - I.e. the 10th Sacred Calendar Year he reigned"," ",null,null,"Babylonian captivity",null,"54th year - I.e. the 54th Sacred Calendar Year he reigned"," "]
[{"$f":"A1046+1","v":3377},-544,546,545,null,null,null,null,null,null,null," ",null,7,"Nabonidus/Belshazzar",null,{"$f":"Q1046+1","v":60},4,null,null,null,null,null,null,null,null,null,null,null,null,null,null,null,null,"Evil-merodach (=Cyrus?=Belshazzar, son of Nebuchadnezzar), King of Babel",null,"10th year - I.e. the 10th Sacred Calendar Year he reigned"," ",null,null,"Babylonian captivity",null,"54th year - I.e. the 54th Sacred Calendar Year he reigned"," "," "]
[null,-543,null,"",null,null,null,null,null,null,null," ",null,7,"Nabonidus/Belshazzar",null,null,4," ",null,null,null,null,null,null,null,null,null,null,null,null,null,null,{"$f":"AH1047+1","v":11},"Evil-merodach (=Cyrus?=Belshazzar, son of Nebuchadnezzar), King of Babel",null,"11th year - I.e. the 11th Sacred Calendar Year he reigned"," ",null,null,"Babylonian captivity",null,"55th year - I.e. the 55th Sacred Calendar Year he reigned"," "]
[{"$f":"A1048+1","v":3378},-543,545,544,null,null,null,null,null,null,null," ",null,8,"Nabonidus/Belshazzar",null,{"$f":"Q1048+1","v":61},5,null,null,null,null,null,null,null,null,null,null,null,null,null,null,null,null,"Evil-merodach (=Cyrus?=Belshazzar, son of Nebuchadnezzar), King of Babel",null,"11th year - I.e. the 11th Sacred Calendar Year he reigned"," ",null,null,"Babylonian captivity",null,"55th year - I.e. the 55th Sacred Calendar Year he reigned"," "," "]
[null,-542,null,"",null,null,null,null,null,null,null," ",null,8,"Nabonidus/Belshazzar",null,null,5," ",null,null,null,null,null,null,null,null,null,null,null,null,null,null,{"$f":"AH1049+1","v":12},"Evil-merodach (=Cyrus?=Belshazzar, son of Nebuchadnezzar), King of Babel",null,"12th year - I.e. the 12th Sacred Calendar Year he reigned"," ",null,null,"Babylonian captivity",null,"56th year - I.e. the 56th Sacred Calendar Year he reigned"," "]
[{"$f":"A1050+1","v":3379},-542,544,543,null,null,null,null,null,null,null," ",null,9,"Nabonidus/Belshazzar",null,{"$f":"Q1050+1","v":62},6,null,null,null,null,null,null,null,null,null,null,null,null,null,null,null,null,"Evil-merodach (=Cyrus?=Belshazzar, son of Nebuchadnezzar), King of Babel",null,"12th year - I.e. the 12th Sacred Calendar Year he reigned"," ",null,null,"Babylonian captivity",null,"56th year - I.e. the 56th Sacred Calendar Year he reigned"," "," "]
[null,-541,null,"",null,null,null,null,null,null,null," ",null,9,"Nabonidus/Belshazzar",null,null,6," ",null,null,null,null,null,null,null,null,null,null,null,null,null,null,{"$f":"AH1051+1","v":13},"Evil-merodach (=Cyrus?=Belshazzar, son of Nebuchadnezzar), King of Babel",null,"13th year - I.e. the 13th Sacred Calendar Year he reigned"," ",null,null,"Babylonian captivity",null,"57th year - I.e. the 57th Sacred Calendar Year he reigned"," "]
[{"$f":"A1052+1","v":3380},-541,543,542,null,null,null,null,null,null,null," ",null,10,"Nabonidus/Belshazzar",null,{"$f":"Q1052+1","v":63},7,null,null,null,null,null,null,null,null,null,null,null,null,null,null,null,null,"Evil-merodach (=Cyrus?=Belshazzar, son of Nebuchadnezzar), King of Babel",null,"13th year - I.e. the 13th Sacred Calendar Year he reigned"," ",null,null,"Babylonian captivity",null,"57th year - I.e. the 57th Sacred Calendar Year he reigned"," "," "]
[null,-540,null,"",null,null,null,null,null,null,null," ",null,10,"Nabonidus/Belshazzar",null,null,7,null,null,null,null,null,null,null,null,null,null,null,null,null,null,null,{"$f":"AH1053+1","v":14},"Evil-merodach (=Cyrus?=Belshazzar, son of Nebuchadnezzar), King of Babel",null,"14th year - I.e. the 14th Sacred Calendar Year he reigned"," ",null,null,"Babylonian captivity",null,"58th year - I.e. the 58th Sacred Calendar Year he reigned"," "]
[{"$f":"A1054+1","v":3381},-540,542,541,null,null,null,null,null,null,null," ",null,11,"Nabonidus/Belshazzar",null,{"$f":"Q1054+1","v":64},8,null,null,null,null,null,null,null,null,null,null,null,null,null,null,null,null,"Evil-merodach (=Cyrus?=Belshazzar, son of Nebuchadnezzar), King of Babel",null,"14th year - I.e. the 14th Sacred Calendar Year he reigned"," ",null,null,"Babylonian captivity",null,"58th year - I.e. the 58th Sacred Calendar Year he reigned"," "," "]
[null,-539,null,"",null,null,null,null,null,null,null," ",null,11,"Nabonidus/Belshazzar",null,null,8,null,null,null,null,null,null,null,null,null,null,null,null,null,null,null,{"$f":"AH1055+1","v":15},"Evil-merodach (=Cyrus?=Belshazzar, son of Nebuchadnezzar), King of Babel",null,"15th year - I.e. the 15th Sacred Calendar Year he reigned"," ",null,null,"Babylonian captivity",null,"59th year - I.e. the 59th Sacred Calendar Year he reigned"," "]
[{"$f":"A1056+1","v":3382},-539,541,540,null,{"$f":"F837","v":"Fall of Babylon: \"…following the fall of Babylon, stormed by the Persians in -538, small groups returned, one of them led, a hundred or more years later, by Ezra himself.\"  (Peoples of the Sea, p. 149:2.)"},null,null,null,null,null," ",null,12,"Nabonidus/Belshazzar",null,{"$f":"Q1056+1","v":65},9,null,null,null,null,null,null,null,null,null,null,null,null,null,null,null,null,"Evil-merodach (=Cyrus?=Belshazzar, son of Nebuchadnezzar), King of Babel",null,"15th year - I.e. the 15th Sacred Calendar Year he reigned"," ",null,null,"Babylonian captivity",null,"59th year - I.e. the 59th Sacred Calendar Year he reigned"," "," "]
[null,-538,null,"",null,null,null,null,null,null,null," ",null,12,"Nabonidus/Belshazzar",null,null,9,null,null,null,null,null,null,null,null,null,null,null,null,null,null,null,{"$f":"AH1057+1","v":16},"Evil-merodach (=Cyrus?=Belshazzar, son of Nebuchadnezzar), King of Babel",null,"16th year - I.e. the 16th Sacred Calendar Year he reigned"," ",null,null,"Babylonian captivity",null,"60th year - I.e. the 60th Sacred Calendar Year he reigned"," "]
[{"$f":"A1058+1","v":3383},-538,540,539,null,null,null,null,null,null,null," ",null,13,"Nabonidus/Belshazzar",null,{"$f":"Q1058+1","v":66},10,null,null,null,null,null,null,null,null,null,null,null,null,null,null,null,null,"Evil-merodach (=Cyrus?=Belshazzar, son of Nebuchadnezzar), King of Babel",null,"16th year - I.e. the 16th Sacred Calendar Year he reigned"," ",null,null,"Babylonian captivity",null,"60th year - I.e. the 60th Sacred Calendar Year he reigned"," "," "]
[null,{"$f":"B1059+1","v":-537},null,"",null,null,null,null,null,null,null," ",null,13,"Nabonidus/Belshazzar",null,null,10," ",null,null,null,null,null,null,null,null,null,null,null,null,null,null,{"$f":"AH1059+1","v":17},"Evil-merodach (=Cyrus?=Belshazzar, son of Nebuchadnezzar), King of Babel",null,"17th year - I.e. the 17th Sacred Calendar Year he reigned"," ",null,null,"Babylonian captivity",null,"61st year - I.e. the 61st Sacred Calendar Year he reigned"," "]
[{"$f":"A1060+1","v":3384},-537,539,538,null,null,null,null,null,null,null," ",null,14,"Nabonidus/Belshazzar",null,{"$f":"Q1060+1","v":67},11,null,null,null,null,null,null,null,null,null,null,null,null,null,null,null,null,"Evil-merodach (=Cyrus?=Belshazzar, son of Nebuchadnezzar), King of Babel",null,"17th year - I.e. the 17th Sacred Calendar Year he reigned"," ",null,null,"Babylonian captivity",null,"61st year - I.e. the 61st Sacred Calendar Year he reigned"," "," "]
[null,-536,null,"",null,null,null,null,null,null,null," ",null,14,"Nabonidus/Belshazzar",null,null,11," ",null,null,null,null,null,null,null,null,null,null,null,null,null,null,{"$f":"AH1061+1","v":18},"Evil-merodach (=Cyrus?=Belshazzar, son of Nebuchadnezzar), King of Babel",null,"18th year - I.e. the 18th Sacred Calendar Year he reigned"," ",null,null,"Babylonian captivity",null,"62nd year - I.e. the 62nd Sacred Calendar Year he reigned"," "]
[{"$f":"A1062+1","v":3385},-536,538,537,null,null,null,null,null,null,null," ",null,15,"Nabonidus/Belshazzar",null,{"$f":"Q1062+1","v":68},12,null,null,null,null,null,null,null,null,null,null,null,null,null,null,null,null,"Evil-merodach (=Cyrus?=Belshazzar, son of Nebuchadnezzar), King of Babel",null,"18th year - I.e. the 18th Sacred Calendar Year he reigned"," ",null,null,"Babylonian captivity",null,"62nd year - I.e. the 62nd Sacred Calendar Year he reigned"," "," "]
[null,-535,null,"",null,null,null,null,null,null,null," ",null,15,"Nabonidus/Belshazzar",null,null,12," ",null,null,null,null,null,null,null,null,null,null,null,null,null,null,{"$f":"AH1063+1","v":19},"Evil-merodach (=Cyrus?=Belshazzar, son of Nebuchadnezzar), King of Babel",null,"19th year - I.e. the 19th Sacred Calendar Year he reigned"," ",null,null,"Babylonian captivity",null,"63rd year - I.e. the 63rd Sacred Calendar Year he reigned"," "]
[{"$f":"A1064+1","v":3386},-535,537,536,null,null,null,null,null,null,null," ",null,16,"Nabonidus/Belshazzar",null,{"$f":"Q1064+1","v":69},13,null,null,null,null,null,null,null,null,null,null,null,null,null,null,null,null,"Evil-merodach (=Cyrus?=Belshazzar, son of Nebuchadnezzar), King of Babel",null,"19th year - I.e. the 19th Sacred Calendar Year he reigned"," ",null,null,"Babylonian captivity",null,"63rd year - I.e. the 63rd Sacred Calendar Year he reigned"," "," "]
[null,-534,null,"",null,null,null,null,null,null,null," ",null,16,"Nabonidus/Belshazzar",null,null,13," ",null,null,null,null,null,null,null,null,null,null,null,null,null,null,{"$f":"AH1065+1","v":20},"Evil-merodach (=Cyrus?=Belshazzar, son of Nebuchadnezzar), King of Babel",null,"20th year - I.e. the 20th Sacred Calendar Year he reigned"," ",null,null,"Babylonian captivity",null,"64th year - I.e. the 64th Sacred Calendar Year he reigned"," ","\"And it came to pass in the month Nisan, in the twentieth year of Artaxerxes the king… Then the king said unto me, For what dost thou make request? So I prayed to the God of heaven. And I said unto the king, If it please the king, and if thy servant have found favour in thy sight, that thou wouldest send me unto Judah, unto the city of my fathers' sepulchres, that I may build it... So it pleased the king to send me; and I set him a time.  Moreover I said unto the king, If it please the king, let letters be given me to the governors beyond the river, that they may convey me over till I come into Judah... Then i came to the governors beyond the river, and gave them the king's letters.... So I came to Jerusalem, and was there three days... Then Eliashib the high priest rose up with his brethren the priests, and they builded the sheep gate; they sanctified it, and set up the doors of it... And next unto them repaired... And next unto them repaired... And next unto them repaired...\" Neh. 2:1,4-7,9,11; 3:1,4,7,8... (KJV).  \"So the wall was finished in the twenty and fifth day of the month Elul [the 6th month of the Sacred Year], in fifty and two days\" Neh. 6:15 (KJV). [52 days of building, finishing on 25-6, gives us a beginning date of 4-5 for a 30 day fifth month, or 3-5 for a 29 day fifth month, i.e. for re-building the wall]."]
[{"$f":"A1066+1","v":3387},-534,536,535,null,null,null,null,null,null,null," ",null,17,"Nabonidus/Belshazzar",null,{"$f":"Q1066+1","v":70},14,null,null,null,null,null,null,null,null,null,null,null,null,null,null,null,null,"Evil-merodach (=Cyrus?=Belshazzar, son of Nebuchadnezzar), King of Babel",null,"20th year - I.e. the 20th Sacred Calendar Year he reigned"," ",null,null,"Babylonian captivity",null,"64th year - I.e. the 64th Sacred Calendar Year he reigned"," "," "]
[null,-533,null,"",null,null,null,null,null,null,null," ",null,17,"Nabonidus/Belshazzar",null,null,null,"Belshazzar, killed/slain, or merely 'cut off' from the throne for a time? \"In that night was Belshazzar the king of the Chaldeans slain. And Darius the Median took the kingdom, being about threescore and two years old.\" Dan. 5:30-31 (KJV).  The Aramaic word translated \"slain\" is Strong's #6991-3: #6991 \"kaph-teth-lamed; a primitive root; properly to cut off, i.e. (fig.) put to death\"; #6992 \"kaph-teth-lamed; corresponting to 6991; to kill\"; #6993 \"kaph-teth-lamed; from 6991; a violent death\".  From #6991 we see that the primary meaning is \"to cut off\" while \"put to death\" or \"to kill\" are figurative meanings which are not necessarily applicable to this situation!  If that is true then Daniel 8 \"In the third year of the reign of king Belshazzar...\" is not a recap of events prior to the events recorded in Daniel 5, being instead a chapter within chronological order of the rest of Daniel.",null,null,null,null,null,null,null,null,null,null,null,null,null,null,{"$f":"AH1067+1","v":21},"Evil-merodach (=Cyrus?=Belshazzar, son of Nebuchadnezzar), King of Babel",null,"21st year - I.e. the 21st Sacred Calendar Year he reigned"," ",null,null,"Babylonian captivity",null,"65th year - I.e. the 65th Sacred Calendar Year he reigned"," "]
[{"$f":"A1068+1","v":3388},-533,535,534,null,null,null,null,null,null,null," ",null,null,"Darius aka Cyaxares",null,1,null,"Dan. 5:30-31; 9:1-2; 11:1. \"In that night Belshazzar, the king of the Chaldeans, was killed. And Darius the Mede took the kingdom, being a son of sixty-two years.\" Dan. 5:30-31(IB). \"In the first year of Darius, the son of Ahasuerus, of the seed of the Medes, who was made king over the realm of the Chaldeans, in the first year of his reign, I, Daniel, understood the number of the years by books, which came as the word of Jehovah to Jeremiah the prophet, that He would accomplish seventy years in the desolations of Jerusalem.\" Dan. 9:1-2 (IB).  \"And I, in the first year of Darius the Mede, I was standing for a supporter and for a fortress for him. And now I will declare to you the truth: behold, three kings will yet stand up in Persia. And the fourth shall be rich...\" Dan. 11:1-2 (IB).  Per the Hebrew text: \"And in the reign of Cyrus the Persian, in the first year of Belshazzar king of Babylon, Daniel saw a dream and visions...\" Dan. 6:29-7:1 (IB).  Ezra 6:6-12 is a record of the decree of Darius.  NOTICE: Darius was the son of Ahasuerus, AND he was 62 years old at this time, THUS Ahasuerus, his father (OR see below!) lived and reigned within 62 years prior (Cf. Ahasuerus above in connection with Tobias's, son of Tobit, death! See e.g. Nebuchadnezzar's 10th & 20th year above.).  Cf. also the similar arrangement in dividing/ruling the empire as described in Dan. 6:1-3 \"It pleased Darius to set over the kingdom an hundred and twenty princes, which should be over the whole kingdom; And over these three presidents...\", and the arrangement recorded in Esther 1:1-3 \"Now it came to pass in the days of Ahasuerus, (this is Ahasuerus which reigned, from India even unto Ethiopia, over an hundred and seven and twenty provinces;) That in those days, when the king Ahasuerus sat on the throne of his kindom, which was in Shushan the palace, In the the third year of his reign, he made a feast unto all his princes and his servants; the power of Persia and Media, the nobles and princes of the provinces...\".  The name Ahasuerus is a title rather than a name: Strong's #325 \"(Esther 10:1); of Persian origin; Achashverosh (i.e. Ahasuerus or Artaxerxes, but in this case Xerxes), the title (rather than name) of a Persian king\".  Could it be that Artaxerxes, either by its own meaning or by reference to Ahasuerus, is a reference to one or both of Darius' father Ahasuerus, AND Cyrus, i.e. as the issuer and \"father\" of the decree re Jerusalem and the Temple as reissued by Darius?!  Consider also Ahasuerus as a composit word of Strong's #2840-1 \"from an unused root meaning to bind together: combined, i.e. the nave or hub of a wheel (as holding the spokes together)\", \"from the same as 2840; properly a combination or gathering, i.e. of watery clouds\", and Strong's #7326 \"a primitive root; to be destitute... See 7219\", #7219 \"(Deut. 32:32), roshe; apparently the same as 7218; a poisonous plant, probably the poppy (from its conspicuous head); generally poison (even of serpents)\", #7218 \"from an unused root apparently meaning to shake; the head (as most easily shaken), whether literally or figuratively (in many applications, of place, time, rank, etc.)\", #7217 \"corresponding to 7218; the head; figuratively the sum\".",null,null,null,null,null,null,null,null,null,null,null,null,null,null,null,"Evil-merodach (=Cyrus?=Belshazzar, son of Nebuchadnezzar), King of Babel",null,"21st year - I.e. the 21st Sacred Calendar Year he reigned"," ",null,null,"Babylonian captivity",null,"65th year - I.e. the 65th Sacred Calendar Year he reigned"," "," "]
[null,-532,null,"",null,null,null,null,null,null,null," ",null,null,"Darius aka Cyaxares",null,1,null," ",null,null,null,null,null,null,null,null,null,null,null,null,null,null,{"$f":"AH1069+1","v":22},"Evil-merodach (=Cyrus?=Belshazzar, son of Nebuchadnezzar), King of Babel",null,"22nd year - I.e. the 22nd Sacred Calendar Year he reigned"," ",null,null,"Babylonian captivity",null,"66th year - I.e. the 66th Sacred Calendar Year he reigned"," "]
[{"$f":"A1070+1","v":3389},-532,534,533,null,null,null,null,null,null,null," ",null,null,"Cyrus",null,1,"Decree to re-build the Temple in Jerusalem","Ezr 1:1-2  Now in the first year of Cyrus king of Persia, that the word of the LORD by the mouth of Jeremiah might be fulfilled, the LORD stirred up the spirit of Cyrus king of Persia, that he made a proclamation throughout all his kingdom, and put it also in writing, saying, Thus saith Cyrus king of Persia, The LORD God of heaven hath given me all the kingdoms of the earth; and he hath charged me to build him an house at Jerusalem, which is in Judah.  \n \nDan. 5:30-31; 9:1-2; 11:1.  \n \n\"In that night Belshazzar, the king of the Chaldeans, was killed. And Darius the Mede took the kingdom, being a son of sixty-two years.\" Dan. 5:30-31(IB).  \n \n\"In the first year of Darius, the son of Ahasuerus, of the seed of the Medes, who was made king over the realm of the Chaldeans, in the first year of his reign, I, Daniel, understood the number of the years by books, which came as the word of Jehovah to Jeremiah the prophet, that He would accomplish seventy years in the desolations of Jerusalem.\" Dan. 9:1-2 (IB).",null,null,null,null,null,null,null,null,null,null,null,null,null,null,null,"Evil-merodach (=Cyrus?=Belshazzar, son of Nebuchadnezzar), King of Babel",null,"22nd year - I.e. the 22nd Sacred Calendar Year he reigned"," ",null,null,"Babylonian captivity",null,"66th year - I.e. the 66th Sacred Calendar Year he reigned"," "," "]
[null,-531,null,"",null,null,null,null,null,null,null," ",null,null,"Cyrus",null,1,null,"\"And when the seventh month was come, and the children of Israel were in the cities, the people gathered themselves together as one man to Jerusalem. Then stood up Jeshua the son of Jozadak, and his brethren the priests, and Zerubbabel the son of Shealtiel, and his brethren, and builded the altar of the God of Israel, to offer burnt offerings thereon, as it is written in the law of Moses the man of God... They kept also the feast of tabernacles, as it is written, and offered the daily burnt offerings by number, according to the custom, as the duty of every day required; And afterward offered the continual burnt offering, both of the new moons, and of all the set feasts of the Lord that were consecrated, and of every one that willingly offered a freewill offering unto the Lord. From the first day of the seventh month began they to offer burnt offerings unto the Lord. But the foundation of the temple of the Lord was not yet laid\" Ezra 3:1-2,4-6 (KJV).",null,null,null,null,null,null,null,null,null,null,null,null,null,null,{"$f":"AH1071+1","v":23},"Evil-merodach (=Cyrus?=Belshazzar, son of Nebuchadnezzar), King of Babel",null,"23rd year - I.e. the 23rd Sacred Calendar Year he reigned"," ",null,null,"Babylonian captivity",null,"67th year - I.e. the 67th Sacred Calendar Year he reigned"," "]
[{"$f":"A1072+1","v":3390},-531,533,532,null,"-429, Artaxerxes death, Xerxes II, & Darius II: \"After forty-one years on the throne, Artaxerxes died (-429) and soon was succeeded by his son Xerxes II, who, in a matter of weeks, was supplanted by Darius II.\"  (Peoples of the Sea, p. 123:5.)",null,null,null,null,null," ",null,null,"Cyrus",null,{"$f":"Q1072+1","v":2},"…builded the altar…","\"Now in the second year of their coming to the house of God at Jerusalem, in the second month, Zerubbabel...began. to oversee the work of the house of Jehovah... And when the builders laid the foundation of the temple of Jehovah... to praise Jehovah, according to the ordinance of David king of Israel...\" Ezra 3:8-10 (IB). [NOTICE> same month as Solomon started building the temple per 1 Kings 6:1 & 2 Chron. 3:2!]. (Cf. note above pertaining to Cyrus' first year!) ",null,null,null,null,null,null,null,null,null,null,null,null,null,null,null,"Evil-merodach (=Cyrus?=Belshazzar, son of Nebuchadnezzar), King of Babel",null,"23rd year - I.e. the 23rd Sacred Calendar Year he reigned"," ",null,null,"Babylonian captivity",null,"67th year - I.e. the 67th Sacred Calendar Year he reigned"," "," "]
[null,-530,null,"",null,null,null,null,null,null,null," ",null,null,"Cyrus",null,{"$f":"Q1073+1","v":2},"...laid the foundation of the temple of Jehovah... …ceased the work…","Ezra 4:24; Haggai 2:10,18. \"Then ceased the work of the house of God which is at Jerusalem. So it ceased unto the second year of the reign of Darius king of Persia.\" Ezra 4:24 (KJV).  \"In the four and twentieth day of the ninth month, in the second year of Darius… Consider now from this day and upward, from the four and twentieth day of the ninth month, even from the day that the foundation of the Lord's temple was laid, consider it\". Haggai 2:10,18 (KJV).  It appears as if this is the exact date that the work upon the foundation of the Temple was re-laid/resumed as started some years prior (perhaps some 28 years, or perhaps merely a few months within one and the same year if Darius=Cyrus, i.e. one and the same king?????).  Notice also the dates which quite obviously are based upon the Sacred Calendar and not (except for the numbering of the year) upon the King of Babylon. Cf. \"Upon the four and twentieth day of the eleventh month, which is the month Sebat [the name of the 11th month within the modern Hebrew calendar when Nisan is counted as the first month], in the second year of Darius, came the word of the Lord unto Zechariah\" Zech. 1:7 (KJV).  Cf. the timing of the original rebuilding of the foundation of the 2nd temple, i.e. notes at the 46th & 47th years of captivity!",null,null,null,null,null,null,null,null,null,null,null,null,null,null,{"$f":"AH1073+1","v":24},"Evil-merodach (=Cyrus?=Belshazzar, son of Nebuchadnezzar), King of Babel",null,"24th year - I.e. the 24th Sacred Calendar Year he reigned"," ",null,null,"Babylonian captivity",null,"68th year - I.e. the 68th Sacred Calendar Year he reigned"," "]
[{"$f":"A1074+1","v":3391},-530,532,531,null,null,null,null,null,null,null," ",null,null,"Cyrus",null,{"$f":"Q1074+1","v":3},null,null,null,null,null,null,null,null,null,null,null,null,null,null,null,null,null,"Evil-merodach (=Cyrus?=Belshazzar, son of Nebuchadnezzar), King of Babel",null,"24th year - I.e. the 24th Sacred Calendar Year he reigned"," ",null,null,"Babylonian captivity",null,"68th year - I.e. the 68th Sacred Calendar Year he reigned"," "," "]
[null,-529,null,"",null,null,null,null,null,null,null," ",null,null,"Cyrus",null,3,null,"NOTICE re Ezra/Nehemiah and the use of multiple names/titles: The use of multiple names for what seems from the context to refer unto one and the same king: \"And hired counsellors against them, to frustrate their purpose, all the days of Cyrus king of Persia, even until the reign of Darius king of Persia [NOTICE NO intermediate kings between Cyrus and Darius named!]. And in the reign of Ahasuerus [another title for Cyrus?!], in the beginning of his reign [Whose reign had just begun? 1st year = 3-5 days only, i.e. starting the 27 day of the 12 month. 2nd year of Cyrus & 1st year in Jerusalem: Israel gathered in Jerusalem, kept the feasts, set the altar upon its bases (Ezra 3:1-6); 2nd year in Jerusalem, 2nd month: \"began Zerubbabel...to set forward the work of the house of the Lord... laid the foundation of the temple\" (Ezra 3:8,10); i.e. within 14 month of the beginning of Cyrus' rule], wrote they unto him [i.e. Ahasuerus (= Cyrus?!!) - Ahasuerus is a title like Pharaoh or Ceasar] an accusation against the inhabitants of Judah and Jerusalem. And in the days of Artaxerxes [yet another title used for Cyrus/Ahasuerus?!!] wrote Bishlam, Mithredath, Tabeel, and the rest of their companions, unto Artaxerxes king of Persia [of Persia OR of Babylonia, OR are the names interchangeable? Compare Ezra 4:7 with Neh. 13:6 remembering also which of Persia and Babylonia came first!]... Be it known now unto the king, that the Jews which came up from thee [Who gave the decree?! Artaxerxes, Ahasuerus, or Cyrus? From whom did they come? From Cyrus OR from Ahasuerus OR from Artaxerxes OR are they all one and the same?!!! From where? Babylon! Cf. Ezra 1:11 & 2:1!] to us are come unto Jerusalem... [Says Artazerxes (=Cyrus?!!)] Give ye now commandment to cause these men to cease, and that this city be not builded, until another [Did the king realize he was giving a temporary holding/stop order thus countering/changing his prior decree, to give him time for f;rther considering the matter?!!] commandment shall be given from me... Then ceased the work of the house of god which is at Jerusalem. So it ceased unto the second year of the reign of Darius king of Persia. Then the prophets, Haggai the prophet, and Zechariah the son of Iddo, prophesied unto the Jews that were in Judah and Jerusalem in the name of the God of Israel, even unto them. Then rose up Zerubbabel the son of Shealtiel, and Jeshua the son of Jozadak, and began to build the house of God which is at Jerusalem: and with them were the prophets of God helping them... [Zerubbabel recapping:] But in the first year of Cyrus the king of Babylon the same king Cyrus made a decree to build this house of God. And the vessels also of gold and silver of the house of God, which Nebuchadnezzar took out of the temple that was in Jerusalem, and brought them into the temple of Babylon, those did Cyrus the king take out of the temple of Babylon, and they were delivered unto one, whose name was Sheshbazzar, whom he had made governor; And said unto him, Take these vessels, go, carry them into the temple that is in Jerusalem, and let the house of God be builded in his place. Then came the same Sheshbazzar, and laid the foundation of the house of God which is in Jerusalem: and since that time even until now hath it been in building, and yet it is not finished. Then Darius the king made a decree, and search was made in the house of the rolls, where the treasures were laid up in Babylon... In the first year of Cyrus the king the same Cyrus the king made a decree concerning the house of God at Jerusalem, Let the house be builded...\" Ezra 4:5",null,null,null,null,null,null,null,null,null,null,null,null,null,null,{"$f":"AH1075+1","v":25},"Evil-merodach (=Cyrus?=Belshazzar, son of Nebuchadnezzar), King of Babel",null,"25th year - I.e. the 25th Sacred Calendar Year he reigned"," ",null,null,"Babylonian captivity",null,"69th year - I.e. the 69th Sacred Calendar Year he reigned"," "]
[{"$f":"A1076+1","v":3392},-529,531,530,null,null,null,null,null,null,null," ",null,null,"Cyrus",null,4,null,null,null,null,null,null,null,null,null,null,null,null,null,null,null,null,null,"Evil-merodach (=Cyrus?=Belshazzar, son of Nebuchadnezzar), King of Babel",null,"25th year - I.e. the 25th Sacred Calendar Year he reigned"," ",null,null,"Babylonian captivity",null,"69th year - I.e. the 69th Sacred Calendar Year he reigned"," "," "]
[null,-528,null,"",null,null,null,null,null,null,null," ",null,null,"Cyrus/Cambyses",0,4,null," ",null,null,null,null,null,null,null,null,null,null,null,null,null,null,{"$f":"AH1077+1","v":26},"Evil-merodach (=Cyrus?=Belshazzar, son of Nebuchadnezzar), King of Babel",null,"26th year - I.e. the 26th Sacred Calendar Year he reigned"," ",null,null,"Babylonian captivity",null,"70th year - I.e. the 70th Sacred Calendar Year he reigned"," "]
[{"$f":"A1078+1","v":3393},-528,530,529,null,null,null,null,null,null,null," ",null,null,"Cyrus/Cambyses",1,5,null,null,null,null,null,null,null,null,null,null,null,null,null,null,null,null,null,"Evil-merodach (=Cyrus?=Belshazzar, son of Nebuchadnezzar), King of Babel",null,"26th year - I.e. the 26th Sacred Calendar Year he reigned"," ",null,null,"Babylonian captivity",null,"70th year - I.e. the 70th Sacred Calendar Year he reigned"," "," "]
[null,-527,null,"",null,null,null,null,null,null,null," ",null,null,"Cyrus/Cambyses",1,5,null," ",null,null,null,null,null,null,null,null,null,null,null,null,null,null,{"$f":"AH1079+1","v":27},"Evil-merodach (=Cyrus?=Belshazzar, son of Nebuchadnezzar), King of Babel",null,"27th year - I.e. the 27th Sacred Calendar Year he reigned"," ",null,null,"Babylonian captivity",null,"71st year - I.e. the 71st Sacred Calendar Year he reigned","= 70 full years","Dan. 5:7&29 indicates that Belshazzar, the son of Nebuchadnezzar was the second ruler in the kingdom of Babylon, and that he was about to appoint the third. \"And he shall rule third in the kingdom… Then Belshazzar commanded, and they clothed Daniel with purple, and a necklace of gold around his neck. And they made a proclamation concerning him, that he should be the third ruler in the kingdom. In that night Belshazzar, the king of the Chaldeans, was killed.\""]
[{"$f":"A1080+1","v":3394},-527,529,528,null,null,null,null,null,null,null," ",null,null,"Cyrus/Cambyses",{"$f":"P1080+1","v":2},6]
[null,-526,null,"",null,null,null,null,null,null,null," ",null,null,"Cyrus/Cambyses",{"$f":"P1081+1","v":2},6,null," "]
[{"$f":"A1082+1","v":3395},-526,528,527,null,"-424 to -404: Darius II Nothus; & -404 to... Artaxerxes II: \"But it appears to us that \"year 5\" refers to the reigning year of the Persian overlord, either Darius II Nothus (-424 to -404), in which case the travel took place in -419, or Artaxerxes II, who started his reign in -404, in which case the travel occurred in -399.\"  (Peoples of the Sea, p. 138:5.)  \"Now it is quite certain that \"year 5\" in the opening of Wenamon's travelogue refers to the fifth year of Darius II or -419. Since it was Herihor who sent Wenamon on his mission and Nekt-hor-heb appears to have been associated with Wenamon in the building of the shrine at Umm-Ebeida in the oasis, i follows that Herihor also lived under Darius II; he was vested with the religious rank of a high priest but in the oases, the southern (el-Kargeh) and the northern (Siwa), he had also a secular rank, that of a commander of the army.\" (Peoples of the Sea, p. 140:5-6.)",null,null,null,null,null," ",null,null,"Cyrus/Cambyses",{"$f":"P1082+1","v":3},7,null,null,null,null,null,null,null,null,null,null,null,null,null,null,null,null,{"$f":"AH1081","v":27},"Darius, King of the Medo-Persia",null,"  1st year - I.e. the 1st Sacred Calendar Year he reigned"," ",null,null,"Babylonian captivity",null,"71st year - I.e. the 71st Sacred Calendar Year he reigned","= 70 full years","Dan. 5:30-31; 9:1-2; 11:1. \"In that night Belshazzar, the king of the Chaldeans, was killed. And Darius the Mede took the kingdom, being a son of sixty-two years.\" Dan. 5:30-31(IB). \"In the first year of Darius, the son of Ahasuerus, of the seed of the Medes, who was made king over the realm of the Chaldeans, in the first year of his reign, I, Daniel, understood the number of the years by books, which came as the word of Jehovah to Jeremiah the prophet, that He would accomplish seventy years in the desolations of Jerusalem.\" Dan. 9:1-2 (IB).  \"And I, in the first year of Darius the Mede, I was standing for a supporter and for a fortress for him. And now I will declare to you the truth: behold, three kings will yet stand up in Persia. And the fourth shall be rich...\" Dan. 11:1-2 (IB).  Per the Hebrew text: \"And in the reign of Cyrus the Persian, in the first year of Belshazzar king of Babylon, Daniel saw a dream and visions...\" Dan. 6:29-7:1 (IB).  Ezra 6:6-12 is a record of the decree of Darius.  NOTICE: Darius was the son of Ahasuerus, AND he was 62 years old at this time, THUS Ahasuerus, his father (OR see below!) lived and reigned within 62 years prior (Cf. Ahasuerus above in connection with Tobias's, son of Tobit, death! See e.g. Nebuchadnezzar's 10th & 20th year above.).  Cf. also the similar arrangement in dividing/ruling the empire as described in Dan. 6:1-3 \"It pleased Darius to set over the kingdom an hundred and twenty princes, which should be over the whole kingdom; And over these three presidents...\", and the arrangement recorded in Esther 1:1-3 \"Now it came to pass in the days of Ahasuerus, (this is Ahasuerus which reigned, from India even unto Ethiopia, over an hundred and seven and twenty provinces;) That in those days, when the king Ahasuerus sat on the throne of his kindom, which was in Shushan the palace, In the the third year of his reign, he made a feast unto all his princes and his servants; the power of Persia and Media, the nobles and princes of the provinces...\".  The name Ahasuerus is a title rather than a name: Strong's #325 \"(Esther 10:1); of Persian origin; Achashverosh (i.e. Ahasuerus or Artaxerxes, but in this case Xerxes), the title (rather than name) of a Persian king\".  Could it be that Artaxerxes, either by its own meaning or by reference to Ahasuerus, is a reference to one or both of Darius' father Ahasuerus, AND Cyrus, i.e. as the issuer and \"father\" of the decree re Jerusalem and the Temple as reissued by Darius?!  Consider also Ahasuerus as a composit word of Strong's #2840-1 \"from an unused root meaning to bind together: combined, i.e. the nave or hub of a wheel (as holding the spokes together)\", \"from the same as 2840; properly a combination or gathering, i.e. of watery clouds\", and Strong's #7326 \"a primitive root; to be destitute... See 7219\", #7219 \"(Deut. 32:32), roshe; apparently the same as 7218; a poisonous plant, probably the poppy (from its conspicuous head); generally poison (even of serpents)\", #7218 \"from an unused root apparently meaning to shake; the head (as most easily shaken), whether literally or figuratively (in many applications, of place, time, rank, etc.)\", #7217 \"corresponding to 7218; the head; figuratively the sum\"."]
[null,-525,null,"",null,"Herihor succession: \"Whereas we are not well acquaninted with the genealogy of high priests under the Persians before the installation of Herihor, a man of no distinction in priestly circles in this post, we are familiar with the order of succession that starts with him-Psusennes, Peinuzeem, Menkheperre, Peinuzem II. In Judah the entire line of the high priests from the days of Cyrus to the time of Alexander is known from the entry in the book of Nehemiah (12:10-11): Jeshua, Joiakim, Dliashib, Joiada, Jonathan, and Jaddua; the line is also known from Josephus Flavius.\"  (Peoples of the Sea, p. 148:4-5.)",null,null,null,null,null," ",null,null,"Cyrus/Cambyses",3,7,null,null,null,null,null,null,null,null,null,null,null,null,null,null,null,null,null,"Darius, King of the Medo-Persia",null,"  1st year - I.e. the 1st Sacred Calendar Year he reigned"," ",null,null,"Babylonian captivity",null,"71st year - I.e. the 71st Sacred Calendar Year he reigned"," "]
[{"$f":"A1084+1","v":3396},-525,527,526,null,null,null,null,null,null,null," ",null,null,"Cyrus/Cambyses",4,8,null,null,null,null,null,null,null,null,null,null,null,null,null,null,null,null,{"$f":"AH1084+1","v":28},"Darius, King of the Medo-Persia",null,"  2nd year - I.e. the 2nd Sacred Calendar Year he reigned"," ",null,null,"Babylonian captivity",null,"72nd year - I.e. the 72nd Sacred Calendar Year he reigned"," "]
[null,-524,null,"",null,null,null,null,null,null,null," ",null,null,"Cyrus/Cambyses",4,8,null," ",null,null,null,null,null,null,null,null,null,null,null,null,null,null,null,"Darius, King of the Medo-Persia",null,"  2nd year - I.e. the 2nd Sacred Calendar Year he reigned"," ",null,null,"Babylonian captivity",null,"72nd year - I.e. the 72nd Sacred Calendar Year he reigned"," ","Ezra 4:24; Haggai 2:10,18. \"Then ceased the work of the house of God which is at Jerusalem. So it ceased unto the second year of the reign of Darius king of Persia.\" Ezra 4:24 (KJV).  \"In the four and twentieth day of the ninth month, in the second year of Darius… Consider now from this day and upward, from the four and twentieth day of the ninth month, even from the day that the foundation of the Lord's temple was laid, consider it\". Haggai 2:10,18 (KJV).  It appears as if this is the exact date that the work upon the foundation of the Temple was re-laid/resumed as started some years prior (perhaps some 28 years, or perhaps merely a few months within one and the same year if Darius=Cyrus, i.e. one and the same king?????).  Notice also the dates which quite obviously are based upon the Sacred Calendar and not (except for the numbering of the year) upon the King of Babylon. Cf. \"Upon the four and twentieth day of the eleventh month, which is the month Sebat [the name of the 11th month within the modern Hebrew calendar when Nisan is counted as the first month], in the second year of Darius, came the word of the Lord unto Zechariah\" Zech. 1:7 (KJV).  Cf. the timing of the original rebuilding of the foundation of the 2nd temple, i.e. notes at the 46th & 47th years of captivity!"]
[{"$f":"A1086+1","v":3397},-524,526,525,null,null,null,null,null,null,null," ",null,null,"Cyrus/Cambyses",5,9]
[null,-523,null,"",null,null,null,null,null,null,null," ",null,null,"Cyrus/Cambyses",5,9]
[{"$f":"A1088+1","v":3398},-523,525,524,null,-525,{"$f":"G996","v":"Pharaoh Amasis reign: \"Jeremiah, when in exile in Egypt and before he was removed to Babylon, refers to Pharaoh Hophra, whom we identified as Merneptah-Hophrama'e. Merneptah's reign, judged by the dates on his inscriptions, endured for ten or eleven years. IF the figure of forty-three years for Amasis' reign is true, then he must have begun his rule in -568, or nineteen years after the destruction of Jerusalem: In -525 Egypt was conquered by Cambyses, thePersian, only a few months after Amasis' death. Of these nineteen years the longer part belongs to Ramses; Merneptah, however, might have been a co-ruler in the last years of Ramses. That Amasis, after he seized the throne, allowed Merneptah to wear a crown and be a co-ruler with himself, we learn from Herodotus (II, 169).\" (Ramses II and His Time, p.213:4)."},null,null,null,null," ",null,null,"Cyrus/Cambyses",6,10,null," "]
[null,-522,null,"",null,null,null,null,null,null,null," ",null,null,"Cambyses",6,6,null," "]
[{"$f":"A1090+1","v":3399},-522,524,523,null,{"$f":"F4","v":"Velikovsky’s “…nomenclature for the Egyptian dysasties.\n The Middle Kingdom of Egypt (the division into Eleventh and Twelfth Dynasties is unnecessary) came to its end in a natural catastrophe in the mid-fifteenth century before the present era; the land was invaded by the Arabs (Amalekites, known as Amu to the Egyptians, or as Hyksos to Greek authors). The Arab Dynasty ruled for over four hundred years, till about -1020. Already before that date there were vassal princes in Thebes. The Arab domination of Egypt was terminated by the united efforts of Saul of Israel and Kamose and Ahmose of Thebes. For the next (almost) two hundred years (ca. -1200 to ca. -830) the land was ruled by the Theban Dynasty (known as the Eighteenth) of Thutmoses and Amenhoteps. Close to the end of that period, Akhnaton moved the capi9tal to Akhet-Aton (el-Amarna) but Thebes was soon restored as the capital under Smenkhkare and Ay.\n The Theban period was followed by the Libyan domination of Sosenks [= Shoshenk, cf. Ages in Chaos, p. 174-176] and Osorkons for over one hundred years (ca. -830 to ca. -720). Next came the Ethiopian rule that endured for fifty or sixty years; however, at the same time the Assyrians pressed from the north and the land was occupied repeatedly by Sennacherib (who crowned Haremheb), Esarhaddon, and Assurbanipal (who elevated Necho I-Rameses I to be a vassal king). When Necho was killed by invading Ethiopians, Assurbanipal once more occupied Thebes (-663).\n The period of the Tanitic Dynasty follows: Seti (Psammetich of the Greek authors), son of Ramses I (Necho I), obtained independence from Assurbanipal and acted as his ally in his wars against the Chaldeans and Medes, Seti’s capital was in Tanis in the Delta, The Tanitic Dynasty endured from -663 to -525. After Seti reigned Ramses II (Necho II), his son, who for a lengthy period had been Seti’s co-ruler. He carried on a prolonged war with Nebuchadnezzar, the Chaldean. Ramses’ heir Merneptah (Hophra of Jeremiah and Apries of Herodutus) lost the throne to a rebel, General Amasis, the latter reigned in peace for over forty years and died when Cambyses the Persian was already on his march of conquest toward Egypt.\n From -525 to -332, for close to two hundred years, Egypt was dominated by the Persian kings (Cambyses, Darius, Xerxes, Artaxerxes I, Darius II, Artaxerxes II and III); some of them were crowned also as Egyptian pharaohs; they kept native governors in Egypt like Psamshek or Nekht-hor.\n In the fourth century, during the reigns of Artaxerxer II and Artaxerxes III, Egypt achieved a measure of independence comparable to the independence the Greek states maintained during thetime of the Great Kings of Persia.  Nepherites, Acoris, Nectanebo I (Ramses III), Tachos, and Nectanebo II were the indigenous kings of that period and they could be termed Native Kings or, if preferred, Sebennytic Dynasty, for the place of origin of the most famous of them. At the same time a Priestly Dynasty established already by Darius II (about -420) ruled in the military outposts-the oases of the Libyan desert. Thjey continued there till past -300.\n The Persians succeeded in -343 to reconquering Egypt, Nectanebo II escaping to the Sudan, but ten years later Egypt received Alexander as its liberator (-332). The Macedonian Dynasty endured three hundred years, with the Ptolemies on the throne till Cleopatra’s suicide in -30. Thereafter the Roman caesars ruled Egypt.\n This order of dynastic succession, relieved of thenumbered dynasties, is simple to comprehend: Arab, Theban, Libyan, Ethiopian (repeatedly interrupted by Assyrian conquests), Tanitic, Persian (partly Sebennytic), and Macedonian Dynasties in this sequence. As can readily be seen, for most of the fourteen hundred years (ca. -1450 to -30), Egypt was ruled by foreigners: the three periods when it was ruled by native kings were under the Theban (-1020 to -830), the Tanitic (-663 to -525), and the Sebennytic (ca. -391 to -341) Dynasties, altogether something like 380 years out of 1420.” (Peoples of the Sea, p. 194:2-195:end.)\n"},null,null,null,null,null," ",null,null,"Cambyses/The False Smerdis",0,7,null," "]
[null,-521,null,"",null,null,null,null,null,null,null," ",null,null,"Cambyses/The False Smerdis",1,0,null," "]
[{"$f":"A1092+1","v":3400},-521,{"$f":"C1092-1","v":523},522,null,null,null,null,null,null,null,null,null,null,"Darius Hystaspus",null,1]
[null,-520,null,"",null,null,null,null,null,null,null," ",null,null,"Darius Hystaspus",null,1]
[{"$f":"A1094+1","v":3401},-520,522,{"$f":"IF(C1096<>\"\",IF(C1096=C1097,\"\",IF(C1096=D1095,IF(C1096=C1097+1,C1096-1,\"\"),C1096-1)),\"\")","v":521},null,null,null,null,null,null,null,null,null,null,"Darius Hystaspus",null,2,"...unto the four and twentieth day of the ninth month in the second year of the reign of Darius..."]
[null,-519,null,"",null,null,null,null,null,null,null," ",null,null,"Darius Hystaspus",null,2]
[{"$f":"A1096+1","v":3402},-519,521,520,null,null,null,null,null,null,null,null,null,null,"Darius Hystaspus",null,3]
[null,-518,null,"",null,null,null,null,null,null,null," ",null,null,"Darius Hystaspus",null,3]
[{"$f":"A1098+1","v":3403},-518,520,519,null,null,null,null,null,null,null,null,null,null,"Darius Hystaspus",null,4,null," "]
[null,-517,null,"",null,null,null,null,null,null,null," ",null,null,"Darius Hystaspus",null,4,null," "]
[{"$f":"A1100+1","v":3404},-517,519,518,null,null,null,null,null,null,null,null,null,null,"Darius Hystaspus",null,5,null," "]
[null,-516,null,"",null,null,null,null,null,null,null," ",null,null,"Darius Hystaspus",null,5,null," "]
[{"$f":"A1102+1","v":3405},-516,518,517,null,null,null,null,null,null,null,null,null,null,"Darius Hystaspus",null,6,"Rebuilding of Temple Finished","Ezra 6:15 \"And this house was finished on the third day of the month Adar, which was in the sixth year of the reign of Darius the king\"."]
[null,-515,null,"",null,null,null,null,null,null,null," ",null,null,"Darius Hystaspus",null,6]
[{"$f":"A1104+1","v":3406},-515,517,516,null,null,null,null,null,null,null,null,null,null,"Darius Hystaspus",null,7,null," "]
[null,-514,null,"",null,null,null,null,null,null,null," ",null,null,"Darius Hystaspus",null,7,null," "]
[{"$f":"A1106+1","v":3407},-514,516,515,null,null,null,null,null,null,null,null,null,null,"Darius Hystaspus",null,8]
[null,-513,null,"",null,null,null,null,null,null,null," ",null,null,"Darius Hystaspus",null,8]
[{"$f":"A1108+1","v":3408},-513,515,514,null,null,null,null,null,null,null,null,null,null,"Darius Hystaspus",null,9]
[null,-512,null,"",null,null,null,null,null,null,null," ",null,null,"Darius Hystaspus",null,9,null," "]
[{"$f":"A1110+1","v":3409},-512,514,513,null,"\"-410\": \"But in the year -410 the priests of the Chnum temples in the vicinity, exploiting the absence of the Persian governor, prevailed upon the regional chief to permit the destruction of the temple of Heb-Elephantine.\" (Peoples of the Sea, page 64:3.)",null,null,null,null,null,null,null,null,"Darius Hystaspus",null,10,null," "]
[null,-511,null,"",null,null,null,null,null,null,null," ",null,null,"Darius Hystaspus",null,10,null," "]
[{"$f":"A1112+1","v":3410},-511,513,512,null,null,null,null,null,null,null,null,null,null,"Darius Hystaspus",null,11,null," "]
[null,-510,null,"",null,null,null,null,null,null,null," ",null,null,"Darius Hystaspus",null,11,null," "]
[{"$f":"A1114+1","v":3411},-510,512,511,null,null,null,null,null,null,null,null,null,null,"Darius Hystaspus",null,12,null," "]
[null,-509,null,"",null,"\"Nekht-hor-heb\": \"The time of Nekht-hor-heb is thus established-he functioned in the later part of Arsames' life and was at his post when the latter died, in -407 or shortly before.\"  (Peoples of the Sea, p.92:1. Also 90:3-93:5.)",null,null,null,null,null," ",null,null,"Darius Hystaspus",null,12,null," "]
[{"$f":"A1116+1","v":3412},-509,511,510,null,"\"-407\": \"wrote to… Bagoas… who succeeded Nehemiah\", & \"two sons of Sanballat, the satrap in Samaria\":  \"The notables of the military community... [in Heb-Elephantine, a Jewish community on the southern border of Egypt] wrote to the Persian satrap Bagoas in Jerusalem, and to two sons of Sanballat, the satrap in Samaria. Bagoas was the man who succeeded Nehemiah [footnote: Josephus, Jewish Antiquities, XI, 297 ff.], and Sanballat is repeatedly mentioned in the Book of Nehemiah as his adversary in his pious endeavor to rebuild the wall of Jerusalem.   This particular letter was written in -407...\" (Peoples of the Sea, page 64:3-4.)    <<<<<<<<<>>>>>>>>  \"functioned for over half a century, Arsames, last mentioned in an Elephantine letter written in -407, must have died soon thereafter or even before, probably in Babylon, or possibly in Persepolis since the Elephantine letter refers to his visit in -410 to the king. Darius II (Notus) died in -404.\"  (Peoples of the Sea, p.92:1.)  <<<<<<<<<<>>>>>>>>> \"Nekht-hor-heb, [Psamshek's = Nekht-nebef's] successor in Arsames' service, peploring his master's death in -407 or thereabout.\"  (Peoples of the Sea, p.97:3.)",null,null,null,null,null,null,null,null,"Darius Hystaspus",null,13,null," "]
[null,-508,null,"",null,null,null,null,null,null,null," ",null,null,"Darius Hystaspus",null,13,null," "]
[{"$f":"A1118+1","v":3413},-508,510,509,null,null,null,null,null,null,null,null,null,null,"Darius Hystaspus",null,14,null," "]
[null,-507,null,"",null,null,null,null,null,null,null," ",null,null,"Darius Hystaspus",null,14,null," "]
[{"$f":"A1120+1","v":3414},-507,509,508,null,"\"-405\": \"This Spartan hero participated in the Peloponnesian War and captured the Athenian fleet at the battle of Aegospotami (-405); he aspired to become the king of the Spartans… The \"king [chief] of Temehu\" whom the pharaoh brought to his support was a Spartan king; the description \"a little one\" points to Agesilaus.\"  (Peoples of the Sea, p.85:3-4.)",null,null,null,null,null,null,null,null,"Darius Hystaspus",null,15]
[null,-506,null,"",null,null,null,null,null,null,null," ",null,null,"Darius Hystaspus",null,15]
[{"$f":"A1122+1","v":3415},-506,508,507,null,"\"-404\": \"Darius II (Notus) died in -404.\"  (Peoples of the Sea, p.92:1.)",null,null,null,null,null,null,null,null,"Darius Hystaspus",null,16]
[null,{"$f":"B1123+1","v":-505},null,"",null,{"$f":"F1084","v":"-424 to -404: Darius II Nothus; & -404 to... Artaxerxes II: \"But it appears to us that \"year 5\" refers to the reigning year of the Persian overlord, either Darius II Nothus (-424 to -404), in which case the travel took place in -419, or Artaxerxes II, who started his reign in -404, in which case the travel occurred in -399.\"  (Peoples of the Sea, p. 138:5.)  \"Now it is quite certain that \"year 5\" in the opening of Wenamon's travelogue refers to the fifth year of Darius II or -419. Since it was Herihor who sent Wenamon on his mission and Nekt-hor-heb appears to have been associated with Wenamon in the building of the shrine at Umm-Ebeida in the oasis, i follows that Herihor also lived under Darius II; he was vested with the religious rank of a high priest but in the oases, the southern (el-Kargeh) and the northern (Siwa), he had also a secular rank, that of a commander of the army.\" (Peoples of the Sea, p. 140:5-6.)"},null,null,null,null,null," ",null,null,"Darius Hystaspus",null,16,null," "]
[{"$f":"A1124+1","v":3416},-505,507,506,null,null,null,null,null,null,null,null,null,null,"Darius Hystaspus",null,17,null," "]
[null,-504,null,"",null,null,null,null,null,null,null," ",null,null,"Darius Hystaspus",null,17,null," "]
[{"$f":"A1126+1","v":3417},-504,506,505,null,null,null,null,null,null,null,null,null,null,"Darius Hystaspus",null,18,null," "]
[null,-503,null,"",null,null,null,null,null,null,null," ",null,null,"Darius Hystaspus",null,18,null," "]
[{"$f":"A1128+1","v":3418},-503,505,504,null,"\"Artaxerxes II was still recognized as king in Elephantine in the year -401\" (Peoples of the Sea, page 65:3.)",null,null,null,null,null,null,null,null,"Darius Hystaspus",null,19,null," "]
[null,-502,null,"",null,null,null,null,null,null,null," ",null,null,"Darius Hystaspus",null,19,null," "]
[{"$f":"A1130+1","v":3419},-502,504,503,null,null,null,null,null,null,null,null,null,null,"Darius Hystaspus",null,20,null," "]
[null,-501,null,"",null,null,null,null,null,null,null," ",null,null,"Darius Hystaspus",null,20,null," "]
[{"$f":"A1132+1","v":3420},-501,503,502,null,null,null,null,null,null,null,null,null,null,"Darius Hystaspus",null,21,null," "]
[null,-500,null,"",null,null,null,null,null,null,null," ",null,null,"Darius Hystaspus",null,21,null," "]
[{"$f":"A1134+1","v":3421},-500,502,501,null,"Ezra to Jerusalem in -398?: \"Ezra came to Jerusalem not in the seventh year of Artaxerxes I (-458) but in the seventh year of Artaxerxes II (-398), sixty years later. The absence of any reference to Ezra in the Elephantine papyri, the last of which was written in -399, tends to support the view that he arrived in Jerusalem the following year, -398.\"  (Peoples of the Sea, p. 151:1.)",null,null,null,null,null,null,null,null,"Darius Hystaspus",null,22,null," "]
[null,-499,null,"",null,null,null,null,null,null,null," ",null,null,"Darius Hystaspus",null,22,null," "]
[{"$f":"A1136+1","v":3422},-499,501,500,null,null,null,null,null,null,null,null,null,null,"Darius Hystaspus",null,23,null," "]
[null,-498,null,"",null,null,null,null,null,null,null," ",null,null,"Darius Hystaspus",null,23,null," "]
[{"$f":"A1138+1","v":3423},-498,500,499,null,null,null,null,null,null,null,null,null,null,"Darius Hystaspus",null,{"$f":"Q1138+1","v":24},null," "]
[null,-497,null,"",null,null,null,null,null,null,null," ",null,null,"Darius Hystaspus",null,24,null," "]
[{"$f":"A1140+1","v":3424},-497,499,498,null,null,null,null,null,null,null,null,null,null,"Darius Hystaspus",null,25,null," "]
[null,-496,null,"",null,null,null,null,null,null,null," ",null,null,"Darius Hystaspus",null,25,null," "]
[{"$f":"A1142+1","v":3425},-496,498,497,null,null,null,null,null,null,null,null,null,null,"Darius Hystaspus",null,26,null," "]
[null,-495,null,"",null,null,null,null,null,null,null," ",null,null,"Darius Hystaspus",null,26,null," "]
[{"$f":"A1144+1","v":3426},-495,497,496,null,null,null,null,null,null,null,null,null,null,"Darius Hystaspus",null,27]
[null,-494,null,"",null,null,null,null,null,null,null," ",null,null,"Darius Hystaspus",null,27,null," "]
[{"$f":"A1146+1","v":3427},-494,496,495,null,null,null,null,null,null,null,null,null,null,"Darius Hystaspus",null,28,null," "]
[null,-493,null,"",null,null,null,null,null,null,null," ",null,null,"Darius Hystaspus",null,28,null," "]
[{"$f":"A1148+1","v":3428},-493,495,494,null,{"$f":"F4","v":"Velikovsky’s “…nomenclature for the Egyptian dysasties.\n The Middle Kingdom of Egypt (the division into Eleventh and Twelfth Dynasties is unnecessary) came to its end in a natural catastrophe in the mid-fifteenth century before the present era; the land was invaded by the Arabs (Amalekites, known as Amu to the Egyptians, or as Hyksos to Greek authors). The Arab Dynasty ruled for over four hundred years, till about -1020. Already before that date there were vassal princes in Thebes. The Arab domination of Egypt was terminated by the united efforts of Saul of Israel and Kamose and Ahmose of Thebes. For the next (almost) two hundred years (ca. -1200 to ca. -830) the land was ruled by the Theban Dynasty (known as the Eighteenth) of Thutmoses and Amenhoteps. Close to the end of that period, Akhnaton moved the capi9tal to Akhet-Aton (el-Amarna) but Thebes was soon restored as the capital under Smenkhkare and Ay.\n The Theban period was followed by the Libyan domination of Sosenks [= Shoshenk, cf. Ages in Chaos, p. 174-176] and Osorkons for over one hundred years (ca. -830 to ca. -720). Next came the Ethiopian rule that endured for fifty or sixty years; however, at the same time the Assyrians pressed from the north and the land was occupied repeatedly by Sennacherib (who crowned Haremheb), Esarhaddon, and Assurbanipal (who elevated Necho I-Rameses I to be a vassal king). When Necho was killed by invading Ethiopians, Assurbanipal once more occupied Thebes (-663).\n The period of the Tanitic Dynasty follows: Seti (Psammetich of the Greek authors), son of Ramses I (Necho I), obtained independence from Assurbanipal and acted as his ally in his wars against the Chaldeans and Medes, Seti’s capital was in Tanis in the Delta, The Tanitic Dynasty endured from -663 to -525. After Seti reigned Ramses II (Necho II), his son, who for a lengthy period had been Seti’s co-ruler. He carried on a prolonged war with Nebuchadnezzar, the Chaldean. Ramses’ heir Merneptah (Hophra of Jeremiah and Apries of Herodutus) lost the throne to a rebel, General Amasis, the latter reigned in peace for over forty years and died when Cambyses the Persian was already on his march of conquest toward Egypt.\n From -525 to -332, for close to two hundred years, Egypt was dominated by the Persian kings (Cambyses, Darius, Xerxes, Artaxerxes I, Darius II, Artaxerxes II and III); some of them were crowned also as Egyptian pharaohs; they kept native governors in Egypt like Psamshek or Nekht-hor.\n In the fourth century, during the reigns of Artaxerxer II and Artaxerxes III, Egypt achieved a measure of independence comparable to the independence the Greek states maintained during thetime of the Great Kings of Persia.  Nepherites, Acoris, Nectanebo I (Ramses III), Tachos, and Nectanebo II were the indigenous kings of that period and they could be termed Native Kings or, if preferred, Sebennytic Dynasty, for the place of origin of the most famous of them. At the same time a Priestly Dynasty established already by Darius II (about -420) ruled in the military outposts-the oases of the Libyan desert. Thjey continued there till past -300.\n The Persians succeeded in -343 to reconquering Egypt, Nectanebo II escaping to the Sudan, but ten years later Egypt received Alexander as its liberator (-332). The Macedonian Dynasty endured three hundred years, with the Ptolemies on the throne till Cleopatra’s suicide in -30. Thereafter the Roman caesars ruled Egypt.\n This order of dynastic succession, relieved of thenumbered dynasties, is simple to comprehend: Arab, Theban, Libyan, Ethiopian (repeatedly interrupted by Assyrian conquests), Tanitic, Persian (partly Sebennytic), and Macedonian Dynasties in this sequence. As can readily be seen, for most of the fourteen hundred years (ca. -1450 to -30), Egypt was ruled by foreigners: the three periods when it was ruled by native kings were under the Theban (-1020 to -830), the Tanitic (-663 to -525), and the Sebennytic (ca. -391 to -341) Dynasties, altogether something like 380 years out of 1420.” (Peoples of the Sea, p. 194:2-195:end.)\n"},null,null,null,null,null,null,null,null,"Darius Hystaspus",null,29,null," "]
[null,-492,null,"",null,null,null,null,null,null,null," ",null,null,"Darius Hystaspus",null,29,null," "]
[{"$f":"A1150+1","v":3429},-492,494,493,null,null,null,null,null,null,null,null,null,null,"Darius Hystaspus",null,30,null," "]
[null,-491,null,"",null,null,null,null,null,null,null," ",null,null,"Darius Hystaspus",null,30,null," "]
[{"$f":"A1152+1","v":3430},-491,493,492,null,null,null,null,null,null,null,null,null,null,"Darius Hystaspus",null,31,null," "]
[null,-490,null,"",null,null,null,null,null,null,null," ",null,null,"Darius Hystaspus",null,31,null," "]
[{"$f":"A1154+1","v":3431},-490,492,491,null,null,null,null,null,null,null,null,null,null,"Darius Hystaspus",null,32,null," "]
[null,-489,null,"",null,null,null,null,null,null,null," ",null,null,"Darius Hystaspus",null,32,null," "]
[{"$f":"A1156+1","v":3432},-489,{"$f":"C1156-1","v":491},490,null,null,null,null,null,null,null,null,null,null,"Darius Hystaspus",null,33,null," "]
[null,-488,null,"",null,null,null,null,null,null,null," ",null,null,"Darius Hystaspus",null,33,null," "]
[{"$f":"A1158+1","v":3433},-488,490,{"$f":"IF(C1160<>\"\",IF(C1160=C1161,\"\",IF(C1160=D1159,IF(C1160=C1161+1,C1160-1,\"\"),C1160-1)),\"\")","v":489},null,null,null,null,null,null,null,null,null,null,"Darius Hystaspus",null,34,null," "]
[null,-487,null,"",null,null,null,null,null,null,null," ",null,null,"Darius Hystaspus",null,34,null," "]
[{"$f":"A1160+1","v":3434},-487,489,488,null,null,null,null,null,null,null,null,null,null,"Darius Hystaspus",null,35,null," "]
[null,-486,null,"",null,null,null,null,null,null,null," ",null,null,"Darius Hystaspus",null,35,null," "]
[{"$f":"A1162+1","v":3435},-486,488,487,null,null,null,null,null,null,null,null,null,null,"Darius Hystaspus",null,36,null," "]
[null,-485,null,"",null,null,null,null,null,null,null," ",null,null,"Darius Hystaspus",null,36,null," "]
[{"$f":"A1164+1","v":3436},-485,487,486,null,null,null,null,null,null,null,null,null,null,"Darius Hystaspus",null,37,null," "]
[null,-484,null,"",null,null,null,null,null,null,null," ",null,null,"Darius Hystaspus",null,37,null," "]
[{"$f":"A1166+1","v":3437},-484,486,485,null,null,null,null,null,null,null,null,null,null,"Xerxes I / Ahasuerus",null,0,null," "]
[null,-483,null,"",null,null,null,null,null,null,null," ",null,null,"Xerxes I / Ahasuerus",null,0,null," "]
[{"$f":"A1168+1","v":3438},-483,485,484,null,null,null,null,null,null,null,null,null,null,"Xerxes I / Ahasuerus",null,1,null," "]
[null,-482,null,"",null,null,null,null,null,null,null," ",null,null,"Xerxes I / Ahasuerus",null,1,null," "]
[{"$f":"A1170+1","v":3439},-482,484,483,null,null,null,null,null,null,null,null,null,null,"Xerxes I / Ahasuerus",null,2,null," "]
[null,-481,null,"",null,null,null,null,null,null,null," ",null,null,"Xerxes I / Ahasuerus",null,2,null," "]
[{"$f":"A1172+1","v":3440},-481,483,482,null,null,null,null,null,null,null,null,null,null,"Xerxes I / Ahasuerus",null,3,null," "]
[null,-480,null,"",null,null,null,null,null,null,null," ",null,null,"Xerxes I / Ahasuerus",null,3,null," "]
[{"$f":"A1174+1","v":3441},-480,482,481,null,null,null,null,null,null,null,null,null,null,"Xerxes I / Ahasuerus",null,4,null," "]
[null,-479,null,"",null,null,null,null,null,null,null," ",null,null,"Xerxes I / Ahasuerus",null,4,null," "]
[{"$f":"A1176+1","v":3442},-479,481,480,null,"\"-377, Ramses III, Diodorus, Chabrias, & Iphicrates\": \"…the fighting of Egyptian soldiers and marines against the combined forces of the Pereset and the Peoples of the Sea-all this is pictured in bas-relief by Ramses III and is also described by Diodorus, who tells in detail how in the year -377 the pharaoh revolted against the Persian overlordship and invited the Athenian admiral Chabrias and his mercenaries to his service, in which they helped to eject the Persians from the land: but the Athenians recalled Chabrias and his troops and sent Iphicrates to help the Persians in their war against the Egyptians...\"  (Peoples of the Sea, p.100:3.)",null,null,null,null,null,null,null,null,"Xerxes I / Ahasuerus",null,5,null," "]
[null,-478,null,"",null,null,null,null,null,null,null," ",null,null,"Xerxes I / Ahasuerus",null,5,null," "]
[{"$f":"A1178+1","v":3443},-478,480,479,null,null,null,null,null,null,null,null,null,null,"Xerxes I / Ahasuerus",null,6,null," "]
[null,-477,null,"",null,null,null,null,null,null,null," ",null,null,"Xerxes I / Ahasuerus",null,6,null," "]
[{"$f":"A1180+1","v":3444},-477,479,478,null,null,null,null,null,null,null,null,null,null,"Xerxes I / Ahasuerus",null,7,null," "]
[null,-476,null,"",null,null,null,null,null,null,null," ",null,null,"Xerxes I / Ahasuerus",null,7,null," "]
[{"$f":"A1182+1","v":3445},-476,478,477,null,"\"-374\": \"Here [in the Elephantine papyri (PotS p.64:5)] we have proof from the hand of Ramses III that the Jewish military colony still existed in Egypt in -374, that its members were loyal to Egyptian interests, and that in a time of emergency they were shifted from the quiet south to the threatened eastern frontier.\" (Peoples of the Sea, page 65:2.)",null,null,null,null,null,null,null,null,"Xerxes I / Ahasuerus",null,8,null," "]
[null,-475,null,"",null,null,null,null,null,null,null," ",null,null,"Xerxes I / Ahasuerus",null,8,null," "]
[{"$f":"A1184+1","v":3446},-475,477,476,null,null,null,null,null,null,null,null,null,null,"Xerxes I / Ahasuerus",null,9,null," "]
[null,-474,null,"",null,null,null,null,null,null,null," ",null,null,"Xerxes I / Ahasuerus",null,9,null," "]
[{"$f":"A1186+1","v":3447},-474,476,475,null,null,null,null,null,null,null,null,null,null,"Xerxes I / Ahasuerus",null,10,null," "]
[null,{"$f":"B1187+1","v":-473},null,"",null,null,null,null,null,null,null," ",null,null,"Xerxes I / Ahasuerus",null,10,null," "]
[{"$f":"A1188+1","v":3448},-473,475,474,null,null,null,null,null,null,null,null,null,null,"Xerxes I / Ahasuerus",null,11,null," "]
[null,-472,null,"",null,null,null,null,null,null,null," ",null,null,"Xerxes I / Ahasuerus",null,11,null," "]
[{"$f":"A1190+1","v":3449},-472,474,473,null,"\"-370\": \"…the temple of Medinet Habu… was erected… about -370, and therefore, unlike the earlier temples and palaces, it did not suffer destruction at the hands of Assurbanipal or Cambyses.\" (Peoples of the Sea p. 77:2.)",null,null,null,null,null,null,null,null,"Xerxes I / Ahasuerus",null,12,null,"The original Purim event: In the 12th month, Adar:  \n \nEst 9:1  Now in the twelfth month, that is, the month Adar, on the thirteenth day of the same, when the king's commandment and his decree drew near to be put in execution, in the day that the enemies of the Jews hoped to have power over them, (though it was turned to the contrary, that the Jews had rule over them that hated them;) \n \n \nRe the power of Mordecai the Jew: \n \nEst 9:3  And all the rulers of the provinces, and the lieutenants, and the deputies, and officers of the king, helped the Jews; because the fear of Mordecai fell upon them. \nEst 9:4  For Mordecai was great in the king's house, and his fame went out throughout all the provinces: for this man Mordecai waxed greater and greater.  \n \nEst 10:2  And all the acts of his power and of his might, and the declaration of the greatness of Mordecai, whereunto the king advanced him, are they not written in the book of the chronicles of the kings of Media and Persia? \nEst 10:3  For Mordecai the Jew was next unto king Ahasuerus, and great among the Jews, and accepted of the multitude of his brethren, seeking the wealth of his people, and speaking peace to all his seed. "]
[null,-471,null,"",null,null,null,null,null,null,null," ",null,null,"Xerxes I / Ahasuerus",null,12,null," "]
[{"$f":"A1192+1","v":3450},-471,473,472,null,null,null,null,null,null,null,null,null,null,"Xerxes I / Ahasuerus",null,13,null," "]
[null,-470,null,"",null,null,null,null,null,null,null," ",null,null,"Xerxes I / Ahasuerus",null,13,null," "]
[{"$f":"A1194+1","v":3451},-470,472,471,null,null,null,null,null,null,null,null,null,null,"Xerxes I / Ahasuerus",null,14,null," "]
[null,-469,null,"",null,null,null,null,null,null,null," ",null,null,"Xerxes I / Ahasuerus",null,14,null," "]
[{"$f":"A1196+1","v":3452},-469,471,470,null,null,null,null,null,null,null,null,null,null,"Xerxes I / Ahasuerus",null,15,null," "]
[null,-468,null,"",null,"\"-367 or -366\": \"It was calculated that Eudoxus went to Nectanebo in the year 367 or 366… This permits us to refer the inscription at Medinet Habu to the days of Ramses III (Nectanebo) and still identify the \"little one\" with Agesilaus. We know that the Athenian admiral Chiabrias also twice went to Egypt to participate in military actions, first for Nectanebo and the second time for Tachos.\"  (Peoples of the Sea, p.84-5:footnote 5.)",null,null,null,null,null," ",null,null,"Xerxes I / Ahasuerus",null,15,null," "]
[{"$f":"A1198+1","v":3453},-468,470,469,null,null,null,null,null,null,null,null,null,null,"Xerxes I / Ahasuerus",null,16,null," "]
[null,-467,null,"",null,null,null,null,null,null,null," ",null,null,"Xerxes I / Ahasuerus",null,16,null," "]
[{"$f":"A1200+1","v":3454},-467,469,468,null,null,null,null,null,null,null,null,null,null,"Xerxes I / Ahasuerus",null,17,null," "]
[null,-466,null,"",null,null,null,null,null,null,null," ",null,null,"Xerxes I / Ahasuerus",null,17,null," "]
[{"$f":"A1202+1","v":3455},-466,468,467,null,null,null,null,null,null,null,null,null,null,"Xerxes I / Ahasuerus",null,{"$f":"Q1202+1","v":18},null," "]
[null,-465,null,"",null,null,null,null,null,null,null," ",null,null,"Xerxes I / Ahasuerus",null,18,null," "]
[{"$f":"A1204+1","v":3456},-465,467,466,null,null,null,null,null,null,null,null,null,null,"Xerxes I / Ahasuerus",null,19,null," "]
[null,-464,null,"",null,null,null,null,null,null,null," ",null,null,"Xerxes I / Ahasuerus",null,19,null," "]
[{"$f":"A1206+1","v":3457},-464,466,465,null,null,null,null,null,null,null,null,null,null,"Xerxes I / Ahasuerus",null,20,null," "]
[null,-463,null,"",null,null,null,null,null,null,null," ",null,null,"Xerxes I / Ahasuerus",null,20,null," "]
[{"$f":"A1208+1","v":3458},-463,465,464,null,null,null,null,null,null,null,null,null,null,"Artaxerxes I",null,0,null," "]
[null,-462,null,"",null,null,null,null,null,null,null," ",null,null,"Artaxerxes I",null,0,null," "]
[{"$f":"A1210+1","v":3459},-462,464,463,null,null,null,null,null,null,null,null,null,null,"Artaxerxes I",null,1,null," "]
[null,-461,null,"",null,null,null,null,null,null,null," ",null,null,"Artaxerxes I",null,1,null," "]
[{"$f":"A1212+1","v":3460},-461,463,462,null,"\"-359\": \"When Artaxerxes II died (-359), his son Ochus was proclaimed king under the name ofArtaxerxes III.\" (Peoples of the Sea, p.82:2.)",null,null,null,null,null,null,null,null,"Artaxerxes I",null,2,null," "]
[null,-460,null,"",null,null,null,null,null,null,null," ",null,null,"Artaxerxes I",null,2,null," "]
[{"$f":"A1214+1","v":3461},-460,462,461,null,null,null,null,null,null,null,null,null,null,"Artaxerxes I",null,3,null," "]
[null,-459,null,"",null,null,null,null,null,null,null," ",null,null,"Artaxerxes I",null,3,null," "]
[{"$f":"A1216+1","v":3462},-459,461,460,null,null,null,null,null,null,null,null,null,null,"Artaxerxes I",null,4,null," "]
[null,-458,null,"",null,null,null,null,null,null,null," ",null,null,"Artaxerxes I",null,4,null," "]
[{"$f":"A1218+1","v":3463},-458,460,459,null,null,null,null,null,null,null,null,null,null,"Artaxerxes I",null,5,null," "]
[null,-457,null,"",null,null,null,null,null,null,null," ",null,null,"Artaxerxes I",null,5,null," "]
[{"$f":"A1220+1","v":3464},-457,{"$f":"C1220-1","v":459},458,null,null,null,null,null,null,null,null,null,null,"Artaxerxes I",null,6,null," "]
[null,-456,null,"",null,null,null,null,null,null,null," ",null,null,"Artaxerxes I",null,6,null," "]
[{"$f":"A1222+1","v":3465},-456,458,{"$f":"IF(C1224<>\"\",IF(C1224=C1225,\"\",IF(C1224=D1223,IF(C1224=C1225+1,C1224-1,\"\"),C1224-1)),\"\")","v":457},null,null,null,null,null,null,null,null,null,null,"Artaxerxes I",null,7,null," "]
[null,-455,null,"",null,null,null,null,null,null,null," ",null,null,"Artaxerxes I",null,7,null," "]
[{"$f":"A1224+1","v":3466},-455,457,456,null,null,null,null,null,null,null,null,null,null,"Artaxerxes I",null,8,null," "]
[null,-454,null,"",null,null,null,null,null,null,null," ",null,null,"Artaxerxes I",null,8,null," "]
[{"$f":"A1226+1","v":3467},-454,456,455,null,null,null,null,null,null,null,null,null,null,"Artaxerxes I",null,9,null," "]
[null,-453,null,"",null,null,null,null,null,null,null," ",null,null,"Artaxerxes I",null,9,null," "]
[{"$f":"A1228+1","v":3468},-453,455,454,null,null,null,null,null,null,null,null,null,null,"Artaxerxes I",null,10,null," "]
[null,-452,null,"",null,null,null,null,null,null,null," ",null,null,"Artaxerxes I",null,10,null," "]
[{"$f":"A1230+1","v":3469},-452,454,453,null,"\"Between... -350… and -343\": \"Between the first unsuccessful campaign of Artaxerxes (III) Ochus against Egypt in -350 and the second, successful campaign in -343, Palestine was in the domain of Nectanebo II (Ramses VI)…\"  (Peoples of the Sea, p.87:6.)",null,null,null,null,null,null,null,null,"Artaxerxes I",null,11,null," "]
[null,-451,null,"",null,null,null,null,null,null,null," ",null,null,"Artaxerxes I",null,11,null," "]
[{"$f":"A1232+1","v":3470},-451,453,452,null,null,null,null,null,null,null,null,null,null,"Artaxerxes I",null,12,null," "]
[null,-450,null,"",null,null,null,null,null,null,null," ",null,null,"Artaxerxes I",null,12,null," "]
[{"$f":"A1234+1","v":3471},-450,452,451,null,null,null,null,null,null,null,null,null,null,"Artaxerxes I",null,13,null," "]
[null,-449,null,"",null,null,null,null,null,null,null," ",null,null,"Artaxerxes I",null,13,null," "]
[{"$f":"A1236+1","v":3472},-449,451,450,null,null,null,null,null,null,null,null,null,null,"Artaxerxes I",null,14,null," "]
[null,-448,null,"",null,null,null,null,null,null,null," ",null,null,"Artaxerxes I",null,14,null," "]
[{"$f":"A1238+1","v":3473},-448,450,449,null,null,null,null,null,null,null,null,null,null,"Artaxerxes I",null,15,null," "]
[null,-447,null,"",null,null,null,null,null,null,null," ",null,null,"Artaxerxes I",null,15,null," "]
[{"$f":"A1240+1","v":3474},-447,449,448,null,null,null,null,null,null,null,null,null,null,"Artaxerxes I",null,16,null," "]
[null,-446,null,"",null,null,null,null,null,null,null," ",null,null,"Artaxerxes I",null,16,null," "]
[{"$f":"A1242+1","v":3475},-446,448,447,null,null,null,null,null,null,null,null,null,null,"Artaxerxes I",null,17,null," "]
[null,-445,null,"",null,null,null,null,null,null,null," ",null,null,"Artaxerxes I",null,17,null," "]
[{"$f":"A1244+1","v":3476},-445,447,446,null,{"$f":"F1232","v":"\"Between... -350… and -343\": \"Between the first unsuccessful campaign of Artaxerxes (III) Ochus against Egypt in -350 and the second, successful campaign in -343, Palestine was in the domain of Nectanebo II (Ramses VI)…\"  (Peoples of the Sea, p.87:6.)"},null,null,null,null,null,null,null,null,"Artaxerxes I",null,18,null," "]
[null,-444,null,"",null,{"$f":"F4","v":"Velikovsky’s “…nomenclature for the Egyptian dysasties.\n The Middle Kingdom of Egypt (the division into Eleventh and Twelfth Dynasties is unnecessary) came to its end in a natural catastrophe in the mid-fifteenth century before the present era; the land was invaded by the Arabs (Amalekites, known as Amu to the Egyptians, or as Hyksos to Greek authors). The Arab Dynasty ruled for over four hundred years, till about -1020. Already before that date there were vassal princes in Thebes. The Arab domination of Egypt was terminated by the united efforts of Saul of Israel and Kamose and Ahmose of Thebes. For the next (almost) two hundred years (ca. -1200 to ca. -830) the land was ruled by the Theban Dynasty (known as the Eighteenth) of Thutmoses and Amenhoteps. Close to the end of that period, Akhnaton moved the capi9tal to Akhet-Aton (el-Amarna) but Thebes was soon restored as the capital under Smenkhkare and Ay.\n The Theban period was followed by the Libyan domination of Sosenks [= Shoshenk, cf. Ages in Chaos, p. 174-176] and Osorkons for over one hundred years (ca. -830 to ca. -720). Next came the Ethiopian rule that endured for fifty or sixty years; however, at the same time the Assyrians pressed from the north and the land was occupied repeatedly by Sennacherib (who crowned Haremheb), Esarhaddon, and Assurbanipal (who elevated Necho I-Rameses I to be a vassal king). When Necho was killed by invading Ethiopians, Assurbanipal once more occupied Thebes (-663).\n The period of the Tanitic Dynasty follows: Seti (Psammetich of the Greek authors), son of Ramses I (Necho I), obtained independence from Assurbanipal and acted as his ally in his wars against the Chaldeans and Medes, Seti’s capital was in Tanis in the Delta, The Tanitic Dynasty endured from -663 to -525. After Seti reigned Ramses II (Necho II), his son, who for a lengthy period had been Seti’s co-ruler. He carried on a prolonged war with Nebuchadnezzar, the Chaldean. Ramses’ heir Merneptah (Hophra of Jeremiah and Apries of Herodutus) lost the throne to a rebel, General Amasis, the latter reigned in peace for over forty years and died when Cambyses the Persian was already on his march of conquest toward Egypt.\n From -525 to -332, for close to two hundred years, Egypt was dominated by the Persian kings (Cambyses, Darius, Xerxes, Artaxerxes I, Darius II, Artaxerxes II and III); some of them were crowned also as Egyptian pharaohs; they kept native governors in Egypt like Psamshek or Nekht-hor.\n In the fourth century, during the reigns of Artaxerxer II and Artaxerxes III, Egypt achieved a measure of independence comparable to the independence the Greek states maintained during thetime of the Great Kings of Persia.  Nepherites, Acoris, Nectanebo I (Ramses III), Tachos, and Nectanebo II were the indigenous kings of that period and they could be termed Native Kings or, if preferred, Sebennytic Dynasty, for the place of origin of the most famous of them. At the same time a Priestly Dynasty established already by Darius II (about -420) ruled in the military outposts-the oases of the Libyan desert. Thjey continued there till past -300.\n The Persians succeeded in -343 to reconquering Egypt, Nectanebo II escaping to the Sudan, but ten years later Egypt received Alexander as its liberator (-332). The Macedonian Dynasty endured three hundred years, with the Ptolemies on the throne till Cleopatra’s suicide in -30. Thereafter the Roman caesars ruled Egypt.\n This order of dynastic succession, relieved of thenumbered dynasties, is simple to comprehend: Arab, Theban, Libyan, Ethiopian (repeatedly interrupted by Assyrian conquests), Tanitic, Persian (partly Sebennytic), and Macedonian Dynasties in this sequence. As can readily be seen, for most of the fourteen hundred years (ca. -1450 to -30), Egypt was ruled by foreigners: the three periods when it was ruled by native kings were under the Theban (-1020 to -830), the Tanitic (-663 to -525), and the Sebennytic (ca. -391 to -341) Dynasties, altogether something like 380 years out of 1420.” (Peoples of the Sea, p. 194:2-195:end.)\n"},null,null,null,null,null," ",null,null,"Artaxerxes I",null,18,null," "]
[{"$f":"A1246+1","v":3477},-444,446,445,null,null,null,null,null,null,null,null,null,null,"Artaxerxes I",null,19,null," "]
[null,-443,null,"",null,null,null,null,null,null,null," ",null,null,"Artaxerxes I",null,19]
[{"$f":"A1248+1","v":3478},-443,445,444,null,{"$f":"F4","v":"Velikovsky’s “…nomenclature for the Egyptian dysasties.\n The Middle Kingdom of Egypt (the division into Eleventh and Twelfth Dynasties is unnecessary) came to its end in a natural catastrophe in the mid-fifteenth century before the present era; the land was invaded by the Arabs (Amalekites, known as Amu to the Egyptians, or as Hyksos to Greek authors). The Arab Dynasty ruled for over four hundred years, till about -1020. Already before that date there were vassal princes in Thebes. The Arab domination of Egypt was terminated by the united efforts of Saul of Israel and Kamose and Ahmose of Thebes. For the next (almost) two hundred years (ca. -1200 to ca. -830) the land was ruled by the Theban Dynasty (known as the Eighteenth) of Thutmoses and Amenhoteps. Close to the end of that period, Akhnaton moved the capi9tal to Akhet-Aton (el-Amarna) but Thebes was soon restored as the capital under Smenkhkare and Ay.\n The Theban period was followed by the Libyan domination of Sosenks [= Shoshenk, cf. Ages in Chaos, p. 174-176] and Osorkons for over one hundred years (ca. -830 to ca. -720). Next came the Ethiopian rule that endured for fifty or sixty years; however, at the same time the Assyrians pressed from the north and the land was occupied repeatedly by Sennacherib (who crowned Haremheb), Esarhaddon, and Assurbanipal (who elevated Necho I-Rameses I to be a vassal king). When Necho was killed by invading Ethiopians, Assurbanipal once more occupied Thebes (-663).\n The period of the Tanitic Dynasty follows: Seti (Psammetich of the Greek authors), son of Ramses I (Necho I), obtained independence from Assurbanipal and acted as his ally in his wars against the Chaldeans and Medes, Seti’s capital was in Tanis in the Delta, The Tanitic Dynasty endured from -663 to -525. After Seti reigned Ramses II (Necho II), his son, who for a lengthy period had been Seti’s co-ruler. He carried on a prolonged war with Nebuchadnezzar, the Chaldean. Ramses’ heir Merneptah (Hophra of Jeremiah and Apries of Herodutus) lost the throne to a rebel, General Amasis, the latter reigned in peace for over forty years and died when Cambyses the Persian was already on his march of conquest toward Egypt.\n From -525 to -332, for close to two hundred years, Egypt was dominated by the Persian kings (Cambyses, Darius, Xerxes, Artaxerxes I, Darius II, Artaxerxes II and III); some of them were crowned also as Egyptian pharaohs; they kept native governors in Egypt like Psamshek or Nekht-hor.\n In the fourth century, during the reigns of Artaxerxer II and Artaxerxes III, Egypt achieved a measure of independence comparable to the independence the Greek states maintained during thetime of the Great Kings of Persia.  Nepherites, Acoris, Nectanebo I (Ramses III), Tachos, and Nectanebo II were the indigenous kings of that period and they could be termed Native Kings or, if preferred, Sebennytic Dynasty, for the place of origin of the most famous of them. At the same time a Priestly Dynasty established already by Darius II (about -420) ruled in the military outposts-the oases of the Libyan desert. Thjey continued there till past -300.\n The Persians succeeded in -343 to reconquering Egypt, Nectanebo II escaping to the Sudan, but ten years later Egypt received Alexander as its liberator (-332). The Macedonian Dynasty endured three hundred years, with the Ptolemies on the throne till Cleopatra’s suicide in -30. Thereafter the Roman caesars ruled Egypt.\n This order of dynastic succession, relieved of thenumbered dynasties, is simple to comprehend: Arab, Theban, Libyan, Ethiopian (repeatedly interrupted by Assyrian conquests), Tanitic, Persian (partly Sebennytic), and Macedonian Dynasties in this sequence. As can readily be seen, for most of the fourteen hundred years (ca. -1450 to -30), Egypt was ruled by foreigners: the three periods when it was ruled by native kings were under the Theban (-1020 to -830), the Tanitic (-663 to -525), and the Sebennytic (ca. -391 to -341) Dynasties, altogether something like 380 years out of 1420.” (Peoples of the Sea, p. 194:2-195:end.)\n"},null,null,null,null,null,null,null,null,"Artaxerxes I",null,20,null,"The 20th - 32nd year of Artaxerxes the king of Babylon (cf. Neh. 13:6): The 20th year, the 9th, 1st, and 6 months (in that order!): \"The words of Nehemiah the son of Hachaliah. And it came to pass in the month Chisleu [the 9th month], in the twentieth year, as I was in Shushan the palace... And it came to pass in the month Nisan [the 1st month], in the twentieth year of Artaxerxes the king, that wine was before him: and I took up the wine and gave it unto the king. Now I had not been beforetime sad in his presence. Wherefore the king said unto me, Why is thy countenance sad, seeing thou art not sick? this is nothing else but sorrow of heart. Then I was very sore afraid, And said unto the king, Let the king live for ever: why should not my countenance be sad, when the city, the place of my fathers' sepulchres, lieth waste, and the gates thereof are consumed with fire? Then the king said unto me, For what dost thou make request? So I prayed to the God of heaven. And I said unto the king, If it please the king, and if thy servant have found favour in thy sight, that thou wouldest send me unto Judah, unto the city of my fathers' sepulchres, that I may build it. And the king said unto me, (the queen also sitting by him,) For how long shall thy journey be? and when wilt thou return? So it pleased the king to send me; and I set him a time... So the wall was finished in the twenty and fifth day of the month Elul [the 6th month], in fifty and two days...\" Neh. 1:1; 2:1-6; 6:15 (KJV). \"More over from the time that I was appointed to be their governor in the land of Judah, from the twentieth year even unto the two and thirtieth year of Artaxerxes the king, that is, twelve years, I and my brethren have not eaten the bread of the governor...\" Neh. 5:14 (KJV).  NOTICE> In this introductory passage of Nehemiah the 9th month occurs before the 1st month, both within the 20th year of Artaxerxes!  From the subsequent year, upon reading from the book of Moses, the dating appears to change such that from then the date appears on the format \"the seventh month\"!  NOTICE> Clearly the time references of Nehemiah are the same as those of Ezra, i.e. 'year of king Artaxerxes of Babylon' - one and the same king!  Notice the references to multiple events where both Nehemiah and Ezra, the priest/scribe, officiated, e.g. Neh. 8:1,9; 10:1  NOTICE> These events gives evidence of severe social amnesia re the calendar as well as of annual holidays/feasts.  Clearly the trauma of family separations had its predictable consequences - they had missed the point, i.e. sinned!"]
[null,-442,null,"",null,null,null,null,null,null,null," ",null,null,"Artaxerxes I",null,20,null,"\"So the wall was finished in the twenty and fifth day of the month Elul [the 6th month], in fifty and two days… Now it came to pass, when the wall was built, and I had set up the doors, and the porters and the singers and the Levites were appointed…\" Neh. 6:15; 7:1 (KJV).   \n  \nThe 21st year (or still the 20th?) of Artaxerxes, the 7th month, days 1, 2, and 24th: \"And when the seventh month came, the children of Israel were in their cities. And all the people gathered themselves together as one man into the street that was before the water gate; and they spake unto Ezra the scribe to bring the book of the law of Moses, which the Lord had commanded to Israel. And Ezra the priest brought the law before the congregation both of men and women, and all that could hear with understanding, upon the first day of the seventh month... And Nehemiah, which is the Tirshatha, and Ezra the priest the scribe, and the Levites that taught the people, said unto all the people, This day is holy unto the Lord your God; mourn not, nor weep... And on the second day were gathered together the chief of the fathers of all the people, the priests, and the Levites, unto Ezra the scribe, even to understand the words of the law. And they found written in the law which the Lord had commanded by Moses, that the children of Israel should dwell in booths in the feast of the seventh month... And they kept the feast seven days; and on the eighth day was a solemn assembly... Now in the twenty and fourth day of this month the children of Israel were assembled with fasting, and with sackclothes, and earth upon them...\" Neh. 7:73; 8:1-2,9,13-14,18; 9:1 (KJV)."]
[{"$f":"A1250+1","v":3479},-442,444,443,null,null,null,null,null,null,null,null,null,null,"Artaxerxes I",null,21,null,"The 21st year (or still the 20th?) of Artaxerxes, the 7th month, days 1, 2, and 24th: \"And when the seventh month came, the children of Israel were in their cities. And all the people gathered themselves together as one man into the street that was before the water gate; and they spake unto Ezra the scribe to bring the book of the law of Moses, which the Lord had commanded to Israel. And Ezra the priest brought the law before the congregation both of men and women, and all that could hear with understanding, upon the first day of the seventh month... And Nehemiah, which is the Tirshatha, and Ezra the priest the scribe, and the Levites that taught the people, said unto all the people, This day is holy unto the Lord your God; mourn not, nor weep... And on the second day were gathered together the chief of the fathers of all the people, the priests, and the Levites, unto Ezra the scribe, even to understand the words of the law. And they found written in the law which the Lord had commanded by Moses, that the children of Israel should dwell in booths in the feast of the seventh month... And they kept the feast seven days; and on the eighth day was a solemn assembly... Now in the twenty and fourth day of this month the children of Israel were assembled with fasting, and with sackclothes, and earth upon them...\" Neh. 7:73; 8:1-2,9,13-14,18; 9:1 (KJV)."]
[null,{"$f":"B1251+1","v":-441},null,"",null,null,null,null,null,null,null," ",null,null,"Artaxerxes I",null,21,null,"\"And at the dedication of the wall of Jerusalem… On that day they read in the book of Moses in the audience of the people; and therein was found written, that the Ammonite and the Moabite should not come into the congregation of God for ever…\" Neh. 12:27, 13:1 (KJV).  NOTICE> Could it be that the dedication of the wall was delayed pending the beginning of the Sacred Year and Passover?  Is such a situation indicated by the chronolgy of the record as written in Nehemiah?"]
[{"$f":"A1252+1","v":3480},-441,443,442,null,null,null,null,null,null,null,null,null,null,"Artaxerxes I",null,22]
[null,-440,null,"",null,null,null,null,null,null,null," ",null,null,"Artaxerxes I",null,22]
[{"$f":"A1254+1","v":3481},-440,442,441,null,"-338 & -336; End of Artaxerxes III & beginning of Darius III: \"It is sometimes said that it was not Alexander who brought the Persian Empire to its down fall but the eunuch and royal confidant, Bogoaz, who poisoned Artaxerxes III (-338), in order to place the  latter's son on the throne, but after a while, observing a spirit of independence in the youth, poisoned him, too, thus nearly terminating the Achaemenid Dynasty. A distant relative of the last king was searched out by the eunuch and placed on the throne as Darius III (-336).  To secure his own life, Darius quickly poisoned the man who had made him king. But the three years of his reign were insufficient to consolidate the empire, establish his own authority, and bring the satraps to obedience. From the Ionian shore of Asia Minor to Turkestan in Central Asia, from the river Indus to the cataracts on the Nile, the empire was reeling: its entire structure had always converged on the person of the Great King, and the wave of palace assassinations undermined the boherence of the whole. (Peoples of the Sea, page 162:2.)",null,null,null,null,null,null,null,null,"Artaxerxes I",null,23,null," "]
[null,-439,null,"",null,"",null,null,null,null,null,null,null,null,"Artaxerxes I",null,23,null," "]
[{"$f":"A1256+1","v":3482},-439,441,440,null,null,null,null,null,null,null,null,null,null,"Artaxerxes I",null,24,null," "]
[null,-438,null,"",null,null,null,null,null,null,null,null,null,null,"Artaxerxes I",null,24,null," "]
[{"$f":"A1258+1","v":3483},-438,440,439,null,{"$f":"F1256","v":"-338 & -336; End of Artaxerxes III & beginning of Darius III: \"It is sometimes said that it was not Alexander who brought the Persian Empire to its down fall but the eunuch and royal confidant, Bogoaz, who poisoned Artaxerxes III (-338), in order to place the  latter's son on the throne, but after a while, observing a spirit of independence in the youth, poisoned him, too, thus nearly terminating the Achaemenid Dynasty. A distant relative of the last king was searched out by the eunuch and placed on the throne as Darius III (-336).  To secure his own life, Darius quickly poisoned the man who had made him king. But the three years of his reign were insufficient to consolidate the empire, establish his own authority, and bring the satraps to obedience. From the Ionian shore of Asia Minor to Turkestan in Central Asia, from the river Indus to the cataracts on the Nile, the empire was reeling: its entire structure had always converged on the person of the Great King, and the wave of palace assassinations undermined the boherence of the whole. (Peoples of the Sea, page 162:2.)"},null,null,null,null,null,null,null,null,"Artaxerxes I",null,25,null," "]
[null,-437,null,"",null,null,null,null,null,null,null,null,null,null,"Artaxerxes I",null,25,null," "]
[{"$f":"A1260+1","v":3484},-437,439,438,null,null,null,null,null,null,null,null,null,null,"Artaxerxes I",null,26,null," "]
[null,-436,null,"",null,null,null,null,null,null,null,null,null,null,"Artaxerxes I",null,26,null," "]
[{"$f":"A1262+1","v":3485},-436,438,437,null,"-334 & -333; Alexander's war against Darius III:  \"The epic of Alexander's war against Darius III, with the famous battles at Granicus (-334) and Issus (-333), is well known and there is nothing that the present reconstruction can add or needs to alter...\" (Peoples of the Sea, page 162:4.)",null,null,null,null,null,null,null,null,"Artaxerxes I",null,27,null," "]
[null,-435,null,"",null,null,null,null,null,null,null,null,null,null,"Artaxerxes I",null,27,null," "]
[{"$f":"A1264+1","v":3486},-435,437,436,null,{"$f":"F1264","v":"-334 & -333; Alexander's war against Darius III:  \"The epic of Alexander's war against Darius III, with the famous battles at Granicus (-334) and Issus (-333), is well known and there is nothing that the present reconstruction can add or needs to alter...\" (Peoples of the Sea, page 162:4.)"},null,null,null,null,null,null,null,null,"Artaxerxes I",null,28,null," "]
[null,-434,null,"",null,null,null,null,null,null,null,null,null,null,"Artaxerxes I",null,28,null," "]
[{"$f":"A1266+1","v":3487},-434,436,435,null,"-332 Alexander in Egypt: \"These generations cover the period from the travel of Wenamon in -419 to the advent of Alexander in Egypt (-332), or eighty seven years.\"  (Peoples of the Sea, p. 141:3.) \"In the fall of -332 Alexander crossed the desert and came to Egypt...\" (Peoples of the Sea, p.163:1.)",null,null,null,null,null,null,null,null,"Artaxerxes I",null,{"$f":"Q1266+1","v":29},null," "]
[null,-433,null,"",null,{"$f":"F4","v":"Velikovsky’s “…nomenclature for the Egyptian dysasties.\n The Middle Kingdom of Egypt (the division into Eleventh and Twelfth Dynasties is unnecessary) came to its end in a natural catastrophe in the mid-fifteenth century before the present era; the land was invaded by the Arabs (Amalekites, known as Amu to the Egyptians, or as Hyksos to Greek authors). The Arab Dynasty ruled for over four hundred years, till about -1020. Already before that date there were vassal princes in Thebes. The Arab domination of Egypt was terminated by the united efforts of Saul of Israel and Kamose and Ahmose of Thebes. For the next (almost) two hundred years (ca. -1200 to ca. -830) the land was ruled by the Theban Dynasty (known as the Eighteenth) of Thutmoses and Amenhoteps. Close to the end of that period, Akhnaton moved the capi9tal to Akhet-Aton (el-Amarna) but Thebes was soon restored as the capital under Smenkhkare and Ay.\n The Theban period was followed by the Libyan domination of Sosenks [= Shoshenk, cf. Ages in Chaos, p. 174-176] and Osorkons for over one hundred years (ca. -830 to ca. -720). Next came the Ethiopian rule that endured for fifty or sixty years; however, at the same time the Assyrians pressed from the north and the land was occupied repeatedly by Sennacherib (who crowned Haremheb), Esarhaddon, and Assurbanipal (who elevated Necho I-Rameses I to be a vassal king). When Necho was killed by invading Ethiopians, Assurbanipal once more occupied Thebes (-663).\n The period of the Tanitic Dynasty follows: Seti (Psammetich of the Greek authors), son of Ramses I (Necho I), obtained independence from Assurbanipal and acted as his ally in his wars against the Chaldeans and Medes, Seti’s capital was in Tanis in the Delta, The Tanitic Dynasty endured from -663 to -525. After Seti reigned Ramses II (Necho II), his son, who for a lengthy period had been Seti’s co-ruler. He carried on a prolonged war with Nebuchadnezzar, the Chaldean. Ramses’ heir Merneptah (Hophra of Jeremiah and Apries of Herodutus) lost the throne to a rebel, General Amasis, the latter reigned in peace for over forty years and died when Cambyses the Persian was already on his march of conquest toward Egypt.\n From -525 to -332, for close to two hundred years, Egypt was dominated by the Persian kings (Cambyses, Darius, Xerxes, Artaxerxes I, Darius II, Artaxerxes II and III); some of them were crowned also as Egyptian pharaohs; they kept native governors in Egypt like Psamshek or Nekht-hor.\n In the fourth century, during the reigns of Artaxerxer II and Artaxerxes III, Egypt achieved a measure of independence comparable to the independence the Greek states maintained during thetime of the Great Kings of Persia.  Nepherites, Acoris, Nectanebo I (Ramses III), Tachos, and Nectanebo II were the indigenous kings of that period and they could be termed Native Kings or, if preferred, Sebennytic Dynasty, for the place of origin of the most famous of them. At the same time a Priestly Dynasty established already by Darius II (about -420) ruled in the military outposts-the oases of the Libyan desert. Thjey continued there till past -300.\n The Persians succeeded in -343 to reconquering Egypt, Nectanebo II escaping to the Sudan, but ten years later Egypt received Alexander as its liberator (-332). The Macedonian Dynasty endured three hundred years, with the Ptolemies on the throne till Cleopatra’s suicide in -30. Thereafter the Roman caesars ruled Egypt.\n This order of dynastic succession, relieved of thenumbered dynasties, is simple to comprehend: Arab, Theban, Libyan, Ethiopian (repeatedly interrupted by Assyrian conquests), Tanitic, Persian (partly Sebennytic), and Macedonian Dynasties in this sequence. As can readily be seen, for most of the fourteen hundred years (ca. -1450 to -30), Egypt was ruled by foreigners: the three periods when it was ruled by native kings were under the Theban (-1020 to -830), the Tanitic (-663 to -525), and the Sebennytic (ca. -391 to -341) Dynasties, altogether something like 380 years out of 1420.” (Peoples of the Sea, p. 194:2-195:end.)\n"},null,null,null,null,null,null,null,null,"Artaxerxes I",null,29,null," "]
[{"$f":"A1268+1","v":3488},-433,435,434,null,"-331 Alexander leaves Egypt: \"…left Egypt in the early spring of -331\"  (Peoples of the Sea, p.163:2.)  \"Si-Amon lived and died under the Ptolemies, seven hundred years after Solomon. He entombed Peinuzem II, son of Menkheperre; Menkheperre, as we demonstrated, received Alexander in the temple of the oracle in the oasis in the year -331. Thus we arrived at the conclusion that Si-Amon lived under the Ptolemies.\"  (Peoples of the Sea, p. 186:2.)",null,null,null,null,null,null,null,null,"Artaxerxes I",null,30,null," "]
[null,-432,null,"",null,null,null,null,null,null,null,null,null,null,"Artaxerxes I",null,30,null," "]
[{"$f":"A1270+1","v":3489},-432,434,433,null,null,null,null,null,null,null,null,null,null,"Artaxerxes I",null,31,null," "]
[null,-431,null,"",null,null,null,null,null,null,null,null,null,null,"Artaxerxes I",null,31]
[{"$f":"A1272+1","v":3490},-431,433,432,null,null,null,null,null,null,null,null,null,null,"Artaxerxes I",null,32,null,"The 32nd year of Artaxerxes king of Babylon [Artaxerxes is a title similar to the title 'Pharaoh' applied here to Darius(?)]: \"But in all this time was not I at Jerusalem: for in the two and thirtieth year of Artaxerxes king of Babylon came I unto the king, and after certain days obtained I leave of the king: And I came to Jerusalem, and understood of the evil that Eliashib did for Tobiah, in preparing him a chamber in the courts of the house of God\" Neh. 13:6-7 (KJV)."]
[null,-430,null,"",null,null,null,null,null,null,null,null,null,null,"Artaxerxes I",null,32,null," "]
[{"$f":"A1274+1","v":3491},-430,432,431,null,null,null,null,null,null,null,null,null,null,"Artaxerxes I",null,33,null," "]
[null,-429,null,"",null,null,null,null,null,null,null,null,null,null,"Artaxerxes I",null,33,null," "]
[{"$f":"A1276+1","v":3492},-429,431,430,null,null,null,null,null,null,null,null,null,null,"Artaxerxes I",null,34,null," "]
[null,-428,null,"",null,"1st year of the 114th Olympiad: \"For Alexander's death a record exists that dates the event in the 1st year of the 114th Olympiad, a Greek dating used in the classical period.\" (From The Chronology of Ezra Seven by Siegfrid Horn, p. 5.) But July 1 327 BCE through June 30, 326 BCE is the 1st year of the 114th Olympiad per my calculations and those of Conte. (See under \" XIII. The two beginnings of Herod’s Temple and the beginning of the “forty and six years” in John 2:20:\" under the paragraph starting \"But the 184th Olympiad is concurrent with July 1, 47 BCE through June, 46 BCE...\" in AdditionalDatedNTEventsComprehensive.htm)",null,null,null,null,null,null,null,null,"Artaxerxes I",null,34,null," "]
[{"$f":"A1278+1","v":3493},-428,430,429,null,null,null,null,null,null,null,null,null,null,"Artaxerxes I",null,35,null," "]
[null,-427,null,"",null,null,null,null,null,null,null,null,null,null,"Artaxerxes I",null,35,null," "]
[{"$f":"A1280+1","v":3494},-427,429,428,null,null,null,null,null,null,null,null,null,null,"Artaxerxes I",null,36,null," "]
[null,-426,null,"",null,null,null,null,null,null,null,null,null,null,"Artaxerxes I",null,36,null," "]
[{"$f":"A1282+1","v":3495},-426,428,427,null,null,null,null,null,null,null,null,null,null,"Artaxerxes I",null,37,null," "]
[null,-425,null,"",null,null,null,null,null,null,null,null,null,null,"Artaxerxes I",null,37,null," "]
[{"$f":"A1284+1","v":3496},-425,{"$f":"C1284-1","v":427},426,null,null,null,null,null,null,null,null,null,null,"Artaxerxes I",null,38,null," "]
[null,-424,null,"",null,null,null,null,null,null,null,null,null,null,"Artaxerxes I",null,38,null," "]
[{"$f":"A1286+1","v":3497},-424,426,{"$f":"IF(C1288<>\"\",IF(C1288=C1289,\"\",IF(C1288=D1287,IF(C1288=C1289+1,C1288-1,\"\"),C1288-1)),\"\")","v":425},null,null,null,null,null,null,null,null,null,null,"Artaxerxes I",null,39,null," "]
[null,-423,null,"",null,null,null,null,null,null,null,null,null,null,"Artaxerxes I",null,39,null," "]
[{"$f":"A1288+1","v":3498},-423,425,424,null,null,null,null,null,null,null,null,null,null,"Artaxerxes I",null,40,null," "]
[null,-422,null,"",null,null,null,null,null,null,null,null,null,null,"Artaxerxes I",null,40,null," "]
[{"$f":"A1290+1","v":3499},-422,424,423,null,null,null,null,null,null,null,null,null,null,"Darius II Nothus",null,0,null," "]
[null,-421,null,"",null,null,null,null,null,null,null,null,null,null,"Darius II Nothus",null,0,null," "]
[{"$f":"A1292+1","v":3500},-421,423,422,null,null,null,null,null,null,null,null,null,null,"Darius II Nothus",null,1,null," "]
[null,-420,null,"",null,null,null,null,null,null,null,null,null,null,"Darius II Nothus",null,1,null," "]
[{"$f":"A1294+1","v":3501},-420,422,421,null,null,null,null,null,null,null,null,null,null,"Darius II Nothus",null,2,null," "]
[null,-419,null,"",null,null,null,null,null,null,null,null,null,null,"Darius II Nothus",null,2,null," "]
[{"$f":"A1296+1","v":3502},-419,421,420,null,null,null,null,null,null,null,null,null,null,"Darius II Nothus",null,3,null," "]
[null,-418,null,"",null,null,null,null,null,null,null,null,null,null,"Darius II Nothus",null,3,null," "]
[{"$f":"A1298+1","v":3503},-418,420,419,null,null,null,null,null,null,null,null,null,null,"Darius II Nothus",null,4,null," "]
[null,-417,null,"",null,null,null,null,null,null,null,null,null,null,"Darius II Nothus",null,4,null," "]
[{"$f":"A1300+1","v":3504},-417,419,418,null,null,null,null,null,null,null,null,null,null,"Darius II Nothus",null,5,null," "]
[null,-416,null,"",null,null,null,null,null,null,null,null,null,null,"Darius II Nothus",null,5,null," "]
[{"$f":"A1302+1","v":3505},-416,418,417,null,null,null,null,null,null,null,null,null,null,"Darius II Nothus",null,6,null," "]
[null,-415,null,"",null,null,null,null,null,null,null,null,null,null,"Darius II Nothus",null,6,null," "]
[{"$f":"A1304+1","v":3506},-415,417,416,null,null,null,null,null,null,null,null,null,null,"Darius II Nothus",null,7,null," "]
[null,-414,null,"",null,null,null,null,null,null,null,null,null,null,"Darius II Nothus",null,7,null," "]
[{"$f":"A1306+1","v":3507},-414,416,415,null,"\"The Seleucid Era\nOne of the first eras actually used was that of the Seleucids, which was widely found throughout the Near East during the last three pre-Christian centuries. It began with Seleucus 1st reign, reckoned from 312 BC, and its years were continuously counted through---at least in some Eastern countries outside the Roman Empire-until the first Christian century. In the Macedonian calendar the years of the Seleucid era began in the fall, the 1st year having its beginning Dios 1 (October 7), 312 BC. However, in the Babylonian calendar the years of the Seleucid era had their beginning in the spring, the first year having started Nisanu 1 (April 3), 311 BC. [22] But these earlier eras were only forerunners of the Christian era, which is the basis for the modern dating that has spread over much of the globe. It is important to this study, because from its starting point modern historians reckon not only subsequent events but also, in the other direction, all past history in the BC dating scale. It is in terms of BC years that the reigning years of Artaxerxes and other Biblical date formulas are made understandable.\" (From The Chronology of Ezra Seven by Siegfrid Horn, p. 9.)",null,null,null,null,null,null,null,null,"Darius II Nothus",null,8,null," "]
[null,-413,null,"",null,null,null,null,null,null,null,null,null,null,"Darius II Nothus",null,8,null," "]
[{"$f":"A1308+1","v":3508},-413,415,414,null,null,null,null,null,null,null,null,null,null,"Darius II Nothus",null,9,null," "]
[null,-412,null,"",null,null,null,null,null,null,null,null,null,null,"Darius II Nothus",null,9,null," "]
[{"$f":"A1310+1","v":3509},-412,414,413,null,"-310 & -30; Ptolemy proclaims himself king over Egypt and Palestine & dynasty ending with Cleopatra: \"Some formal tokens of loyalty were accorded to Phillip Arrhidaeus, the half-witted half brother of Alexander, and after his death, to the boy Alexander, Alexander's posthumous son by Roxana, until she and her son were murdered (-310).  Only thereafter did Ptolemy proclaim himself king over Egypt and Palestine and initiate a dynasty that endured (in Egypt) for almost three hundred years and expired with Cleopatra in -30.\" (Peoples of the Sea, p. 177:2.)",null,null,null,null,null,null,null,null,"Darius II Nothus",null,10,null," "]
[null,-411,null,"",null,null,null,null,null,null,null,null,null,null,"Darius II Nothus",null,10,null," "]
[{"$f":"A1312+1","v":3510},-411,413,412,null,null,null,null,null,null,null,null,null,null,"Darius II Nothus",null,11,null," "]
[null,-410,null,"",null,null,null,null,null,null,null,null,null,null,"Darius II Nothus",null,11,null," "]
[{"$f":"A1314+1","v":3511},-410,412,411,null,null,null,null,null,null,null,null,null,null,"Darius II Nothus",null,12,null," "]
[null,{"$f":"B1315+1","v":-409},null,"",null,null,null,null,null,null,null,null,null,null,"Darius II Nothus",null,12,null," "]
[{"$f":"A1316+1","v":3512},-409,411,410,null,null,null,null,null,null,null,null,null,null,"Darius II Nothus",null,13,null," "]
[null,-408,null,"",null,null,null,null,null,null,null,null,null,null,"Darius II Nothus",null,13,null," "]
[{"$f":"A1318+1","v":3513},-408,410,409,null,null,null,null,null,null,null,null,null,null,"Darius II Nothus",null,14,null," "]
[null,-407,null,"",null,null,null,null,null,null,null,null,null,null,"Darius II Nothus",null,14,null," "]
[{"$f":"A1320+1","v":3514},-407,409,408,null,null,null,null,null,null,null,null,null,null,"Darius II Nothus",null,15,null," "]
[null,-406,null,"",null,null,null,null,null,null,null,null,null,null,"Darius II Nothus",null,15,null," "]
[{"$f":"A1322+1","v":3515},-406,408,407,null,null,null,null,null,null,null,null,null,null,"Darius II Nothus",null,16,null," "]
[null,-405,null,"",null,null,null,null,null,null,null,null,null,null,"Darius II Nothus",null,16,null," "]
[{"$f":"A1324+1","v":3516},-405,407,406,null,null,null,null,null,null,null,null,null,null,"Darius II Nothus",null,17,null," "]
[null,-404,null,"",null,null,null,null,null,null,null,null,null,null,"Darius II Nothus",null,17,null," "]
[{"$f":"A1326+1","v":3517},-404,406,405,null,null,null,null,null,null,null,null,null,null,"Darius II Nothus",null,18,null," "]
[null,-403,null,"",null,null,null,null,null,null,null,null,null,null,"Darius II Nothus",null,18,null," "]
[{"$f":"A1328+1","v":3518},-403,405,404,null,null,null,null,null,null,null,null,null,null,"Artaxerxes II",null,0,null," "]
[null,-402,null,"",null,null,null,null,null,null,null,null,null,null,"Artaxerxes II",null,0,null," "]
[{"$f":"A1330+1","v":3519},-402,404,403,null,null,null,null,null,null,null,null,null,null,"Artaxerxes II",null,{"$f":"Q1330+1","v":1},null," "]
[null,-401,null,"",null,null,null,null,null,null,null,null,null,null,"Artaxerxes II",null,1,null," "]
[{"$f":"A1332+1","v":3520},-401,403,402,null,null,null,null,null,null,null,null,null,null,"Artaxerxes II",null,2,null," "]
[null,-400,null,"",null,null,null,null,null,null,null,null,null,null,"Artaxerxes II",null,2,null," "]
[{"$f":"A1334+1","v":3521},-400,402,401,null,null,null,null,null,null,null,null,null,null,"Artaxerxes II",null,3,null," "]
[null,-399,null,"",null,null,null,null,null,null,null,null,null,null,"Artaxerxes II",null,3,null," "]
[{"$f":"A1336+1","v":3522},-399,401,400,null,null,null,null,null,null,null,null,null,null,"Artaxerxes II",null,4,null," "]
[null,-398,null,"",null,null,null,null,null,null,null,null,null,null,"Artaxerxes II",null,4,null," "]
[{"$f":"A1338+1","v":3523},-398,400,399,null,null,null,null,null,null,null,null,null,null,"Artaxerxes II",null,5,null," "]
[null,-397,null,"",null,null,null,null,null,null,null,null,null,null,"Artaxerxes II",null,5,null," "]
[{"$f":"A1340+1","v":3524},-397,399,398,null,null,null,null,null,null,null,null,null,null,"Artaxerxes II",null,6,null," "]
[null,-396,null,"",null,null,null,null,null,null,null,null,null,null,"Artaxerxes II",null,6,null," "]
[{"$f":"A1342+1","v":3525},-396,398,397,null,null,null,null,null,null,null,null,null,null,"Artaxerxes II",null,7,null,"An event perfectly suited in time (starting possibly 26 days, or else 1 full year and 26 days, after the temple was completed) and subject matter (\"to beautify the house of the Lord\" [7:27] furnishing the Temple with vessels, gold and silver for acquiring sacrificial animals, and people to utilize the newly re-erected Temple) to perfect the completion of the House of the Lord in Jerusalem: \"for the Lord had made them joyful, and turned the heart of the king of Assyria [Cf. use of Assyria, Persia, and Babylonia in Ezra 6:22; 7:1, and Neh. 8:6] unto them, to strengthen their hands in the work of the house of God, the God of Israel. Now after these things, in the reign of Artaxerxes king of Persia, Ezra the son of Seraiah… the son of Aaron the chief priest: This Ezra went up from Babylon; and he was a ready scribe in the law of Moses, which the Lord God of Israel had given: and the king granted him all his request, according to the hand of the Lord his God upon him. And there went up some of the children of Israel, and of the priests, and the Levites, and the singers, and the porters, and the Nethinims, unto Jerusalem, in the seventh year of Artaxerxes the king. And he came to Jerusalem in the fifth month, which was in the seventh year of the king. For upon the first day of the first month began he to go up from Babylon, and on the first day of the fifth month came he to Jerusalem, according to the good hand of his God upon him. For Ezra had prepared his heart to seek the law of the Lord, and to do it, and to teach in Israel statutes and judgments. Now this is the copy of the letter that the king Artaxerxes gave unto Ezra the priest, the scribe, even a scribe of the words of the commandments of the Lord, and of his statutes to Israel. Artaxerxes, king of kings, unto Ezra the priest, a scribe of the law of the God of heaven, perfect peace, and at such a time. I make a decree, that all they of the people of Israel, and of his priests and Levites, in my realm, which are minded of their own freewill to go up to Jerusalem, go with thee. Forasmuch as thou art sent of the king, and of his seven counsellors, to enquire concerning Judah and Jerusalem, according to the law of thy God which is in thine hand; And to carry the silver and gold, which the king and his counsellors have freely offered unto the God of Israel, whose habitation is in Jerusalem, And all the silver and gold that thou canst find in all the province of Babylon, with the freewill offering of the people, and of the priests, offering willingly for the house of their God which is in Jerusalem... The vessels also that are given thee for the service of the house of thy God, those deliver thou before the God of Jerusalem... Also we certify you, that touching any of the priests and Levites, singers, porters, Nethinims, or ministers of this house of God, it shall not be lawful to impose toll, tribute, or custom, upon them... to beautify the house of the Lord which is in Jerusalem... These are now the chief of their fathers, and this is the genealogy of them that went up with me from Babylon, in the reign of Artaxerxes the king... Then we departed from the river of Ahava on the twelfth day of the first month, to go unto Jerusalem: and the hand of our God was upon us, and he delivered us from the hand of the enemy, and of such as lay in wait by the way. And we came to Jerusalem, and abode there three days. Now on the fourth day was the silver and the gold and the vessels weighed in the house of our God by the hand of Meremoth the son of Uriah the priest...\" Ezra 6:22; 7:1-16,19,24,27; 8:1,31-33 (KJV)."]
[null,-395,null,"",null,null,null,null,null,null,null,null,null,null,"Artaxerxes II",null,7,null," "]
[{"$f":"A1344+1","v":3526},-395,397,396,null,null,null,null,null,null,null,null,null,null,"Artaxerxes II",null,8,null,"The foundations of a major calamity and sin, i.e. severely missing the point by destroying existing families: \"Now when these things were done, the princes came to me, saying, The people of Israel, and the priests, and the Levites, have not separated themselves from the people of the lands, doing according to their abominations, even of the Canaanites, the Hittites, the Perizzites, the Jebusites, the Ammonites, the Moabites, the Egyptians, and the Amorites. For they have taken of their daughters for themselves, and for their sons: so that the holy seed have mingled themselves with the people of those lands: yea, the hand of the princes and rulers hath been chief in this trespass. And when I heard this thing, I rent my garment and my mantle, and plucked off the hair of my head and of my beard, and sat down astonied... Then all the men of Judah and Benjamin gathered themselves together unto Jerusalem within three days. It was the ninth month, on the twentieth day of the month; and all the people sat in the street of tthe house of God, trembling because of this matter, and for the great rain. And Ezra the priest stood up, and said unto them, Ye have transgressed, and have taken strange wives, to increase the trespass of Israel... Then all the congregation answered and said with a loud voice, As thou hast said, so must we do...\" Ezra 9:1-4; 10:9-10,12 (KJV)."]
[null,-394,null,"",null,null,null,null,null,null,null,null,null,null,"Artaxerxes II",null,8,null,"On the 1st day of the 1st month of the 8th year: Consummating a major calamity and sin, i.e. severely missing the point by destroying existing families: \"And they made an end with all the men that had taken strange wives by the first day of the first month\" Ezra 10:17 (KJV)."]
[{"$f":"A1346+1","v":3527},-394,396,395,null,null,null,null,null,null,null,null,null,null,"Artaxerxes II",null,9,null," "]
[null,-393,null,"",null,null,null,null,null,null,null,null,null,null,"Artaxerxes II",null,9,null," "]
[{"$f":"A1348+1","v":3528},-393,{"$f":"C1348-1","v":395},394,null,null,null,null,null,null,null,null,null,null,"Artaxerxes II",null,10,null," "]
[null,-392,null,"",null,null,null,null,null,null,null,null,null,null,"Artaxerxes II",null,10,null," "]
[{"$f":"A1350+1","v":3529},-392,394,{"$f":"IF(C1352<>\"\",IF(C1352=C1353,\"\",IF(C1352=D1351,IF(C1352=C1353+1,C1352-1,\"\"),C1352-1)),\"\")","v":393},null,null,null,null,null,null,null,null,null,null,"Artaxerxes II",null,11,null," "]
[null,-391,null,"",null,null,null,null,null,null,null,null,null,null,"Artaxerxes II",null,11,null," "]
[{"$f":"A1352+1","v":3530},-391,393,392,null,null,null,null,null,null,null,null,null,null,"Artaxerxes II",null,12,null," "]
[null,-390,null,"",null,null,null,null,null,null,null,null,null,null,"Artaxerxes II",null,12,null," "]
[{"$f":"A1354+1","v":3531},-390,392,391,null,null,null,null,null,null,null,null,null,null,"Artaxerxes II",null,13,null," "]
[null,-389,null,"",null,null,null,null,null,null,null,null,null,null,"Artaxerxes II",null,13,null," "]
[{"$f":"A1356+1","v":3532},-389,391,390,null,null,null,null,null,null,null,null,null,null,"Artaxerxes II",null,14,null," "]
[null,-388,null,"",null,null,null,null,null,null,null,null,null,null,"Artaxerxes II",null,14,null," "]
[{"$f":"A1358+1","v":3533},-388,390,389,null,null,null,null,null,null,null,null,null,null,"Artaxerxes II",null,15,null," "]
[null,-387,null,"",null,null,null,null,null,null,null,null,null,null,"Artaxerxes II",null,15,null," "]
[{"$f":"A1360+1","v":3534},-387,389,388,null,"-285 to -246: \"Peinuzem II, son of Menkheperre, flourished under Ptolemy I (Soter), and Si-Amon must have lived under the same king or, more probably, under his successor, Ptolemy II Philadelphus (-285 to-246). (Peoples of the Sea, p. 180:3)",null,null,null,null,null,null,null,null,"Artaxerxes II",null,16,null," "]
[null,-386,null,"",null,null,null,null,null,null,null,null,null,null,"Artaxerxes II",null,16,null," "]
[{"$f":"A1362+1","v":3535},-386,388,387,null,null,null,null,null,null,null,null,null,null,"Artaxerxes II",null,17,null," "]
[null,-385,null,"",null,null,null,null,null,null,null,null,null,null,"Artaxerxes II",null,17,null," "]
[{"$f":"A1364+1","v":3536},-385,387,386,null,null,null,null,null,null,null,null,null,null,"Artaxerxes II",null,18,null," "]
[null,-384,null,"",null,null,null,null,null,null,null,null,null,null,"Artaxerxes II",null,18,null," "]
[{"$f":"A1366+1","v":3537},-384,386,385,null,null,null,null,null,null,null,null,null,null,"Artaxerxes II",null,19,null," "]
[null,-383,null,"",null,null,null,null,null,null,null,null,null,null,"Artaxerxes II",null,19,null," "]
[{"$f":"A1368+1","v":3538},-383,385,384,null,null,null,null,null,null,null,null,null,null,"Artaxerxes II",null,20,null," "]
[null,-382,null,"",null,null,null,null,null,null,null,null,null,null,"Artaxerxes II",null,20,null," "]
[{"$f":"A1370+1","v":3539},-382,384,383,null,null,null,null,null,null,null,null,null,null,"Artaxerxes II",null,21,null," "]
[null,-381,null,"",null,null,null,null,null,null,null,null,null,null,"Artaxerxes II",null,21,null," "]
[{"$f":"A1372+1","v":3540},-381,383,382,null,null,null,null,null,null,null,null,null,null,"Artaxerxes II",null,22,null," "]
[null,-380,null,"",null,null,null,null,null,null,null,null,null,null,"Artaxerxes II",null,22,null," "]
[{"$f":"A1374+1","v":3541},-380,382,381,null,null,null,null,null,null,null,null,null,null,"Artaxerxes II",null,23,null," "]
[null,-379,null,"",null,null,null,null,null,null,null,null,null,null,"Artaxerxes II",null,23,null," "]
[{"$f":"A1376+1","v":3542},-379,381,380,null,null,null,null,null,null,null,null,null,null,"Artaxerxes II",null,24,null," "]
[null,-378,null,"",null,null,null,null,null,null,null,null,null,null,"Artaxerxes II",null,24,null," "]
[{"$f":"A1378+1","v":3543},-378,380,379,null,null,null,null,null,null,null,null,null,null,"Artaxerxes II",null,25,null," "]
[null,{"$f":"B1379+1","v":-377},null,"",null,null,null,null,null,null,null,null,null,null,"Artaxerxes II",null,25,null," "]
[{"$f":"A1380+1","v":3544},-377,379,378,null,null,null,null,null,null,null,null,null,null,"Artaxerxes II",null,26,null," "]
[null,-376,null,"",null,null,null,null,null,null,null,null,null,null,"Artaxerxes II",null,26,null," "]
[{"$f":"A1382+1","v":3545},-376,378,377,null,null,null,null,null,null,null,null,null,null,"Artaxerxes II",null,27,null," "]
[null,-375,null,"",null,null,null,null,null,null,null,null,null,null,"Artaxerxes II",null,27,null," "]
[{"$f":"A1384+1","v":3546},-375,377,376,null,null,null,null,null,null,null,null,null,null,"Artaxerxes II",null,28,null," "]
[null,-374,null,"",null,null,null,null,null,null,null,null,null,null,"Artaxerxes II",null,28,null," "]
[{"$f":"A1386+1","v":3547},-374,376,375,null,null,null,null,null,null,null,null,null,null,"Artaxerxes II",null,29,null," "]
[null,-373,null,"",null,null,null,null,null,null,null,null,null,null,"Artaxerxes II",null,29,null," "]
[{"$f":"A1388+1","v":3548},-373,375,374,null,null,null,null,null,null,null,null,null,null,"Artaxerxes II",null,30,null," "]
[null,-372,null,"",null,null,null,null,null,null,null,null,null,null,"Artaxerxes II",null,30,null," "]
[{"$f":"A1390+1","v":3549},-372,374,373,null,null,null,null,null,null,null,null,null,null,"Artaxerxes II",null,31,null," "]
[null,-371,null,"",null,null,null,null,null,null,null,null,null,null,"Artaxerxes II",null,31,null," "]
[{"$f":"A1392+1","v":3550},-371,373,372,null,null,null,null,null,null,null,null,null,null,"Artaxerxes II",null,32,null," "]
[null,-370,null,"",null,null,null,null,null,null,null,null,null,null,"Artaxerxes II",null,32,null," "]
[{"$f":"A1394+1","v":3551},-370,372,371,null,null,null,null,null,null,null,null,null,null,"Artaxerxes II",null,{"$f":"Q1394+1","v":33},null," "]
[null,-369,null,"",null,null,null,null,null,null,null,null,null,null,"Artaxerxes II",null,33,null," "]
[{"$f":"A1396+1","v":3552},-369,371,370,null,null,null,null,null,null,null,null,null,null,"Artaxerxes II",null,34,null," "]
[null,-368,null,"",null,null,null,null,null,null,null,null,null,null,"Artaxerxes II",null,34,null," "]
[{"$f":"A1398+1","v":3553},-368,370,369,null,null,null,null,null,null,null,null,null,null,"Artaxerxes II",null,35,null," "]
[null,-367,null,"",null,null,null,null,null,null,null,null,null,null,"Artaxerxes II",null,35,null," "]
[{"$f":"A1400+1","v":3554},-367,369,368,null,null,null,null,null,null,null,null,null,null,"Artaxerxes II",null,36,null," "]
[null,-366,null,"",null,null,null,null,null,null,null,null,null,null,"Artaxerxes II",null,36,null," "]
[{"$f":"A1402+1","v":3555},-366,368,367,null,null,null,null,null,null,null,null,null,null,"Artaxerxes II",null,37,null," "]
[null,-365,null,"",null,null,null,null,null,null,null,null,null,null,"Artaxerxes II",null,37,null," "]
[{"$f":"A1404+1","v":3556},-365,367,366,null,null,null,null,null,null,null,null,null,null,"Artaxerxes II",null,38,null," "]
[null,-364,null,"",null,null,null,null,null,null,null,null,null,null,"Artaxerxes II",null,38,null," "]
[{"$f":"A1406+1","v":3557},-364,366,365,null,null,null,null,null,null,null,null,null,null,"Artaxerxes II",null,39,null," "]
[null,-363,null,"",null,null,null,null,null,null,null,null,null,null,"Artaxerxes II",null,39,null," "]
[{"$f":"A1408+1","v":3558},-363,365,364,null,null,null,null,null,null,null,null,null,null,"Artaxerxes II",null,40,null," "]
[null,-362,null,"",null,null,null,null,null,null,null,null,null,null,"Artaxerxes II",null,40,null," "]
[{"$f":"A1410+1","v":3559},-362,364,363,null,null,null,null,null,null,null,null,null,null,"Artaxerxes II",null,41,null," "]
[null,-361,null,"",null,null,null,null,null,null,null,null,null,null,"Artaxerxes II",null,41,null," "]
[{"$f":"A1412+1","v":3560},-361,{"$f":"C1412-1","v":363},362,null,null,null,null,null,null,null,null,null,null,"Artaxerxes II",null,42,null," "]
[null,-360,null,"",null,null,null,null,null,null,null,null,null,null,"Artaxerxes II",null,42,null," "]
[{"$f":"A1414+1","v":3561},-360,362,{"$f":"IF(C1416<>\"\",IF(C1416=C1417,\"\",IF(C1416=D1415,IF(C1416=C1417+1,C1416-1,\"\"),C1416-1)),\"\")","v":361},null,null,null,null,null,null,null,null,null,null,"Artaxerxes II",null,43,null," "]
[null,-359,null,"",null,null,null,null,null,null,null,null,null,null,"Artaxerxes II",null,43,null," "]
[{"$f":"A1416+1","v":3562},-359,361,360,null,null,null,null,null,null,null,null,null,null,"Artaxerxes II",null,44,null," "]
[null,-358,null,"",null,null,null,null,null,null,null,null,null,null,"Artaxerxes II",null,44,null," "]
[{"$f":"A1418+1","v":3563},-358,360,359,null,null,null,null,null,null,null,null,null,null,"Artaxerxes II",null,45,null," "]
[null,-357,null,"",null,null,null,null,null,null,null,null,null,null,"Artaxerxes II",null,45,null," "]
[{"$f":"A1420+1","v":3564},-357,359,358,null,null,null,null,null,null,null,null,null,null,"Artaxerxes II",null,46,null," "]
[null,-356,null,"",null,null,null,null,null,null,null,null,null,null,"Artaxerxes II",null,46,null," "]
[{"$f":"A1422+1","v":3565},-356,358,357,null,null,null,null,null,null,null,null,null,null,null,null,null,null," "]
[null,-355,null,"",null,null,null,null,null,null,null,null,null,null,null,null,null,null," "]
[{"$f":"A1424+1","v":3566},-355,357,356,null,null,null,null,null,null,null,null,null,null,null,null,null,null," "]
[null,-354,null,"",null,null,null,null,null,null,null,null,null,null,null,null,null,null," "]
[{"$f":"A1426+1","v":3567},-354,356,355,null,null,null,null,null,null,null,null,null,null,null,null,null,null," "]
[null,-353,null,"",null,null,null,null,null,null,null,null,null,null,null,null,null,null," "]
[{"$f":"A1428+1","v":3568},-353,355,354,null,null,null,null,null,null,null,null,null,null,null,null,null,null," "]
[null,-352,null,"",null,null,null,null,null,null,null,null,null,null,null,null,null,null," "]
[{"$f":"A1430+1","v":3569},-352,354,353,null,null,null,null,null,null,null,null,null,null,null,null,null,null," "]
[null,-351,null,"",null,null,null,null,null,null,null,null,null,null,null,null,null,null," "]
[{"$f":"A1432+1","v":3570},-351,353,352,null,null,null,null,null,null,null,null,null,null,null,null,null,null," "]
[null,-350,null,"",null,null,null,null,null,null,null,null,null,null,null,null,null,null," "]
[{"$f":"A1434+1","v":3571},-350,352,351,null,null,null,null,null,null,null,null,null,null,null,null,null,null," "]
[null,-349,null,""]
[{"$f":"A1436+1","v":3572},-349,351,350]
[null,-348,null,""]
[{"$f":"A1438+1","v":3573},-348,350,349,null,{"$f":"F1362","v":"-285 to -246: \"Peinuzem II, son of Menkheperre, flourished under Ptolemy I (Soter), and Si-Amon must have lived under the same king or, more probably, under his successor, Ptolemy II Philadelphus (-285 to-246). (Peoples of the Sea, p. 180:3)"}]
[null,-347,null,""]
[{"$f":"A1440+1","v":3574},-347,349,348]
[null,-346,null,""]
[{"$f":"A1442+1","v":3575},-346,348,347]
[null,{"$f":"B1443+1","v":-345},null,""]
[{"$f":"A1444+1","v":3576},-345,347,346]
[null,-344,null,""]
[{"$f":"A1446+1","v":3577},-344,346,345]
[null,-343,null,""]
[{"$f":"A1448+1","v":3578},-343,345,344]
[null,-342,null,""]
[{"$f":"A1450+1","v":3579},-342,344,343]
[null,-341,null,""]
[{"$f":"A1452+1","v":3580},-341,343,342]
[null,-340,null,""]
[{"$f":"A1454+1","v":3581},-340,342,341,null,"9th year of Ptolemy III Euergetes: \"In -238, in the ninth year of Ptolemy III Euergetes, a priestly decree was published in the Delta…\" (Peoples of the Sea, p.215:3.)"]
[null,-339,null,""]
[{"$f":"A1456+1","v":3582},-339,341,340]
[null,-338,null,""]
[{"$f":"A1458+1","v":3583},-338,340,339]
[null,-337,null,""]
[{"$f":"A1460+1","v":3584},-337,339,338]
[null,-336,null,""]
[{"$f":"A1462+1","v":3585},-336,338,337]
[null,-335,null,""]
[{"$f":"A1464+1","v":3586},-335,337,336]
[null,-334,null,""]
[{"$f":"A1466+1","v":3587},-334,336,335]
[null,-333,null,""]
[{"$f":"A1468+1","v":3588},-333,335,334]
[null,-332,null,""]
[{"$f":"A1470+1","v":3589},-332,334,333]
[null,-331,null,""]
[{"$f":"A1472+1","v":3590},-331,333,332]
[null,-330,null,""]
[{"$f":"A1474+1","v":3591},-330,332,331]
[null,-329,null,""]
[{"$f":"A1476+1","v":3592},-329,{"$f":"C1476-1","v":331},330]
[null,-328,null,""]
[{"$f":"A1478+1","v":3593},-328,330,{"$f":"IF(C1480<>\"\",IF(C1480=C1481,\"\",IF(C1480=D1479,IF(C1480=C1481+1,C1480-1,\"\"),C1480-1)),\"\")","v":329}]
[null,-327,null,""]
[{"$f":"A1480+1","v":3594},-327,329,328]
[null,-326,null,""]
[{"$f":"A1482+1","v":3595},-326,328,327]
[null,-325,null,""]
[{"$f":"A1484+1","v":3596},-325,327,326]
[null,-324,null,""]
[{"$f":"A1486+1","v":3597},-324,326,325]
[null,-323,null,""]
[{"$f":"A1488+1","v":3598},-323,325,324]
[null,-322,null,""]
[{"$f":"A1490+1","v":3599},-322,324,323]
[null,-321,null,""]
[{"$f":"A1492+1","v":3600},-321,323,322]
[null,-320,null,""]
[{"$f":"A1494+1","v":3601},-320,322,321]
[null,-319,null,""]
[{"$f":"A1496+1","v":3602},-319,321,320]
[null,-318,null,""]
[{"$f":"A1498+1","v":3603},-318,320,319]
[null,-317,null,""]
[{"$f":"A1500+1","v":3604},-317,319,318]
[null,-316,null,""]
[{"$f":"A1502+1","v":3605},-316,318,317]
[null,-315,null,""]
[{"$f":"A1504+1","v":3606},-315,317,316]
[null,-314,null,""]
[{"$f":"A1506+1","v":3607},-314,316,315]
[null,{"$f":"B1507+1","v":-313},null,""]
[{"$f":"A1508+1","v":3608},-313,315,314]
[null,-312,null,""]
[{"$f":"A1510+1","v":3609},-312,314,313]
[null,-311,null,""]
[{"$f":"A1512+1","v":3610},-311,313,312]
[null,-310,null,""]
[{"$f":"A1514+1","v":3611},-310,312,311]
[null,-309,null,""]
[{"$f":"A1516+1","v":3612},-309,311,310]
[null,-308,null,""]
[{"$f":"A1518+1","v":3613},-308,310,309]
[null,-307,null,""]
[{"$f":"A1520+1","v":3614},-307,309,308]
[null,-306,null,""]
[{"$f":"A1522+1","v":3615},-306,308,307]
[null,-305,null,""]
[{"$f":"A1524+1","v":3616},-305,307,306]
[null,-304,null,""]
[{"$f":"A1526+1","v":3617},-304,306,305]
[null,-303,null,""]
[{"$f":"A1528+1","v":3618},-303,305,304]
[null,-302,null,""]
[{"$f":"A1530+1","v":3619},-302,304,303]
[null,-301,null,""]
[{"$f":"A1532+1","v":3620},-301,303,302]
[null,-300,null,""]
[{"$f":"A1534+1","v":3621},-300,302,301]
[null,-299,null,""]
[{"$f":"A1536+1","v":3622},-299,301,300]
[null,-298,null,""]
[{"$f":"A1538+1","v":3623},-298,300,299]
[null,-297,null,""]
[{"$f":"A1540+1","v":3624},-297,{"$f":"C1540-1","v":299},298]
[null,-296,null,""]
[{"$f":"A1542+1","v":3625},-296,298,{"$f":"IF(C1544<>\"\",IF(C1544=C1545,\"\",IF(C1544=D1543,IF(C1544=C1545+1,C1544-1,\"\"),C1544-1)),\"\")","v":297}]
[null,-295,null,""]
[{"$f":"A1544+1","v":3626},-295,297,296]
[null,-294,null,""]
[{"$f":"A1546+1","v":3627},-294,296,295]
[null,-293,null,""]
[{"$f":"A1548+1","v":3628},-293,295,294]
[null,-292,null,""]
[{"$f":"A1550+1","v":3629},-292,294,293]
[null,-291,null,""]
[{"$f":"A1552+1","v":3630},-291,293,292]
[null,-290,null,""]
[{"$f":"A1554+1","v":3631},-290,292,291]
[null,-289,null,""]
[{"$f":"A1556+1","v":3632},-289,291,290]
[null,-288,null,""]
[{"$f":"A1558+1","v":3633},-288,290,289]
[null,-287,null,""]
[{"$f":"A1560+1","v":3634},-287,289,288]
[null,-286,null,""]
[{"$f":"A1562+1","v":3635},-286,288,287]
[null,-285,null,""]
[{"$f":"A1564+1","v":3636},-285,287,286]
[null,-284,null,""]
[{"$f":"A1566+1","v":3637},-284,286,285]
[null,-283,null,""]
[{"$f":"A1568+1","v":3638},-283,285,284]
[null,-282,null,""]
[{"$f":"A1570+1","v":3639},-282,284,283]
[null,{"$f":"B1571+1","v":-281},null,""]
[{"$f":"A1572+1","v":3640},-281,283,282]
[null,-280,null,""]
[{"$f":"A1574+1","v":3641},-280,282,281]
[null,-279,null,""]
[{"$f":"A1576+1","v":3642},-279,281,280]
[null,-278,null,""]
[{"$f":"A1578+1","v":3643},-278,280,279]
[null,-277,null,""]
[{"$f":"A1580+1","v":3644},-277,279,278]
[null,-276,null,""]
[{"$f":"A1582+1","v":3645},-276,278,277]
[null,-275,null,""]
[{"$f":"A1584+1","v":3646},-275,277,276]
[null,-274,null,""]
[{"$f":"A1586+1","v":3647},-274,276,275]
[null,-273,null,""]
[{"$f":"A1588+1","v":3648},-273,275,274]
[null,-272,null,""]
[{"$f":"A1590+1","v":3649},-272,274,273]
[null,-271,null,""]
[{"$f":"A1592+1","v":3650},-271,273,272]
[null,-270,null,""]
[{"$f":"A1594+1","v":3651},-270,272,271]
[null,-269,null,""]
[{"$f":"A1596+1","v":3652},-269,271,270]
[null,-268,null,""]
[{"$f":"A1598+1","v":3653},-268,270,269]
[null,-267,null,""]
[{"$f":"A1600+1","v":3654},-267,269,268]
[null,-266,null,""]
[{"$f":"A1602+1","v":3655},-266,268,267]
[null,-265,null,""]
[{"$f":"A1604+1","v":3656},-265,{"$f":"C1604-1","v":267},266]
[null,-264,null,""]
[{"$f":"A1606+1","v":3657},-264,266,{"$f":"IF(C1608<>\"\",IF(C1608=C1609,\"\",IF(C1608=D1607,IF(C1608=C1609+1,C1608-1,\"\"),C1608-1)),\"\")","v":265}]
[null,-263,null,""]
[{"$f":"A1608+1","v":3658},-263,265,264]
[null,-262,null,""]
[{"$f":"A1610+1","v":3659},-262,264,263]
[null,-261,null,""]
[{"$f":"A1612+1","v":3660},-261,263,262]
[null,-260,null,""]
[{"$f":"A1614+1","v":3661},-260,262,261]
[null,-259,null,""]
[{"$f":"A1616+1","v":3662},-259,261,260]
[null,-258,null,""]
[{"$f":"A1618+1","v":3663},-258,260,259]
[null,-257,null,""]
[{"$f":"A1620+1","v":3664},-257,259,258]
[null,-256,null,""]
[{"$f":"A1622+1","v":3665},-256,258,257]
[null,-255,null,""]
[{"$f":"A1624+1","v":3666},-255,257,256]
[null,-254,null,""]
[{"$f":"A1626+1","v":3667},-254,256,255]
[null,-253,null,""]
[{"$f":"A1628+1","v":3668},-253,255,254]
[null,-252,null,""]
[{"$f":"A1630+1","v":3669},-252,254,253]
[null,-251,null,""]
[{"$f":"A1632+1","v":3670},-251,253,252]
[null,-250,null,""]
[{"$f":"A1634+1","v":3671},-250,252,251]
[null,{"$f":"B1635+1","v":-249},null,""]
[{"$f":"A1636+1","v":3672},-249,251,250]
[null,-248,null,""]
[{"$f":"A1638+1","v":3673},-248,250,249]
[null,-247,null,""]
[{"$f":"A1640+1","v":3674},-247,249,248]
[null,-246,null,""]
[{"$f":"A1642+1","v":3675},-246,248,247]
[null,-245,null,""]
[{"$f":"A1644+1","v":3676},-245,247,246]
[null,-244,null,""]
[{"$f":"A1646+1","v":3677},-244,246,245]
[null,-243,null,""]
[{"$f":"A1648+1","v":3678},-243,245,244]
[null,-242,null,""]
[{"$f":"A1650+1","v":3679},-242,244,243]
[null,-241,null,""]
[{"$f":"A1652+1","v":3680},-241,243,242]
[null,-240,null,""]
[{"$f":"A1654+1","v":3681},-240,242,241]
[null,-239,null,""]
[{"$f":"A1656+1","v":3682},-239,241,240]
[null,-238,null,""]
[{"$f":"A1658+1","v":3683},-238,240,239]
[null,-237,null,""]
[{"$f":"A1660+1","v":3684},-237,239,238]
[null,-236,null,""]
[{"$f":"A1662+1","v":3685},-236,238,237]
[null,-235,null,""]
[{"$f":"A1664+1","v":3686},-235,237,236]
[null,-234,null,""]
[{"$f":"A1666+1","v":3687},-234,236,235]
[null,-233,null,""]
[{"$f":"A1668+1","v":3688},-233,{"$f":"C1668-1","v":235},234]
[null,-232,null,""]
[{"$f":"A1670+1","v":3689},-232,234,{"$f":"IF(C1672<>\"\",IF(C1672=C1673,\"\",IF(C1672=D1671,IF(C1672=C1673+1,C1672-1,\"\"),C1672-1)),\"\")","v":233}]
[null,-231,null,""]
[{"$f":"A1672+1","v":3690},-231,233,232]
[null,-230,null,""]
[{"$f":"A1674+1","v":3691},-230,232,231]
[null,-229,null,""]
[{"$f":"A1676+1","v":3692},-229,231,230]
[null,-228,null,""]
[{"$f":"A1678+1","v":3693},-228,230,229]
[null,-227,null,""]
[{"$f":"A1680+1","v":3694},-227,229,228]
[null,-226,null,""]
[{"$f":"A1682+1","v":3695},-226,228,227]
[null,-225,null,""]
[{"$f":"A1684+1","v":3696},-225,227,226]
[null,-224,null,""]
[{"$f":"A1686+1","v":3697},-224,226,225]
[null,-223,null,""]
[{"$f":"A1688+1","v":3698},-223,225,224]
[null,-222,null,""]
[{"$f":"A1690+1","v":3699},-222,224,223]
[null,-221,null,""]
[{"$f":"A1692+1","v":3700},-221,223,222]
[null,-220,null,""]
[{"$f":"A1694+1","v":3701},-220,222,221]
[null,-219,null,""]
[{"$f":"A1696+1","v":3702},-219,221,220]
[null,-218,null,""]
[{"$f":"A1698+1","v":3703},-218,220,219]
[null,{"$f":"B1699+1","v":-217},null,""]
[{"$f":"A1700+1","v":3704},-217,219,218]
[null,-216,null,""]
[{"$f":"A1702+1","v":3705},-216,218,217]
[null,-215,null,""]
[{"$f":"A1704+1","v":3706},-215,217,216]
[null,-214,null,""]
[{"$f":"A1706+1","v":3707},-214,216,215]
[null,-213,null,""]
[{"$f":"A1708+1","v":3708},-213,215,214]
[null,-212,null,""]
[{"$f":"A1710+1","v":3709},-212,214,213]
[null,-211,null,""]
[{"$f":"A1712+1","v":3710},-211,213,212]
[null,-210,null,""]
[{"$f":"A1714+1","v":3711},-210,212,211]
[null,-209,null,""]
[{"$f":"A1716+1","v":3712},-209,211,210]
[null,-208,null,""]
[{"$f":"A1718+1","v":3713},-208,210,209]
[null,-207,null,""]
[{"$f":"A1720+1","v":3714},-207,209,208]
[null,-206,null,""]
[{"$f":"A1722+1","v":3715},-206,208,207]
[null,-205,null,""]
[{"$f":"A1724+1","v":3716},-205,207,206]
[null,-204,null,""]
[{"$f":"A1726+1","v":3717},-204,206,205]
[null,-203,null,""]
[{"$f":"A1728+1","v":3718},-203,205,204]
[null,-202,null,""]
[{"$f":"A1730+1","v":3719},-202,204,203]
[null,-201,null,""]
[{"$f":"A1732+1","v":3720},-201,{"$f":"C1732-1","v":203},202]
[null,-200,null,""]
[{"$f":"A1734+1","v":3721},-200,202,{"$f":"IF(C1736<>\"\",IF(C1736=C1737,\"\",IF(C1736=D1735,IF(C1736=C1737+1,C1736-1,\"\"),C1736-1)),\"\")","v":201}]
[null,-199,null,""]
[{"$f":"A1736+1","v":3722},-199,201,200]
[null,-198,null,""]
[{"$f":"A1738+1","v":3723},-198,200,199]
[null,-197,null,""]
[{"$f":"A1740+1","v":3724},-197,199,198]
[null,-196,null,""]
[{"$f":"A1742+1","v":3725},-196,198,197]
[null,-195,null,""]
[{"$f":"A1744+1","v":3726},-195,197,196]
[null,-194,null,""]
[{"$f":"A1746+1","v":3727},-194,196,195]
[null,-193,null,""]
[{"$f":"A1748+1","v":3728},-193,195,194]
[null,-192,null,""]
[{"$f":"A1750+1","v":3729},-192,194,193]
[null,-191,null,""]
[{"$f":"A1752+1","v":3730},-191,193,192]
[null,-190,null,""]
[{"$f":"A1754+1","v":3731},-190,192,191]
[null,-189,null,""]
[{"$f":"A1756+1","v":3732},-189,191,190]
[null,-188,null,""]
[{"$f":"A1758+1","v":3733},-188,190,189]
[null,-187,null,""]
[{"$f":"A1760+1","v":3734},-187,189,188]
[null,-186,null,""]
[{"$f":"A1762+1","v":3735},-186,188,187]
[null,{"$f":"B1763+1","v":-185},null,""]
[{"$f":"A1764+1","v":3736},-185,187,186]
[null,-184,null,""]
[{"$f":"A1766+1","v":3737},-184,186,185]
[null,-183,null,""]
[{"$f":"A1768+1","v":3738},-183,185,184]
[null,-182,null,""]
[{"$f":"A1770+1","v":3739},-182,184,183]
[null,-181,null,""]
[{"$f":"A1772+1","v":3740},-181,183,182]
[null,-180,null,""]
[{"$f":"A1774+1","v":3741},-180,182,181]
[null,-179,null,""]
[{"$f":"A1776+1","v":3742},-179,181,180]
[null,-178,null,""]
[{"$f":"A1778+1","v":3743},-178,180,179]
[null,-177,null,""]
[{"$f":"A1780+1","v":3744},-177,179,178]
[null,-176,null,""]
[{"$f":"A1782+1","v":3745},-176,178,177]
[null,-175,null,""]
[{"$f":"A1784+1","v":3746},-175,177,176]
[null,-174,null,""]
[{"$f":"A1786+1","v":3747},-174,176,175]
[null,-173,null,""]
[{"$f":"A1788+1","v":3748},-173,175,174]
[null,-172,null,""]
[{"$f":"A1790+1","v":3749},-172,174,173]
[null,-171,null,""]
[{"$f":"A1792+1","v":3750},-171,173,172]
[null,-170,null,""]
[{"$f":"A1794+1","v":3751},-170,172,171]
[null,-169,null,""]
[{"$f":"A1796+1","v":3752},-169,{"$f":"C1796-1","v":171},170]
[null,-168,null,""]
[{"$f":"A1798+1","v":3753},-168,170,{"$f":"IF(C1800<>\"\",IF(C1800=C1801,\"\",IF(C1800=D1799,IF(C1800=C1801+1,C1800-1,\"\"),C1800-1)),\"\")","v":169}]
[null,-167,null,""]
[{"$f":"A1800+1","v":3754},-167,169,168]
[null,-166,null,""]
[{"$f":"A1802+1","v":3755},-166,168,167]
[null,-165,null,""]
[{"$f":"A1804+1","v":3756},-165,167,166]
[null,-164,null,""]
[{"$f":"A1806+1","v":3757},-164,166,165]
[null,-163,null,""]
[{"$f":"A1808+1","v":3758},-163,165,164]
[null,-162,null,""]
[{"$f":"A1810+1","v":3759},-162,164,163]
[null,-161,null,""]
[{"$f":"A1812+1","v":3760},-161,163,162]
[null,-160,null,""]
[{"$f":"A1814+1","v":3761},-160,162,161]
[null,-159,null,""]
[{"$f":"A1816+1","v":3762},-159,161,160]
[null,-158,null,""]
[{"$f":"A1818+1","v":3763},-158,160,159]
[null,-157,null,""]
[{"$f":"A1820+1","v":3764},-157,159,158]
[null,-156,null,""]
[{"$f":"A1822+1","v":3765},-156,158,157]
[null,-155,null,""]
[{"$f":"A1824+1","v":3766},-155,157,156]
[null,-154,null,""]
[{"$f":"A1826+1","v":3767},-154,156,155]
[null,{"$f":"B1827+1","v":-153},null,""]
[{"$f":"A1828+1","v":3768},-153,155,154]
[null,-152,null,""]
[{"$f":"A1830+1","v":3769},-152,154,153]
[null,-151,null,""]
[{"$f":"A1832+1","v":3770},-151,153,152]
[null,-150,null,""]
[{"$f":"A1834+1","v":3771},-150,152,151]
[null,-149,null,""]
[{"$f":"A1836+1","v":3772},-149,151,150]
[null,-148,null,""]
[{"$f":"A1838+1","v":3773},-148,150,149]
[null,-147,null,""]
[{"$f":"A1840+1","v":3774},-147,149,148]
[null,-146,null,""]
[{"$f":"A1842+1","v":3775},-146,148,147]
[null,-145,null,""]
[{"$f":"A1844+1","v":3776},-145,147,146]
[null,-144,null,""]
[{"$f":"A1846+1","v":3777},-144,146,145]
[null,-143,null,""]
[{"$f":"A1848+1","v":3778},-143,145,144]
[null,-142,null,""]
[{"$f":"A1850+1","v":3779},-142,144,143]
[null,-141,null,""]
[{"$f":"A1852+1","v":3780},-141,143,142]
[null,-140,null,""]
[{"$f":"A1854+1","v":3781},-140,142,141]
[null,-139,null,""]
[{"$f":"A1856+1","v":3782},-139,141,140]
[null,-138,null,""]
[{"$f":"A1858+1","v":3783},-138,140,139]
[null,-137,null,""]
[{"$f":"A1860+1","v":3784},-137,{"$f":"C1860-1","v":139},138]
[null,-136,null,""]
[{"$f":"A1862+1","v":3785},-136,138,{"$f":"IF(C1864<>\"\",IF(C1864=C1865,\"\",IF(C1864=D1863,IF(C1864=C1865+1,C1864-1,\"\"),C1864-1)),\"\")","v":137}]
[null,-135,null,""]
[{"$f":"A1864+1","v":3786},-135,137,136]
[null,-134,null,""]
[{"$f":"A1866+1","v":3787},-134,136,135]
[null,-133,null,""]
[{"$f":"A1868+1","v":3788},-133,135,134]
[null,-132,null,""]
[{"$f":"A1870+1","v":3789},-132,134,133,null,{"$f":"F1312","v":"-310 & -30; Ptolemy proclaims himself king over Egypt and Palestine & dynasty ending with Cleopatra: \"Some formal tokens of loyalty were accorded to Phillip Arrhidaeus, the half-witted half brother of Alexander, and after his death, to the boy Alexander, Alexander's posthumous son by Roxana, until she and her son were murdered (-310).  Only thereafter did Ptolemy proclaim himself king over Egypt and Palestine and initiate a dynasty that endured (in Egypt) for almost three hundred years and expired with Cleopatra in -30.\" (Peoples of the Sea, p. 177:2.)"}]
[null,-131,null,"",null,{"$f":"F4","v":"Velikovsky’s “…nomenclature for the Egyptian dysasties.\n The Middle Kingdom of Egypt (the division into Eleventh and Twelfth Dynasties is unnecessary) came to its end in a natural catastrophe in the mid-fifteenth century before the present era; the land was invaded by the Arabs (Amalekites, known as Amu to the Egyptians, or as Hyksos to Greek authors). The Arab Dynasty ruled for over four hundred years, till about -1020. Already before that date there were vassal princes in Thebes. The Arab domination of Egypt was terminated by the united efforts of Saul of Israel and Kamose and Ahmose of Thebes. For the next (almost) two hundred years (ca. -1200 to ca. -830) the land was ruled by the Theban Dynasty (known as the Eighteenth) of Thutmoses and Amenhoteps. Close to the end of that period, Akhnaton moved the capi9tal to Akhet-Aton (el-Amarna) but Thebes was soon restored as the capital under Smenkhkare and Ay.\n The Theban period was followed by the Libyan domination of Sosenks [= Shoshenk, cf. Ages in Chaos, p. 174-176] and Osorkons for over one hundred years (ca. -830 to ca. -720). Next came the Ethiopian rule that endured for fifty or sixty years; however, at the same time the Assyrians pressed from the north and the land was occupied repeatedly by Sennacherib (who crowned Haremheb), Esarhaddon, and Assurbanipal (who elevated Necho I-Rameses I to be a vassal king). When Necho was killed by invading Ethiopians, Assurbanipal once more occupied Thebes (-663).\n The period of the Tanitic Dynasty follows: Seti (Psammetich of the Greek authors), son of Ramses I (Necho I), obtained independence from Assurbanipal and acted as his ally in his wars against the Chaldeans and Medes, Seti’s capital was in Tanis in the Delta, The Tanitic Dynasty endured from -663 to -525. After Seti reigned Ramses II (Necho II), his son, who for a lengthy period had been Seti’s co-ruler. He carried on a prolonged war with Nebuchadnezzar, the Chaldean. Ramses’ heir Merneptah (Hophra of Jeremiah and Apries of Herodutus) lost the throne to a rebel, General Amasis, the latter reigned in peace for over forty years and died when Cambyses the Persian was already on his march of conquest toward Egypt.\n From -525 to -332, for close to two hundred years, Egypt was dominated by the Persian kings (Cambyses, Darius, Xerxes, Artaxerxes I, Darius II, Artaxerxes II and III); some of them were crowned also as Egyptian pharaohs; they kept native governors in Egypt like Psamshek or Nekht-hor.\n In the fourth century, during the reigns of Artaxerxer II and Artaxerxes III, Egypt achieved a measure of independence comparable to the independence the Greek states maintained during thetime of the Great Kings of Persia.  Nepherites, Acoris, Nectanebo I (Ramses III), Tachos, and Nectanebo II were the indigenous kings of that period and they could be termed Native Kings or, if preferred, Sebennytic Dynasty, for the place of origin of the most famous of them. At the same time a Priestly Dynasty established already by Darius II (about -420) ruled in the military outposts-the oases of the Libyan desert. Thjey continued there till past -300.\n The Persians succeeded in -343 to reconquering Egypt, Nectanebo II escaping to the Sudan, but ten years later Egypt received Alexander as its liberator (-332). The Macedonian Dynasty endured three hundred years, with the Ptolemies on the throne till Cleopatra’s suicide in -30. Thereafter the Roman caesars ruled Egypt.\n This order of dynastic succession, relieved of thenumbered dynasties, is simple to comprehend: Arab, Theban, Libyan, Ethiopian (repeatedly interrupted by Assyrian conquests), Tanitic, Persian (partly Sebennytic), and Macedonian Dynasties in this sequence. As can readily be seen, for most of the fourteen hundred years (ca. -1450 to -30), Egypt was ruled by foreigners: the three periods when it was ruled by native kings were under the Theban (-1020 to -830), the Tanitic (-663 to -525), and the Sebennytic (ca. -391 to -341) Dynasties, altogether something like 380 years out of 1420.” (Peoples of the Sea, p. 194:2-195:end.)\n"}]
[{"$f":"A1872+1","v":3790},-131,133,132]
[null,-130,null,""]
[{"$f":"A1874+1","v":3791},-130,132,131]
[null,-129,null,""]
[{"$f":"A1876+1","v":3792},-129,131,130]
[null,-128,null,""]
[{"$f":"A1878+1","v":3793},-128,130,129]
[null,-127,null,""]
[{"$f":"A1880+1","v":3794},-127,129,128]
[null,-126,null,""]
[{"$f":"A1882+1","v":3795},-126,128,127]
[null,-125,null,""]
[{"$f":"A1884+1","v":3796},-125,127,126]
[null,-124,null,""]
[{"$f":"A1886+1","v":3797},-124,126,125]
[null,-123,null,""]
[{"$f":"A1888+1","v":3798},-123,125,124]
[null,-122,null,""]
[{"$f":"A1890+1","v":3799},-122,124,123]
[null,{"$f":"B1891+1","v":-121},null,""]
[{"$f":"A1892+1","v":3800},-121,123,122]
[null,-120,null,""]
[{"$f":"A1894+1","v":3801},-120,122,121]
[null,-119,null,""]
[{"$f":"A1896+1","v":3802},-119,121,120]
[null,-118,null,""]
[{"$f":"A1898+1","v":3803},-118,120,119]
[null,-117,null,""]
[{"$f":"A1900+1","v":3804},-117,119,118]
[null,-116,null,""]
[{"$f":"A1902+1","v":3805},-116,118,117]
[null,-115,null,""]
[{"$f":"A1904+1","v":3806},-115,117,116]
[null,-114,null,""]
[{"$f":"A1906+1","v":3807},-114,116,115]
[null,-113,null,""]
[{"$f":"A1908+1","v":3808},-113,115,114]
[null,-112,null,""]
[{"$f":"A1910+1","v":3809},-112,114,113]
[null,-111,null,""]
[{"$f":"A1912+1","v":3810},-111,113,112]
[null,-110,null,""]
[{"$f":"A1914+1","v":3811},-110,null,""]

{"sheet":"Sheet8","index":10,"n_rows":100,"n_cols":12,"rows_kept":100,"cut":false,"hidden":false,"merged":[]}
[1,70]
[{"$f":"A1+1","v":2},{"$f":"A2*70","v":140}]
[{"$f":"A2+1","v":3},{"$f":"A3*70","v":210},null,null,"Seventy Seventies"]
[4,280]
[5,350]
[6,420,null,null,null,null,null,"Legend:"]
[7,490]
[8,560,null,null,null,null,null,null,"Coinciding with Year of Jubilee"]
[9,630]
[10,700,null,null,null,null,null,62,"Numbers possibly referenced in Daniel's vision"]
[11,770]
[12,840]
[13,910]
[14,980]
[15,1050]
[16,1120]
[17,1190]
[18,1260]
[19,1330]
[20,1400]
[21,1470]
[22,1540]
[23,1610]
[24,1680]
[25,1750]
[26,1820]
[27,1890]
[28,1960]
[29,2030]
[30,2100]
[31,2170]
[32,2240]
[33,2310]
[34,2380]
[35,2450,2451,"Exodus"]
[36,2520]
[37,2590]
[38,2660]
[39,2730]
[40,2800]
[41,2870]
[42,2940,{"$f":"Sheet7!A98","v":2931},"Start of building Solomon's Temple",null,null,null,null,null,null,null,"2nd Day of 2nd Month"]
[43,3010,null,{"$f":"D49-C42","v":405},"Duration of Solomon's Temple",null,null,null,"+ 3 months and 5 days"]
[44,3080]
[45,3150,null,{"$f":"C48-C42","v":431},"= 390 + 40, and thus we find the years:",null,null,null,{"$f":"B48-430","v":2930},"i.e. the first year following 2930 full years, and the year when Solomon began building the House of the Lord. Apparently the 390 year prophecy against Israel included Judah as well. Cf. Eze. 4:5-6."]
[46,3220,null,null,null,null,null,null,{"$f":"B48-40","v":3320},"th year is the year when Eliakim king of Judah rebelled against Nebuchadnezzar and by so doing against the will of God."]
[47,3290,null,null,null,null,null,null,{"$f":"I46+40","v":3360},"The fullfillment of Hezekiel's 4:6 prophecy - which apparently was given 3328 full years after Creation (per Sheet 7 calculations)!"]
[48,3360,{"$f":"Sheet7!A1014","v":3362},"Foundation laid (=Cyrus' decree) for the rebuilding of the 2nd Temple in Jerusalem.",null,null,null,null,null,null,null,"2nd Month of the year - when Zerubbabel began building on the temple based upon the decree given."]
[49,3430,null,{"$f":"Sheet7!A958","v":3336},"Destruction of Solomon's Temple",null,null,null,"7th Day of 5th Month"]
[50,3500,null,3386,"Alternative #1: End of 70 years in Babylon - 1st year of Darius - Daniel's vision of the 70 weeks of years, i.e. Darius as one starting his reign in the 71st year of the captivity as based upon Nebuchadnezzar's 1st year of reign."]
[51,3570,null,null,null,null,{"$f":"D50-70*7","v":2896},"= 3386 - 490 years - No significant fit, concurs with king David's 10th year of reign."]
[52,3640,null,{"$f":"C48","v":3362},"Alternative #2: End of 70 years in Babylon - 1st year of Cyrus - Daniel's vision of the 70 weeks of years"]
[53,3710,null,null,null,null,{"$f":"C48-490","v":2872},"= 3360 - 490 years - Fits Saul's anointing by Samuel if that event occurred between 2870-2877 full years after Creation, i.e. the 5th week within the 59th Jubilee Cycle.  I.e. the first sabbath year within the 490 year period NOT kept!  "]
[54,3780,{"$f":"C48+D45","v":3793},"= 3360 + 430 years",null,null,{"$f":"C48-(490-7)","v":2879},"= 3360 - (490-7) years - Fits Saul's anointing by Samuel if that event occurred between 2877-2884 full years after Creation, i.e. the 6th week within the 59th Jubilee Cycle. I.e. the first sabbath year within the 490-7=483 year period NOT kept considering and giving credit for the 7 years of famine during the life of Elisha and Jehoram king of Israel. Prior to the time of kings in Judah and Israel there could be no national desecration of the sabbath years since there was no nation - only a true republic, i.e. each man responsible to God for his actions. Consequently each man would suffer the consequences for his own action or non-action, e.g. re the keeping of sabbath years and years of Jubilee.  This is an important consideration to keep in mind for each of us even today and for ever!"]
[55,3850,{"$f":"C48+490","v":3852},"= 3360 + 490 years reaches to 35 A.D. The end of 3850 concurs with the end of the 4th Sabbath year within the 79th Jubilee Cycle."]
[56,3920]
[57,3990]
[58,4060]
[59,4130]
[60,4200,null,null,null,null,"Notice 69 weeks = 483 years = 490-7 years = the time Israel were under the reign, I.e. slavery of kings, whether their own or those of Assyria, Egypt, and /or Babylon."]
[61,4270]
[62,4340]
[63,4410]
[64,4480]
[65,4550]
[66,4620]
[{"$f":"A66+1","v":67},{"$f":"A67*70","v":4690}]
[{"$f":"A67+1","v":68},4760]
[{"$f":"A68+1","v":69},4830]
[{"$f":"A69+1","v":70},4900]
[{"$f":"A70+1","v":71},4970]
[72,5040]
[73,5110]
[74,5180]
[75,5250]
[76,5320]
[77,5390]
[{"$f":"A77+1","v":78},5460]
[79,5530]
[80,5600]
[81,5670]
[82,5740]
[83,5810]
[84,5880]
[85,5950]
[86,6020]
[87,6090]
[88,6160]
[89,6230]
[90,6300]
[91,6370]
[92,6440]
[93,6510]
[94,6580]
[95,6650]
[96,6720]
[97,6790]
[98,6860]
[99,6930]
[100,7000]

{"sheet":"Blad5","index":11,"n_rows":307,"n_cols":19,"rows_kept":307,"cut":false,"hidden":false,"merged":[]}
[null,null,null,null,"Time line around Jehoshua's Life - Version 3.0 under construction"]
["Biblical Sacred Year after conception of Yeshua"]
[null,"Biblical Civil Year after conception of Yeshua"]
[null,null,"BCE/CE"]
[null,null,null,"Astronomical time (NASA/Eskabar tables)"]
[null,null,null,null,"Years after Creation"]
[null,null,null,null,null,"Years after Judah coming under Roman occupancy"]
[null,null,null,null,null,null,"A.U.C.","BC/AD years completed"]
[null,null,null,null,null,null,null,null,"BC/AD as commonly assigned, i.e. 1st, 2nd, 3rd, etc."]
[null,null,null,null,null,"Month Legend:",null,null,null,"Years after Foundation of Herod's Temple laid"]
[null,null,null,null,null,"Hebrew 1-9 / Roman 4-12",null,null,null,null,"Years after Jehoshua's birth"]
[null,null,null,null,null,"Hebrew 10-13 / Roman 1-3",null,null,null,null,null,"Years since beginning of Tiberius Caesar"]
[null,null,null,null,null,"Hebrew 1-9 / Roman 4-12",null,null,null,null,null,null,"Years since Herod's accession"]
[null,null,null,null,null,"Hebrew 10-13 / Roman 1-3",null,null,null,null,null,null,null,"Years since the death of Antigonus and Herod's capturing of Jerusalem"]
[null,null,null,null,{"$f":"E17-1","v":3846},null,null,null,null,null,null,null,null,null,"Years since Archelaus's accession"]
[null,null,null,null,3846,null,{"$f":"G18-1","v":690},{"$f":"H18+1","v":65},64,null,null,null,null,null,null,"Years since the Eclipse of Josephus: Phillip's accession and the death of Herod the Great"]
[null,null,null,null,3847,null,690,65,64,null,null,null,null,null,null,null,"High priests in Jerusalem"]
[null,null,null,null,{"$f":"E21-1","v":3847},0,{"$f":"G21-1","v":691},{"$f":"H21+1","v":64},{"$f":"I21+1","v":63},null,null,null,null,null,null,null,null,"Judah incorporated into the Roman Empire \"In 63 BC, Romans incorporated Judah (what is now Palestine) into their empire as Judea and placed the Jewish lands under kings. Appointed to these kingships was the Herod dynasty, a family of Jews who gained favor with the Romans. The Herodian family ruled over the Palestinian area from 40 BC [39 BCE per ELM/GS] until around AD 100\" (Ref.: http://campus.northpark.edu/history/WebChron/MiddleEast/HerodTemple.html). The Roman legions left Jerusalem only in 289 AD (http://www.biblediscoveries.com/templesite.html).                                                       \n\nQuote: \nAll Sabbatical Years according to the Law of Moses ended on the Day of Atonement (Yom Kippur), and Josephus said that Herod’s capture of Jerusalem coincided exactly with a Day of Atonement. 11 He further stated that it was precisely to the very day, 27 years after the Roman general Pompey conquered Jerusalem in 63 B.C.E. 12 Clearly, this chronological fact leads one to 25 October, 36 B.C.E. for Herod’s capture of Jerusalem.\n\nThis indication is powerful evidence in which any scholar can place the highest confidence that Herod’s 34 years of reign from Antigonus’ death has to have 36 B.C.E, as a beginning benchmark. \n\nFrom Earnest L. Martin, The Star that Astonished the World, Chapter 13:1 at http://askelm.com/star/star015.htm"]
[null,null,null,null,{"$f":"E22-1","v":3848},0,{"$f":"G22-1","v":691},{"$f":"H22+1","v":64},{"$f":"I22+1","v":63},null,null,null,null,null,null,null,null,"[Caesar] Augustus born 23 September, 63 B.C.E. [Tishri 10, 63 BCE = Day of Atonement]: \"One event can give us an example of this interest. According to Julius Marathus, a personal confidant of Augustus Caesar, the Roman Senate in the year 63 B.C.E ordered all boy babies to be killed who were born in that year because prophetic dreams and astrological signs suggested that a “King of the Romans” was to be born. 3 The Senate ostensibly considered a “King of the Romans” to be anathema to the government of the Republic. So concerned were some of the senators of this astrological interpretation, whose wives were pregnant, that they refused to register births from their wives in hopes that the signs applied to them. We are informed that in that very year (23 September, 63 B.C.E.), the person who later became the first emperor of the Romans (Augustus) was born.\n\nFootnote 3: Jack Lindsay, Origins of Astrology, 246.\"\n\nFrom: Martin, Earnest, L., The Star that Astonished the World, Chapter 1."]
[null,"ok # 1",null,null,null,null,null,null,null," ","ok # 0"]
[null,null,null,null,3848,{"$f":"F18+1","v":1},692,63,62]
[null,null,null,null,3849,{"$f":"F19+1","v":1},692,63,62]
[null,null,null,null,3849,{"$f":"F21+1","v":2},693,62,61]
[null,null,null,null,3850,2,693,62,61]
[null,null,null,null,3850,3,694,61,60]
[null,null,null,null,3851,3,694,61,60]
[null,null,null,null,3851,4,695,60,59]
[null,null,null,null,3852,4,695,60,59]
[null,null,null,null,3852,5,696,59,58]
[null,null,null,null,3853,5,696,59,58]
[null,null,null,null,3853,6,697,58,57]
[null,null,null,null,3854,6,697,58,57]
[null,null,null,null,3854,7,698,{"$f":"H35+1","v":57},56]
[null,null,null,null,3855,7,698,57,56]
[null,null,null,null,3855,8,699,56,55]
[null,null,null,null,3856,8,699,56,55]
[null,null,null,null,3856,9,700,55,54]
[null,null,null,null,3857,9,700,55,54]
[null,null,null,null,3857,10,701,54,53]
[null,null,null,null,3858,10,701,54,53]
[null,null,null,null,3858,11,702,53,52]
[null,null,null,null,3859,11,702,53,52]
[null,null,null,null,3859,12,703,52,51]
[null,null,null,null,3860,12,703,52,51]
[null,null,null,null,3860,13,704,51,50]
[null,null,null,null,3861,13,704,51,50]
[null,null,null,null,3861,14,705,50,49]
[null,null,null,null,3862,14,705,50,49]
[null,null,null,null,3862,15,706,{"$f":"H51+1","v":49},48]
[null,null,null,null,3863,15,706,49,48]
[null,null,null,null,3863,16,707,48,47]
[null,null,null,null,3864,16,707,48,47,null,null,null,null,null,null,null,null,"\"Antipater was made procurator of Judea by Caesar in 47 b.c…. When Antipater became procurator he induced Caesar to make his son Herod strategus (chief magistrate) of Galilee, and Phasael, another son, strategus of Judea. Shortly afterward Sextus Caesar, the legate of Syria, made Herod strategus of Coelesyria also. Herod made a shift in political affiliation after Caesar’s death (44 b.c.), and gave his support to the party of Caesar’s murderers. This resulted in Herod’s confirmation in his office by G. Cassius, proconsul of Syria. When Antony and Octavian defeated Cassius, Herod succeeded in gaining the favour of Antony. He and his brother Phasael were then appointed tetrarchs of their territories in Palestine, offices they held until the Parthians conquered all of Syria and Palestine (40 b.c.). Hyrcanus II and Phasael went into the Parthian camp to negotiate a peace but were treacherously imprisoned. Phasael, unable to bear the shame, committed suicide. \" From http://www.google.se/search?q=cache:8j-kqE_imN8J:www.nisbett.com/people/bp-herod.htm+%22Herod+Archelaus%22+successor+AD&hl=sv&ie=UTF-8 and http://www.nisbett.com/people/bp-herod.htm"]
[null,null,null,null,3864,17,708,47,46]
[null,null,null,null,3865,17,708,47,46]
[null,null,null,null,3865,18,709,46,45]
[null,null,null,null,3866,18,709,46,45]
[null,null,null,null,3866,19,710,45,44]
[null,null,null,null,3867,19,710,45,44]
[null,null,null,null,3867,20,711,44,43]
[null,null,null,null,3868,20,711,44,43]
[null,null,null,null,3868,21,712,43,42]
[null,null,null,null,3869,21,712,43,42]
[null,null,null,null,3869,22,713,42,41]
[null,null,null,null,3870,22,713,42,41]
[null,null,null,null,3870,23,714,{"$f":"H67+1","v":41},40]
[null,null,null,null,3871,23,714,41,40]
[null,null,null,null,3871,24,715,40,39,null,null,null,0,null,null,null,null,"\"Herod the Great... Josephus tells us that he died thirty-seven years after he had been declared king by the Romans. Now it is known that he was declared King A. U. C. 714\" (Dr. Farrar, Life of Christ (Excursus 1.) From http://www.google.se/search?q=cache:sBEW7BJYG8IJ:faith.disk919.com/resources/the_coming_prince/appendix.php+%22Herod%27s+accession%22&hl=sv&ie=UTF-8 )"]
[null,null,null,null,3872,24,715,40,39,null,null,null,0,null,null,null,null,"Quote: Herod fled to Rome and was there appointed king over Judea, in opposition to Antigonus, a Maccabean, who had been made king in Judea with the support of the Parthians. Herod returned to Palestine and, with the help of Roman forces, defeated Antigonus and conquered Jerusalem the following year (37 b.c.). Herod revealed at once that he would show no mercy to anyone who had withstood him. He massacred a large number of noblemen, among them 45 leaders who had supported Antigonus, and also put to death all members of the Sanhedrin but one, for having withstood his ambitions on an earlier occasion. The Sanhedrin under Herod was reduced to such impotency that some scholars question its existence during his reign.\n\nThe kingdom of Herod initially comprised Judea (including Samaria and Idumea); however, Antony took Jericho and its territory and gave it to Cleopatra of Egypt. After the battle at Actium in 31 b.c., from which Octavian emerged victor over Antony, Herod made another switch in affiliation, went to Rhodes where Octavian was, and succeeded in gaining his favour. The victorious Octavian, who became better known as Augustus, added Jericho, Gadara, and Gaza to Herod’s territory after Cleopatra’s death, and later (23 b.c.) the northeastern territories of Batanaea, Trachonitis, and Auranitis also. Herod ruled his kingdom without any serious threats from the outside, so that his reign can be called a period of prosperity.\n\nHerod’s family life was full of tragedies, and was soiled with the blood of his closest relatives, including three of his own sons and one of his ten wives. Only the most important of his many children will be mentioned here. His eldest son, Antipater, was borne by his Idumean wife Doris. His second wife was Mariamne, a grand-daughter of the ruler-priest Hyrcanus II; by this marriage Herod connected his own house with that of the Hasmonaeans (Maccabeans), and thus attempted to legalize his kingship in the eyes of the Jews. He seems to have loved Mariamne with all his heart, although she hated him. Mariamne bore him Aristobulus and Alexander. By Malthace, a Samaritan wife, he had Archelaus and Herod Antipas; by Cleopatra, a wife from Jerusalem, was born Herod Philip (who became a tetrarch); and by another Mariamne (the daughter of Simon of Jerusalem, whom Herod made high priest) he had a son also known as Herod Philip, or Philip of Rome. Since Herod did not trust his Hasmonaean relatives, he killed many of them. In 35 b.c. Aristobulus III, brother of Herod’s second wife, was murdered, being drowned in Herod’s palace pool at Jericho, although he had been made high priest by Herod only a few months earlier. In 30 b.c. he had the aged Hyrcanus II, the grandfather of his wife Mariamne, killed, and then, a year later, put Mariamne herself to death because he suspected her of plotting against his life. From that time on his suspicions gave him no rest. At first he seems to have designated as his heirs Mariamne’s sons Aristobulus and Alexander. However, when their older half brother Antipater, the son of Doris, accused them of treason Herod imprisoned and killed them (7 b.c.). He then named Antipater as his successor, with Herod Philip, the son of Mariamne II, as second in line of succession. Antipater, having been successful in eliminating two of his competitors for the throne, accused his half brothers Archelaus, son of Malthace, and Philip, son of Cleopatra, as well as his aunt Salome, Herod’s sister, of plotting against the life of the king. However, Herod, discovering that the accusation was false, appointed Antipas as his successor, and had Antipater put to death only a few days before he himself passed away. After Antipater’s death, and shortly before his own, Herod again changed his will and now designated Archelaus, Antipas, and Philip as his heirs on the throne. This last will of Herod was honoured by Augustus. Archelaus (see Herod, 2) was given Judea (Mt 2:22), Samaria, and Idumea, with the title ethnarch; Antipas (see Herod, 3) was made tetrarch over Galilee (Lk 3:1, 19) and Perea; and Philip (see Herod, 4) became tetrarch over the northeastern territories (v 1). Herod Philip, son of Mariamne II, remained a private citizen (see Herod, 5). Because of this his wife *Herodias (who was also his niece, being daughter of his brother Aristobulus) left him and lived with Antipas.\n\nHerod was a great builder and the founder of several magnificent cities, which were built in Hellenistic style and splendour. These included two cities named in honour of the emperor Augustus: Samaria, which he called Sebaste (Greek for \"Augusta\"), and the old Strato’s Tower, on the coast, which he named *Caesarea, and which later became Herod’s capital; two that he named for members of his family: *Antipatris (formerly Aphek), northeast of Joppa and Phasaelis, in the Jordan Valley; and two cities which bore the name Herodium (Gr. Heµroµdeion), one in Transjordan and the other southeast of Bethlehem (for the latter see Palestine Under Herod the Great). Other cities or fortresses built by him were Machaerus, east of the Dead Sea (Palestine Under Herod the Great), Masada, near the western shore of the Dead Sea (Palestine Under Herod the Great), Gaba in Galilee (Palestine Under Herod the Great), and Esbon (formerly Heshbon) in Perea (Palestine Under Herod the Great).\n\nThe city of *Jerusalem also received his attention. Beginning c. 20 b.c. he rebuilt Zerubbabel’s Temple, which was in a dilapidated condition, and began to erect magnificent buildings in and around the Temple (see Temple, IV), including the *\"barracks\" of Antonia. These structures were not completed until shortly before the outbreak of the Jewish-Roman war in a.d. 66 (cf. Jn 2:20). He also built a royal palace in Jerusalem, one tower of which is still partly visible in the lower section of the so-called \"Tower of David\" in the citadel. Herod also erected a theatre and an amphitheatre. These structures, because they were the scene of plays and games such as were held in Hellenistic cities, were highly offensive to the orthodox Jews.\n\nAlthough Herod was a *Hellenist in heart and practice, and surrounded himself by Hellenistic counsellors, he was prudent enough to refrain from suppressing or openly defying the Jewish religion as Antiochus IV had done in the preceding century. However, the Jews hated him because he was an Idumean and a friend of the Romans, and because of his scandalous private life. They resented his extreme cruelty and the imposition upon them of a heavy tax burden necessitated by his extensive building program. The absence of open rebellion during his long reign was due to his unwavering loyalty to the Romans, to his ruthlessness in suppressing every opposition, and to the fact that there was external peace in his day.\n\nHerod the Great appears in the NT in the date formula of Lk 1:5, and in the narrative of the \"wise men from the east\" as told in Mt 2:1–18. Upon hearing that a descendant of David was born in Bethlehem according to an ancient prophecy, the king gave orders to kill all infants in that city. This cruel act is not recorded in secular history. It is in full harmony with his other known acts of atrocity and cruelty. The last atrocity planned by Herod was fortunately never carried out. Knowing that there would be great rejoicing in the kingdom when the people would learn of his death, he had the principal Jews shut up in the stadium in Jericho, and gave orders to have them killed as soon as he died, in order to provide some mourning over his death. However, his sister Salome and her husband Alexas, who were charged with carrying out this order, foiled his plan by releasing the unfortunate noblemen after his death, thus bringing great joy to many Jewish homes. Herod passed away in his 34th regnal year at the age of 69, in 4/3 b.c., most probably in the spring of 4 b.c.\nFrom http://www.google.se/search?q=cache:8j-kqE_imN8J:www.nisbett.com/people/bp-herod.htm+%22Herod+Archelaus%22+successor+AD&hl=sv&ie=UTF-8"]
[null,null,null,null,3872,25,716,39,38,null,null,null,{"$f":"M67+1","v":1}]
[null,null,null,null,3873,25,716,39,38,null,null,null,1]
[null,null,null,null,3873,26,717,38,37,null,null,null,2]
[null,null,null,null,3874,26,717,38,37,null,null,null,2]
[null,null,null,null,3874,27,718,37,36,null,null,null,3,0]
[null,null,null,null,3875,27,718,37,36,null,null,null,3,0,null,null,null,"Quote: All Sabbatical Years according to the Law of Moses ended on the Day of Atonement (Yom Kippur), and Josephus said that Herod’s capture of Jerusalem coincided exactly with a Day of Atonement. 11 He further stated that it was precisely to the very day, 27 years after the Roman general Pompey conquered Jerusalem in 63 B.C.E. 12 Clearly, this chronological fact leads one to 25 October, 36 B.C.E. for Herod’s capture of Jerusalem.\n\nThis indication is powerful evidence in which any scholar can place the highest confidence that Herod’s 34 years of reign from Antigonus’ death has to have 36 B.C.E, as a beginning benchmark.\nFrom Earnest L. Martin, The Star that Astonished the World, Chapter 13:1 at http://askelm.com/star/star015.htm"]
[null,null,null,null,3875,28,719,36,35,null,null,null,4,1]
[null,null,null,null,3876,28,719,36,35,null,null,null,4,1]
[null,null,null,null,3876,29,720,35,34,null,null,null,5,2]
[null,null,null,null,3877,29,720,35,34,null,null,null,5,2]
[null,null,null,null,3877,30,721,34,33,null,null,null,6,3]
[null,null,null,null,{"$f":"E82-1","v":3878},30,721,34,33,null,null,null,6,3]
[null,null,null,null,3878,31,{"$f":"G83-1","v":722},{"$f":"H83+1","v":33},32,null,null,null,7,4]
[null,null,null,null,3879,31,722,33,32,null,null,null,7,4]
[null,null,null,null,3879,32,723,32,31,null,null,null,8,5]
[null,null,null,null,3880,32,723,32,31,null,null,null,8,5]
[null,null,null,null,3880,33,724,31,30,null,null,null,{"$f":"M83+1","v":9},6]
[null,null,null,null,3881,33,724,31,30,null,null,null,9,6]
[null,null,null,null,3881,{"$f":"F85+1","v":34},725,30,29,null,null,null,10,7]
[null,null,null,null,3882,34,725,30,29,null,null,null,10,7]
[null,null,null,null,3882,35,726,29,28,null,null,null,11,8]
[null,null,null,null,3883,35,726,29,28,null,null,null,11,8]
[null,null,null,null,3883,36,727,28,27,null,null,null,12,9]
[null,null,null,null,3884,36,727,28,27,null,null,null,12,9,null,null,null,"Proclamation of \"Augustus\" on January 16, 27 BCE [ [11th moon =] Shevat 3, 27 BCE]: \"In 2 B.C.E. Augustus celebrated his 25th jubilee year of being emperor of the Romans (from the time he was proclaimed “Augustus” on January 16, 27 B.C.E.). 6 This year also coincided with the 750th year of the founding of Rome as determined by the chronological records of the Roman priests. 7 In August of 2 B.C.E. (the month named after Augustus himself and still a month we recognize today) there were festivities in Rome and throughout the provinces and client kingdoms.\n\n[Footnotes:]\n6 The Oxford Classical Dictionary, 149. \n7 E.J. Bickerman, Chronology of the Ancient World, 77. \n8 B. Allan, Augustus Caesar, 216–218. \"\n\nFrom: Martin, Earnest, L., The Star that Astonished the World, Chapter 1."]
[null,null,null,null,3884,37,728,27,26,null,null,null,13,10]
[null,null,null,null,3885,37,728,27,26,null,null,null,13,10]
[null,null,null,null,3885,38,729,26,25,null,null,null,14,11]
[null,null,null,null,3886,38,729,26,25,null,null,null,14,11]
[null,null,null,null,3886,39,730,{"$f":"H99+1","v":25},24,null,null,null,15,12]
[null,null,null,null,3887,39,730,25,24,null,null,null,15,12]
[null,null,null,null,3887,40,731,24,23,null,null,null,16,13]
[null,null,null,null,3888,40,731,24,23,null,null,null,16,13]
[null,null,null,null,3888,41,732,23,22,null,null,null,{"$f":"M99+1","v":17},14]
[null,null,null,null,3889,41,732,23,22,null,null,null,17,14]
[null,null,null,null,3889,{"$f":"F101+1","v":42},733,22,21,null,null,null,18,15]
[null,null,null,null,3890,42,733,22,21,null,null,null,18,15]
[null,null,null,null,3890,43,734,21,20,null,null,null,19,16]
[null,null,null,null,3891,43,734,21,20,0,null,null,19,16,null,null,null,"Foundation laid for Herod's Temple (18 BCE per Lewin), (23-23 BCE per Farrar, Life of Christ, App. Exc. 1) (20 BCE per: http://campus.northpark.edu/history/WebChron/MiddleEast/HerodTemple.html)"]
[null,null,null,null,3891,44,735,20,19,0,null,null,20,17]
[null,null,null,null,3892,44,735,20,19,{"$f":"J106+1","v":1},null,null,20,17]
[null,null,null,null,3892,45,736,19,18,{"$f":"J107+1","v":1},null,null,21,18]
[null,null,null,null,3893,45,736,19,18,{"$f":"J108+1","v":2},null,null,21,18]
[null,null,null,null,3893,46,737,18,17,2,null,null,22,19]
[null,null,null,null,3894,46,737,18,17,3,null,null,22,19]
[null,null,null,null,3894,47,738,{"$f":"H115+1","v":17},16,3,null,null,23,20]
[null,null,null,null,3895,47,738,17,16,4,null,null,23,20]
[null,null,null,null,3895,48,739,16,15,4,null,null,24,21]
[null,null,null,null,3896,48,739,16,15,5,null,null,24,21]
[null,null,null,null,3896,49,740,15,14,5,null,null,{"$f":"M115+1","v":25},22]
[null,null,null,null,3897,49,740,15,14,6,null,null,25,22]
[null,null,null,null,3897,{"$f":"F117+1","v":50},741,14,13,6,null,null,26,23]
[null,null,null,null,3898,50,741,14,13,7,null,null,26,23]
[null,null,null,null,3898,51,742,13,12,7,null,null,27,24]
[null,null,null,null,3899,51,742,13,12,8,null,null,27,24]
[null,null,null,null,3899,52,743,12,{"$f":"I125+1","v":11},8,null,null,28,25]
[null,null,null,null,3900,52,743,12,{"$f":"I126+1","v":11},9,null,null,28,25]
[null,null,null,null,3900,53,744,11,10,9,null,null,29,26]
[null,null,null,null,3901,53,744,11,10,10,null,null,29,26]
[null,null,null,null,3901,54,745,10,9,10,null,null,30,27]
[null,null,null,null,3902,54,745,10,9,11,null,null,30,27]
[null,null,null,null,3902,55,746,{"$f":"H131+1","v":9},8,11,null,null,31,28]
[null,null,null,null,3903,55,746,9,8,12,null,null,31,28]
[null,null,null,null,3903,56,747,8,7,12,null,null,32,29]
[null,null,null,null,3904,56,747,8,7,13,null,null,32,29]
[null,null,null,null,3904,57,748,7,6,13,null,null,{"$f":"M131+1","v":33},30]
[null,null,null,null,{"$f":"E136-1","v":3905},57,748,{"$f":"H136+1","v":7},6,14,null,null,33,30]
[null,null,null,null,{"$f":"E137-1","v":3905},{"$f":"F133+1","v":58},749,{"$f":"H137+1","v":6},{"$f":"I137+1","v":5},14,null,null,34,31]
[null,1,-16,null,{"$f":"Sheet1!I140","v":3906},58,{"$f":"G138-1","v":749},{"$f":"H138+1","v":6},{"$f":"I138+1","v":5},15,0,null,34,31,0,null,null,"Jehoshua's conception - \nLuke 1:24 \"And after those days his wife Elisabeth conceived, and hid herself five months...\" (KJV) - Very possibly \"five months\" could as well be translated \"in the fifth month [of the year]\"\n\nLuke 1:26-27\n\"26 And in the sixth month the angel Gabriel was sent from God unto a city of Galilee, named Nazareth,\n\"27 To a virgin espoused to a man whose name was Joseph, of the house of David; and the virgin's name was Mary.\" (KJV) - Very possibly the \"in the sixth month\" is in reference to the months of the year as well as to Elisabeth's pregnancy.  IF SO then Yeshua was conceived in the sixth lunation of the biblical year and then likely delivered at term in the second or third biblical moon of the subsequent year, i.e. in May or June, 5 BCE(?).  If it is true that Herod the Great died in March or April, 4 BCE, then Yeshua, if delivered in May or June, must have been delivered 5 BCE at the latest. Yeshua was then conceived in September, 6 BCE at the latest. Assuming that the passage - in Matt 2:16:\n\"16 Then Herod, when he saw that he was mocked of the wise men, was exceeding wroth, and sent forth, and slew all the children that were in Bethlehem, and in all the coasts thereof, from two years old and under, according to the time which he had diligently inquired of the wise men.\" (KJV) - is referencing an exact \"time\" corresponding to the conception of Yeshua, and that the \"two years\" is more correctly translated \"more than one year\" while also including the time in utero, I find that Herod's decree to \"slew all the children\" must have been issued sometime between August in the year Yeshua was delivered, likely the year prior to Herod's death August of the subsequent year.  Thus likely between August, 5 BCE and April, 4 BCE.\n\nNotice that Cyrenius was governor from 4 BCE to 1 BCE (Cf. below!)\n\nLuke 1:36\n\"36 And, behold, thy cousin Elisabeth, she hath also conceived a son in her old age: and this is the sixth month with her, who was called barren.\" (KJV) - Very possibly the \"in the sixth month\" is concurrent with the months of the year.\n\n\"And it came to pass in those days, that there went out a decree from Caesar Augustus that all the world should be taxed. (And this taxing was first made when Cyrenius was governor of Syria.) And all went to be taxed, every one into his own city.\" Luke 2:1-3 (KJV.)  \"2. This was the first enrolment made, etc. This statement has caused some difficulty. Luke seems to affirm that the enrolment took place the year Jesus was born, but while Cyrenius was governor of Syria. Now Cyrenius was governor of Syria from A. D. 6 to A. D. 11. There are two ways of settling the apparent difficulty: (1) Augustus Cæsar, incensed at Herod, ordered an enrolment for taxation of the Jews the year of the birth of Jesus. It was carried out in all probability by Cyrenius. The intercession of Herod's minister, Nicolas, averted the displeasure of Augustus and the taxation did not take place until Cyrenius was governor of Syria, after Archelaus, son of Herod, was deposed. These facts we learn from Josephus, and they remove the apparent discrepancy. But (2) A. W. Zumpt, of Berlin, followed by Alford and Schaff, make it highly probable that Cyrenius was governor of Syria twice, the first time from B. C. 4 to B. C. 1. I have not space for the argument which seems conclusive. But in B. C. 4 Jesus was born. Ancient writers, Christians as well as pagan opposers, state that Jesus was born while Cyrenius was governor of Syria.\" (From B. W. Johnson\nThe People's New Testament (1891) [PNTA 228-235] at http://www.google.se/search?q=cache:IMsNDiIoUc4J:www.mun.ca/rels/restmov/texts/bjohnson/hg1/PNT03-02.HTM+Cyrenius+governor+Syria&hl=sv&ie=UTF-8)  \"Jesus was born during the reign of Herod the Great, who ruled Judea until March or April of 4 B.C., when he died (Encyclopedia Britannica on the web @ www.eb.com/cgi-bin/g?keywords=herod [probably based on information presented by the historian Josephus]).\" (From http://www.geocities.com/athens/parthenon/3021/ascension2.html)"]
[null,1,-15,null,{"$f":"E136","v":3906},59,750,{"$f":"H139+1","v":5},{"$f":"I139+1","v":4},15,{"$f":"K136","v":0},null,35,32,0,null,null,"Quote:        The Empire-wide Registration     \nAugustus received his most prestigious title, the Pater Patriae, on February 5, 2 B.C.E. which was the Day of Concord on the Roman religious calendar. But in what legal way did Augustus obtain this title? In the Res Gestae, composed by Augustus himself, he wrote,\n\n“While I was administering my thirteenth consulship the senate and the equestrian order and the entire Roman people [italics mine] gave me the title Father of my Country.” 13\n\nWithin the Empire there were over 4 million Roman citizens. For the totality of the citizenry to approve the bestowal of the Pater Patriae must have involved an Empire-wide accounting. Since Augustus was officially given the award in early 2 B.C.E., the registering of the citizens must have been decreed and began to be carried out sometime in 3 B.C.E.\n\nIn this universal registration of citizen approval regarding the “Fatherhood” of Augustus and the recognition of Supreme authority that the title signified, it is reasonable that all non-citizens in the Empire also gave some kind of recognizable approbation within the same period of time. Since most people in Judaea and the Empire were not Roman citizens, Augustus could well have decreed in 3 B.C.E. that everyone should swear an oath of absolute obedience to him to accompany his majestic award as being “Father of the Country.” This would have been an appropriate gesture from all peoples in acknowledging their obedience to him by the time of his Jubilee Year of supreme power in 2 B.C.E.\n\nRemarkably, an inscription found in Paphlagonia (north central Asia Minor) that is clearly dated to 3 B.C. records an oath of obedience “taken by the inhabitants of Paphlagonia and the Roman businessmen dwelling among them.” 14 The inscription states that Romans as well as non-citizens took the oath. And importantly, the whole of the population were required to swear it. “The same oath was sworn also by all the people in the land [italics mine] at the altars of Augustus in the temples of Augustus in the various districts.” 15 This was in 3 B.C.E. Also, in Judaea an oath was required of all the people at the same time (as shown by my chronological reconstruction). 16 This is a reasonable hint that the oath mentioned by Josephus was the same that the people of Paphlagonia were required to render. If so, then it could have been a part of the Empire-wide recognition of Augustus’ Pater Patriae.\nOthers Records About the Census\nThere is yet another point. The Armenian historian Moses of Khorene said that the native sources he had available showed that in the second year of Abgar, king of Armenia in 3 B.C.E., the census mentioned by Luke brought Roman agents “to Armenia, bringing the image of Augustus Caesar, which they set up in every temple.” 17 It is implied that people had to go to the temples to register for the census. This information is very similar to that engraved on the Paphlagonian inscription (also referring to 3 B.C.), that recorded the “oath” given to Augustus. The same oath was sworn by all the people in the land at the altars of Augustus in the temples of Augustus in the various districts. The similarity of language is so striking (and since the year is exactly the same), it may mean that we have Armenian history showing that the registration mentioned by Luke did indeed occur in the year 3 B.C.E.\n\nThe fact that the census of Luke was actually an Empire-wide oath to Augustus was recognized by Orosius, who lived in the 5th century. He must have had early sources for his evidence. He wrote,\n\n“[Augustus] ordered that a census be taken of each province everywhere and that all men be enrolled. ... This is the earliest and most famous public acknowledgment which marked Caesar as the first of all men and the Romans as lords of the world, a published list of all men entered individually .... This first and greatest census was taken, since in this one name of Caesar all the peoples of the great nations took oath, and at the same time, through the participation in the census, were made apart of one society” 18\n\n[underlining mine, i.e. ELM]\n\nOrosius also identified the year for this enrollment and oath as being 3 B.C.E. He said the oath was taken to enroll Augustus “as the first of all men” ― an apt description of the bestowal of the Pater Patriae in his Silver Jubilee year and when the priestly celebrations for the 750th anniversary of Rome took place. The fact that Orosius equaled the census with an oath of allegiance to Augustus may well mean that he had historical records that substantiated it.\n\nFrom  \"Chapter 12: The Census of Quintilius Varus\"   by Dr. Ernest L. Martin at http://askelm.com/star/star014.htm#_ednref12."]
[null,{"$f":"B136+1","v":2},-15,null,{"$f":"E136+1","v":3907},59,{"$f":"G137","v":750},{"$f":"H140+1","v":5},{"$f":"I140+1","v":4},16,{"$f":"K136+1","v":1},null,35,32,{"$f":"O136+1","v":1},null,null,"Eclipse March 12, 4 BCE: \"Josephus says that on the night in which Herod ordered Judas, Matthias, and their abettors to be burnt, there was an eclipse of the moon. Now this eclipse took place on the night of March 12th, B.C. 4\" (Dr. Farrar, Life of Christ (Excursus 1.) From http://www.google.se/search?q=cache:sBEW7BJYG8IJ:faith.disk919.com/resources/the_coming_prince/appendix.php+%22Herod%27s+accession%22&hl=sv&ie=UTF-8 )                                                                                                                                              \"As for the other Matthias who had stirred up the sedition, he (Herod) had him burned alive along with some of his companions. And on that same night there was an eclipse of the Moon. But Herod's illness became more and more severe. . . .\" \n\nRefers to a partial CD 98lunar eclipse of 13 March 4 BC, or possibly a total lunar eclipse of 23 March 5 BC. \nFrom: Flavius Josephus (Jewish, 1st century AD.) \nQuoted in Encyclopaedia Britannica CD 98.    From  \nFrom http://www.mreclipse.com/Special/quotes1.html  under the NASA Eclipse homepage http://sunearth.gsfc.nasa.gov/eclipse/eclipse.html\n \"Five days after the execution of Antipater Herod died at Jericho, leaving his throne to his son Archelaus. The corpse was transported with great pomp from Jericho to Herodium, where the burial took place. The day of his death was marked in the Jewish calendar as a festival.\" From http://www.jewishencyclopedia.com/view.jsp?artid=630&letter=H&search=Herod%20the%20Great\n"]
[null,2,-14,null,3907,60,{"$f":"G137+1","v":751},4,3,16,{"$f":"K137+1","v":1},null,36,{"$f":"N137+1","v":33},{"$f":"O137+1","v":1},null,null,"Herod the Great dies & Archelaus' accession: \"Then secretly calling the wise men, Herod asked of them exactly the time of the star appearing. …  Then seeing that he saw mocked by the wise men, Herod was greatly enraged; and having sent, he killed all the boys in Bethlehem and in all its districts, from two years old and under - according to the time which he exactly asked from the wise men...  But Herod having expired, hehold, an angel of the Lord appears to Joseph by a dream in Egypt, saying, Rising up, take along the child and His mother, and pass over into the land of Israel; for those seeking the soul of the child have expired.  And rising up, he took along the child and His mother and came into the land of Israel. But hearing that Archelaus reigned over Judea in place of his father Herod, he reared to go there.  And being warned by a dream, he departed into the parts of Galilee. And coming he lived in a city called Nazareth; so as to fulfill that spoken by the prophets, \"He shall be called a Nazarene.\" \"  Matt. 2:7,16,19-23 (IB).  (cf. http://campus.northpark.edu/history/WebChron/MiddleEast/HerodTemple.html & my file \"Herod the Great Begins the Third Temple - 19-20 BC.doc\" which file states: \"But his most notable achievement was the building a temple in Jerusalem, which was begun in 20/19 BC and finished in 63 AD, long after his death in 4 BC. This was known as the Third Temple.\", and \"Herod grew ill and died at Jericho in the spring of 4 BC. The people made Archelaus their king because that was what was put in Herod's last (sixth) will.\", which quotes cannot both be correct considering the text in Matt. 2:7,16,19-23 (IB).<<<<<<<<<<<>>>>>>>>> NOTICE: The age of the children may well have been counted from conception, while the ones to be killed were in their 2nd year since conception, thus a minimum of babies 4 months old (since delivery) would have been killed (9 months + 3 months + 1 month)."]
[null,3,-14,null,3908,60,{"$f":"G138+1","v":751},{"$f":"H139","v":4},{"$f":"I139","v":3},17,2,null,36,33,2,null,null,"Quote: (Herod) Archelaus. [Gr. Archelaos, \"people’s ruler,\" or \"people’s prince.\"] Ruler of Judea and Samaria during Jesus’ childhood. Archelaus was a son of Herod the Great and Malthace. He, his full brother Antipas, and their half brother Philip the tetrarch (the son of Cleopatra of Jerusalem) were all educated in Rome. They were named as their father’s successors in his final will, which was honoured by Augustus. The emperor gave Archelaus Judea, Samaria, and Idumea, and granted him the title ethnarch, meaning \"people’s prince.\" He ruled in this capacity from 4 b.c. to a.d. 6. Like his father he loved luxury and power, and on several occasions demonstrated his cruel nature. In suppressing a riot during the 1st year of his reign his troops killed 3,000 people. It is easy to understand why Joseph was afraid to live in Judea under Archelaus when he brought Mary and the child Jesus back from Egypt (Mt 2:22).\n\nArchelaus’ choice of high priests, his private life, and his cruelties annoyed the Jews, who, joined by the Samaritans, sent deputations to Rome, and finally persuaded Augustus to recall Archelaus. The deposed ethnarch was banished to Vienne, on the Rhone, in what is now southern France, and his territory was placed under a Roman procurator, who served as a direct representative of the Roman provincial administration (see Governor, 2).\nFrom http://www.google.se/search?q=cache:8j-kqE_imN8J:www.nisbett.com/people/bp-herod.htm+%22Herod+Archelaus%22+successor+AD&hl=sv&ie=UTF-8"]
[null,3,-13,null,3908,61,752,{"$f":"H139-1","v":3},2,{"$f":"J139+1","v":17},2,null,37,34,2,null,null,"Quote: Herod (Antipas) (a¬n'tž-pa¬s). Ruler of Galilee and Perea during Jesus’ ministry, called \"Herod the Tetrarch\" in the NT, but usually referred to in history as \"Herod Antipas.\" He was the son of Herod the Great and his Samaritan wife Malthace, and was educated in Rome with his brother Archelaus and his half brother Philip. Antipas was designated successor to the throne in his father’s 2d will, yet in Herod’s final will he was given only Galilee and Perea, with the title of tetrarch. Mark refers to him by his popular title, king (ch 6:14). Since he is simply called Herod in the Gospels, a name found also on his coins, readers of the Bible have frequently confused him with his father. He was married to the daughter of Aretas IV, king of the Nabataeans, whose capital was Petra, south of the Dead Sea (The Roman Empire in the First Century (A.D.)). This marriage may have been contracted with the purpose of making the eastern and southern borders of Perea safe from Nabataean attacks.\n\nDuring a visit to Rome, Herod Antipas fell in love with Herodias, his niece, who was the wife of his half brother, Herod Philip. Herodias thereupon left her husband and lived with Antipas. His discarded wife’s father was deeply offended and consequently waged war against Antipas, in which he succeeded in occupying parts of Antipas’ Transjordan territories. John the Baptist severely rebuked Antipas (perhaps publicly) for his adultery and as a result was incarcerated in Machaerus, a fortress east of the Dead Sea. Herodias deeply hated John for his interference in her private life and could not rest until she brought about his death (Mt 14:1–12). Antipas was known for his cunning (Jesus called him \"that fox,\" Lk 13:32), his ambitions, and his love of luxuries, yet he lived as an orthodox Jew, and went to Jerusalem on feast days (ch 23:7). For years he was an enemy of Pilate (v 12), because he could not condone the procurator’s anti-Jewish acts. In harmony with the Jewish aversion to images he refrained from having his portrait put on his coins. He rebuilt Sepphoris in Galilee, added to its fortifications, and made it his capital. He also built Tiberias and other cities and strengthened the borders of his domain.\n\nHerod Antipas is mentioned in the NT in connection with the imprisonment and execution of John the Baptist (Mt 14:3–12). He may have planned to arrest and kill Jesus of Nazareth, as the Pharisees claimed (Lk 13:31), but this is not certain. He considered Jesus to be the risen Baptist (Mk 6:14–16). When he finally met Jesus in Jerusalem, he showed interest in Him, but his interest turned to ridicule when Jesus refused to answer him (Lk 23:8–12). Pilate’s act of sending Jesus to him, in recognition of Herod’s authority over Galileans even in Jerusalem, resulted in a friendship between the two former antagonists. In a.d. 37 Agrippa, Herodias’ brother, was made king over the northeastern territories of Palestine that Philip (see Herod, 4) had held. Herodias, dissatisfied that her husband had the title only of tetrarch, induced him to go with her to Rome and to seek a royal crown from Caligula. Agrippa, however, sent letters to Rome accusing his uncle Antipas of treasonable activities. As a result, instead of being made a king, Herod was banished in a.d. 39, to either Gaul or Spain, where Herodias followed him into exile. His territory was added to that of his accuser, Agrippa.\n\nFrom http://www.google.se/search?q=cache:8j-kqE_imN8J:www.nisbett.com/people/bp-herod.htm+%22Herod+Archelaus%22+successor+AD&hl=sv&ie=UTF-8"]
[null,4,-13,null,3909,61,752,3,2,18,3,null,37,34,3,null,null,"Quote: 4. (Herod) Philip (fžl'žp). [Gr. Philippos, \"a friend of horses.\"] Tetrarch of the territories northeast of the Sea of Galilee, the son of Herod the Great and of Cleopatra of Jerusalem. Educated in Rome with his half brothers Archelaus and Antipas, he was given part of his father’s realm upon Herod’s death. Receiving the title tetrarch, he was placed over the northeastern territories of Palestine—including Ituraea, Trachonitis (Lk 3:1), Batanaea, and Auranitis—and ruled from 4 b.c. to a.d. 33/34. He was the best of all the Herodian rulers, and the historians of his time report nothing evil of him. His building activities were many. He enlarged the city of Paneas, situated at the source of the Jordan, and called it Caesarea. Later it was generally referred to as Caesarea Philippi (Mt 16:13) to distinguish it from the Caesarea of western Palestine. Philip also made the village of Bethsaida into a city and called it Bethsaida Julias in honour of Augustus’ daughter, who was the wife of Tiberius. Toward the end of his life he married his niece, Herodias’ daughter (ch 14:11) Salome, who was about 30 years his junior. When he died without leaving any children, his tetrarchy was annexed to Syria, but about 3 years later it was given to Agrippa I as a kingdom.\n\n5. (Herod) Philip. Brother of Antipas and first husband of Herodias. He was a son of Herod the Great and of Mariamne II, daughter of the high priest Simon. Philip was not a ruler, but a private citizen. He was married to his niece, Herodias, who after a time fell in love with her uncle Antipas (see Herod, 3), a half brother of her husband, and went to live with him, taking her daughter Salome with her. Salome later married her great-uncle, Philip the tetrarch, and after her husband’s death married one of her cousins, Aristobulus.\n\nHerod Philip is called simply Philip in the Gospels (Mt 14:3; Lk 3:19), but is called Herod by Josephus (Ant. xviii. 5. 4). The NT agrees with Josephus in making him a (half) brother of Herod Antipas.\n\n6. Herod (Agrippa I) (a¾-gržp'a¾). [Gr. Agrippas] King of Judea and all Palestine who persecuted the apostles (Acts 12:1). His official Roman name was Marcus Julius Agrippa Herodes, but he is called simply \"Herod the king\" in the NT. He was born in 10/9 b.c. as a son of Aristobulus and Bernice and grandson of Herod the Great. He married Cypros, and had four children, Bernice, Mariamne, Drusilla, and Agrippa (II). Of these the 1st, 3d, and 4th are mentioned in the Bible (chs 24:24; 25:13). He received part of his education in Rome, later became superintendent of markets at Tiberias, and also lived for a while in Damascus. Upon his return to Rome in a.d. 37 he was imprisoned by Tiberius for having sided with Germanicus’ son, Gaius, or Caligula, who became emperor only 6 months later. Caligula immediately made his friend Agrippa king of the tetrarchy over which Agrippa’s late uncle Philip (see Herod, 4) had ruled, and over the tetrarchy of Lysanias. In a.d. 39 he was made ruler over Galilee and Perea, the tetrarchy of his uncle Antipas, whom he had ousted and whose banishment he precipitated by accusing him to Rome of conspiring against the empire. Two years later the emperor Claudius, with whom Agrippa had also ingratiated himself, added to Agrippa’s kingdom the territory of Judea and Samaria, which since a.d. 6 had been governed by Roman procurators. Agrippa thus became king over an area equal to that held by his grandfather Herod the Great. Anxious to obtain the good will of his people, he strictly observed the religious rules of the Jews. His execution of James, the brother of John, and the imprisonment of Peter (Acts 12:1–7) were ordered with this purpose in mind. Attempting to strengthen Jerusalem’s fortifications, he began to build a new wall to the north of Jerusalem, but gave up the project on the demand of Claudius. Although he tried to show himself an orthodox Jew, he was also a great lover and promoter of Greek athletic games and of the theatre. He died in a.d. 44 in his capital, Caesarea, after a brief but violent intestinal illness, which suddenly overtook him when he accepted divine honours after an oration at a public appearance (Acts 12:20–23; Jos. Ant. xix. 8. 2).\n\n7. (Herod) Agrippa (II). Ruler of the northeast; the Agrippa who heard Paul. His official Roman name was Marcus Julius Agrippa Herodes II. He was the son of Agrippa I and was born and educated in Rome. Since he was only 17 years old when his father died in a.d. 44 he was considered by the emperor Claudius to be too young to take over the kingship. However, in a.d. 50 he was made king of Chalcis (Chalkis on Palestine in the Time of Jesus), a small area in the Lebanon region, which had been ruled by his uncle Herod from a.d. 41 to 48. In a.d. 53 he was given the former tetrarchies of Philip and Lysanias in northeastern Palestine in exchange for the kingdom of Chalcis. Nero added large areas of Galilee and Perea to his territory. He was also assigned the supervision of the Temple of Jerusalem and the right to appoint the high priest. It was during his reign that the Temple begun under his great-grandfather, Herod the Great, was completed (a.d. 62 or 64). Like his father he attempted to live the life of an orthodox Jew, and whenever he had an opportunity he pointed out to his noble pagan acquaintances the high moral advantages of Jewish monotheism over their religions. However, he lived in incest with his sister Bernice, so that his own private life was scandalous.\n\nAgrippa II enlarged and beautified Caesarea Philippi, built an addition to Herod’s palace in Jerusalem, and sponsored theatrical performances in Berytus (Beirut). A monumental stone inscription mentioning him and his sister Bernice was recently found in the excavations of Beirut and is now in the Beirut Museum . Agrippa is mentioned in the NT in connection with Paul’s appeal to the emperor. After the procurator Festus took over his governorship, Agrippa and Bernice paid a courtesy visit to Caesarea. Festus used this opportunity to bring Paul before Agrippa, whom he considered an expert in Jewish affairs, to obtain legal counsel as to what report he should send to Rome. Agrippa became convinced of Paul’s innocence, but could not release him since the case had already been appealed to the emperor (Acts 25:13–27; 26:32).\n\nWhen the Jewish war broke out in a.d. 66, Agrippa II failed in his efforts to persuade the Jews to refrain from rebelling against the Romans. Thereupon he placed himself without reservation on the side of the Romans, and was richly honoured for his loyal stand. Little is known about his later private life in Rome, where he died either c. a.d. 93 or c. a.d. 100.\n\nLit.: M. Grant, Herod the Great (New York, 1971); S. Perowne, The Life and Times of Herod the Great (London, 1956); S. Sandmel, Herod, Profile of a Tyrant (Philadelphia, 1967); S. Perowne, The Later Herods (London, 1958).\nFrom: http://www.google.se/search?q=cache:8j-kqE_imN8J:www.nisbett.com/people/bp-herod.htm+%22Herod+Archelaus%22+successor+AD&hl=sv&ie=UTF-8"]
[null,4,-12,null,3909,62,753,2,1,18,3,null,38,35,3,0,null,"Quote: \n\nThe Major Problem with Filmer’s Suggestions       \n\nWhile Filmer’s treatment of Josephus’ reckoning for Herod’s years of reign appears reasonable, there is one major stumblingblock to it. Barnes, in his review of Filmer’s position, 16 made it pretty clear that the historical records show that some of Herod’s successors began their reigns in 4 B.C.E., and not as one might expect in 1 B.C.E. The Roman historian Dio said that Herod’s son Archelaus was deposed in his tenth year of reign in the consulship of Aemalius Lepidus and L. Arruntuis. 17 This answers to C.E. 6 and it means that Archelaus took over from Herod sometime in 4 B.C.E. ― or at least it looks that way. There is even more evidence of this. Antipas was deposed by Caligula in C.E. 39, and there are coins which record his forty-third year. This evidence also leads one back to 4 B.C.E. for the beginning of Antipas’ reign.\n\nThe fact that these two sons of Herod (Archelaus and Antipas) seem to be reigning in 4 B.C. is the main problem to the thesis of Filmer. If Herod died in early 1 B.C.E. (as Filmer and the evidence of this book suggest), why were two of Herod’s successors reckoned as reigning as early as 4 B.C.E.? This, on the other hand, is not the case with Herod’s son Philip. I have shown how David W. Beyer has made it clear that the early manuscripts of Josephus show Philip to have started his 37 years of rule in 1 B.C.E. But why do the other two sons of Herod seemingly show 4 B.C.E.? There are historical reasons why this happened. And once they are understood, it shows that Filmer is right after all in his solutions to the problem.\n\nFrom Earnest L. Martin, The Star that Astonished the World, Chapter 13:1, Subtitle \"The Major Problem with Filmer’s Suggestions\" at http://askelm.com/star/star015.htm\n\n               \nErasing Names in Genealogical Lists Was Common\n\nHerod would have found enough biblical precedents for expunging Antipater’s name from the public records (including his two years of joint rule with Herod when he was also reckoned as a king). There are historical examples of such things, e.g., chiseling away names from the monuments of Egypt (even attempting to destroy the written records of Pharaoh Akenaton) and Nabonassar obliterating the accounts of previous Babylonian kings. And now, Herod received permission to either banish his son (this could have meant the loss of sonship for Antipater) or to kill him. Herod decided to execute him, but he no doubt stripped him of all family associations in an effort to degrade him completely.\n\nNote that Herod again changed his will immediately after killing Antipater. Directions for such a “blotting out” could well have been in his final testament. It could have been that Antipater’s joint rule with Herod was now awarded retroactively to Herod’s true successors to secure the “blotting out” of Antipater’s memory. This is even suggested by what Josephus said about Archelaus, the chief successor of Herod. There is the obscure reference that Archelaus was recognized as one that “had long exercised royal authority.” 11 This was not actually true to fact. The mind of Herod had been poisoned against Archelaus. Only at the last moment of his life, when in desperation, did Herod appoint Archelaus to be the heir to the kingdom. 12 Why then was Archelaus reckoned as having authority with Herod in the latter years of Herod’s reign when everyone knows he was not in such power? He was no doubt awarded the years of Antipater’s joint rule in a de jure sense ― replacing Antipater’s joint rulership associated with his father in the Judaean kingdom when the two royal Hasmonean sons were killed (4 B.C.E.).\n\nFrom Earnest L. Martin, The Star that Astonished the World, Chapter 13:2, Subtitle \"Erasing Names in Genealogical Lists Was Common\" at http://askelm.com/star/star016.htm#_ednref50\n\n             \nThe Evidence of Coins\n\nEven more important, however, are coins that were apparently minted by Antipas ― one of the immediate successors of Herod the Great. Antipas was removed from his throne in C.E. 39 and banished to Europe. 20  If one dates his reign from 4 B.C.E., it means he would have had a reign of 43 years. Indeed, there are three coins of Antipas marked with the regnal year 43. 21 However, there is a coin mentioned by Vaillant (and it is also referred to by Garland in his travel narratives who found it at Jericho in 1674) that has the year 44 inscribed on it. 22 But this would have Antipas commencing his reign in 5 B.C.E. This seems impossible. Much debate has surrounded the interpretation of the year mentioned on this coin. The general opinion is that the date on the coin was probably misread. Since the coin can no longer be traced, it is conjectured that this explanation is probably the best, but no one can be sure.\n\n\nCoins Often Give Political Data, Not Real History\n\nWorse yet, during the last century a coin came to light which showed year 45 for Antipas’ reign. This would have extended Antipas’ rule back to 6 B.C.E.\n\nFrom Earnest L. Martin, The Star that Astonished the World, Chapter 13:2, Subtitle \"The Evidence of Coins\" at http://askelm.com/star/star016.htm#_ednref50\n\n\nAntedating Secured Dynastic Continuance\n\nSince the Jews (and most kingdoms of the Hellenistic east) were used to antedating reigns to give political or dynastic significance to present rulership, why not antedate the reigns of the three Herodian successors back to the deaths of the two “royal sons”? Such a thing would have gained some respect in the minds of the Jewish populace. It not only would have “blotted out” Antipater’s two year joint rule with Herod when he was reckoned as a “king,” but it would have linked up the reigns of the three successors with the two royal children.\n\nFrom Earnest L. Martin, The Star that Astonished the World, Chapter 13:2, Subtitle \"Antedating Secured Dynastic Continuance\" at http://askelm.com/star/star016.htm#_ednref50 "]
[null,5,-12,null,3910,62,753,2,1,19,4,null,38,null,4,0,null,"Quote: \n\nAntedating Was Used to Achieve Dynastic Association    \n\nWith Philip, however, we now know from the research of Beyer, 56 that the early manuscripts of Josephus show that Philip commenced his reign at the exact time of Herod’s death in 1 B.C.E. and ruled for 37 years, dying in C.E. 36 (the twenty-second year of Tiberius). All this makes perfectly good sense.\n\nFrom Earnest L. Martin, The Star that Astonished the World, Chapter 13:2, Subtitle \"Antedating Was Used to Achieve Dynastic Association\" at http://askelm.com/star/star016.htm#_ednref50 "]
[null,5,-11,null,3910,63,754,{"$f":"H143-1","v":1},{"$f":"I143","v":1},19,4,null,39,null,4,1,null,{"$f":"R92","v":"Proclamation of \"Augustus\" on January 16, 27 BCE [ [11th moon =] Shevat 3, 27 BCE]: \"In 2 B.C.E. Augustus celebrated his 25th jubilee year of being emperor of the Romans (from the time he was proclaimed “Augustus” on January 16, 27 B.C.E.). 6 This year also coincided with the 750th year of the founding of Rome as determined by the chronological records of the Roman priests. 7 In August of 2 B.C.E. (the month named after Augustus himself and still a month we recognize today) there were festivities in Rome and throughout the provinces and client kingdoms.\n\n[Footnotes:]\n6 The Oxford Classical Dictionary, 149. \n7 E.J. Bickerman, Chronology of the Ancient World, 77. \n8 B. Allan, Augustus Caesar, 216–218. \"\n\nFrom: Martin, Earnest, L., The Star that Astonished the World, Chapter 1."}]
[null,6,-11,null,3911,63,754,{"$f":"H144-1","v":1},{"$f":"I144","v":1},20,5,null,39,null,5,1,null,"\n25 Year Pater Patriae given February 5, 2 BCE [Shevat 29, 2 BCE]: \n\n\"The Father of the Country\n\n\"Another important matter occurred in 2 B.C.E. Augustus was given his most prestigious title: Pater Patriae (Father of the Country). In the previous year a decree went out from Augustus that required “the entire Roman people” scattered over the Empire to register their approval that Augustus should be given the most prestigious title of his career, the Pater Patriae. 12 This registration of people in all areas of the Empire was an oath in which individuals proclaimed the emperor Augustus as the “Father of the Country.” This oath took place in the summer of 3 B.C.E. and it was required of all Roman citizens and others of distinguished rank among the client kingdoms associated with Rome. 13 This universal census of allegiance to Augustus was demanded of those who claimed any kind of authority within the Empire. The whole of the Roman Empire responded, and Augustus was gloriously proclaimed the Pater Patriae (the Father of the Country).\n\n\"This award itself was given to Augustus by decree of the Senate and the people of Rome on February 5, 2 B.C.E. This was the festival day dedicated to Concord. It was the traditional day that honored peace and reconciliation among all classes of people all over the Roman Empire. 14 Throughout the year 2 B.C.E. Augustus was being recognized as the one who brought peace, security and tranquility to the world. In the festivities and banquets that occurred during that year it was common for people to drink to the health of Augustus with the toast: “Father of the country, Caesar, the best of men.” 15\n\n[Footnotes:]\n12 T. Lewin, Fasti Sacri, 135. \n13 Res Gestae of Augustus, 35.1. \n14 T. Lewin, Fasti Sacri, 135. \n15 Ovid, Fasti, 11.637–638. \"\n\nFrom: Martin, Earnest, L., The Star that Astonished the World, Chapter 1.\n\n"]
[null,6,-10,null,3911,64,755,{"$f":"H145","v":1},{"$f":"I145+1","v":2},20,5,null,40,null,5,2]
[null,7,-10,null,3912,64,755,{"$f":"H146","v":1},{"$f":"I146+1","v":2},21,6,null,40,null,6,2]
[null,7,-9,null,3912,65,756,{"$f":"H147+1","v":2},{"$f":"I147+1","v":3},21,6,null,{"$f":"M147+1","v":41},null,{"$f":"O147+1","v":6},3]
[null,8,-9,null,3913,65,756,2,3,22,7,null,41,null,7,3]
[null,{"$f":"B149+1","v":8},-8,null,3913,{"$f":"F149+1","v":66},{"$f":"G149+1","v":757},3,4,22,7,null,42,null,7,4]
[null,9,-8,null,3914,{"$f":"F150+1","v":66},{"$f":"G151","v":757},3,4,23,8,null,42,null,8,4]
[null,9,-7,null,3914,{"$f":"F151+1","v":67},{"$f":"G151+1","v":758},4,5,23,8,null,43,null,8,5]
[null,{"$f":"B152+1","v":10},-7,null,3915,{"$f":"F152+1","v":67},{"$f":"G152+1","v":758},4,5,24,9,null,43,null,9,5]
[null,10,-6,null,3915,{"$f":"F153+1","v":68},{"$f":"G153+1","v":759},5,6,24,9,null,44,null,9,6,0,"Quote: \nCaiaphas was the son-in-law of Annas, high priest from 6 to 15 C.E. and head of a family that would control the high priesthood for most of the first century.  Annas is also mentioned in Biblical accounts.  It is possible that he, as a high priest emeritus, might have served at the side of Caiaphas in the Sanhedrin called to resolve the fate of Jesus. \n\nAlthough little is known of Caiaphas, historians infer from his long tenure as high priest, from 18 to 36 C.E., that he must have worked well with Roman authority.  For ten years, Caiaphas served with Roman prefect Pontius Pilate.  The two presumably had a close relationship.  It is likely that Caiaphas and Pilate had standing arrangements for how to deal with subversive persons such as Jesus. \n\nFrom http://www.law.umkc.edu/faculty/projects/ftrials/jesus/jesuskeyfigures.html  and \nhttp://www.google.se/search?q=cache:J2cGboZogSoJ:www.law.umkc.edu/faculty/projects/ftrials/jesus/jesuskeyfigures.html+caiaphas+%22high+priest%22+year&hl=sv&ie=UTF-8"]
[null,11,-6,null,{"$f":"E154+1","v":3916},68,759,5,6,25,10,null,44,null,10,6,0]
[null,11,-5,null,3916,69,760,6,7,25,10,null,"10/10",null,10,7,1,"Herod Antipas and others: \"...Herod being tetrarch of Galilee, and his brother Philip tetrarch of Ituraea and of the region of Trachonitis, and Lysanias the tetrarch of Abilene...\" Luke 3:1-3 (KJV)."]
[null,12,-5,null,3917,69,760,6,7,26,11,null,11,null,11,7,1]
[null,12,-4,null,3917,70,761,7,8,26,11,null,11,null,11,8,2]
[null,13,-4,null,3918,70,761,7,8,27,12,null,{"$f":"M158+1","v":12},null,12,8,2]
[null,13,-3,null,3918,71,762,8,9,27,12,null,12,null,12,9,3,"70 years of Roman occupancy of Judah completed"]
[null,14,-3,null,3919,71,762,8,9,28,13,null,13,null,13,9,3,"\"Now his parents went to Jerusalem every year at the feast of the passover. And when he was twelve years old, they went up to Jerusalem after the custom of the feast\" Luke 2:41-42 (KJV). The word 'was' in \"he was twelve\" is translated from the Greek word 'egeneto', a word form which is defined as \"3 person singular aorist 2, indicative mood  -  ginomai\" (The Analytical Greek Lexicon, Zondervan, 1975). Cf. Strong's #1096 \"ginomai; a prolonged and middle form of a primitive verb; to cause to be (\"gen\"-erate) i.e. (reflex.) to become (come into being), used with great latitude (lit., fig., intens., etc.)\"; Strong's #1079 \"genetae; feminine of a presumed derivative of the base of 1074; birth\"; #1074 \"genea; from (a presumed derivative of) 1085; a generation; by implication an age (the period or the persons)\"; #1085 \"genos; from 1096; \"kin\" (abstr. or concr., lit. or fig., indiv. or coll.)\". Isn't the word used in the Greek text on a form indicating that he, Jesus, was about to complete his 12th year of life, i.e. \"turn 12\"?!? (I'd like to have more info on that!). If so this text would be confirmation of Jesus being born in the beginning of Nisan, i.e. at the first of the Sacred year or possibly at the beginning of Passover..."]
[null,14,-2,null,3919,72,763,9,10,28,13,null,13,null,13,10,4]
[null,15,-2,null,3920,72,763,9,10,29,14,null,14,null,14,10,4]
[null,{"$f":"B163+1","v":15},-1,null,3920,73,{"$f":"G163+1","v":764},10,11,29,14,null,14,null,{"$f":"O163+1","v":14},11,5]
[null,16,-1,null,3921,73,{"$f":"G165","v":764},10,11,30,15,null,15,null,15,11,5]
[null,16,0,null,3921,74,765,11,12,30,15,null,15,null,15,12,6]
[null,{"$f":"B166+1","v":17},0,null,3922,74,765,11,12,31,16,{"$f":"L170-1","v":1},16,null,16,12,6]
[null,17,1,null,3922,75,766,12,13,31,16,1,16,null,16,13,7]
[null,18,1,null,3923,75,766,12,13,32,17,2,17,null,17,13,7]
[null,18,2,null,3923,76,767,13,14,32,17,2,17,null,17,14,8,"\"Tiberius Caesar reigned from A.D. 14 to A.D. 37 (Encyclopedia Britannica on the web, www.eb.com/cgi-bin/g? keywords =tiberius+caesar). His reign began on August 19, A.D. 14.  Luke may have been using any of several methods to define the 15th year of the reign of Tiberius Caesar.  However, I will only present the method that yields the earliest possible 15th year.  In eastern provinces [of the Roman empire]...years were reckoned from the accession of the reigning emperor, the second beginning on the first New Years day after the accession, and the date on which this occurred varied from one province to another. (Encyclopedia Britannica, Chicago, IL, USA: Encyclopedia Britannica, Inc. 1994, vol 15, p. 421). Based on the above passage, Luke may have counted Tiberius' accession year (the time between Tiberius' August accession and the following New Years day) as his first regnal year.  The earliest possible New Years day may have been in the Jewish lunar month of Tishri (September/October).  \"R. Hisda said: The rule [that New Year for kings is in Nisan] was only meant to apply to the kings of Israel, but the years of non-Israelitish kings are reckoned from Tishri...\" (Talmud, Rosh HaShanah, 3a.) Or the New Years day may have been, as the passage below states, on October 1.  Luke possibly used the Syrian method, which counted the interval between Aug. 19 and the beginning of the new year (Oct. 1) as the first regnal year. In that case, the fifteenth year extended from, Oct.1, 27 till Oct. 1, 28. Jesus, therefore, was baptized toward the end of the year 27. (Brown, Raymond Edward. The Jerome Bible Commentary. Englewood Cliffs, NJ, USA: Prentice Hall, 1968 [Logos Library System 2.1, 1997].) Based on the information in the three quoted passages above, the earliest possible first regnal year of Tiberius extended between August, A.D. 14 and the autumn of A.D. 14.  His earliest possible second regnal year extended between the autumn of A.D. 14 and the autumn of A.D. 15.  John the Baptist’s ministry, therefore, began no earlier than the autumn of A.D. 27.  John baptized Jesus sometime afterward.  The Jordan river, between the Sea of Galilee and the Dead Sea, is below sea level, and the weather there is warm year round, so Jesus could have been baptized at any time of year.\" (From http://www.geocities.com/athens/parthenon/3021/ascension2.html)"]
[null,19,2,null,{"$f":"E170+1","v":3924},76,767,13,14,33,18,3,18,null,18,14,8]
[null,19,3,null,3924,77,768,14,15,33,18,3,18,null,18,15,9]
[null,20,3,null,3925,77,768,14,15,34,19,4,19,null,19,15,9]
[null,20,4,null,3925,78,769,15,16,34,19,4,19,null,19,16,0]
[null,21,4,null,3926,78,769,15,16,35,20,5,20,null,20,16,0]
[null,21,5,null,3926,79,770,16,17,35,20,5,20,null,20,17,1]
[null,22,5,null,3927,79,770,16,17,36,21,6,21,null,21,17,1]
[null,{"$f":"B177+1","v":22},6,null,3927,80,{"$f":"G177+1","v":771},17,18,36,21,6,21,null,21,18,0]
[null,23,6,null,3928,80,{"$f":"G179","v":771},17,18,37,22,7,22,null,{"$f":"O178+1","v":22},18,0,{"$f":"R155","v":"Quote: \nCaiaphas was the son-in-law of Annas, high priest from 6 to 15 C.E. and head of a family that would control the high priesthood for most of the first century.  Annas is also mentioned in Biblical accounts.  It is possible that he, as a high priest emeritus, might have served at the side of Caiaphas in the Sanhedrin called to resolve the fate of Jesus. \n\nAlthough little is known of Caiaphas, historians infer from his long tenure as high priest, from 18 to 36 C.E., that he must have worked well with Roman authority.  For ten years, Caiaphas served with Roman prefect Pontius Pilate.  The two presumably had a close relationship.  It is likely that Caiaphas and Pilate had standing arrangements for how to deal with subversive persons such as Jesus. \n\nFrom http://www.law.umkc.edu/faculty/projects/ftrials/jesus/jesuskeyfigures.html  and \nhttp://www.google.se/search?q=cache:J2cGboZogSoJ:www.law.umkc.edu/faculty/projects/ftrials/jesus/jesuskeyfigures.html+caiaphas+%22high+priest%22+year&hl=sv&ie=UTF-8"}]
[null,23,7,null,3928,81,772,18,19,37,22,7,22,null,22,{"$f":"P179+1","v":19},1]
[null,{"$f":"B180+1","v":24},7,null,3929,81,772,18,19,38,23,{"$f":"L184-1","v":8},23,null,23,19,1]
[null,24,8,null,3929,82,773,19,20,38,23,8,23,null,23,20,2]
[null,25,8,null,3930,82,773,19,20,39,24,9,24,null,24,20,2]
[null,25,9,null,3930,83,774,20,21,39,24,9,24,null,24,21,3]
[null,26,9,null,3931,83,774,20,21,40,25,10,25,null,25,21,3]
[null,26,10,null,3931,84,775,21,22,40,25,10,25,null,25,22,4]
[null,27,10,null,{"$f":"E186+1","v":3932},84,775,21,22,41,26,11,26,null,26,22,4]
[null,27,11,null,3932,85,776,22,23,41,26,11,26,null,26,23,5]
[null,28,11,null,3933,85,776,22,23,42,27,12,27,null,27,23,5]
[null,28,12,null,3933,86,777,23,24,42,27,12,27,null,27,24,6]
[null,29,12,null,3934,86,777,23,24,43,28,{"$f":"L194-1","v":13},28,null,28,24,6]
[null,{"$f":"B191+1","v":29},13,null,3934,87,{"$f":"G191+1","v":778},24,25,43,28,{"$f":"L195-1","v":13},28,null,28,25,7]
[null,30,13,null,3935,87,{"$f":"G193","v":778},24,25,44,29,{"$f":"L196-1","v":14},29,null,29,25,7]
[null,30,14,null,3935,88,779,25,26,44,29,{"$f":"L197-1","v":14},29,null,29,26,8]
[null,{"$f":"B194+1","v":31},14,null,3936,88,779,25,26,45,30,15,30,null,30,26,8]
[null,31,15,null,3936,89,780,26,27,45,30,{"$f":"L196","v":15},30,null,30,{"$f":"P195+1","v":27},{"$f":"Q195+1","v":9}]
[null,32,15,null,3937,89,780,26,27,46,31,16,31,null,31,{"$f":"P196+1","v":27},{"$f":"Q196+1","v":9},"\"Now in the fifteenth year of the reign of Tiberius Caesar, Pontius Pilate being governor of Judaea, and Herod being tetrarch of Galilee, and his brother Philip tetrarch of Ituraea and of the region of Trachonitis, and Lysanias the tetrarch of Abilene, Annas and Caiaphas being the high priests, the word of God came unto John the son of Zacharias in the wilderness. And he came into all the country about Jordan, preaching the baptism of repentance for the remission of sins...\" Luke 3:1-3 (KJV).      \"It came to pass, that Jesus also being baptized, and praying, the heaven was opened… And Jesus himself began to be about thirty years of age…\" Luke 3:21,23 (KJV), i.e. Jesus was baptized at, or shortly following, his 30th birthday.  \"Forty and six years is being built Temple this...\" (IB) John 2:20 NOTICE> Here Jesus' age at his baptism is correlated to the beginning of Herod's Temple.  "]
[null,32,16,null,3937,90,781,27,28,46,31,{"$f":"L197+1","v":16},31,null,{"$f":"O197+1","v":31},28,{"$f":"Q197+1","v":10}]
[null,33,16,null,3938,90,781,27,28,47,32,{"$f":"L198+1","v":17},32,null,32,28,{"$f":"Q198+1","v":10}]
[null,33,17,null,3938,91,782,28,29,47,32,{"$f":"L199+1","v":17},32,null,32,29,11]
[null,34,17,null,3939,91,782,28,29,48,33,{"$f":"L200+1","v":18},33,null,33,29,11]
[null,34,18,null,3939,92,783,29,30,48,33,{"$f":"L201+1","v":18},33,null,33,30,12]
[null,35,18,null,{"$f":"E202+1","v":3940},92,783,29,30,49,34,19,34,null,34,30,12,"Transfiguration on 8th Day of Feast of Tabernacles"]
[null,35,19,null,3940,93,784,30,31,49,34,19,34,null,34,31,13]
[null,36,19,null,3941,93,784,30,31,50,35,20,35,null,35,31,13,"Crucifixion at the Feast of Passover: \"Pontius Pilate, the Roman governor who handed Jesus over to be crucified, governed Judea from A.D. 26 to A.D. 36 (Encyclopedia Britannica on the web, www.eb.com/cgi-bin/g?keywords=Pontius+Pilate).\" (From http://www.geocities.com/athens/parthenon/3021/ascension2.html)"]
[null,{"$f":"B205+1","v":36},20,null,3941,94,785,31,32,50,35,20,35,null,35,32,14]
[null,37,20,null,3942,94,{"$f":"G207","v":785},31,32,51,36,21,36,null,{"$f":"O206+1","v":36},32,14]
[null,37,21,null,3942,95,786,32,33,51,36,21,36,null,{"$f":"O207+1","v":36},33,15]
[null,{"$f":"B208+1","v":38},21,null,3943,95,786,32,33,52,37,22,37,null,{"$f":"O208+1","v":37},33,15,"Noon darkness and earthquakes in 33 AD?: Quotes: \"And Phlegon also who compiled the Olympiads writes about the same things in his 13th book in the following words: 'In the fourth year of the 202nd Olympiad (AD 32-33), and eclipse of the Sun took place greater than any previously known, and night came on at the sixth hour of the day, so that stars actually appeared in the sky; and a great earthquake took place in Bithynia and overthrew the greater part of Niceaea.\" \n\nPossibly refers to a total solar eclipse of 24 November AD 29, the reference to AD32-33 being incorrect. \nFrom: Phlegon, Olympiades, fragment 17. \nQuoted in Historical Eclipses and Earth's Rotation, by F Richard Stephenson, Cambridge University Press, 1997, page 359. \nFrom http://www.mreclipse.com/Special/quotes1.html  under the NASA Eclipse homepage http://sunearth.gsfc.nasa.gov/eclipse/eclipse.html                                                                                                                                           NOTICE: From tables given at: http://www.numachi.com/~ccount/hmepa/calendars/202.html  the 4th year of the 202nd Olympiad \"Begins 32-06-27/28\", while the 2nd year \"Begins 30-07-19/20\" and the 3rd year \"Begins 31-07-09/10\". Thus IF the eclipse above quoted refers to the same event as that on the crucifixion day, then either the crucifixion occurred in 33 AD, or else the above quoted eclipse occurred not in the 4th, but in the 2nd year of the 202nd Olympiad (March 31 AD)."]
[null,38,22,null,3943,96,787,33,34,52,37,22,37,null,37,34,16]
[null,39,22,null,3944,96,787,33,34,53,38,23,38,null,38,34,16]
[null,39,23,null,3944,97,788,34,35,53,38,23,38,null,38,35,17]
[null,40,23,null,3945,97,788,34,35,54,39,24,39,null,39,35,17]
[null,40,24,null,3945,98,789,35,36,54,39,24,39,null,{"$f":"O213+1","v":39},36,18]
[null,41,24,null,3946,98,789,35,36,55,40,25,40,null,40,36,0]
[null,41,25,null,3946,99,790,36,37,55,40,25,40,null,40,37,0]
[null,42,25,null,3947,99,790,36,37,56,41,26,41,null,41,37,1]
[null,42,26,null,3947,100,791,37,38,56,41,26,41,null,41,38,1]
[null,43,26,null,{"$f":"E218+1","v":3948},100,791,37,38,57,42,27,42,null,42,38,2]
[null,{"$f":"B219+1","v":43},27,null,3948,101,792,38,39,57,42,27,42,null,42,39,2]
[null,44,27,null,3949,101,{"$f":"G221","v":792},38,39,58,43,28,43,null,43,39,3]
[null,44,28,null,3949,102,793,39,40,58,43,28,43,null,43,40,3]
[null,{"$f":"B222+1","v":45},28,null,3950,102,793,39,40,59,44,29,44,null,44,40,4]
[null,45,29,null,3950,103,794,40,41,59,44,29,44,null,44,41,4]
[null,46,29,null,3951,103,794,40,41,60,45,30,45,null,45,41,5]
[null,46,30,null,3951,104,795,41,42,60,45,30,45,null,45,42,5]
[null,47,30,null,3952,104,795,41,42,61,46,31,46,null,46,42,6]
[null,47,31,null,3952,105,796,42,43,61,46,31,46,null,46,43,6]
[null,48,31,null,3953,105,796,42,43,62,47,32,47,null,47,43,7]
[null,48,32,null,3953,106,797,43,44,62,47,32,47,null,{"$f":"O229+1","v":47},44,7]
[null,49,32,null,3954,106,797,43,44,63,48,33,48,null,48,44,8]
[null,49,33,null,3954,107,798,44,45,63,48,33,48,null,48,45,8]
[null,50,33,null,3955,107,798,44,45,64,49,34,49,null,49,45,9]
[null,{"$f":"B233+1","v":50},34,null,3955,108,799,45,46,64,49,34,49,null,49,46,9]
[null,51,34,null,{"$f":"E234+1","v":3956},108,{"$f":"G235","v":799},{"$f":"H234+1","v":45},46,65,50,35,50,null,50,46,10]
[null,51,35,null,3956,109,800,46,47,65,50,35,50,null,50,47,10]
[null,{"$f":"B236+1","v":52},35,null,3957,109,800,46,47,66,51,36,51,null,51,47,11]
[null,52,36,null,3957,110,801,47,48,66,51,36,51,null,51,48,11,"Council of Jerusalem"]
[null,53,36,null,3958,110,801,47,48,67,52,37,52,null,52,48,12]
[null,53,37,null,3958,111,802,48,49,67,52,37,52,null,52,49,12]
[null,54,37,null,3959,111,802,48,49,68,53,38,53,null,53,49,13]
[null,54,38,null,3959,112,803,49,50,68,53,38,53,null,53,50,13]
[null,55,38,null,3960,112,803,49,50,69,54,39,54,null,54,50,14]
[null,55,39,null,3960,113,804,50,51,69,54,39,54,null,54,51,14]
[null,56,39,null,3961,113,804,50,51,70,55,40,55,null,55,51,15]
[null,56,40,null,3961,114,805,51,52,70,55,40,55,null,{"$f":"O245+1","v":55},52,15]
[null,57,40,null,3962,114,805,51,52,71,56,41,56,null,56,52,16]
[null,{"$f":"B247+1","v":57},41,null,3962,115,806,52,53,71,56,41,56,null,56,53,16]
[null,58,41,null,3963,115,{"$f":"G249","v":806},52,53,72,57,42,57,null,57,53,17]
[null,58,42,null,3963,116,807,53,54,72,57,42,57,null,57,54,17]
[null,{"$f":"B250+1","v":59},42,null,{"$f":"E250+1","v":3964},116,807,53,54,73,58,43,58,null,58,54,18]
[null,59,43,null,3964,117,808,54,55,73,58,43,58,null,58,55,18]
[null,60,43,null,3965,117,808,54,55,74,59,44,59,null,59,55,19]
[null,60,44,null,3965,118,809,55,56,74,59,44,59,null,59,56,19]
[null,61,44,null,3966,118,809,55,56,75,60,45,60,null,60,56,20]
[null,61,45,null,3966,119,810,56,57,75,60,45,60,null,60,57,20]
[null,62,45,null,3967,119,810,56,57,76,61,46,61,null,61,57,21]
[null,62,46,null,3967,120,811,57,58,76,61,46,61,null,61,58,21]
[null,63,46,null,3968,120,811,57,58,77,62,47,62,null,62,58,22]
[null,63,47,null,3968,121,812,58,59,77,62,47,62,null,62,59,22]
[null,64,47,null,3969,121,812,58,59,78,63,48,63,null,63,59,23]
[null,{"$f":"B261+1","v":64},48,null,3969,122,813,59,60,78,63,48,63,null,{"$f":"O261+1","v":63},60,23]
[null,65,48,null,3970,122,{"$f":"G263","v":813},59,60,79,64,49,64,null,64,60,24]
[null,65,49,null,3970,123,814,60,61,79,64,49,64,null,64,61,24]
[null,{"$f":"B264+1","v":66},49,null,3971,123,814,60,61,80,65,50,65,null,65,61,25]
[null,66,50,null,3971,124,815,61,62,80,65,50,65,null,65,62,25]
[null,67,50,null,{"$f":"E266+1","v":3972},124,815,61,62,81,66,51,66,null,66,62,26]
[null,67,51,null,3972,125,816,62,63,81,66,51,66,null,66,63,26]
[null,68,51,null,3973,125,816,62,63,82,67,52,67,null,67,63,27]
[null,68,52,null,3973,126,817,63,64,82,67,52,67,null,67,64,27]
[null,69,52,null,3974,126,817,63,64,83,68,53,68,null,68,64,28]
[null,69,53,null,3974,127,818,64,65,83,68,53,68,null,68,65,28]
[null,70,53,null,3975,127,818,64,65,84,69,54,69,null,69,65,29]
[null,70,54,null,3975,128,819,65,66,84,69,54,69,null,69,66,29]
[null,71,54,null,3976,128,819,65,66,85,70,55,70,null,70,66,30]
[null,{"$f":"B275+1","v":71},55,null,3976,129,820,66,67,85,70,55,70,null,70,67,30]
[null,72,55,null,3977,129,{"$f":"G277","v":820},66,67,86,71,56,71,null,71,67,31]
[null,72,56,null,3977,130,821,67,68,86,71,56,71,null,{"$f":"O277+1","v":71},68,31]
[null,{"$f":"B278+1","v":73},56,null,3978,130,821,67,68,87,72,57,72,null,72,68,32]
[null,73,57,null,3978,131,822,68,69,87,72,57,72,null,72,69,32]
[null,74,57,null,3979,131,822,68,69,88,73,58,73,null,73,69,33]
[null,74,58,null,3979,132,823,69,70,88,73,58,73,null,73,70,33]
[null,75,58,null,{"$f":"E282+1","v":3980},132,823,69,70,89,74,59,74,null,74,70,34,"Destruction of the 2nd temple, 4 Aug 70 AD (9 Av 3830). From http://www.abdicate.net/av.asp"]
[null,75,59,null,3980,133,824,70,71,89,74,59,74,null,74,71,34]
[null,76,59,null,3981,133,824,70,71,90,75,60,75,null,75,71,35]
[null,76,60,null,3981,134,825,71,72,90,75,60,75,null,75,72,35,null,"\"The coins were minted by Antioch IV, a king of the Commogene kingdom; he ruled in the days of the Emperor Vespasian and was also deposed by him in the year 72 of thepresent era.\" (Ramses II and His Time p.175:4)."]
[null,77,60,null,3982,134,825,71,72,91,76,61,76,null,76,72,36]
[null,77,61,null,3982,135,826,72,73,91,76,61,76,null,76,73,36]
[null,78,61,null,3983,135,826,72,73,92,77,62,77,null,77,73,37]
[null,{"$f":"B289+1","v":78},62,null,3983,136,827,73,74,92,77,62,77,null,77,74,37]
[null,79,62,null,3984,136,{"$f":"G291","v":827},73,74,93,78,63,78,null,78,74,38]
[null,79,63,null,3984,137,828,74,75,93,78,63,78,null,78,75,38]
[null,{"$f":"B292+1","v":80},63,null,3985,137,828,74,75,94,79,64,79,null,79,75,39]
[null,80,64,null,3985,138,829,75,76,94,79,64,79,null,{"$f":"O293+1","v":79},76,39]
[null,81,64,null,3986,138,829,75,76,95,80,65,80,null,80,76,40]
[null,81,65,null,3986,139,830,76,77,95,80,65,80,null,80,77,40]
[null,82,65,null,3987,139,830,76,77,96,81,66,81,null,81,77,41]
[null,82,66,null,3987,140,831,77,78,96,81,66,81,null,81,78,41]
[null,83,66,null,{"$f":"E298+1","v":3988},140,831,77,78,97,82,67,82,null,82,78,42]
[null,83,67,null,3988,141,832,78,79,97,82,67,82,null,82,79,42]
[null,84,67,null,3989,141,832,78,79,98,83,68,83,null,83,79,43]
[null,84,68,null,3989,142,833,79,80,98,83,68,83,null,83,80,43]
[null,85,68,null,3990,142,833,79,80,99,84,69,84,null,84,80,44]
[null,85,69,null,3990,143,834,80,null,{"$f":"J303+1","v":99},84,69,84,null,84,81,44]
[null,null,null,null,null,null,{"$f":"G305","v":834}]
[null,null,null,null,null,null,{"$f":"G305+1","v":835}]

{"sheet":"Blad4","index":12,"n_rows":302,"n_cols":15,"rows_kept":302,"cut":false,"hidden":false,"merged":[]}
["Time line around Jehoshua's Life"]
["Years after Creation"]
[null,"Years after Judah coming under Roman occupancy"]
[null,null,"A.U.C.","BC/AD years completed"]
[null,null,null,null,"BC/AD as commonly assigned, i.e. 1st, 2nd, 3rd, etc."]
[null,"Month Legend:",null,null,null,"Years after Foundation of Herod's Temple laid"]
[null,"Hebrew 1-9 / Roman 4-12",null,null,null,null,"Years after Jehoshua's birth"]
[null,"Hebrew 10-13 / Roman 1-3",null,null,null,null,null,"Years since beginning of Tiberius Caesar"]
[null,"Hebrew 1-9 / Roman 4-12",null,null,null,null,null,null,"Years since Herod's accession"]
[null,"Hebrew 10-13 / Roman 1-3",null,null,null,null,null,null,null,"Years since the death of Antigonus and Herod's capturing of Jerusalem"]
[{"$f":"A13-1","v":3846},null,null,null,null,null,null,null,null,null,"Years since Archelaus's accession"]
[3846,null,{"$f":"C14-1","v":690},{"$f":"D14+1","v":65},{"$f":"E14+1","v":64},null,null,null,null,null,null,"Years since the Eclipse of Josephus: Phillip's accession and the death of Herod the Great"]
[3847,null,690,65,64,null,null,null,null,null,null,null,"High priests in Jerusalem"]
[3847,0,691,64,63,null,null,null,null,null,null,null,null,"Judah incorporated into the Roman Empire \"In 63 BC, Romans incorporated Judah (what is now Palestine) into their empire as Judea and placed the Jewish lands under kings. Appointed to these kingships was the Herod dynasty, a family of Jews who gained favor with the Romans. The Herodian family ruled over the Palestinian area from 40 BC [39 BCE per ELM/GS] until around AD 100\" (Ref.: http://campus.northpark.edu/history/WebChron/MiddleEast/HerodTemple.html). The Roman legions left Jerusalem only in 289 AD (http://www.biblediscoveries.com/templesite.html).                                                       \n\nQuote: \nAll Sabbatical Years according to the Law of Moses ended on the Day of Atonement (Yom Kippur), and Josephus said that Herod’s capture of Jerusalem coincided exactly with a Day of Atonement. 11 He further stated that it was precisely to the very day, 27 years after the Roman general Pompey conquered Jerusalem in 63 B.C.E. 12 Clearly, this chronological fact leads one to 25 October, 36 B.C.E. for Herod’s capture of Jerusalem.\n\nThis indication is powerful evidence in which any scholar can place the highest confidence that Herod’s 34 years of reign from Antigonus’ death has to have 36 B.C.E, as a beginning benchmark. \n\nFrom Earnest L. Martin, The Star that Astonished the World, Chapter 13:1 at http://askelm.com/star/star015.htm"]
[3848,0,691,64,63,null,null,null,null,null,null,null,null,"[Caesar] Augustus born 23 September, 63 B.C.E. [Tishri 10, 63 BCE = Day of Atonement]: \"One event can give us an example of this interest. According to Julius Marathus, a personal confidant of Augustus Caesar, the Roman Senate in the year 63 B.C.E ordered all boy babies to be killed who were born in that year because prophetic dreams and astrological signs suggested that a “King of the Romans” was to be born. 3 The Senate ostensibly considered a “King of the Romans” to be anathema to the government of the Republic. So concerned were some of the senators of this astrological interpretation, whose wives were pregnant, that they refused to register births from their wives in hopes that the signs applied to them. We are informed that in that very year (23 September, 63 B.C.E.), the person who later became the first emperor of the Romans (Augustus) was born.\n\nFootnote 3: Jack Lindsay, Origins of Astrology, 246.\"\n\nFrom: Martin, Earnest, L., The Star that Astonished the World, Chapter 1."]
[3848,{"$f":"B14+1","v":1},692,63,62]
[3849,{"$f":"B15+1","v":1},692,63,62]
[3849,{"$f":"B16+1","v":2},693,62,61]
[3850,2,693,62,61]
[3850,3,694,61,60]
[3851,3,694,61,60]
[3851,4,695,60,59]
[3852,4,695,60,59]
[3852,5,696,59,58]
[3853,5,696,59,58]
[3853,6,697,58,57]
[3854,6,697,58,57]
[3854,7,698,57,56]
[3855,7,698,57,56]
[3855,8,699,56,55]
[3856,8,699,56,55]
[3856,9,700,55,54]
[3857,9,700,55,54]
[3857,10,701,54,53]
[3858,10,701,54,53]
[3858,11,702,53,52]
[3859,11,702,53,52]
[3859,12,703,52,51]
[3860,12,703,52,51]
[3860,13,704,51,50]
[3861,13,704,51,50]
[3861,14,705,50,49]
[3862,14,705,50,49]
[3862,15,706,49,48]
[3863,15,706,49,48]
[3863,16,707,48,47]
[3864,16,707,48,47,null,null,null,null,null,null,null,null,"\"Antipater was made procurator of Judea by Caesar in 47 b.c…. When Antipater became procurator he induced Caesar to make his son Herod strategus (chief magistrate) of Galilee, and Phasael, another son, strategus of Judea. Shortly afterward Sextus Caesar, the legate of Syria, made Herod strategus of Coelesyria also. Herod made a shift in political affiliation after Caesar’s death (44 b.c.), and gave his support to the party of Caesar’s murderers. This resulted in Herod’s confirmation in his office by G. Cassius, proconsul of Syria. When Antony and Octavian defeated Cassius, Herod succeeded in gaining the favour of Antony. He and his brother Phasael were then appointed tetrarchs of their territories in Palestine, offices they held until the Parthians conquered all of Syria and Palestine (40 b.c.). Hyrcanus II and Phasael went into the Parthian camp to negotiate a peace but were treacherously imprisoned. Phasael, unable to bear the shame, committed suicide. \" From http://www.google.se/search?q=cache:8j-kqE_imN8J:www.nisbett.com/people/bp-herod.htm+%22Herod+Archelaus%22+successor+AD&hl=sv&ie=UTF-8 and http://www.nisbett.com/people/bp-herod.htm"]
[3864,17,708,47,46]
[3865,17,708,47,46]
[3865,18,709,46,45]
[3866,18,709,46,45]
[3866,19,710,45,44]
[3867,19,710,45,44]
[3867,20,711,44,43]
[3868,20,711,44,43]
[3868,21,712,43,42]
[3869,21,712,43,42]
[3869,22,713,42,41]
[3870,22,713,42,41]
[3870,23,714,41,40]
[3871,23,714,41,40]
[3871,24,715,40,39,null,null,null,0,null,null,null,null,"\"Herod the Great... Josephus tells us that he died thirty-seven years after he had been declared king by the Romans. Now it is known that he was declared King A. U. C. 714\" (Dr. Farrar, Life of Christ (Excursus 1.) From http://www.google.se/search?q=cache:sBEW7BJYG8IJ:faith.disk919.com/resources/the_coming_prince/appendix.php+%22Herod%27s+accession%22&hl=sv&ie=UTF-8 )"]
[3872,24,715,40,39,null,null,null,0,null,null,null,null,"Quote: Herod fled to Rome and was there appointed king over Judea, in opposition to Antigonus, a Maccabean, who had been made king in Judea with the support of the Parthians. Herod returned to Palestine and, with the help of Roman forces, defeated Antigonus and conquered Jerusalem the following year (37 b.c.). Herod revealed at once that he would show no mercy to anyone who had withstood him. He massacred a large number of noblemen, among them 45 leaders who had supported Antigonus, and also put to death all members of the Sanhedrin but one, for having withstood his ambitions on an earlier occasion. The Sanhedrin under Herod was reduced to such impotency that some scholars question its existence during his reign.\n\nThe kingdom of Herod initially comprised Judea (including Samaria and Idumea); however, Antony took Jericho and its territory and gave it to Cleopatra of Egypt. After the battle at Actium in 31 b.c., from which Octavian emerged victor over Antony, Herod made another switch in affiliation, went to Rhodes where Octavian was, and succeeded in gaining his favour. The victorious Octavian, who became better known as Augustus, added Jericho, Gadara, and Gaza to Herod’s territory after Cleopatra’s death, and later (23 b.c.) the northeastern territories of Batanaea, Trachonitis, and Auranitis also. Herod ruled his kingdom without any serious threats from the outside, so that his reign can be called a period of prosperity.\n\nHerod’s family life was full of tragedies, and was soiled with the blood of his closest relatives, including three of his own sons and one of his ten wives. Only the most important of his many children will be mentioned here. His eldest son, Antipater, was borne by his Idumean wife Doris. His second wife was Mariamne, a grand-daughter of the ruler-priest Hyrcanus II; by this marriage Herod connected his own house with that of the Hasmonaeans (Maccabeans), and thus attempted to legalize his kingship in the eyes of the Jews. He seems to have loved Mariamne with all his heart, although she hated him. Mariamne bore him Aristobulus and Alexander. By Malthace, a Samaritan wife, he had Archelaus and Herod Antipas; by Cleopatra, a wife from Jerusalem, was born Herod Philip (who became a tetrarch); and by another Mariamne (the daughter of Simon of Jerusalem, whom Herod made high priest) he had a son also known as Herod Philip, or Philip of Rome. Since Herod did not trust his Hasmonaean relatives, he killed many of them. In 35 b.c. Aristobulus III, brother of Herod’s second wife, was murdered, being drowned in Herod’s palace pool at Jericho, although he had been made high priest by Herod only a few months earlier. In 30 b.c. he had the aged Hyrcanus II, the grandfather of his wife Mariamne, killed, and then, a year later, put Mariamne herself to death because he suspected her of plotting against his life. From that time on his suspicions gave him no rest. At first he seems to have designated as his heirs Mariamne’s sons Aristobulus and Alexander. However, when their older half brother Antipater, the son of Doris, accused them of treason Herod imprisoned and killed them (7 b.c.). He then named Antipater as his successor, with Herod Philip, the son of Mariamne II, as second in line of succession. Antipater, having been successful in eliminating two of his competitors for the throne, accused his half brothers Archelaus, son of Malthace, and Philip, son of Cleopatra, as well as his aunt Salome, Herod’s sister, of plotting against the life of the king. However, Herod, discovering that the accusation was false, appointed Antipas as his successor, and had Antipater put to death only a few days before he himself passed away. After Antipater’s death, and shortly before his own, Herod again changed his will and now designated Archelaus, Antipas, and Philip as his heirs on the throne. This last will of Herod was honoured by Augustus. Archelaus (see Herod, 2) was given Judea (Mt 2:22), Samaria, and Idumea, with the title ethnarch; Antipas (see Herod, 3) was made tetrarch over Galilee (Lk 3:1, 19) and Perea; and Philip (see Herod, 4) became tetrarch over the northeastern territories (v 1). Herod Philip, son of Mariamne II, remained a private citizen (see Herod, 5). Because of this his wife *Herodias (who was also his niece, being daughter of his brother Aristobulus) left him and lived with Antipas.\n\nHerod was a great builder and the founder of several magnificent cities, which were built in Hellenistic style and splendour. These included two cities named in honour of the emperor Augustus: Samaria, which he called Sebaste (Greek for \"Augusta\"), and the old Strato’s Tower, on the coast, which he named *Caesarea, and which later became Herod’s capital; two that he named for members of his family: *Antipatris (formerly Aphek), northeast of Joppa and Phasaelis, in the Jordan Valley; and two cities which bore the name Herodium (Gr. Heµroµdeion), one in Transjordan and the other southeast of Bethlehem (for the latter see Palestine Under Herod the Great). Other cities or fortresses built by him were Machaerus, east of the Dead Sea (Palestine Under Herod the Great), Masada, near the western shore of the Dead Sea (Palestine Under Herod the Great), Gaba in Galilee (Palestine Under Herod the Great), and Esbon (formerly Heshbon) in Perea (Palestine Under Herod the Great).\n\nThe city of *Jerusalem also received his attention. Beginning c. 20 b.c. he rebuilt Zerubbabel’s Temple, which was in a dilapidated condition, and began to erect magnificent buildings in and around the Temple (see Temple, IV), including the *\"barracks\" of Antonia. These structures were not completed until shortly before the outbreak of the Jewish-Roman war in a.d. 66 (cf. Jn 2:20). He also built a royal palace in Jerusalem, one tower of which is still partly visible in the lower section of the so-called \"Tower of David\" in the citadel. Herod also erected a theatre and an amphitheatre. These structures, because they were the scene of plays and games such as were held in Hellenistic cities, were highly offensive to the orthodox Jews.\n\nAlthough Herod was a *Hellenist in heart and practice, and surrounded himself by Hellenistic counsellors, he was prudent enough to refrain from suppressing or openly defying the Jewish religion as Antiochus IV had done in the preceding century. However, the Jews hated him because he was an Idumean and a friend of the Romans, and because of his scandalous private life. They resented his extreme cruelty and the imposition upon them of a heavy tax burden necessitated by his extensive building program. The absence of open rebellion during his long reign was due to his unwavering loyalty to the Romans, to his ruthlessness in suppressing every opposition, and to the fact that there was external peace in his day.\n\nHerod the Great appears in the NT in the date formula of Lk 1:5, and in the narrative of the \"wise men from the east\" as told in Mt 2:1–18. Upon hearing that a descendant of David was born in Bethlehem according to an ancient prophecy, the king gave orders to kill all infants in that city. This cruel act is not recorded in secular history. It is in full harmony with his other known acts of atrocity and cruelty. The last atrocity planned by Herod was fortunately never carried out. Knowing that there would be great rejoicing in the kingdom when the people would learn of his death, he had the principal Jews shut up in the stadium in Jericho, and gave orders to have them killed as soon as he died, in order to provide some mourning over his death. However, his sister Salome and her husband Alexas, who were charged with carrying out this order, foiled his plan by releasing the unfortunate noblemen after his death, thus bringing great joy to many Jewish homes. Herod passed away in his 34th regnal year at the age of 69, in 4/3 b.c., most probably in the spring of 4 b.c.\nFrom http://www.google.se/search?q=cache:8j-kqE_imN8J:www.nisbett.com/people/bp-herod.htm+%22Herod+Archelaus%22+successor+AD&hl=sv&ie=UTF-8"]
[3872,25,716,39,38,null,null,null,{"$f":"I62+1","v":1}]
[3873,25,716,39,38,null,null,null,1]
[3873,26,717,38,37,null,null,null,2]
[3874,26,717,38,37,null,null,null,2]
[3874,27,718,37,36,null,null,null,3,0]
[3875,27,718,37,36,null,null,null,3,0,null,null,null,"Quote: All Sabbatical Years according to the Law of Moses ended on the Day of Atonement (Yom Kippur), and Josephus said that Herod’s capture of Jerusalem coincided exactly with a Day of Atonement. 11 He further stated that it was precisely to the very day, 27 years after the Roman general Pompey conquered Jerusalem in 63 B.C.E. 12 Clearly, this chronological fact leads one to 25 October, 36 B.C.E. for Herod’s capture of Jerusalem.\n\nThis indication is powerful evidence in which any scholar can place the highest confidence that Herod’s 34 years of reign from Antigonus’ death has to have 36 B.C.E, as a beginning benchmark.\nFrom Earnest L. Martin, The Star that Astonished the World, Chapter 13:1 at http://askelm.com/star/star015.htm"]
[3875,28,719,36,35,null,null,null,4,{"$f":"J68+1","v":1}]
[3876,28,719,{"$f":"D73+1","v":36},35,null,null,null,4,1]
[3876,29,720,35,{"$f":"E74+1","v":34},null,null,null,5,2]
[{"$f":"A75-1","v":3877},29,{"$f":"C75-1","v":720},35,34,null,null,null,5,2]
[3877,30,721,34,33,null,null,null,6,3]
[3878,30,721,34,33,null,null,null,6,3]
[3878,31,722,33,32,null,null,null,7,4]
[3879,31,722,33,32,null,null,null,7,4]
[3879,32,723,32,31,null,null,null,8,5]
[3880,32,723,32,31,null,null,null,8,5]
[3880,33,724,31,30,null,null,null,9,6]
[3881,33,724,31,30,null,null,null,9,6]
[3881,{"$f":"B80+1","v":34},725,30,29,null,null,null,10,7]
[3882,34,725,30,29,null,null,null,10,7]
[3882,35,726,29,28,null,null,null,11,8]
[3883,35,726,29,28,null,null,null,11,8]
[3883,36,727,28,27,null,null,null,12,9]
[3884,36,727,28,27,null,null,null,12,9,null,null,null,"Proclamation of \"Augustus\" on January 16, 27 BCE [ [11th moon =] Shevat 3, 27 BCE]: \"In 2 B.C.E. Augustus celebrated his 25th jubilee year of being emperor of the Romans (from the time he was proclaimed “Augustus” on January 16, 27 B.C.E.). 6 This year also coincided with the 750th year of the founding of Rome as determined by the chronological records of the Roman priests. 7 In August of 2 B.C.E. (the month named after Augustus himself and still a month we recognize today) there were festivities in Rome and throughout the provinces and client kingdoms.\n\n[Footnotes:]\n6 The Oxford Classical Dictionary, 149. \n7 E.J. Bickerman, Chronology of the Ancient World, 77. \n8 B. Allan, Augustus Caesar, 216–218. \"\n\nFrom: Martin, Earnest, L., The Star that Astonished the World, Chapter 1."]
[3884,37,728,27,26,null,null,null,13,10]
[3885,37,728,27,26,null,null,null,13,10]
[3885,38,729,26,25,null,null,null,14,11]
[3886,38,729,26,25,null,null,null,14,11]
[3886,39,730,25,24,null,null,null,15,12]
[3887,39,730,25,24,null,null,null,15,12]
[3887,40,731,24,23,null,null,null,16,13]
[3888,40,731,24,23,null,null,null,16,13]
[3888,41,732,23,22,null,null,null,{"$f":"I94+1","v":17},14]
[3889,41,732,23,22,null,null,null,17,14]
[3889,42,733,22,21,null,null,null,18,15]
[3890,42,733,22,21,null,null,null,18,15]
[3890,43,734,21,20,null,null,null,19,16]
[3891,43,734,21,20,0,null,null,19,16,null,null,null,"Foundation laid for Herod's Temple (18 BCE per Lewin), (23-23 BCE per Farrar, Life of Christ, App. Exc. 1) (20 BCE per: http://campus.northpark.edu/history/WebChron/MiddleEast/HerodTemple.html)"]
[3891,44,735,20,19,0,null,null,20,{"$f":"J100+1","v":17}]
[3892,44,735,20,19,{"$f":"F101+1","v":1},null,null,20,17]
[3892,45,736,19,18,{"$f":"F102+1","v":1},null,null,21,18]
[3893,45,736,19,18,{"$f":"F103+1","v":2},null,null,21,18]
[3893,46,737,18,{"$f":"E108+1","v":17},2,null,null,22,19]
[3894,46,{"$f":"C109-1","v":737},18,17,3,null,null,22,19]
[3894,47,738,17,16,3,null,null,23,20]
[3895,47,738,17,16,4,null,null,23,20]
[3895,48,739,16,15,4,null,null,24,21]
[3896,48,739,16,15,5,null,null,24,21]
[3896,49,740,15,14,5,null,null,25,22]
[3897,49,740,15,14,6,null,null,25,22]
[3897,50,741,14,13,6,null,null,26,23]
[3898,50,741,14,13,7,null,null,26,23]
[3898,51,742,13,12,7,null,null,27,24]
[3899,51,742,13,12,8,null,null,27,24]
[3899,52,743,12,{"$f":"E120+1","v":11},8,null,null,28,25]
[3900,52,{"$f":"C121-1","v":743},{"$f":"D121+1","v":12},{"$f":"E121+1","v":11},9,null,null,28,25]
[3900,53,744,11,{"$f":"E122+1","v":10},9,null,null,29,26]
[3901,53,744,11,10,10,null,null,29,26]
[3901,54,745,10,9,10,null,null,30,27]
[3902,54,745,10,9,11,null,null,30,27]
[3902,55,746,9,8,11,null,null,31,28]
[3903,55,746,9,8,12,null,null,31,28]
[3903,56,747,8,7,12,null,null,32,29]
[3904,56,747,8,7,13,null,null,32,29]
[3904,57,748,7,6,13,null,null,{"$f":"I126+1","v":33},30]
[{"$f":"A131-1","v":3905},57,748,{"$f":"D131+1","v":7},6,14,null,null,33,30]
[{"$f":"A132-1","v":3905},58,749,{"$f":"D132+1","v":6},{"$f":"E132+1","v":5},14,null,null,34,31]
[{"$f":"Sheet1!I140","v":3906},58,{"$f":"C133-1","v":749},{"$f":"D133+1","v":6},{"$f":"E133+1","v":5},15,0,null,34,31,0,null,null,"Jehoshua's conception - \nLuke 1:24 \"And after those days his wife Elisabeth conceived, and hid herself five months...\" (KJV) - Very possibly \"five months\" could as well be translated \"in the fifth month [of the year]\"\n\nLuke 1:26-27\n\"26 And in the sixth month the angel Gabriel was sent from God unto a city of Galilee, named Nazareth,\n\"27 To a virgin espoused to a man whose name was Joseph, of the house of David; and the virgin's name was Mary.\" (KJV) - Very possibly the \"in the sixth month\" is in reference to the months of the year as well as to Elisabeth's pregnancy.  IF SO then Yeshua was conceived in the sixth lunation of the biblical year and then likely delivered at term in the second or third biblical moon of the subsequent year, i.e. in May or June, 5 BCE(?).  If it is true that Herod the Great died in March or April, 4 BCE, then Yeshua, if delivered in May or June, must have been delivered 5 BCE at the latest. Yeshua was then conceived in September, 6 BCE at the latest. Assuming that the passage - in Matt 2:16:\n\"16 Then Herod, when he saw that he was mocked of the wise men, was exceeding wroth, and sent forth, and slew all the children that were in Bethlehem, and in all the coasts thereof, from two years old and under, according to the time which he had diligently inquired of the wise men.\" (KJV) - is referencing an exact \"time\" corresponding to the conception of Yeshua, and that the \"two years\" is more correctly translated \"more than one year\" while also including the time in utero, I find that Herod's decree to \"slew all the children\" must have been issued sometime between August in the year Yeshua was delivered, likely the year prior to Herod's death August of the subsequent year.  Thus likely between August, 5 BCE and April, 4 BCE.\n\nNotice that Cyrenius was governor from 4 BCE to 1 BCE (Cf. below!)\n\nLuke 1:36\n\"36 And, behold, thy cousin Elisabeth, she hath also conceived a son in her old age: and this is the sixth month with her, who was called barren.\" (KJV) - Very possibly the \"in the sixth month\" is concurrent with the months of the year.\n\n\"And it came to pass in those days, that there went out a decree from Caesar Augustus that all the world should be taxed. (And this taxing was first made when Cyrenius was governor of Syria.) And all went to be taxed, every one into his own city.\" Luke 2:1-3 (KJV.)  \"2. This was the first enrolment made, etc. This statement has caused some difficulty. Luke seems to affirm that the enrolment took place the year Jesus was born, but while Cyrenius was governor of Syria. Now Cyrenius was governor of Syria from A. D. 6 to A. D. 11. There are two ways of settling the apparent difficulty: (1) Augustus Cæsar, incensed at Herod, ordered an enrolment for taxation of the Jews the year of the birth of Jesus. It was carried out in all probability by Cyrenius. The intercession of Herod's minister, Nicolas, averted the displeasure of Augustus and the taxation did not take place until Cyrenius was governor of Syria, after Archelaus, son of Herod, was deposed. These facts we learn from Josephus, and they remove the apparent discrepancy. But (2) A. W. Zumpt, of Berlin, followed by Alford and Schaff, make it highly probable that Cyrenius was governor of Syria twice, the first time from B. C. 4 to B. C. 1. I have not space for the argument which seems conclusive. But in B. C. 4 Jesus was born. Ancient writers, Christians as well as pagan opposers, state that Jesus was born while Cyrenius was governor of Syria.\" (From B. W. Johnson\nThe People's New Testament (1891) [PNTA 228-235] at http://www.google.se/search?q=cache:IMsNDiIoUc4J:www.mun.ca/rels/restmov/texts/bjohnson/hg1/PNT03-02.HTM+Cyrenius+governor+Syria&hl=sv&ie=UTF-8)  \"Jesus was born during the reign of Herod the Great, who ruled Judea until March or April of 4 B.C., when he died (Encyclopedia Britannica on the web @ www.eb.com/cgi-bin/g?keywords=herod [probably based on information presented by the historian Josephus]).\" (From http://www.geocities.com/athens/parthenon/3021/ascension2.html)"]
[{"$f":"A131","v":3906},59,750,{"$f":"D134+1","v":5},{"$f":"E134+1","v":4},15,{"$f":"G131","v":0},null,35,32,0,null,null,"Quote:        The Empire-wide Registration     \nAugustus received his most prestigious title, the Pater Patriae, on February 5, 2 B.C.E. which was the Day of Concord on the Roman religious calendar. But in what legal way did Augustus obtain this title? In the Res Gestae, composed by Augustus himself, he wrote,\n\n“While I was administering my thirteenth consulship the senate and the equestrian order and the entire Roman people [italics mine] gave me the title Father of my Country.” 13\n\nWithin the Empire there were over 4 million Roman citizens. For the totality of the citizenry to approve the bestowal of the Pater Patriae must have involved an Empire-wide accounting. Since Augustus was officially given the award in early 2 B.C.E., the registering of the citizens must have been decreed and began to be carried out sometime in 3 B.C.E.\n\nIn this universal registration of citizen approval regarding the “Fatherhood” of Augustus and the recognition of Supreme authority that the title signified, it is reasonable that all non-citizens in the Empire also gave some kind of recognizable approbation within the same period of time. Since most people in Judaea and the Empire were not Roman citizens, Augustus could well have decreed in 3 B.C.E. that everyone should swear an oath of absolute obedience to him to accompany his majestic award as being “Father of the Country.” This would have been an appropriate gesture from all peoples in acknowledging their obedience to him by the time of his Jubilee Year of supreme power in 2 B.C.E.\n\nRemarkably, an inscription found in Paphlagonia (north central Asia Minor) that is clearly dated to 3 B.C. records an oath of obedience “taken by the inhabitants of Paphlagonia and the Roman businessmen dwelling among them.” 14 The inscription states that Romans as well as non-citizens took the oath. And importantly, the whole of the population were required to swear it. “The same oath was sworn also by all the people in the land [italics mine] at the altars of Augustus in the temples of Augustus in the various districts.” 15 This was in 3 B.C.E. Also, in Judaea an oath was required of all the people at the same time (as shown by my chronological reconstruction). 16 This is a reasonable hint that the oath mentioned by Josephus was the same that the people of Paphlagonia were required to render. If so, then it could have been a part of the Empire-wide recognition of Augustus’ Pater Patriae.\nOthers Records About the Census\nThere is yet another point. The Armenian historian Moses of Khorene said that the native sources he had available showed that in the second year of Abgar, king of Armenia in 3 B.C.E., the census mentioned by Luke brought Roman agents “to Armenia, bringing the image of Augustus Caesar, which they set up in every temple.” 17 It is implied that people had to go to the temples to register for the census. This information is very similar to that engraved on the Paphlagonian inscription (also referring to 3 B.C.), that recorded the “oath” given to Augustus. The same oath was sworn by all the people in the land at the altars of Augustus in the temples of Augustus in the various districts. The similarity of language is so striking (and since the year is exactly the same), it may mean that we have Armenian history showing that the registration mentioned by Luke did indeed occur in the year 3 B.C.E.\n\nThe fact that the census of Luke was actually an Empire-wide oath to Augustus was recognized by Orosius, who lived in the 5th century. He must have had early sources for his evidence. He wrote,\n\n“[Augustus] ordered that a census be taken of each province everywhere and that all men be enrolled. ... This is the earliest and most famous public acknowledgment which marked Caesar as the first of all men and the Romans as lords of the world, a published list of all men entered individually .... This first and greatest census was taken, since in this one name of Caesar all the peoples of the great nations took oath, and at the same time, through the participation in the census, were made apart of one society” 18\n\n[underlining mine, i.e. ELM]\n\nOrosius also identified the year for this enrollment and oath as being 3 B.C.E. He said the oath was taken to enroll Augustus “as the first of all men” ― an apt description of the bestowal of the Pater Patriae in his Silver Jubilee year and when the priestly celebrations for the 750th anniversary of Rome took place. The fact that Orosius equaled the census with an oath of allegiance to Augustus may well mean that he had historical records that substantiated it.\n\nFrom  \"Chapter 12: The Census of Quintilius Varus\"   by Dr. Ernest L. Martin at http://askelm.com/star/star014.htm#_ednref12."]
[{"$f":"A131+1","v":3907},59,{"$f":"C132","v":750},{"$f":"D135+1","v":5},{"$f":"E135+1","v":4},16,{"$f":"G131+1","v":1},null,35,32,{"$f":"K131+1","v":1},null,null,"Eclipse March 12, 4 BCE: \"Josephus says that on the night in which Herod ordered Judas, Matthias, and their abettors to be burnt, there was an eclipse of the moon. Now this eclipse took place on the night of March 12th, B.C. 4\" (Dr. Farrar, Life of Christ (Excursus 1.) From http://www.google.se/search?q=cache:sBEW7BJYG8IJ:faith.disk919.com/resources/the_coming_prince/appendix.php+%22Herod%27s+accession%22&hl=sv&ie=UTF-8 )                                                                                                                                              \"As for the other Matthias who had stirred up the sedition, he (Herod) had him burned alive along with some of his companions. And on that same night there was an eclipse of the Moon. But Herod's illness became more and more severe. . . .\" \n\nRefers to a partial CD 98lunar eclipse of 13 March 4 BC, or possibly a total lunar eclipse of 23 March 5 BC. \nFrom: Flavius Josephus (Jewish, 1st century AD.) \nQuoted in Encyclopaedia Britannica CD 98.    From  \nFrom http://www.mreclipse.com/Special/quotes1.html  under the NASA Eclipse homepage http://sunearth.gsfc.nasa.gov/eclipse/eclipse.html\n \"Five days after the execution of Antipater Herod died at Jericho, leaving his throne to his son Archelaus. The corpse was transported with great pomp from Jericho to Herodium, where the burial took place. The day of his death was marked in the Jewish calendar as a festival.\" From http://www.jewishencyclopedia.com/view.jsp?artid=630&letter=H&search=Herod%20the%20Great\n"]
[{"$f":"A132+1","v":3907},60,{"$f":"C132+1","v":751},4,3,16,{"$f":"G132+1","v":1},null,36,{"$f":"J132+1","v":33},{"$f":"K132+1","v":1},null,null,"Herod the Great dies & Archelaus' accession: \"Then secretly calling the wise men, Herod asked of them exactly the time of the star appearing. …  Then seeing that he saw mocked by the wise men, Herod was greatly enraged; and having sent, he killed all the boys in Bethlehem and in all its districts, from two years old and under - according to the time which he exactly asked from the wise men...  But Herod having expired, hehold, an angel of the Lord appears to Joseph by a dream in Egypt, saying, Rising up, take along the child and His mother, and pass over into the land of Israel; for those seeking the soul of the child have expired.  And rising up, he took along the child and His mother and came into the land of Israel. But hearing that Archelaus reigned over Judea in place of his father Herod, he reared to go there.  And being warned by a dream, he departed into the parts of Galilee. And coming he lived in a city called Nazareth; so as to fulfill that spoken by the prophets, \"He shall be called a Nazarene.\" \"  Matt. 2:7,16,19-23 (IB).  (cf. http://campus.northpark.edu/history/WebChron/MiddleEast/HerodTemple.html & my file \"Herod the Great Begins the Third Temple - 19-20 BC.doc\" which file states: \"But his most notable achievement was the building a temple in Jerusalem, which was begun in 20/19 BC and finished in 63 AD, long after his death in 4 BC. This was known as the Third Temple.\", and \"Herod grew ill and died at Jericho in the spring of 4 BC. The people made Archelaus their king because that was what was put in Herod's last (sixth) will.\", which quotes cannot both be correct considering the text in Matt. 2:7,16,19-23 (IB).<<<<<<<<<<<>>>>>>>>> NOTICE: The age of the children may well have been counted from conception, while the ones to be killed were in their 2nd year since conception, thus a minimum of babies 4 months old (since delivery) would have been killed (9 months + 3 months + 1 month)."]
[{"$f":"A133+1","v":3908},60,{"$f":"C133+1","v":751},{"$f":"D134","v":4},{"$f":"E134","v":3},17,{"$f":"G133+1","v":2},null,36,{"$f":"J133+1","v":33},2,null,null,"Quote: (Herod) Archelaus. [Gr. Archelaos, \"people’s ruler,\" or \"people’s prince.\"] Ruler of Judea and Samaria during Jesus’ childhood. Archelaus was a son of Herod the Great and Malthace. He, his full brother Antipas, and their half brother Philip the tetrarch (the son of Cleopatra of Jerusalem) were all educated in Rome. They were named as their father’s successors in his final will, which was honoured by Augustus. The emperor gave Archelaus Judea, Samaria, and Idumea, and granted him the title ethnarch, meaning \"people’s prince.\" He ruled in this capacity from 4 b.c. to a.d. 6. Like his father he loved luxury and power, and on several occasions demonstrated his cruel nature. In suppressing a riot during the 1st year of his reign his troops killed 3,000 people. It is easy to understand why Joseph was afraid to live in Judea under Archelaus when he brought Mary and the child Jesus back from Egypt (Mt 2:22).\n\nArchelaus’ choice of high priests, his private life, and his cruelties annoyed the Jews, who, joined by the Samaritans, sent deputations to Rome, and finally persuaded Augustus to recall Archelaus. The deposed ethnarch was banished to Vienne, on the Rhone, in what is now southern France, and his territory was placed under a Roman procurator, who served as a direct representative of the Roman provincial administration (see Governor, 2).\nFrom http://www.google.se/search?q=cache:8j-kqE_imN8J:www.nisbett.com/people/bp-herod.htm+%22Herod+Archelaus%22+successor+AD&hl=sv&ie=UTF-8"]
[3908,61,752,{"$f":"D134-1","v":3},2,17,2,null,37,34,{"$f":"K134+1","v":2},null,null,"Quote: Herod (Antipas) (a¬n'tž-pa¬s). Ruler of Galilee and Perea during Jesus’ ministry, called \"Herod the Tetrarch\" in the NT, but usually referred to in history as \"Herod Antipas.\" He was the son of Herod the Great and his Samaritan wife Malthace, and was educated in Rome with his brother Archelaus and his half brother Philip. Antipas was designated successor to the throne in his father’s 2d will, yet in Herod’s final will he was given only Galilee and Perea, with the title of tetrarch. Mark refers to him by his popular title, king (ch 6:14). Since he is simply called Herod in the Gospels, a name found also on his coins, readers of the Bible have frequently confused him with his father. He was married to the daughter of Aretas IV, king of the Nabataeans, whose capital was Petra, south of the Dead Sea (The Roman Empire in the First Century (A.D.)). This marriage may have been contracted with the purpose of making the eastern and southern borders of Perea safe from Nabataean attacks.\n\nDuring a visit to Rome, Herod Antipas fell in love with Herodias, his niece, who was the wife of his half brother, Herod Philip. Herodias thereupon left her husband and lived with Antipas. His discarded wife’s father was deeply offended and consequently waged war against Antipas, in which he succeeded in occupying parts of Antipas’ Transjordan territories. John the Baptist severely rebuked Antipas (perhaps publicly) for his adultery and as a result was incarcerated in Machaerus, a fortress east of the Dead Sea. Herodias deeply hated John for his interference in her private life and could not rest until she brought about his death (Mt 14:1–12). Antipas was known for his cunning (Jesus called him \"that fox,\" Lk 13:32), his ambitions, and his love of luxuries, yet he lived as an orthodox Jew, and went to Jerusalem on feast days (ch 23:7). For years he was an enemy of Pilate (v 12), because he could not condone the procurator’s anti-Jewish acts. In harmony with the Jewish aversion to images he refrained from having his portrait put on his coins. He rebuilt Sepphoris in Galilee, added to its fortifications, and made it his capital. He also built Tiberias and other cities and strengthened the borders of his domain.\n\nHerod Antipas is mentioned in the NT in connection with the imprisonment and execution of John the Baptist (Mt 14:3–12). He may have planned to arrest and kill Jesus of Nazareth, as the Pharisees claimed (Lk 13:31), but this is not certain. He considered Jesus to be the risen Baptist (Mk 6:14–16). When he finally met Jesus in Jerusalem, he showed interest in Him, but his interest turned to ridicule when Jesus refused to answer him (Lk 23:8–12). Pilate’s act of sending Jesus to him, in recognition of Herod’s authority over Galileans even in Jerusalem, resulted in a friendship between the two former antagonists. In a.d. 37 Agrippa, Herodias’ brother, was made king over the northeastern territories of Palestine that Philip (see Herod, 4) had held. Herodias, dissatisfied that her husband had the title only of tetrarch, induced him to go with her to Rome and to seek a royal crown from Caligula. Agrippa, however, sent letters to Rome accusing his uncle Antipas of treasonable activities. As a result, instead of being made a king, Herod was banished in a.d. 39, to either Gaul or Spain, where Herodias followed him into exile. His territory was added to that of his accuser, Agrippa.\n\nFrom http://www.google.se/search?q=cache:8j-kqE_imN8J:www.nisbett.com/people/bp-herod.htm+%22Herod+Archelaus%22+successor+AD&hl=sv&ie=UTF-8"]
[3909,61,752,3,2,18,3,null,37,34,3,null,null,"Quote: 4. (Herod) Philip (fžl'žp). [Gr. Philippos, \"a friend of horses.\"] Tetrarch of the territories northeast of the Sea of Galilee, the son of Herod the Great and of Cleopatra of Jerusalem. Educated in Rome with his half brothers Archelaus and Antipas, he was given part of his father’s realm upon Herod’s death. Receiving the title tetrarch, he was placed over the northeastern territories of Palestine—including Ituraea, Trachonitis (Lk 3:1), Batanaea, and Auranitis—and ruled from 4 b.c. to a.d. 33/34. He was the best of all the Herodian rulers, and the historians of his time report nothing evil of him. His building activities were many. He enlarged the city of Paneas, situated at the source of the Jordan, and called it Caesarea. Later it was generally referred to as Caesarea Philippi (Mt 16:13) to distinguish it from the Caesarea of western Palestine. Philip also made the village of Bethsaida into a city and called it Bethsaida Julias in honour of Augustus’ daughter, who was the wife of Tiberius. Toward the end of his life he married his niece, Herodias’ daughter (ch 14:11) Salome, who was about 30 years his junior. When he died without leaving any children, his tetrarchy was annexed to Syria, but about 3 years later it was given to Agrippa I as a kingdom.\n\n5. (Herod) Philip. Brother of Antipas and first husband of Herodias. He was a son of Herod the Great and of Mariamne II, daughter of the high priest Simon. Philip was not a ruler, but a private citizen. He was married to his niece, Herodias, who after a time fell in love with her uncle Antipas (see Herod, 3), a half brother of her husband, and went to live with him, taking her daughter Salome with her. Salome later married her great-uncle, Philip the tetrarch, and after her husband’s death married one of her cousins, Aristobulus.\n\nHerod Philip is called simply Philip in the Gospels (Mt 14:3; Lk 3:19), but is called Herod by Josephus (Ant. xviii. 5. 4). The NT agrees with Josephus in making him a (half) brother of Herod Antipas.\n\n6. Herod (Agrippa I) (a¾-gržp'a¾). [Gr. Agrippas] King of Judea and all Palestine who persecuted the apostles (Acts 12:1). His official Roman name was Marcus Julius Agrippa Herodes, but he is called simply \"Herod the king\" in the NT. He was born in 10/9 b.c. as a son of Aristobulus and Bernice and grandson of Herod the Great. He married Cypros, and had four children, Bernice, Mariamne, Drusilla, and Agrippa (II). Of these the 1st, 3d, and 4th are mentioned in the Bible (chs 24:24; 25:13). He received part of his education in Rome, later became superintendent of markets at Tiberias, and also lived for a while in Damascus. Upon his return to Rome in a.d. 37 he was imprisoned by Tiberius for having sided with Germanicus’ son, Gaius, or Caligula, who became emperor only 6 months later. Caligula immediately made his friend Agrippa king of the tetrarchy over which Agrippa’s late uncle Philip (see Herod, 4) had ruled, and over the tetrarchy of Lysanias. In a.d. 39 he was made ruler over Galilee and Perea, the tetrarchy of his uncle Antipas, whom he had ousted and whose banishment he precipitated by accusing him to Rome of conspiring against the empire. Two years later the emperor Claudius, with whom Agrippa had also ingratiated himself, added to Agrippa’s kingdom the territory of Judea and Samaria, which since a.d. 6 had been governed by Roman procurators. Agrippa thus became king over an area equal to that held by his grandfather Herod the Great. Anxious to obtain the good will of his people, he strictly observed the religious rules of the Jews. His execution of James, the brother of John, and the imprisonment of Peter (Acts 12:1–7) were ordered with this purpose in mind. Attempting to strengthen Jerusalem’s fortifications, he began to build a new wall to the north of Jerusalem, but gave up the project on the demand of Claudius. Although he tried to show himself an orthodox Jew, he was also a great lover and promoter of Greek athletic games and of the theatre. He died in a.d. 44 in his capital, Caesarea, after a brief but violent intestinal illness, which suddenly overtook him when he accepted divine honours after an oration at a public appearance (Acts 12:20–23; Jos. Ant. xix. 8. 2).\n\n7. (Herod) Agrippa (II). Ruler of the northeast; the Agrippa who heard Paul. His official Roman name was Marcus Julius Agrippa Herodes II. He was the son of Agrippa I and was born and educated in Rome. Since he was only 17 years old when his father died in a.d. 44 he was considered by the emperor Claudius to be too young to take over the kingship. However, in a.d. 50 he was made king of Chalcis (Chalkis on Palestine in the Time of Jesus), a small area in the Lebanon region, which had been ruled by his uncle Herod from a.d. 41 to 48. In a.d. 53 he was given the former tetrarchies of Philip and Lysanias in northeastern Palestine in exchange for the kingdom of Chalcis. Nero added large areas of Galilee and Perea to his territory. He was also assigned the supervision of the Temple of Jerusalem and the right to appoint the high priest. It was during his reign that the Temple begun under his great-grandfather, Herod the Great, was completed (a.d. 62 or 64). Like his father he attempted to live the life of an orthodox Jew, and whenever he had an opportunity he pointed out to his noble pagan acquaintances the high moral advantages of Jewish monotheism over their religions. However, he lived in incest with his sister Bernice, so that his own private life was scandalous.\n\nAgrippa II enlarged and beautified Caesarea Philippi, built an addition to Herod’s palace in Jerusalem, and sponsored theatrical performances in Berytus (Beirut). A monumental stone inscription mentioning him and his sister Bernice was recently found in the excavations of Beirut and is now in the Beirut Museum . Agrippa is mentioned in the NT in connection with Paul’s appeal to the emperor. After the procurator Festus took over his governorship, Agrippa and Bernice paid a courtesy visit to Caesarea. Festus used this opportunity to bring Paul before Agrippa, whom he considered an expert in Jewish affairs, to obtain legal counsel as to what report he should send to Rome. Agrippa became convinced of Paul’s innocence, but could not release him since the case had already been appealed to the emperor (Acts 25:13–27; 26:32).\n\nWhen the Jewish war broke out in a.d. 66, Agrippa II failed in his efforts to persuade the Jews to refrain from rebelling against the Romans. Thereupon he placed himself without reservation on the side of the Romans, and was richly honoured for his loyal stand. Little is known about his later private life in Rome, where he died either c. a.d. 93 or c. a.d. 100.\n\nLit.: M. Grant, Herod the Great (New York, 1971); S. Perowne, The Life and Times of Herod the Great (London, 1956); S. Sandmel, Herod, Profile of a Tyrant (Philadelphia, 1967); S. Perowne, The Later Herods (London, 1958).\nFrom: http://www.google.se/search?q=cache:8j-kqE_imN8J:www.nisbett.com/people/bp-herod.htm+%22Herod+Archelaus%22+successor+AD&hl=sv&ie=UTF-8"]
[3909,62,753,2,1,18,3,null,38,35,3,0,null,"Quote: \n\nThe Major Problem with Filmer’s Suggestions       \n\nWhile Filmer’s treatment of Josephus’ reckoning for Herod’s years of reign appears reasonable, there is one major stumblingblock to it. Barnes, in his review of Filmer’s position, 16 made it pretty clear that the historical records show that some of Herod’s successors began their reigns in 4 B.C.E., and not as one might expect in 1 B.C.E. The Roman historian Dio said that Herod’s son Archelaus was deposed in his tenth year of reign in the consulship of Aemalius Lepidus and L. Arruntuis. 17 This answers to C.E. 6 and it means that Archelaus took over from Herod sometime in 4 B.C.E. ― or at least it looks that way. There is even more evidence of this. Antipas was deposed by Caligula in C.E. 39, and there are coins which record his forty-third year. This evidence also leads one back to 4 B.C.E. for the beginning of Antipas’ reign.\n\nThe fact that these two sons of Herod (Archelaus and Antipas) seem to be reigning in 4 B.C. is the main problem to the thesis of Filmer. If Herod died in early 1 B.C.E. (as Filmer and the evidence of this book suggest), why were two of Herod’s successors reckoned as reigning as early as 4 B.C.E.? This, on the other hand, is not the case with Herod’s son Philip. I have shown how David W. Beyer has made it clear that the early manuscripts of Josephus show Philip to have started his 37 years of rule in 1 B.C.E. But why do the other two sons of Herod seemingly show 4 B.C.E.? There are historical reasons why this happened. And once they are understood, it shows that Filmer is right after all in his solutions to the problem.\n\nFrom Earnest L. Martin, The Star that Astonished the World, Chapter 13:1, Subtitle \"The Major Problem with Filmer’s Suggestions\" at http://askelm.com/star/star015.htm\n\n               \nErasing Names in Genealogical Lists Was Common\n\nHerod would have found enough biblical precedents for expunging Antipater’s name from the public records (including his two years of joint rule with Herod when he was also reckoned as a king). There are historical examples of such things, e.g., chiseling away names from the monuments of Egypt (even attempting to destroy the written records of Pharaoh Akenaton) and Nabonassar obliterating the accounts of previous Babylonian kings. And now, Herod received permission to either banish his son (this could have meant the loss of sonship for Antipater) or to kill him. Herod decided to execute him, but he no doubt stripped him of all family associations in an effort to degrade him completely.\n\nNote that Herod again changed his will immediately after killing Antipater. Directions for such a “blotting out” could well have been in his final testament. It could have been that Antipater’s joint rule with Herod was now awarded retroactively to Herod’s true successors to secure the “blotting out” of Antipater’s memory. This is even suggested by what Josephus said about Archelaus, the chief successor of Herod. There is the obscure reference that Archelaus was recognized as one that “had long exercised royal authority.” 11 This was not actually true to fact. The mind of Herod had been poisoned against Archelaus. Only at the last moment of his life, when in desperation, did Herod appoint Archelaus to be the heir to the kingdom. 12 Why then was Archelaus reckoned as having authority with Herod in the latter years of Herod’s reign when everyone knows he was not in such power? He was no doubt awarded the years of Antipater’s joint rule in a de jure sense ― replacing Antipater’s joint rulership associated with his father in the Judaean kingdom when the two royal Hasmonean sons were killed (4 B.C.E.).\n\nFrom Earnest L. Martin, The Star that Astonished the World, Chapter 13:2, Subtitle \"Erasing Names in Genealogical Lists Was Common\" at http://askelm.com/star/star016.htm#_ednref50\n\n             \nThe Evidence of Coins\n\nEven more important, however, are coins that were apparently minted by Antipas ― one of the immediate successors of Herod the Great. Antipas was removed from his throne in C.E. 39 and banished to Europe. 20  If one dates his reign from 4 B.C.E., it means he would have had a reign of 43 years. Indeed, there are three coins of Antipas marked with the regnal year 43. 21 However, there is a coin mentioned by Vaillant (and it is also referred to by Garland in his travel narratives who found it at Jericho in 1674) that has the year 44 inscribed on it. 22 But this would have Antipas commencing his reign in 5 B.C.E. This seems impossible. Much debate has surrounded the interpretation of the year mentioned on this coin. The general opinion is that the date on the coin was probably misread. Since the coin can no longer be traced, it is conjectured that this explanation is probably the best, but no one can be sure.\n\n\nCoins Often Give Political Data, Not Real History\n\nWorse yet, during the last century a coin came to light which showed year 45 for Antipas’ reign. This would have extended Antipas’ rule back to 6 B.C.E.\n\nFrom Earnest L. Martin, The Star that Astonished the World, Chapter 13:2, Subtitle \"The Evidence of Coins\" at http://askelm.com/star/star016.htm#_ednref50\n\n\nAntedating Secured Dynastic Continuance\n\nSince the Jews (and most kingdoms of the Hellenistic east) were used to antedating reigns to give political or dynastic significance to present rulership, why not antedate the reigns of the three Herodian successors back to the deaths of the two “royal sons”? Such a thing would have gained some respect in the minds of the Jewish populace. It not only would have “blotted out” Antipater’s two year joint rule with Herod when he was reckoned as a “king,” but it would have linked up the reigns of the three successors with the two royal children.\n\nFrom Earnest L. Martin, The Star that Astonished the World, Chapter 13:2, Subtitle \"Antedating Secured Dynastic Continuance\" at http://askelm.com/star/star016.htm#_ednref50 "]
[3910,62,753,2,1,19,4,null,38,null,4,0,null,"Quote: \n\nAntedating Was Used to Achieve Dynastic Association    \n\nWith Philip, however, we now know from the research of Beyer, 56 that the early manuscripts of Josephus show that Philip commenced his reign at the exact time of Herod’s death in 1 B.C.E. and ruled for 37 years, dying in C.E. 36 (the twenty-second year of Tiberius). All this makes perfectly good sense.\n\nFrom Earnest L. Martin, The Star that Astonished the World, Chapter 13:2, Subtitle \"Antedating Was Used to Achieve Dynastic Association\" at http://askelm.com/star/star016.htm#_ednref50 "]
[3910,63,754,{"$f":"D138-1","v":1},{"$f":"E138","v":1},19,4,null,39,null,4,{"$f":"L138+1","v":1},null,{"$f":"N87","v":"Proclamation of \"Augustus\" on January 16, 27 BCE [ [11th moon =] Shevat 3, 27 BCE]: \"In 2 B.C.E. Augustus celebrated his 25th jubilee year of being emperor of the Romans (from the time he was proclaimed “Augustus” on January 16, 27 B.C.E.). 6 This year also coincided with the 750th year of the founding of Rome as determined by the chronological records of the Roman priests. 7 In August of 2 B.C.E. (the month named after Augustus himself and still a month we recognize today) there were festivities in Rome and throughout the provinces and client kingdoms.\n\n[Footnotes:]\n6 The Oxford Classical Dictionary, 149. \n7 E.J. Bickerman, Chronology of the Ancient World, 77. \n8 B. Allan, Augustus Caesar, 216–218. \"\n\nFrom: Martin, Earnest, L., The Star that Astonished the World, Chapter 1."}]
[3911,63,754,{"$f":"D139-1","v":1},{"$f":"E139","v":1},20,5,null,39,null,5,1,null,"\n25 Year Pater Patriae given February 5, 2 BCE [Shevat 29, 2 BCE]: \n\n\"The Father of the Country\n\n\"Another important matter occurred in 2 B.C.E. Augustus was given his most prestigious title: Pater Patriae (Father of the Country). In the previous year a decree went out from Augustus that required “the entire Roman people” scattered over the Empire to register their approval that Augustus should be given the most prestigious title of his career, the Pater Patriae. 12 This registration of people in all areas of the Empire was an oath in which individuals proclaimed the emperor Augustus as the “Father of the Country.” This oath took place in the summer of 3 B.C.E. and it was required of all Roman citizens and others of distinguished rank among the client kingdoms associated with Rome. 13 This universal census of allegiance to Augustus was demanded of those who claimed any kind of authority within the Empire. The whole of the Roman Empire responded, and Augustus was gloriously proclaimed the Pater Patriae (the Father of the Country).\n\n\"This award itself was given to Augustus by decree of the Senate and the people of Rome on February 5, 2 B.C.E. This was the festival day dedicated to Concord. It was the traditional day that honored peace and reconciliation among all classes of people all over the Roman Empire. 14 Throughout the year 2 B.C.E. Augustus was being recognized as the one who brought peace, security and tranquility to the world. In the festivities and banquets that occurred during that year it was common for people to drink to the health of Augustus with the toast: “Father of the country, Caesar, the best of men.” 15\n\n[Footnotes:]\n12 T. Lewin, Fasti Sacri, 135. \n13 Res Gestae of Augustus, 35.1. \n14 T. Lewin, Fasti Sacri, 135. \n15 Ovid, Fasti, 11.637–638. \"\n\nFrom: Martin, Earnest, L., The Star that Astonished the World, Chapter 1.\n\n"]
[3911,64,755,{"$f":"D140","v":1},{"$f":"E140+1","v":2},20,5,null,40,null,5,2]
[3912,64,755,{"$f":"D141","v":1},{"$f":"E141+1","v":2},21,6,null,40,null,6,2]
[3912,65,756,{"$f":"D142+1","v":2},{"$f":"E142+1","v":3},21,6,null,41,null,6,3]
[3913,65,756,{"$f":"D143+1","v":2},3,22,7,null,41,null,7,3]
[3913,66,757,{"$f":"D144+1","v":3},4,22,7,null,42,null,7,4]
[3914,66,{"$f":"C146","v":757},3,4,23,8,null,42,null,8,4]
[3914,67,{"$f":"C146+1","v":758},4,5,23,8,null,43,null,8,5]
[3915,67,758,4,5,24,9,null,43,null,{"$f":"K147+1","v":9},5]
[3915,68,759,5,6,24,9,null,44,null,9,6,0,"Quote: \nCaiaphas was the son-in-law of Annas, high priest from 6 to 15 C.E. and head of a family that would control the high priesthood for most of the first century.  Annas is also mentioned in Biblical accounts.  It is possible that he, as a high priest emeritus, might have served at the side of Caiaphas in the Sanhedrin called to resolve the fate of Jesus. \n\nAlthough little is known of Caiaphas, historians infer from his long tenure as high priest, from 18 to 36 C.E., that he must have worked well with Roman authority.  For ten years, Caiaphas served with Roman prefect Pontius Pilate.  The two presumably had a close relationship.  It is likely that Caiaphas and Pilate had standing arrangements for how to deal with subversive persons such as Jesus. \n\nFrom http://www.law.umkc.edu/faculty/projects/ftrials/jesus/jesuskeyfigures.html  and \nhttp://www.google.se/search?q=cache:J2cGboZogSoJ:www.law.umkc.edu/faculty/projects/ftrials/jesus/jesuskeyfigures.html+caiaphas+%22high+priest%22+year&hl=sv&ie=UTF-8"]
[3916,68,759,5,6,25,10,null,44,null,10,6,0]
[3916,69,760,6,7,25,10,null,"10/10",null,10,7,1,"Herod Antipas and others: \"...Herod being tetrarch of Galilee, and his brother Philip tetrarch of Ituraea and of the region of Trachonitis, and Lysanias the tetrarch of Abilene...\" Luke 3:1-3 (KJV)."]
[3917,69,760,6,7,26,11,null,11,null,11,7,{"$f":"M151+1","v":1}]
[3917,70,761,7,8,26,11,null,11,null,11,8,2]
[3918,70,761,7,8,27,12,null,{"$f":"I153+1","v":12},null,12,8,2]
[3918,71,762,8,9,27,12,null,12,null,12,9,3,"70 years of Roman occupancy of Judah completed"]
[3919,71,762,8,9,28,13,null,13,null,13,9,3,"\"Now his parents went to Jerusalem every year at the feast of the passover. And when he was twelve years old, they went up to Jerusalem after the custom of the feast\" Luke 2:41-42 (KJV). The word 'was' in \"he was twelve\" is translated from the Greek word 'egeneto', a word form which is defined as \"3 person singular aorist 2, indicative mood  -  ginomai\" (The Analytical Greek Lexicon, Zondervan, 1975). Cf. Strong's #1096 \"ginomai; a prolonged and middle form of a primitive verb; to cause to be (\"gen\"-erate) i.e. (reflex.) to become (come into being), used with great latitude (lit., fig., intens., etc.)\"; Strong's #1079 \"genetae; feminine of a presumed derivative of the base of 1074; birth\"; #1074 \"genea; from (a presumed derivative of) 1085; a generation; by implication an age (the period or the persons)\"; #1085 \"genos; from 1096; \"kin\" (abstr. or concr., lit. or fig., indiv. or coll.)\". Isn't the word used in the Greek text on a form indicating that he, Jesus, was about to complete his 12th year of life, i.e. \"turn 12\"?!? (I'd like to have more info on that!). If so this text would be confirmation of Jesus being born in the beginning of Nisan, i.e. at the first of the Sacred year or possibly at the beginning of Passover..."]
[3919,72,763,9,10,28,13,null,13,null,13,10,4]
[3920,72,763,9,10,29,14,null,14,null,14,10,4]
[3920,73,{"$f":"C158+1","v":764},10,11,29,14,null,14,null,14,11,5]
[3921,73,{"$f":"C160","v":764},10,11,30,15,null,15,null,{"$f":"K159+1","v":15},11,5]
[3921,74,765,11,12,30,15,null,15,null,15,12,6]
[3922,74,765,11,12,31,16,null,16,null,16,12,6]
[3922,75,766,12,13,31,16,null,16,null,16,{"$f":"L162+1","v":13},7]
[3923,75,766,12,13,32,17,null,17,null,17,13,7]
[3923,76,767,13,14,32,17,1,17,null,17,14,8,"\"Tiberius Caesar reigned from A.D. 14 to A.D. 37 (Encyclopedia Britannica on the web, www.eb.com/cgi-bin/g? keywords =tiberius+caesar). His reign began on August 19, A.D. 14.  Luke may have been using any of several methods to define the 15th year of the reign of Tiberius Caesar.  However, I will only present the method that yields the earliest possible 15th year.  In eastern provinces [of the Roman empire]...years were reckoned from the accession of the reigning emperor, the second beginning on the first New Years day after the accession, and the date on which this occurred varied from one province to another. (Encyclopedia Britannica, Chicago, IL, USA: Encyclopedia Britannica, Inc. 1994, vol 15, p. 421). Based on the above passage, Luke may have counted Tiberius' accession year (the time between Tiberius' August accession and the following New Years day) as his first regnal year.  The earliest possible New Years day may have been in the Jewish lunar month of Tishri (September/October).  \"R. Hisda said: The rule [that New Year for kings is in Nisan] was only meant to apply to the kings of Israel, but the years of non-Israelitish kings are reckoned from Tishri...\" (Talmud, Rosh HaShanah, 3a.) Or the New Years day may have been, as the passage below states, on October 1.  Luke possibly used the Syrian method, which counted the interval between Aug. 19 and the beginning of the new year (Oct. 1) as the first regnal year. In that case, the fifteenth year extended from, Oct.1, 27 till Oct. 1, 28. Jesus, therefore, was baptized toward the end of the year 27. (Brown, Raymond Edward. The Jerome Bible Commentary. Englewood Cliffs, NJ, USA: Prentice Hall, 1968 [Logos Library System 2.1, 1997].) Based on the information in the three quoted passages above, the earliest possible first regnal year of Tiberius extended between August, A.D. 14 and the autumn of A.D. 14.  His earliest possible second regnal year extended between the autumn of A.D. 14 and the autumn of A.D. 15.  John the Baptist’s ministry, therefore, began no earlier than the autumn of A.D. 27.  John baptized Jesus sometime afterward.  The Jordan river, between the Sea of Galilee and the Dead Sea, is below sea level, and the weather there is warm year round, so Jesus could have been baptized at any time of year.\" (From http://www.geocities.com/athens/parthenon/3021/ascension2.html)"]
[3924,76,767,13,14,33,18,2,18,null,18,14,8]
[3924,77,768,14,15,33,18,2,18,null,18,15,9]
[3925,77,768,14,15,34,19,{"$f":"H167+1","v":3},19,null,19,15,9]
[3925,78,769,15,16,34,19,{"$f":"H168+1","v":3},19,null,19,16,0]
[3926,78,769,15,16,35,20,{"$f":"H169+1","v":4},20,null,20,16,0]
[3926,79,770,16,17,35,20,4,20,null,20,17,1]
[3927,79,770,16,17,36,21,5,21,null,21,17,1]
[3927,80,{"$f":"C172+1","v":771},17,18,36,21,5,21,null,21,18,0]
[3928,80,{"$f":"C174","v":771},17,18,37,22,6,22,null,{"$f":"K173+1","v":22},18,0,{"$f":"N150","v":"Quote: \nCaiaphas was the son-in-law of Annas, high priest from 6 to 15 C.E. and head of a family that would control the high priesthood for most of the first century.  Annas is also mentioned in Biblical accounts.  It is possible that he, as a high priest emeritus, might have served at the side of Caiaphas in the Sanhedrin called to resolve the fate of Jesus. \n\nAlthough little is known of Caiaphas, historians infer from his long tenure as high priest, from 18 to 36 C.E., that he must have worked well with Roman authority.  For ten years, Caiaphas served with Roman prefect Pontius Pilate.  The two presumably had a close relationship.  It is likely that Caiaphas and Pilate had standing arrangements for how to deal with subversive persons such as Jesus. \n\nFrom http://www.law.umkc.edu/faculty/projects/ftrials/jesus/jesuskeyfigures.html  and \nhttp://www.google.se/search?q=cache:J2cGboZogSoJ:www.law.umkc.edu/faculty/projects/ftrials/jesus/jesuskeyfigures.html+caiaphas+%22high+priest%22+year&hl=sv&ie=UTF-8"}]
[3928,81,772,18,19,37,22,6,22,null,{"$f":"K174+1","v":22},19,1]
[3929,81,772,18,19,38,23,7,23,null,{"$f":"K175+1","v":23},19,1]
[3929,82,773,19,20,38,23,{"$f":"H176+1","v":7},23,null,23,20,{"$f":"M176+1","v":2}]
[3930,82,773,19,20,39,24,{"$f":"H177+1","v":8},24,null,24,20,2]
[3930,83,774,20,21,39,24,8,24,null,24,21,3]
[3931,83,774,20,21,40,25,9,25,null,25,21,3]
[3931,84,775,21,22,40,25,9,25,null,25,22,4]
[3932,84,775,21,22,41,26,10,26,null,26,22,4]
[3932,85,776,22,23,41,26,10,26,null,26,23,5]
[3933,85,776,22,23,42,27,11,27,null,27,23,5]
[3933,86,777,23,24,42,27,11,27,null,27,24,6]
[3934,86,777,23,24,43,28,12,28,null,28,24,6]
[3934,87,{"$f":"C186+1","v":778},24,25,43,28,12,28,null,28,25,7]
[3935,87,{"$f":"C188","v":778},24,25,44,29,{"$f":"H187+1","v":13},29,null,{"$f":"K187+1","v":29},25,7]
[3935,88,779,25,26,44,29,{"$f":"H188+1","v":13},29,null,{"$f":"K188+1","v":29},26,8]
[3936,88,779,25,26,45,30,{"$f":"H189+1","v":14},30,null,{"$f":"K189+1","v":30},26,8]
[3936,89,780,26,27,45,30,14,30,null,30,27,{"$f":"M190+1","v":9}]
[3937,89,780,26,27,46,31,15,31,null,31,27,{"$f":"M191+1","v":9},"\"Now in the fifteenth year of the reign of Tiberius Caesar, Pontius Pilate being governor of Judaea, and Herod being tetrarch of Galilee, and his brother Philip tetrarch of Ituraea and of the region of Trachonitis, and Lysanias the tetrarch of Abilene, Annas and Caiaphas being the high priests, the word of God came unto John the son of Zacharias in the wilderness. And he came into all the country about Jordan, preaching the baptism of repentance for the remission of sins...\" Luke 3:1-3 (KJV).      \"It came to pass, that Jesus also being baptized, and praying, the heaven was opened… And Jesus himself began to be about thirty years of age…\" Luke 3:21,23 (KJV), i.e. Jesus was baptized at, or shortly following, his 30th birthday.  \"Forty and six years is being built Temple this...\" (IB) John 2:20 NOTICE> Here Jesus' age at his baptism is correlated to the beginning of Herod's Temple.  "]
[3937,90,781,27,28,46,31,{"$f":"H192+1","v":15},31,null,31,28,{"$f":"M192+1","v":10}]
[3938,90,781,27,28,47,32,{"$f":"H193+1","v":16},32,null,32,28,{"$f":"M193+1","v":10}]
[3938,91,782,28,29,47,32,{"$f":"H194+1","v":16},32,null,32,29,11]
[3939,91,782,28,29,48,33,{"$f":"H195+1","v":17},33,null,33,29,11]
[3939,92,783,29,30,48,33,{"$f":"H196+1","v":17},33,null,33,30,12]
[{"$f":"A197+1","v":3940},92,783,29,30,49,{"$f":"G197+1","v":34},18,34,null,34,30,12,"Transfiguration on 8th Day of Feast of Tabernacles"]
[3940,93,784,30,31,49,34,18,34,null,34,31,13]
[3941,93,784,30,31,50,35,19,35,null,35,31,13,"Crucifixion at the Feast of Passover: \"Pontius Pilate, the Roman governor who handed Jesus over to be crucified, governed Judea from A.D. 26 to A.D. 36 (Encyclopedia Britannica on the web, www.eb.com/cgi-bin/g?keywords=Pontius+Pilate).\" (From http://www.geocities.com/athens/parthenon/3021/ascension2.html)"]
[3941,94,785,31,32,50,35,19,35,null,35,32,14]
[3942,94,{"$f":"C202","v":785},31,32,51,36,20,36,null,{"$f":"K201+1","v":36},32,14]
[3942,95,786,32,33,51,36,20,36,null,{"$f":"K202+1","v":36},33,15]
[3943,95,786,32,33,52,37,21,37,null,{"$f":"K203+1","v":37},33,15,"Noon darkness and earthquakes in 33 AD?: Quotes: \"And Phlegon also who compiled the Olympiads writes about the same things in his 13th book in the following words: 'In the fourth year of the 202nd Olympiad (AD 32-33), and eclipse of the Sun took place greater than any previously known, and night came on at the sixth hour of the day, so that stars actually appeared in the sky; and a great earthquake took place in Bithynia and overthrew the greater part of Niceaea.\" \n\nPossibly refers to a total solar eclipse of 24 November AD 29, the reference to AD32-33 being incorrect. \nFrom: Phlegon, Olympiades, fragment 17. \nQuoted in Historical Eclipses and Earth's Rotation, by F Richard Stephenson, Cambridge University Press, 1997, page 359. \nFrom http://www.mreclipse.com/Special/quotes1.html  under the NASA Eclipse homepage http://sunearth.gsfc.nasa.gov/eclipse/eclipse.html                                                                                                                                           NOTICE: From tables given at: http://www.numachi.com/~ccount/hmepa/calendars/202.html  the 4th year of the 202nd Olympiad \"Begins 32-06-27/28\", while the 2nd year \"Begins 30-07-19/20\" and the 3rd year \"Begins 31-07-09/10\". Thus IF the eclipse above quoted refers to the same event as that on the crucifixion day, then either the crucifixion occurred in 33 AD, or else the above quoted eclipse occurred not in the 4th, but in the 2nd year of the 202nd Olympiad (March 31 AD)."]
[3943,96,787,33,34,52,37,21,37,null,37,34,16]
[3944,96,787,33,34,53,38,22,38,null,38,34,16]
[3944,97,788,34,{"$f":"E206+1","v":35},53,38,22,38,null,38,35,17]
[3945,97,788,34,35,54,39,23,39,null,39,35,17]
[3945,98,789,{"$f":"D208+1","v":35},36,54,39,23,39,null,39,36,18]
[3946,98,789,35,36,55,40,24,40,null,40,36,0]
[3946,99,790,36,37,55,40,24,40,null,40,37,0]
[3947,99,790,36,37,56,41,25,41,null,{"$f":"K211+1","v":41},{"$f":"L211+1","v":37},1]
[3947,100,791,37,38,56,41,25,41,null,41,38,1]
[3948,100,791,37,38,57,42,26,42,null,42,38,2]
[3948,101,792,38,39,57,42,26,42,null,42,39,2]
[3949,101,{"$f":"C216","v":792},38,39,58,43,27,43,null,43,39,3]
[3949,102,793,39,40,58,43,27,43,null,43,40,3]
[3950,102,793,39,40,59,44,28,44,null,{"$f":"K217+1","v":44},40,4]
[3950,103,794,40,41,59,44,28,44,null,44,41,4]
[3951,103,794,40,41,60,45,29,45,null,45,41,5]
[3951,104,795,41,42,60,45,29,45,null,45,42,5]
[3952,104,795,41,42,61,46,30,46,null,46,42,6]
[3952,105,796,42,43,61,46,30,46,null,46,43,6]
[3953,105,796,42,43,62,47,31,47,null,47,43,7]
[3953,106,797,43,44,62,47,31,47,null,47,44,7]
[3954,106,797,43,44,63,48,32,48,null,{"$f":"K225+1","v":48},44,8]
[3954,107,798,44,45,63,48,32,48,null,48,45,8]
[3955,107,798,44,45,64,49,33,49,null,49,45,9]
[3955,108,799,45,46,64,49,33,49,null,49,46,9]
[3956,108,{"$f":"C230","v":799},45,46,65,50,34,50,null,50,46,10]
[3956,109,800,46,47,65,50,34,50,null,50,47,10]
[3957,109,800,46,47,66,51,35,51,null,51,47,11]
[3957,110,801,47,48,66,51,35,51,null,51,48,11,"Council of Jerusalem"]
[3958,110,801,47,48,67,52,36,52,null,52,48,12]
[3958,111,802,48,49,67,52,36,52,null,52,49,12]
[3959,111,802,48,49,68,53,37,53,null,53,49,13]
[3959,112,803,49,50,68,53,37,53,null,53,50,13]
[3960,112,803,49,50,69,54,38,54,null,54,50,14]
[3960,113,804,50,51,69,54,38,54,null,54,51,14]
[3961,113,804,50,51,70,55,39,55,null,{"$f":"K239+1","v":55},51,15]
[3961,114,805,51,52,70,55,39,55,null,55,52,15]
[3962,114,805,51,52,71,56,40,56,null,56,52,16]
[3962,115,806,52,53,71,56,40,56,null,56,53,16]
[3963,115,{"$f":"C244","v":806},52,53,72,57,41,57,null,57,53,17]
[3963,116,807,53,54,72,57,41,57,null,57,54,17]
[3964,116,807,53,54,73,58,42,58,null,58,54,18]
[3964,117,808,54,55,73,58,42,58,null,58,55,18]
[3965,117,808,54,55,74,59,43,59,null,59,55,19]
[3965,118,809,55,56,74,59,43,59,null,59,56,19]
[3966,118,809,55,56,75,60,44,60,null,60,56,20]
[3966,119,810,56,57,75,60,44,60,null,60,57,20]
[3967,119,810,56,57,76,61,45,61,null,61,57,21]
[3967,120,811,57,58,76,61,45,61,null,61,58,21]
[3968,120,811,57,58,77,62,46,62,null,{"$f":"K253+1","v":62},58,22]
[3968,121,812,58,59,77,62,46,62,null,62,59,22]
[3969,121,812,58,59,78,63,47,63,null,63,59,23]
[3969,122,813,59,60,78,63,47,63,null,63,60,23]
[3970,122,{"$f":"C258","v":813},59,60,79,64,48,64,null,64,60,24]
[3970,123,814,60,61,79,64,48,64,null,64,61,24]
[3971,123,814,60,61,80,65,49,65,null,65,61,25]
[3971,124,815,61,62,80,65,49,65,null,65,62,25]
[{"$f":"A261+1","v":3972},124,815,61,62,81,{"$f":"G261+1","v":66},50,66,null,66,62,26]
[3972,125,816,62,63,81,66,50,66,null,66,63,26]
[3973,125,816,62,63,82,67,51,67,null,67,63,27]
[3973,126,817,63,64,82,67,51,67,null,67,64,27]
[3974,126,817,63,64,83,68,52,68,null,68,64,28]
[3974,127,818,64,65,83,68,52,68,null,68,65,28]
[3975,127,818,64,65,84,69,53,69,null,{"$f":"K267+1","v":69},65,29]
[3975,128,819,65,66,84,69,53,69,null,69,66,29]
[3976,128,819,65,66,85,70,54,70,null,70,66,30]
[3976,129,820,66,{"$f":"E270+1","v":67},85,70,54,70,null,70,67,30]
[3977,129,{"$f":"C272","v":820},66,67,86,71,55,71,null,71,67,31]
[3977,130,821,{"$f":"D272+1","v":67},68,86,71,55,71,null,71,68,31]
[3978,130,821,67,68,87,72,56,72,null,72,68,32]
[3978,131,822,68,69,87,72,56,72,null,72,69,32]
[3979,131,822,68,69,88,73,57,73,null,73,69,33]
[3979,132,823,69,70,88,73,57,73,null,73,70,33]
[3980,132,823,69,70,89,74,58,74,null,74,70,34,"Destruction of the 2nd temple, 4 Aug 70 AD (9 Av 3830). From http://www.abdicate.net/av.asp"]
[3980,133,824,70,71,89,74,58,74,null,74,71,34]
[3981,133,824,70,71,90,75,59,75,null,75,71,35]
[3981,134,825,71,72,90,75,59,75,null,75,72,35,null,"\"The coins were minted by Antioch IV, a king of the Commogene kingdom; he ruled in the days of the Emperor Vespasian and was also deposed by him in the year 72 of thepresent era.\" (Ramses II and His Time p.175:4)."]
[3982,134,825,71,72,91,76,60,76,null,{"$f":"K281+1","v":76},72,36]
[3982,135,826,72,73,91,76,60,76,null,76,73,36]
[3983,135,826,72,73,92,77,61,77,null,77,73,37]
[3983,136,827,73,74,92,77,61,77,null,77,74,37]
[3984,136,{"$f":"C286","v":827},73,74,93,78,62,78,null,78,74,38]
[3984,137,828,74,75,93,78,62,78,null,78,75,38]
[3985,137,828,74,75,94,79,63,79,null,{"$f":"K287+1","v":79},75,39]
[3985,138,829,75,76,94,79,63,79,null,79,76,39]
[3986,138,829,75,76,95,80,64,80,null,80,76,40]
[3986,139,830,76,77,95,80,64,80,null,80,77,40]
[3987,139,830,76,77,96,81,65,81,null,81,77,41]
[3987,140,831,77,78,96,81,65,81,null,81,78,41]
[3988,140,831,77,78,97,82,66,82,null,82,78,42]
[3988,141,832,78,79,97,82,66,82,null,82,79,42]
[3989,141,832,78,79,98,83,67,83,null,{"$f":"K295+1","v":83},79,43]
[3989,142,833,79,80,98,83,67,83,null,83,80,43]
[3990,142,833,79,80,99,84,68,84,null,84,80,44]
[3990,143,834,80,null,{"$f":"F298+1","v":99},84,68,84,null,84,81,44]
[null,null,{"$f":"C300","v":834}]
[null,null,{"$f":"C300+1","v":835}]

{"sheet":"Sheet9","index":13,"n_rows":153,"n_cols":9,"rows_kept":153,"cut":false,"hidden":false,"merged":[]}
["Time line around Jehoshua's Life"]
["Years after Creation"]
[null,"Years after Judah coming under Roman occupancy"]
[null,null,"BC/AD years completed"]
[null,null,null,"BC/AD as commonly assigned, i.e. 1st, 2nd, 3rd, etc."]
[null,null,null,null,"Years after Foundation of Herod's Temple laid"]
[null,null,null,null,null,"Years after Jehoshua's birth"]
[{"$f":"A9-1","v":3845},null,{"$f":"C9+1","v":76},{"$f":"D9+1","v":77},null,null,"Years since beginning of Tiberius Caesar"]
[3846,null,75,76]
[3847,0,74,75,null,null,null,"Judah incorporated into the Roman Empire \"In 63 BC, Romans incorporated Judah (what is now Palestine) into their empire as Judea and placed the Jewish lands under kings. Appointed to these kingships was the Herod dynasty, a family of Jews who gained favor with the Romans. The Herodian family ruled over the Palestinian area from 40 BC until around AD 100\" (Ref.: http://campus.northpark.edu/history/WebChron/MiddleEast/HerodTemple.html). The Roman legions left Jerusalem only in 289 AD (http://www.biblediscoveries.com/templesite.html)."]
[3848,{"$f":"B10+1","v":1},73,74]
[3849,{"$f":"B11+1","v":2},72,73]
[3850,3,71,72]
[3851,4,70,71]
[3852,5,69,70]
[3853,6,68,69]
[3854,7,67,68]
[3855,8,66,67]
[3856,9,65,66]
[3857,10,64,65]
[3858,11,63,64]
[3859,12,62,63]
[3860,13,61,62]
[3861,14,60,61]
[3862,15,59,60]
[3863,16,58,59]
[3864,17,57,58]
[{"$f":"A29-1","v":3865},18,56,{"$f":"D29+1","v":57}]
[3866,19,55,56]
[3867,20,54,55]
[3868,21,53,54]
[3869,22,52,53]
[3870,23,51,52]
[3871,24,50,51]
[3872,25,49,50]
[3873,26,48,49]
[3874,27,47,48]
[3875,28,46,47]
[3876,29,45,46]
[3877,30,{"$f":"C41+1","v":44},45]
[3878,31,43,44]
[3879,32,42,43]
[3880,33,41,42]
[3881,34,40,41]
[3882,35,39,40]
[3883,36,38,39]
[3884,37,37,38]
[3885,38,36,37]
[3886,39,35,36]
[3887,40,34,35]
[3888,41,33,34]
[3889,42,32,33]
[3890,43,31,32,0,null,null,"Foundation laid for Herod's Temple (18 BCE per Lewin), (23-23 BCE per Farrar, Life of Christ, App. Exc. 1) (20 BCE per: http://campus.northpark.edu/history/WebChron/MiddleEast/HerodTemple.html)"]
[3891,44,30,31,{"$f":"E53+1","v":1}]
[3892,45,29,30,{"$f":"E54+1","v":2}]
[3893,46,28,29,3]
[3894,47,27,28,4]
[3895,48,26,27,5]
[3896,49,25,26,6]
[3897,50,24,25,7]
[3898,51,23,24,8]
[3899,52,22,23,9]
[3900,53,21,22,10]
[3901,54,20,21,11]
[3902,55,19,20,12]
[3903,56,18,19,13]
[3904,57,17,18,14,0,null,"Jehoshua's birth - \nLuke 1:24 \"And after those days his wife Elisabeth conceived, and hid herself five months...\" (KJV) - Very possibly \"five months\" could as well be translated \"in the fifth month [of the year]\"\n\nLuke 1:26-27\n\"26 And in the sixth month the angel Gabriel was sent from God unto a city of Galilee, named Nazareth,\n\"27 To a virgin espoused to a man whose name was Joseph, of the house of David; and the virgin's name was Mary.\" (KJV) - Very possibly the \"in the sixth month\" is in reference to the months of the year as well as to Elisabeth's pregnancy.  IF SO then Yeshua was conceived in the sixth lunation of the biblical year and then likely delivered at term in the second or third biblical moon of the subsequent year, i.e. in May or June, 5 BCE(?).  If it is true that Herod the Great died in March or April, 4 BCE, then Yeshua, if delivered in May or June, must have been delivered 5 BCE at the latest. Yeshua was then conceived in September, 6 BCE at the latest. Assuming that the passage - in Matt 2:16:\n\"16 Then Herod, when he saw that he was mocked of the wise men, was exceeding wroth, and sent forth, and slew all the children that were in Bethlehem, and in all the coasts thereof, from two years old and under, according to the time which he had diligently inquired of the wise men.\" (KJV) - is referencing an exact \"time\" corresponding to the conception of Yeshua, and that the \"two years\" is more correctly translated \"more than one year\" while also including the time in utero, I find that Herod's decree to \"slew all the children\" must have been issued sometime between August in the year Yeshua was delivered, likely the year prior to Herod's death August of the subsequent year.  Thus likely between August, 5 BCE and April, 4 BCE.\n\nHowever, this does not fully harmonize with Cyrenius being governor from 4 BCE to 1 BCE (Cf. below!). Likely this is a matter of dates based upon different calendars.\n\nLuke 1:36\n\"36 And, behold, thy cousin Elisabeth, she hath also conceived a son in her old age: and this is the sixth month with her, who was called barren.\" (KJV) - Very possibly the \"in the sixth month\" is concurrent with the months of the year.\n\n\"And it came to pass in those days, that there went out a decree from Caesar Augustus that all the world should be taxed. (And this taxing was first made when Cyrenius was governor of Syria.) And all went to be taxed, every one into his own city.\" Luke 2:1-3 (KJV.)  \"2. This was the first enrolment made, etc. This statement has caused some difficulty. Luke seems to affirm that the enrolment took place the year Jesus was born, but while Cyrenius was governor of Syria. Now Cyrenius was governor of Syria from A. D. 6 to A. D. 11. There are two ways of settling the apparent difficulty: (1) Augustus Cæsar, incensed at Herod, ordered an enrolment for taxation of the Jews the year of the birth of Jesus. It was carried out in all probability by Cyrenius. The intercession of Herod's minister, Nicolas, averted the displeasure of Augustus and the taxation did not take place until Cyrenius was governor of Syria, after Archelaus, son of Herod, was deposed. These facts we learn from Josephus, and they remove the apparent discrepancy. But (2) A. W. Zumpt, of Berlin, followed by Alford and Schaff, make it highly probable that Cyrenius was governor of Syria twice, the first time from B. C. 4 to B. C. 1. I have not space for the argument which seems conclusive. But in B. C. 4 Jesus was born. Ancient writers, Christians as well as pagan opposers, state that Jesus was born while Cyrenius was governor of Syria.\" (From B. W. Johnson\nThe People's New Testament (1891) [PNTA 228-235] at http://www.google.se/search?q=cache:IMsNDiIoUc4J:www.mun.ca/rels/restmov/texts/bjohnson/hg1/PNT03-02.HTM+Cyrenius+governor+Syria&hl=sv&ie=UTF-8)  \"Jesus was born during the reign of Herod the Great, who ruled Judea until March or April of 4 B.C., when he died (Encyclopedia Britannica on the web @ www.eb.com/cgi-bin/g?keywords=herod [probably based on information presented by the historian Josephus]).\" (From http://www.geocities.com/athens/parthenon/3021/ascension2.html)"]
[{"$f":"A69-1","v":3905},58,16,{"$f":"D69+1","v":17},15,{"$f":"F67+1","v":1},null,"(Archelaus' coronation = The beginning of the AD era?! Timing of the events in this cell uncertain!)  Herod the Great's death, & Archelaus coronated. \"Then secretly calling the wise men, Herod asked of them exactly the time of the star appearing. …  Then seeing that he saw mocked by the wise men, Herod was greatly enraged; and having sent, he killed all the boys in Bethlehem and in all its districts, from two years old and under - according to the time which he exactly asked from the wise men...  But Herod having expired, hehold, an angel of the Lord appears to Joseph by a dream in Egypt, saying, Rising up, take along the child and His mother, and pass over into the land of Israel; for those seeking the soul of the child have expired.  And rising up, he took along the child and His mother and came into the land of Israel. But hearing that Archelaus reigned over Judea in place of his father Herod, he reared to go there.  And being warned by a dream, he departed into the parts of Galilee. And coming he lived in a city called Nazareth; so as to fulfill that spoken by the prophets, \"He shall be called a Nazarene.\" \"  Matt. 2:7,16,19-23 (IB).  (cf. http://campus.northpark.edu/history/WebChron/MiddleEast/HerodTemple.html & my file \"Herod the Great Begins the Third Temple - 19-20 BC.doc\" which file states: \"But his most notable achievement was the building a temple in Jerusalem, which was begun in 20/19 BC and finished in 63 AD, long after his death in 4 BC. This was known as the Third Temple.\", and \"Herod grew ill and died at Jericho in the spring of 4 BC. The people made Archelaus their king because that was what was put in Herod's last (sixth) will.\", which quotes cannot both be correct considering the text in Matt. 2:7,16,19-23 (IB).<<<<<<<<<<<>>>>>>>>> NOTICE: The age of the children may well have been counted from conception, while the ones to be killed were in their 2nd year since conception, thus a minimum of babies 4 months old (since delivery) would have been killed (9 months + 3 months + 1 month)."]
[{"$f":"Sheet1!I140","v":3906},59,{"$f":"D69-1","v":15},{"$f":"Sheet1!O140","v":16},16,{"$f":"F68+1","v":2}]
[{"$f":"A69+1","v":3907},60,{"$f":"C69-1","v":14},15,17,{"$f":"F69+1","v":3}]
[{"$f":"A70+1","v":3908},61,13,14,18,{"$f":"F70+1","v":4}]
[3909,62,12,13,19,5]
[3910,63,0,1,20,6]
[3911,64,1,2,21,7]
[3912,65,2,3,22,8]
[3913,{"$f":"B75+1","v":66},3,4,23,9]
[3914,67,4,5,24,10]
[3915,68,5,6,25,11]
[3916,69,6,7,26,12]
[3917,70,7,8,27,13,null,"70 years of Roman occupancy of Judah completed"]
[3918,71,8,9,28,14,null,"\"Now his parents went to Jerusalem every year at the feast of the passover. And when he was twelve years old, they went up to Jerusalem after the custom of the feast\" Luke 2:41-42 (KJV). The word 'was' in \"he was twelve\" is translated from the Greek word 'egeneto', a word form which is defined as \"3 person singular aorist 2, indicative mood  -  ginomai\" (The Analytical Greek Lexicon, Zondervan, 1975). Cf. Strong's #1096 \"ginomai; a prolonged and middle form of a primitive verb; to cause to be (\"gen\"-erate) i.e. (reflex.) to become (come into being), used with great latitude (lit., fig., intens., etc.)\"; Strong's #1079 \"genetae; feminine of a presumed derivative of the base of 1074; birth\"; #1074 \"genea; from (a presumed derivative of) 1085; a generation; by implication an age (the period or the persons)\"; #1085 \"genos; from 1096; \"kin\" (abstr. or concr., lit. or fig., indiv. or coll.)\". Isn't the word used in the Greek text on a form indicating that he, Jesus, was about to complete his 12th year of life, i.e. \"turn 12\"?!? (I'd like to have more info on that!). If so this text would be confirmation of Jesus being born in the beginning of Nisan, i.e. at the first of the Sacred year or possibly at the beginning of Passover..."]
[3919,72,9,10,29,15]
[3920,73,10,11,30,16]
[3921,74,11,12,31,17]
[3922,75,12,13,32,18]
[3923,76,13,14,33,19,{"$f":"G87-1","v":1},"\"Tiberius Caesar reigned from A.D. 14 to A.D. 37 (Encyclopedia Britannica on the web, www.eb.com/cgi-bin/g? keywords =tiberius+caesar). His reign began on August 19, A.D. 14.  Luke may have been using any of several methods to define the 15th year of the reign of Tiberius Caesar.  However, I will only present the method that yields the earliest possible 15th year.  In eastern provinces [of the Roman empire]...years were reckoned from the accession of the reigning emperor, the second beginning on the first New Years day after the accession, and the date on which this occurred varied from one province to another. (Encyclopedia Britannica, Chicago, IL, USA: Encyclopedia Britannica, Inc. 1994, vol 15, p. 421). Based on the above passage, Luke may have counted Tiberius' accession year (the time between Tiberius' August accession and the following New Years day) as his first regnal year.  The earliest possible New Years day may have been in the Jewish lunar month of Tishri (September/October).  \"R. Hisda said: The rule [that New Year for kings is in Nisan] was only meant to apply to the kings of Israel, but the years of non-Israelitish kings are reckoned from Tishri...\" (Talmud, Rosh HaShanah, 3a.) Or the New Years day may have been, as the passage below states, on October 1.  Luke possibly used the Syrian method, which counted the interval between Aug. 19 and the beginning of the new year (Oct. 1) as the first regnal year. In that case, the fifteenth year extended from, Oct.1, 27 till Oct. 1, 28. Jesus, therefore, was baptized toward the end of the year 27. (Brown, Raymond Edward. The Jerome Bible Commentary. Englewood Cliffs, NJ, USA: Prentice Hall, 1968 [Logos Library System 2.1, 1997].) Based on the information in the three quoted passages above, the earliest possible first regnal year of Tiberius extended between August, A.D. 14 and the autumn of A.D. 14.  His earliest possible second regnal year extended between the autumn of A.D. 14 and the autumn of A.D. 15.  John the Baptist’s ministry, therefore, began no earlier than the autumn of A.D. 27.  John baptized Jesus sometime afterward.  The Jordan river, between the Sea of Galilee and the Dead Sea, is below sea level, and the weather there is warm year round, so Jesus could have been baptized at any time of year.\" (From http://www.geocities.com/athens/parthenon/3021/ascension2.html)"]
[3924,77,14,15,34,20,2]
[3925,78,15,16,35,21,3]
[3926,79,16,17,36,22,4]
[3927,80,17,18,37,23,5]
[3928,81,18,19,38,24,6]
[3929,82,19,20,39,25,7]
[3930,83,20,21,40,26,8]
[3931,84,21,22,41,27,9]
[3932,85,22,23,42,28,10]
[3933,86,23,24,43,29,11]
[3934,87,24,25,44,30,12]
[3935,88,25,26,45,31,13]
[3936,89,26,27,46,32,14]
[3937,90,27,28,47,33,{"$f":"G99+1","v":15},"\"Now in the fifteenth year of the reign of Tiberius Caesar, Pontius Pilate being governor of Judaea, and Herod being tetrarch of Galilee, and his brother Philip tetrarch of Ituraea and of the region of Trachonitis, and Lysanias the tetrarch of Abilene, Annas and Caiaphas being the high priests, the word of God came unto John the son of Zacharias in the wilderness. And he came into all the country about Jordan, preaching the baptism of repentance for the remission of sins...\" Luke 3:1-3 (KJV).      \"It came to pass, that Jesus also being baptized, and praying, the heaven was opened… And Jesus himself began to be about thirty years of age…\" Luke 3:21,23 (KJV), i.e. Jesus was baptized at, or shortly following, his 30th birthday.  \"Forty and six years is being built Temple this...\" (IB) John 2:20 NOTICE> Here Jesus' age at his baptism is correlated to the beginning of Herod's Temple.  "]
[3938,91,28,29,48,34,16]
[3939,92,29,30,49,35,17]
[3940,93,30,31,50,36,18,"Crucifixion at the Feast of Passover - On Jesus' 35th birthday (+ 2 weeks)?  \"Pontius Pilate, the Roman governor who handed Jesus over to be crucified, governed Judea from A.D. 26 to A.D. 36 (Encyclopedia Britannica on the web, www.eb.com/cgi-bin/g?keywords=Pontius+Pilate).\" (From http://www.geocities.com/athens/parthenon/3021/ascension2.html)"]
[3941,94,31,32,51,37,19]
[3942,95,32,33,52,38,20]
[3943,96,33,34,53,39,21]
[3944,97,34,35,54,40,22]
[3945,98,35,36,55,41,23]
[3946,99,36,37,56,42,24]
[{"$f":"A109+1","v":3947},{"$f":"B109+1","v":100},{"$f":"C109+1","v":37},38,{"$f":"E109+1","v":57},{"$f":"F109+1","v":43},25]
[3948,101,38,39,58,44,26]
[3949,102,39,40,59,45,27]
[3950,103,40,41,60,46,28]
[3951,104,41,42,61,47,29]
[3952,105,42,43,62,48,30]
[3953,106,43,44,63,49,31]
[3954,107,44,45,64,50,32]
[3955,108,45,46,65,51,33]
[3956,109,46,47,66,52,34]
[3957,110,47,48,67,53,35]
[3958,111,48,49,68,54,36]
[3959,112,49,50,69,55,37]
[3960,113,50,51,70,56,38]
[3961,114,51,52,71,57,39]
[3962,115,52,53,72,58,40]
[3963,116,53,54,73,59,41]
[3964,117,54,55,74,60,42]
[3965,118,55,56,75,61,43]
[3966,119,56,57,76,62,44]
[3967,120,57,58,77,63,45]
[3968,121,58,59,78,64,46]
[3969,122,59,60,79,65,47]
[3970,123,60,61,80,66,48]
[3971,124,61,62,81,67,49]
[3972,125,62,63,82,68,50]
[3973,126,63,64,83,69,51]
[3974,127,64,65,84,70,52]
[3975,128,65,66,85,71,53]
[3976,129,66,67,86,72,54]
[{"$f":"A139+1","v":3977},{"$f":"B139+1","v":130},{"$f":"C139+1","v":67},68,{"$f":"E139+1","v":87},{"$f":"F139+1","v":73},55]
[3978,131,68,69,88,74,56]
[3979,132,69,70,89,75,57]
[3980,133,70,71,90,76,58]
[3981,134,71,72,91,77,59,null,"\"The coins were minted by Antioch IV, a king of the Commogene kingdom; he ruled in the days of the Emperor Vespasian and was also deposed by him in the year 72 of thepresent era.\" (Ramses II and His Time p.175:4)."]
[3982,135,72,73,92,78,60]
[3983,136,73,74,93,79,61]
[3984,137,74,75,94,80,62]
[3985,138,75,76,95,81,63]
[3986,139,76,77,96,82,64]
[3987,140,77,78,97,83,65]
[3988,141,78,79,98,84,66]
[3989,142,79,80,99,85,67]
[3990,143,80,81,100,86,68]

{"sheet":"Sheet10","index":14,"n_rows":26,"n_cols":9,"rows_kept":26,"cut":false,"hidden":false,"merged":[]}
["Toying with 430 year cycles"]
[]
[null,null,null,null,null,null,"490 year cycles"]
[]
[]
[430,{"$f":"B7-430","v":301},null,null,null,10,{"$f":"G7-490","v":1},{"$f":"H5+490","v":490}]
[{"$f":"A6+430","v":860},{"$f":"B8-430","v":731},null,null,null,{"$f":"F6+10","v":20},{"$f":"G8-490","v":491},{"$f":"H6+490","v":980}]
[{"$f":"A7+430","v":1290},{"$f":"B9-430","v":1161},null,null,null,{"$f":"F7+10","v":30},{"$f":"G9-490","v":981},1470]
[1720,{"$f":"B10-430","v":1591},null,null,null,40,{"$f":"G10-490","v":1471},1960,"Abraham age 14"]
[2150,{"$f":"Sheet1!I26","v":2021},null,"Abram enters Canaan",null,50,{"$f":"G11-490","v":1961},2450,"Year prior to Exodus Jubilee"]
[2580,{"$f":"B10+430","v":2451},null,"Exodus out of Egypt",null,60,2451,2940,"Solomon's 14th regnal year"]
[3010,2881,null,null,null,70,null,3430]
[3440,3311,null,null,null,80,null,3920]
[3870,3741,null,null,null,90,null,4410]
[4300,4171,null,null,null,100,null,4900]
[4730,4601,null,null,null,110,null,5390]
[5160,5031,null,null,null,120,null,5880]
[5590,5461,null,null,null,130,null,6370]
[6020,5891,null,null,null,140,null,6860]
[6450,6321,null,null,null,150,null,7350]
[6880,6751,null,null,null,160,null,7840]
[7310,7181]
[null,7611]
[null,8041]
[null,8471]
[null,8901]

{"sheet":"Sheet11","index":15,"n_rows":22,"n_cols":11,"rows_kept":22,"cut":false,"hidden":false,"merged":[]}
["\"Signs\""]
["Jonah",{"$f":"10+6+50+5","v":71},null,null,null,null,null,null,null,null,"\"A wicked and adulterous generation seeketh after a sign; and there shall no sign be given unto it, bvut the sign of the prophet Jonas. And he left them, and departed\" Matt. 16:4 (KJV)."]
["Lazarus",null,"Ezra",{"$f":"70+7+200+5","v":282},"=","Towards Ezra + 'us'",null,null,null,{"$f":"30+70+7+200+5+60","v":372},"\"For this reason the people also met Him, because they heard that He ahd done this sign\" John 12:18 (NKJV)."]
["Immanuel",{"$f":"70+40+50+6","v":166},"+",{"$f":"1+30","v":31},"=",{"$f":"70+40+50+6+1+30","v":197},null,null,null,null,"\"Moreover the Lord spake again unto Ahaz, saying, Ask thee a sign of the Lord thy God; ask it either in the depth, or in the height above. But Ahaz said, I will not ask, neither will I tempt the Lord. And he said, Hear ye now, O house of David; Is it a small thing for you to weary men, but will ye wary my God also? Therefore the Lord himself shall give you a sign; Behold, a virgin shall conceive, and bear a son, and shall call his name Immanuel. Butter and honey shall he eat, that he may know to refuse the evil, and choose the good. For before the child shall know to refuse the evil, and choose the good, the land that thou abhorrest shall be forsaken of both her kings... Moreover the Lord said unto me Take thee a great roll, and write in it with a man's pen concerning Maher-shalal-hash-baz. For before the child shall have knowledge to cry, My father, and my mother, the riches of Damascus and the spoil of Samaria shall be taken away before the king of Assyria. The Lord spake also unto me again, saying, Forasmuch as this people refuseth the waters of Shiloah that go softly, and rejoice in Rezin and Remaliah's son; Now therefore, behold, the Lord bringeth up upon them the waters of the river, strong and many, even the king of Assyria, and all his glory: and he shall come up over all his channels, and go over all his banks: And he shall pass through Judah; he shall overflow and go over, he shall reach even to the neck; and the stretching out of his wings shall fill the breadth of thy land, O Immanuel\" Isaiah 7:10-14; 8:1-8 (KJV)."]
["Maher-shalal-hash-baz",{"$f":"40+5+200","v":245},"+",{"$f":"300+30+30","v":360},"+",{"$f":"8+300","v":308},"+",{"$f":"2+7","v":9},"=",{"$f":"B5+D5+F5+H5","v":922}]
[null,"Immanuel",null,"+","Maher-shalal-hash-baz",null,null,null,null,{"$f":"F4+J5","v":1119}]
[]
[]
["How do the \"signs\" named by Samuel indicate the time of the year of the anointing?",null,null,null,null,null,null,null,null,null,"\"And let it be, when these signs are come unto thee, that thou do as occasion ser thee, for God is with thee\" 1 Sam. 10:7 (KJV)."]
[]
[]
[]
[]
[]
[]
["\"Other Considerations\""]
[]
["Characteristics of Sabbath year events:",null,null,null,null,null,null,null,null,null,"\"And Moses commanded them, saying, At the end of every seven years, in the solemnity of the year of release, in the feast of tabernacles, When all Israel is come to appear before the Lord thy God in the place which he shall choose, thou shalt read this law before all Israel in their hearing. Gather the people together, men and women, and children, and thy stranger that is within thy gates, that they may hear, and that they may learn, and fear the Lord your God, and observe to do all the words of this law: And that their children, which have not known any thing, may hear, and learn to fear the Lord your God, as long as ye live in the land whither ye go over Jrodan to possess it.\" Deut. 31:10-13 (KJV)."]
["      How do the described events of reading the law concur with this time line?"]
[]
[]
["When exactly did the 3 1/2 years of no rain during Elijah and king Ahab occur?",null,null,null,null,null,null,null,null,null,"The events of Elijah starts with 1 Kings 17:1, \"And Elijah the Tishbite, who was of the inhabitants of Gilead, said unto Ahab, As the Lord God of Israel liveth, before whom I stand, there shall not be dew nor rain these years, but according to my word…\". 1 Kings 17:1 (KJV)."]